{"text_format":"1","workbook":"xlsx","n_sheets":27,"sheets":["Main","Sablon","Kura","Grup","Ana_Tablo_Kura","On_Eleme","Eleme","32DE","32DE(16)","16","16DE","16(8DE)","16(TE)","8DE","8TE","Cift_Mix","SIRALAMA","Ferdi","Puan","5_Mac","Olimpik","Yeni_Olimpik","Corbillon","5_Mac_KC","Olimpik_KC","Yeni_Olimpik_KC","Corbillon_KC"],"not_rendered":{"charts":0,"images":14,"macros":1,"external_links":0,"defined_names":15,"comments":0,"pivot_tables":0},"unopened":[],"bounds":{"document_bytes":16777216,"sheet_cells":100000,"rows_first":2000,"rows_last":500,"rows_between":2000,"halvings":0,"cell_chars":16384,"cell_head_chars":4096},"cells_cut":0,"cells_raw":0,"read":"whole","date_system":"1900"}

{"sheet":"Main","index":0,"n_rows":23,"n_cols":23,"rows_kept":23,"cut":false,"hidden":false,"merged":[]}
[]
[null,null,null,null,null,null,null,null,null,null,null,null,null,null,null,null,2,7,3,7,3,2,{"$f":"IF(V2=1,2,3)","v":3}]
["\u008c",null,"Müsabaka",null,null,null,null,null,null,null,null,null,null,null,null,null,"------","------","------","------","------","------"]
[null,null,null,null,null,null,null,null,null,null,null,null,null,null,null,null,"Grup",256,"Ferdi","32 (Çift_Eleme)","Erkek",2]
[null,null,null,null,null,null,null,null,null,null,null,null,null,null,null,null,"Eleme",128,"5_Mac","16 (Çift_Eleme)","Kız",3]
[null,null,null,null,null,null,null,null,null,null,null,null,null,null,null,null,null,64,"Olimpik","16 (8_Çift_Eleme)"]
["\u008d",null,"Eleme Tablosu",null,null,null,null,null,null,null,null,null,null,null,null,null,null,32,"Yeni_Olimpik","16 (Tek_Eleme)"]
[null,null,null,null,null,null,null,null,null,null,null,null,null,null,null,null,null,16,"Corbillon","8 (Çift_Eleme)"]
[null,null,null,null,null,null,null,null,null,null,null,null,null,null,null,null,null,8,null,"8 (Tek_Eleme)"]
[null,null,null,null,null,null,null,null,null,null,null,null,null,null,null,null,null,null,{"$f":"OFFSET(S2,S2,0)","v":"5_Mac"},16]
["\u008e",null,"Ana Tablo",null,null,null,null,null,null,null,null,null,null,null,null,null,null,null,null,"Cift-Mix"]
[null,null,null,null,null,null,null,null,null,null,null,null,null,null,null,null,null,null,null,"32DE(16)"]
[]
[]
["\u008f",null,"Müsabaka Cetveli"]
[]
[]
[]
["y",null,"Kategori"]
[]
[]
[]
["z",null,"Kazanılan Set",null,null,null,null,"by A.Dayanç"]

{"sheet":"Sablon","index":1,"n_rows":385,"n_cols":125,"rows_kept":385,"cut":false,"hidden":false,"merged":[[1,31,1,34],[1,1,1,4],[1,7,1,10],[1,13,1,16],[1,19,1,22],[1,25,1,28]]}
[null,"Template",null,null,null,null,null,null,null,null,null,null,null,null,null,null,null,null,null,null,null,null,null,null,null,null,null,null,null,null,null,null,null,null,null,null,null,null,null,null,null,null,null,null,null,null,null,null,null,null,null,null,null,null,null,null,null,null,null,null,null,null,null,null,null,null,null,null,null,null,null,null,null,null,null,null,"Y","S","B","Q",null,"Y","S","B","Q",null,"Y","S","B","Q",null,"Y","S","B","Q",null,"Y","S","B","Q",null,"Y","S","B","Q",null,null,null,null,null,256,128,64,32,16,8,null,null,null,256,128,64,32,16,8]
[null,256,null,null,null,null,null,128,null,null,null,null,null,64,null,null,null,null,null,32,null,null,null,null,null,16,null,null,null,null,null,8,null,null,null,null,null,null,null,null,null,null,null,null,null,null,null,null,null,null,null,null,null,null,null,null,null,null,null,null,null,null,null,null,null,null,null,null,null,null,null,null,null,null,null,null,null,1,null,null,1,null,1,0,0,1,null,1,0," ",1,null,1,0,0,1,null,1,0,0,1,null,1,0,0,1,null,null,null,1,null,84,38,19,9,6,null,null,"E1",171,75,22,14,5,3]
[null,"Y","S","B","Q",null,null,"Y","S","B","Q",null,null,"Y","S","B","Q",null,null,"Y",8,"B","Q",null,null,"Y","S","B","Q",null,null,"Y","S","B","Q",null,null,null,null,null,null,null,null,null,null,null,null,null,null,null,null,null,null,null,null,null,null,null,null,null,null,null,null,null,null,null,null,null,null,null,null,null,null,null,null,null,null,null,null,null,null,null,null,null,null,null,null,null,null,null,null,null,null,null,null,null,null,null,null,null,null,null,null,null,null,null,null,null,null,null,null,105,65,33,17,9,null,null,"E2",229,76,21,12,6,4]
[null,1,1,null,null,1,null,1,1,null,null,1,null,1,1,null," ",1,null,1,1,null,null,1,null,1,1,null,null,1,null,1,1,null,null,1,null,null,null,null,null,null,null,null,null,null,null,null,null,null,null,null,null,null,null,null,null,null,null,null,null,null,null,null,null,null,null,null,null,null,null,null,null,null,null,null,null,129,999,"",256,null,65,1,"E64",128,null,33,1,"E32",64,null,17,1,"E16",32,null,9,1,"E8",16,null,5,1,"E4",8,null,null,null,null,null,null,null,null,null,null,null,null,"E3",87,74,23,10,7,2]
[null,2,129,999,null,256,null,2,65,1,64,128,null,2,33,1,32,64,null,2,17,1,16,32,null,2,9,1,8,16,null,2,5,1,4,8,null,null,null,null,null,null,null,null,null,null,null,null,null,null,null,null,null,null,null,null,null,null,null,null,null,null,null,null,null,null,null,null,null,null,null,null,null,null,null,null,null,129,999,"",128,null,65,33,"E32",64,null,33,17,"E16",48,null,17,9,"E8",16,null,9,5,"E4",12,null,5,3,"E2",5,null,null,null,2,null,61,37,20,10,5,null,null,"E4",169,73,24,9,8,1]
[null,3,129,999,null,128,null,3,65,33,32,64,null,3,33,17,16,48,null,3,17,9,8,16,null,3,9,5,4,12,null,3,5,3,2,5,null,null,null,null,null,null,null,null,null,null,null,null,null,null,null,null,null,null,null,null,null,null,null,null,null,null,null,null,null,null,null,null,null,null,null,null,null,null,null,null,null,null,null,"",null,null,null,null,"",null,null,null,null,"",null,null,null,null,"",null,null,null,null,"",null,null,null,null,null,null,null,null,null,null,null,106,66,34,18,10,null,null,"E5",83,78,19,11,3]
[null,4,65,999,null,129,null,4,33,null,null,65,null,4,17,null," ",32,null,4,9,null,null,17,null,4,5,null,null,8,null,4,3,null,null,4,null,null,null,null,null,null,null,null,null,null,null,null,null,null,null,null,null,null,null,null,null,null,null,null,null,null,null,null,null,null,null,null,null,null,null,null,null,null,null,null,null,65,999,"",129,null,33,0,"",65,null,17,0,"",32,null,9,0,"",17,null,5,0,"",8,null,3,0,0,4,null,null,null,null,null,null,null,null,null,null,null,null,"E6",173,77,20,13,4]
[null,5,65,999,null,65,null,5,33,null,null,32,null,5,17,null," ",17,null,5,9,null,null,9,null,5,5,null,null,6,null,5,3,null,null,3,null,null,null,null,null,null,null,null,null,null,null,null,null,null,null,null,null,null,null,null,null,null,null,null,null,null,null,null,null,null,null,null,null,null,null,null,null,null,null,null,null,65,999,"",65,null,33,0,"",32,null,17,0,"",17,null,9,0,"",9,null,5,0,"",6,null,3,0,0,3,null,null,null,3,null,93,39,18,11,7,null,null,"E7",175,79,18,15,2]
[null,6,129,999,null,192,null,6,65,49,16,97,null,6,33,25,8,33,null,6,17,13,4,24,null,6,9,7,2,10,null,6,5,null,1,6,null,null,null,null,null,null,null,null,null,null,null,null,null,null,null,null,null,null,null,null,null,null,null,null,null,null,null,null,null,null,null,null,null,null,null,null,null,null,null,null,null,null,null,"",null,null,null,null,"",null,null,null,null,"",null,null,null,null,"",null,null,null,null,"",null,null,null,null,null,null,null,null,null,null,null,107,67,35,19,11,null,null,"E8",81,80,17,16,1]
[null,7,129,999,null,64,null,7,65,17,48,33,null,7,33,9,24,49,null,7,17,5,12,25,null,7,9,3,6,14,null,7,5,2,3,7,null,null,null,null,null,null,null,null,null,null,null,null,null,null,null,null,null,null,null,null,null,null,null,null,null,null,null,null,null,null,null,null,null,null,null,null,null,null,null,null,null,129,999,"",192,null,65,49,"E16",97,null,33,25,"E8",33,null,17,13,"E4",24,null,9,7,"E2",10,null,5,0,"E1",6,null,null,null,null,null,null,null,null,null,null,null,null,"E9",91,27,27,6]
[null,8,64,999,null,193,null,8,17,null,null,96,null,8,9," "," ",16,null,8,5,null,null,8,null,8,3,null,null,4,null,8,2,null,null,2,null,null,null,null,null,null,null,null,null,null,null,null,null,null,null,null,null,null,null,null,null,null,null,null,null,null,null,null,null,null,null,null,null,null,null,null,null,null,null,null,null,129,999,"",64,null,65,17,"E48",33,null,33,9,"E24",49,null,17,5,"E12",25,null,9,3,"E6",14,null,5,2,"E3",7,null,null,null,4,null,52,40,17,12,8,null,null,"E10",165,28,28,5]
[null,9,49,null,null,33,null,9,17,null,null,16,null,9,9,null," ",9,null,9,5,null,null,5,null,9,3,null,null,3,null,null,null,null,null,null,null,null,null,null,null,null,null,null,null,null,null,null,null,null,null,null,null,null,null,null,null,null,null,null,null,null,null,null,null,null,null,null,null,null,null,null,null,null,null,null,null,null,null,"",null,null,null,null,"",null,null,null,null,"",null,null,null,null,"",null,null,null,null,"",null,null,null,null,null,null,null,null,null,null,null,108,68,36,20,12,null,null,"E11",167,26,26,7]
[null,10,129,49,null,224,null,10,65,25,40,113,null,10,33,13,20,56,null,10,17,7,10,28,null,10,9,4,5,13,null,null,null,null,null,null,null,null,null,null,null,null,null,null,null,null,null,null,null,null,null,null,null,null,null,null,null,null,null,null,null,null,null,null,null,null,null,null,null,null,null,null,null,null,null,null,null,64,999,"",193,null,17,0,"",96,null,9," ","",16,null,5,0,"",8,null,3,0,"",4,null,2,0,0,2,null,null,null,null,null,null,null,null,null,null,null,null,"E12",109,25,25,8]
[null,11,129,null,null,96,null,11,65,57,8,49,null,11,33,29,4,40,null,11,17,15,2,20,null,11,9,null,1,9,null,null,null,null,null,null,null,null,null,null,null,null,null,null,null,null,null,null,null,null,null,null,null,null,null,null,null,null,null,null,null,null,null,null,null,null,null,null,null,null,null,null,null,null,null,null,null,49,null,"",33,null,17,0,"",16,null,9,0,"",9,null,5,0,"",5,null,3,0,"",3,null,null,null,null,null,null,null,null,5,null,77,35,22,13,null,null,null,"E13",163,30,30,3]
[null,12,65,null,null,161,null,12,33,null,null,80,null,12,17,null," ",24,null,12,9,null,null,12,null,12,5,null,null,5,null,"Y","Fikstür yerleri",null,null,null,null,null,null,null,null,null,null,null,null,null,null,null,null,null,null,null,null,null,null,null,null,null,null,null,null,null,null,null,null,null,null,null,null,null,null,null,null,null,null,null,null,null,null,"",null,null,null,null,"",null,null,null,null,"",null,null,null,null,"",null,null,null,null,"",null,null,null,null,null,null,null,null,null,null,null,109,69,37,21,null,null,null,"E14",93,29,29,4]
[null,13,65,null,null,97,null,13,33,null,null,17,null,13,17,null," ",25,null,13,9,null,null,13,null,13,5,null,null,7,null,"S","Derece yerleri",null,null,null,null,null,null,null,null,null,null,null,null,null,null,null,null,null,null,null,null,null,null,null,null,null,null,null,null,null,null,null,null,null,null,null,null,null,null,null,null,null,null,null,null,129,49,"",224,null,65,25,"E40",113,null,33,13,"E20",56,null,17,7,"E10",28,null,9,4,"E5",13,null,null,null,null,null,null,null,null,null,null,null,null,null,null,null,null,null,"E15",95,31,31,2]
[null,14,129,null,null,160,null,14,65,41,24,112,null,14,33,21,12,41,null,14,17,11,6,21,null,14,9,6,3,11,null,"B","Bay yerleri",null,null,null,null,null,null,null,null,null,null,null,null,null,null,null,null,null,null,null,null,null,null,null,null,null,null,null,null,null,null,null,null,null,null,null,null,null,null,null,null,null,null,null,null,129,null,"",96,null,65,57,"E8",49,null,33,29,"E4",40,null,17,15,"E2",20,null,9,0,"E1",9,null,null,null,null,null,null,null,null,6,null,68,36,21,14,null,null,null,"E16",85,32,32,1]
[null,15,129,32,29,32,null,15,65,9,56,48,null,15,33,5,28,57,null,15,17,3,14,29,null,15,9,2,7,15,null,"Q","Ön Eleme yeri",null,null,null,null,null,null,null,null,null,null,null,null,null,null,null,null,null,null,null,null,null,null,null,null,null,null,null,null,null,null,null,null,null,null,null,null,null,null,null,null,null,null,null,null,null,null,"",null,null,null,null,"",null,null,null,null,"",null,null,null,null,"",null,null,null,null,"",null,null,null,null,null,null,null,null,null,null,null,110,70,38,22,null,null,null,"E17",75,22,11]
[null,16,32,null,null,225,null,16,9,null,null,81,null,16,5," "," ",8,null,16,3,null,null,4,null,16,2,null,null,2,null,null,null,null,null,null,null,null,null,null,null,null,null,null,null,null,null,null,null,null,null,null,null,null,null,null,null,null,null,null,null,null,null,null,null,null,null,null,null,null,null,null,null,null,null,null,null,65,null,"",161,null,33,0,"",80,null,17,0,"",24,null,9,0,"",12,null,5,0,"",5,null,null,null,null,null,null,null,null,null,null,null,null,null,null,null,null,null,"E18",181,21,12]
[null,17,17,null,null,17,null,17,9,null,null,88,null,17,5,null," ",5,null,17,3,null,null,3,null,null,null,null,null,null,null,null,null,null,null,null,null,null,null,null,null,null,null,null,null,null,null,null,null,null,null,null,null,null,null,null,null,null,null,null,null,null,null,null,null,null,null,null,null,null,null,null,null,null,null,null,null,65,null,"",97,null,33,0,"",17,null,17,0,"",25,null,9,0,"",13,null,5,0,"",7,null,null,null,null,null,null,null,null,7,null,100,34,23,15,null,null,null,"E19",183,23,10]
[null,18,129,17,null,240,null,18,65,13,52,41,null,18,33,7,26,60,null,18,17,4,13,30,null,null,null,null,null,null,null,null,null,null,null,null,null,null,null,null,null,null,null,null,null,null,null,null,null,null,null,null,null,null,null,null,null,null,null,null,null,null,null,null,null,null,null,null,null,null,null,null,null,null,null,null,null,null,null,"",null,null,null,null,"",null,null,null,null,"",null,null,null,null,"",null,null,null,null,"",null,null,null,null,null,null,null,null,null,null,null,111,71,39,23,null,null,null,"E20",73,24,9]
[null,19,129,null,null,112,null,19,65,45,20,105,null,19,33,23,10,44,null,19,17,12,5,22,null,null,null,null,null,null,null,null,null,null,null,null,null,null,null,null,null,null,null,null,null,null,null,null,null,null,null,null,null,null,null,null,null,null,null,null,null,null,null,null,null,null,null,null,null,null,null,null,null,null,null,null,null,129,null,"",160,null,65,41,"E24",112,null,33,21,"E12",41,null,17,11,"E6",21,null,9,6,"E3",11,null,null,null,null,null,null,null,null,null,null,null,null,null,null,null,null,null,"E21",179,19,14]
[null,20,65,null,null,145,null,20,33,null,null,24,null,20,17,null," ",28,null,20,9,null,null,11,null,null,null,null,null,null,null,null,null,null,null,null,null,null,null,null,null,null,null,null,null,null,null,null,null,null,null,null,null,null,null,null,null,null,null,null,null,null,null,null,null,null,null,null,null,null,null,null,null,null,null,null,null,129,32,"E29",32,null,65,9,"E56",48,null,33,5,"E28",57,null,17,3,"E14",29,null,9,2,"E7",15,null,null,null,null,null,null,null,null,8,null,45,33,24,16,null,null,null,"E22",77,20,13]
[null,21,65,null,null,81,null,21,33,null,null,73,null,21,17,null," ",21,null,21,9,null,null,14,null,null,null,null,null,null,null,null,null,null,null,null,null,null,null,null,null,null,null,null,null,null,null,null,null,null,null,null,null,null,null,null,null,null,null,null,null,null,null,null,null,null,null,null,null,null,null,null,null,null,null,null,null,null,null,"",null,null,null,null,"",null,null,null,null,"",null,null,null,null,"",null,null,null,null,null,null,null,null,null,null,null,null,null,null,null,null,112,72,40,24,null,null,null,"E23",79,18,15]
[null,22,129,null,8,176,null,22,65,61,4,56,null,22,33,31,2,37,null,22,17,null,1,19,null,null,null,null,null,null,null,null,null,null,null,null,null,null,null,null,null,null,null,null,null,null,null,null,null,null,null,null,null,null,null,null,null,null,null,null,null,null,null,null,null,null,null,null,null,null,null,null,null,null,null,null,null,32,null,"",225,null,9,0,"",81,null,5," ","",8,null,3,0,"",4,null,2,0,0,2,null,null,null,null,null,null,null,null,null,null,null,null,null,null,null,null,null,"E24",177,17,16]
[null,23,129,48,null,48,null,23,65,29,36,120,null,23,33,15,18,53,null,23,17,8,9,27,null,null,null,null,null,null,null,null,null,null,null,null,null,null,null,null,null,null,null,null,null,null,null,null,null,null,null,null,null,null,null,null,null,null,null,null,null,null,null,null,null,null,null,null,null,null,null,null,null,null,null,null,null,17,null,"",17,null,9,0,"",88,null,5,0,"",5,null,3,0,"",3,null,null,null,null,null,null,null,null,null,null,null,null,null,9,null,87,43,27,null,null,null,null,"E25",103,70,6]
[null,24,48,null,null,209,null,24,17,null,null,9,null,24,9," "," ",12,null,24,5,null,null,6,null,null,null,null,null,null,null,null,null,null,null,null,null,null,null,null,null,null,null,null,null,null,null,null,null,null,null,null,null,null,null,null,null,null,null,null,null,null,null,null,null,null,null,null,null,null,null,null,null,null,null,null,null,null,null,"",null,null,null,null,"",null,null,null,null,"",null,null,null,null,"",null,null,null,null,null,null,null,null,null,null,null,null,null,null,null,null,113,73,41,null,null,null,null,"E26",89,69,5]
[null,25,33,null,null,49,null,25,17,null,null,89,null,25,9,null," ",13,null,25,5,null,null,7,null,null,null,null,null,null,null,null,null,null,null,null,null,null,null,null,null,null,null,null,null,null,null,null,null,null,null,null,null,null,null,null,null,null,null,null,null,null,null,null,null,null,null,null,null,null,null,null,null,null,null,null,null,129,17,"",240,null,65,13,"E52",41,null,33,7,"E26",60,null,17,4,"E13",30,null,null,null,null,null,null,null,null,null,null,null,null,null,null,null,null,null,null,null,null,null,null,"E27",141,71,7]
[null,26,129,33,null,208,null,26,65,21,44,40,null,26,33,11,22,52,null,26,17,6,11,26,null,null,null,null,null,null,null,null,null,null,null,null,null,null,null,null,null,null,null,null,null,null,null,null,null,null,null,null,null,null,null,null,null,null,null,null,null,null,null,null,null,null,null,null,null,null,null,null,null,null,null,null,null,129,null,"",112,null,65,45,"E20",105,null,33,23,"E10",44,null,17,12,"E5",22,null,null,null,null,null,null,null,null,null,null,null,null,null,10,null,58,44,28,null,null,null,null,"E28",227,72,8]
[null,27,129,null,24,80,null,27,65,53,12,104,null,27,33,27,6,36,null,27,17,14,3,18,null,null,null,null,null,null,null,null,null,null,null,null,null,null,null,null,null,null,null,null,null,null,null,null,null,null,null,null,null,null,null,null,null,null,null,null,null,null,null,null,null,null,null,null,null,null,null,null,null,null,null,null,null,null,null,"",null,null,null,null,"",null,null,null,null,"",null,null,null,null,"",null,null,null,null,null,null,null,null,null,null,null,null,null,null,null,null,114,74,42,null,null,null,null,"E29",225,67,3]
[null,28,65,null,null,177,null,28,33,null,null,25,null,28,17,null," ",20,null,28,9,null,null,10,null,null,null,null,null,null,null,null,null,null,null,null,null,null,null,null,null,null,null,null,null,null,null,null,null,null,null,null,null,null,null,null,null,null,null,null,null,null,null,null,null,null,null,null,null,null,null,null,null,null,null,null,null,65,null,"",145,null,33,0,"",24,null,17,0,"",28,null,9,0,"",11,null,null,null,null,null,null,null,null,null,null,null,null,null,null,null,null,null,null,null,null,null,null,"E30",21,68,4]
[null,29,65,null,null,113,null,29,33,null,null,72,null,29,17,null," ",29,null,29,9,null,null,15,null,null,null,null,null,null,null,null,null,null,null,null,null,null,null,null,null,null,null,null,null,null,null,null,null,null,null,null,null,null,null,null,null,null,null,null,null,null,null,null,null,null,null,null,null,null,null,null,null,null,null,null,null,65,null,"",81,null,33,0,"",73,null,17,0,"",21,null,9,0,"",14,null,null,null,null,null,null,null,null,null,null,null,null,null,11,null,90,42,26,null,null,null,null,"E31",115,66,2]
[null,30,129,null,null,144,null,30,65,37,28,57,null,30,33,19,14,45,null,30,17,10,7,23,null,null,null,null,null,null,null,null,null,null,null,null,null,null,null,null,null,null,null,null,null,null,null,null,null,null,null,null,null,null,null,null,null,null,null,null,null,null,null,null,null,null,null,null,null,null,null,null,null,null,null,null,null,null,null,"",null,null,null,null,"",null,null,null,null,"",null,null,null,null,"",null,null,null,null,null,null,null,null,null,null,null,null,null,null,null,null,115,75,43,null,null,null,null,"E32",143,65,1]
[null,31,129,16,null,16,null,31,65,5,60,121,null,31,33,3,30,61,null,31,17,2,15,31,null,null,null,null,null,null,null,null,null,null,null,null,null,null,null,null,null,null,null,null,null,null,null,null,null,null,null,null,null,null,null,null,null,null,null,null,null,null,null,null,null,null,null,null,null,null,null,null,null,null,null,null,null,129,null,"E8",176,null,65,61,"E4",56,null,33,31,"E2",37,null,17,0,"E1",19,null,null,null,null,null,null,null,null,null,null,null,null,null,null,null,null,null,null,null,null,null,null,"E33",null,11]
[null,32,16,null,null,241,null,32,5,null,null,8,null,32,3," "," ",4,null,32,2,null,null,2,null,null,null,null,null,null,null,null,null,null,null,null,null,null,null,null,null,null,null,null,null,null,null,null,null,null,null,null,null,null,null,null,null,null,null,null,null,null,null,null,null,null,null,null,null,null,null,null,null,null,null,null,null,129,48,"",48,null,65,29,"E36",120,null,33,15,"E18",53,null,17,8,"E9",27,null,null,null,null,null,null,null,null,null,null,null,null,null,12,null,55,41,25,null,null,null,null,"E34",null,12]
[null,33,9,null,null,9,null,33,5,null,null,5,null,33,3,null," ",3,null,null,null,null,null,null,null,null,null,null,null,null,null,null,null,null,null,null,null,null,null,null,null,null,null,null,null,null,null,null,null,null,null,null,null,null,null,null,null,null,null,null,null,null,null,null,null,null,null,null,null,null,null,null,null,null,null,null,null,null,null,"",null,null,null,null,"",null,null,null,null,"",null,null,null,null,"",null,null,null,null,null,null,null,null,null,null,null,null,null,null,null,null,116,76,44,null,null,null,null,"E35",null,10]
[null,34,129,9,null,248,null,34,65,7,58,124,null,34,33,4,29,62,null,null,null,null,null,null,null,null,null,null,null,null,null,null,null,null,null,null,null,null,null,null,null,null,null,null,null,null,null,null,null,null,null,null,null,null,null,null,null,null,null,null,null,null,null,null,null,null,null,null,null,null,null,null,null,null,null,null,null,48,null,"",209,null,17,0,"",9,null,9," ","",12,null,5,0,"",6,null,null,null,null,null,null,null,null,null,null,null,null,null,null,null,null,null,null,null,null,null,null,"E36",null,9]
[null,35,129,null,null,120,null,35,65,39,26,60,null,35,33,20,13,46,null,null,null,null,null,null,null,null,null,null,null,null,null,null,null,null,null,null,null,null,null,null,null,null,null,null,null,null,null,null,null,null,null,null,null,null,null,null,null,null,null,null,null,null,null,null,null,null,null,null,null,null,null,null,null,null,null,null,null,33,null,"",49,null,17,0,"",89,null,9,0,"",13,null,5,0,"",7,null,null,null,null,null,null,null,null,null,null,null,null,null,13,null,74,46,30,null,null,null,null,"E37",null,14]
[null,36,65,null,null,137,null,36,33,null,null,69,null,36,17,null," ",30,null,null,null,null,null,null,null,null,null,null,null,null,null,null,null,null,null,null,null,null,null,null,null,null,null,null,null,null,null,null,null,null,null,null,null,null,null,null,null,null,null,null,null,null,null,null,null,null,null,null,null,null,null,null,null,null,null,null,null,null,null,"",null,null,null,null,"",null,null,null,null,"",null,null,null,null,"",null,null,null,null,null,null,null,null,null,null,null,null,null,null,null,null,117,77,45,null,null,null,null,"E38",null,13]
[null,37,65,null,null,73,null,37,33,null,null,28,null,37,17,null," ",19,null,null,null,null,null,null,null,null,null,null,null,null,null,null,null,null,null,null,null,null,null,null,null,null,null,null,null,null,null,null,null,null,null,null,null,null,null,null,null,null,null,null,null,null,null,null,null,null,null,null,null,null,null,null,null,null,null,null,null,129,33,"",208,null,65,21,"E44",40,null,33,11,"E22",52,null,17,6,"E11",26,null,null,null,null,null,null,null,null,null,null,null,null,null,null,null,null,null,null,null,null,null,null,"E39",null,15]
[null,38,129,null,20,184,null,38,65,55,10,101,null,38,33,28,5,35,null,null,null,null,null,null,null,null,null,null,null,null,null,null,null,null,null,null,null,null,null,null,null,null,null,null,null,null,null,null,null,null,null,null,null,null,null,null,null,null,null,null,null,null,null,null,null,null,null,null,null,null,null,null,null,null,null,null,null,129,null,"E24",80,null,65,53,"E12",104,null,33,27,"E6",36,null,17,14,"E3",18,null,null,null,null,null,null,null,null,null,null,null,null,null,14,null,71,45,29,null,null,null,null,"E40",null,16]
[null,39,129,40,null,56,null,39,65,23,42,37,null,39,33,12,21,51,null,null,null,null,null,null,null,null,null,null,null,null,null,null,null,null,null,null,null,null,null,null,null,null,null,null,null,null,null,null,null,null,null,null,null,null,null,null,null,null,null,null,null,null,null,null,null,null,null,null,null,null,null,null,null,null,null,null,null,null,null,"",null,null,null,null,"",null,null,null,null,"",null,null,null,null,"",null,null,null,null,null,null,null,null,null,null,null,null,null,null,null,null,118,78,46,null,null,null,null,"E41",null,91]
[null,40,40,null,null,201,null,40,17,null,null,92,null,40,9," "," ",14,null,null,null,null,null,null,null,null,null,null,null,null,null,null,null,null,null,null,null,null,null,null,null,null,null,null,null,null,null,null,null,null,null,null,null,null,null,null,null,null,null,null,null,null,null,null,null,null,null,null,null,null,null,null,null,null,null,null,null,65,null,"",177,null,33,0,"",25,null,17,0,"",20,null,9,0,"",10,null,null,null,null,null,null,null,null,null,null,null,null,null,null,null,null,null,null,null,null,null,null,"E42",null,92]
[null,41,41,null,null,41,null,41,17,null,null,12,null,41,9,null," ",11,null,null,null,null,null,null,null,null,null,null,null,null,null,null,null,null,null,null,null,null,null,null,null,null,null,null,null,null,null,null,null,null,null,null,null,null,null,null,null,null,null,null,null,null,null,null,null,null,null,null,null,null,null,null,null,null,null,null,null,65,null,"",113,null,33,0,"",72,null,17,0,"",29,null,9,0,"",15,null,null,null,null,null,null,null,null,null,null,null,null,null,15,null,103,47,31,null,null,null,null,"E43",null,90]
[null,42,129,41,null,216,null,42,65,31,34,117,null,42,33,16,17,54,null,null,null,null,null,null,null,null,null,null,null,null,null,null,null,null,null,null,null,null,null,null,null,null,null,null,null,null,null,null,null,null,null,null,null,null,null,null,null,null,null,null,null,null,null,null,null,null,null,null,null,null,null,null,null,null,null,null,null,null,null,"",null,null,null,null,"",null,null,null,null,"",null,null,null,null,"",null,null,null,null,null,null,null,null,null,null,null,null,null,null,null,null,119,79,47,null,null,null,null,"E44",null,89]
[null,43,129,null,4,88,null,43,65,63,2,53,null,43,33,null,1,38,null,null,null,null,null,null,null,null,null,null,null,null,null,null,null,null,null,null,null,null,null,null,null,null,null,null,null,null,null,null,null,null,null,null,null,null,null,null,null,null,null,null,null,null,null,null,null,null,null,null,null,null,null,null,null,null,null,null,null,129,null,"",144,null,65,37,"E28",57,null,33,19,"E14",45,null,17,10,"E7",23,null,null,null,null,null,null,null,null,null,null,null,null,null,null,null,null,null,null,null,null,null,null,"E45",null,94]
[null,44,65,null,null,169,null,44,33,null,null,76,null,44,17,null," ",22,null,null,null,null,null,null,null,null,null,null,null,null,null,null,null,null,null,null,null,null,null,null,null,null,null,null,null,null,null,null,null,null,null,null,null,null,null,null,null,null,null,null,null,null,null,null,null,null,null,null,null,null,null,null,null,null,null,null,null,129,16,"",16,null,65,5,"E60",121,null,33,3,"E30",61,null,17,2,"E15",31,null,null,null,null,null,null,null,null,null,null,null,null,null,16,null,42,48,32,null,null,null,null,"E46",null,93]
[null,45,65,null,null,105,null,45,33,null,null,21,null,45,17,null," ",27,null,null,null,null,null,null,null,null,null,null,null,null,null,null,null,null,null,null,null,null,null,null,null,null,null,null,null,null,null,null,null,null,null,null,null,null,null,null,null,null,null,null,null,null,null,null,null,null,null,null,null,null,null,null,null,null,null,null,null,null,null,"",null,null,null,null,"",null,null,null,null,"",null,null,null,null,null,null,null,null,null,null,null,null,null,null,null,null,null,null,null,null,null,120,80,48,null,null,null,null,"E47",null,95]
[null,46,129,null,null,152,null,46,65,47,18,108,null,46,33,24,9,43,null,null,null,null,null,null,null,null,null,null,null,null,null,null,null,null,null,null,null,null,null,null,null,null,null,null,null,null,null,null,null,null,null,null,null,null,null,null,null,null,null,null,null,null,null,null,null,null,null,null,null,null,null,null,null,null,null,null,null,16,null,"",241,null,5,0,"",8,null,3," ","",4,null,2,0,0,2,null,null,null,null,null,null,null,null,null,null,null,null,null,null,null,null,null,null,null,null,null,null,"E48",null,96]
[null,47,129,24,null,24,null,47,65,15,50,44,null,47,33,8,25,59,null,null,null,null,null,null,null,null,null,null,null,null,null,null,null,null,null,null,null,null,null,null,null,null,null,null,null,null,null,null,null,null,null,null,null,null,null,null,null,null,null,null,null,null,null,null,null,null,null,null,null,null,null,null,null,null,null,null,null,9,null,"",9,null,5,0,"",5,null,3,0,"",3,null,null,null,null,null,null,null,null,null,null,null,null,null,null,null,null,null,null,17,null,82,54,null,null,null,null,null,"E49",null,86]
[null,48,24,null,null,233,null,48,9,null,null,85,null,48,5," "," ",6,null,null,null,null,null,null,null,null,null,null,null,null,null,null,null,null,null,null,null,null,null,null,null,null,null,null,null,null,null,null,null,null,null,null,null,null,null,null,null,null,null,null,null,null,null,null,null,null,null,null,null,null,null,null,null,null,null,null,null,null,null,"",null,null,null,null,"",null,null,null,null,"",null,null,null,null,null,null,null,null,null,null,null,null,null,null,null,null,null,null,null,null,null,121,81,null,null,null,null,null,"E50",null,85]
[null,49,25,null,null,25,null,49,9,null,null,84,null,49,5,null," ",7,null,null,null,null,null,null,null,null,null,null,null,null,null,null,null,null,null,null,null,null,null,null,null,null,null,null,null,null,null,null,null,null,null,null,null,null,null,null,null,null,null,null,null,null,null,null,null,null,null,null,null,null,null,null,null,null,null,null,null,129,9,"",248,null,65,7,"E58",124,null,33,4,"E29",62,null,null,null,null,null,null,null,null,null,null,null,null,null,null,null,null,null,null,null,null,null,null,null,null,null,null,null,"E51",null,87]
[null,50,129,25,null,232,null,50,65,11,54,45,null,50,33,6,27,58,null,null,null,null,null,null,null,null,null,null,null,null,null,null,null,null,null,null,null,null,null,null,null,null,null,null,null,null,null,null,null,null,null,null,null,null,null,null,null,null,null,null,null,null,null,null,null,null,null,null,null,null,null,null,null,null,null,null,null,129,null,"",120,null,65,39,"E26",60,null,33,20,"E13",46,null,null,null,null,null,null,null,null,null,null,null,null,null,null,null,null,null,null,18,null,63,53,null,null,null,null,null,"E52",null,88]
[null,51,129,null,null,104,null,51,65,43,22,109,null,51,33,22,11,42,null,null,null,null,null,null,null,null,null,null,null,null,null,null,null,null,null,null,null,null,null,null,null,null,null,null,null,null,null,null,null,null,null,null,null,null,null,null,null,null,null,null,null,null,null,null,null,null,null,null,null,null,null,null,null,null,null,null,null,null,null,"",null,null,null,null,"",null,null,null,null,"",null,null,null,null,null,null,null,null,null,null,null,null,null,null,null,null,null,null,null,null,null,122,82,null,null,null,null,null,"E53",null,83]
[null,52,65,null,null,153,null,52,33,null,null,20,null,52,17,null," ",26,null,null,null,null,null,null,null,null,null,null,null,null,null,null,null,null,null,null,null,null,null,null,null,null,null,null,null,null,null,null,null,null,null,null,null,null,null,null,null,null,null,null,null,null,null,null,null,null,null,null,null,null,null,null,null,null,null,null,null,65,null,"",137,null,33,0,"",69,null,17,0,"",30,null,null,null,null,null,null,null,null,null,null,null,null,null,null,null,null,null,null,null,null,null,null,null,null,null,null,null,"E54",null,84]
[null,53,65,null,null,89,null,53,33,null,null,77,null,53,17,null," ",23,null,null,null,null,null,null,null,null,null,null,null,null,null,null,null,null,null,null,null,null,null,null,null,null,null,null,null,null,null,null,null,null,null,null,null,null,null,null,null,null,null,null,null,null,null,null,null,null,null,null,null,null,null,null,null,null,null,null,null,65,null,"",73,null,33,0,"",28,null,17,0,"",19,null,null,null,null,null,null,null,null,null,null,null,null,null,null,null,null,null,null,19,null,95,55,null,null,null,null,null,"E55",null,82]
[null,54,129,null,26,168,null,54,65,59,6,52,null,54,33,14,3,39,null,null,null,null,null,null,null,null,null,null,null,null,null,null,null,null,null,null,null,null,null,null,null,null,null,null,null,null,null,null,null,null,null,null,null,null,null,null,null,null,null,null,null,null,null,null,null,null,null,null,null,null,null,null,null,null,null,null,null,null,null,"",null,null,null,null,"",null,null,null,null,"",null,null,null,null,null,null,null,null,null,null,null,null,null,null,null,null,null,null,null,null,null,123,83,null,null,null,null,null,"E56",null,81]
[null,55,129,56,null,40,null,55,65,27,38,116,null,55,33,8,19,55,null,null,null,null,null,null,null,null,null,null,null,null,null,null,null,null,null,null,null,null,null,null,null,null,null,null,null,null,null,null,null,null,null,null,null,null,null,null,null,null,null,null,null,null,null,null,null,null,null,null,null,null,null,null,null,null,null,null,null,129,null,"E20",184,null,65,55,"E10",101,null,33,28,"E5",35,null,null,null,null,null,null,null,null,null,null,null,null,null,null,null,null,null,null,null,null,null,null,null,null,null,null,null,"E57",null,6]
[null,56,56,null,null,217,null,56,17,null,null,13,null,56,9," "," ",10,null,null,null,null,null,null,null,null,null,null,null,null,null,null,null,null,null,null,null,null,null,null,null,null,null,null,null,null,null,null,null,null,null,null,null,null,null,null,null,null,null,null,null,null,null,null,null,null,null,null,null,null,null,null,null,null,null,null,null,129,40,"",56,null,65,23,"E42",37,null,33,12,"E21",51,null,null,null,null,null,null,null,null,null,null,null,null,null,null,null,null,null,null,20,null,50,56,null,null,null,null,null,"E58",null,5]
[null,57,57,999,null,57,null,57,17,null,null,93,null,57,9,null," ",15,null,null,null,null,null,null,null,null,null,null,null,null,null,null,null,null,null,null,null,null,null,null,null,null,null,null,null,null,null,null,null,null,null,null,null,null,null,null,null,null,null,null,null,null,null,null,null,null,null,null,null,null,null,null,null,null,null,null,null,null,null,"",null,null,null,null,"",null,null,null,null,"",null,null,null,null,null,null,null,null,null,null,null,null,null,null,null,null,null,null,null,null,null,124,84,null,null,null,null,null,"E59",null,7]
[null,58,129,999,null,200,null,58,65,19,46,36,null,58,33,10,23,50,null,null,null,null,null,null,null,null,null,null,null,null,null,null,null,null,null,null,null,null,null,null,null,null,null,null,null,null,null,null,null,null,null,null,null,null,null,null,null,null,null,null,null,null,null,null,null,null,null,null,null,null,null,null,null,null,null,null,null,40,null,"",201,null,17,0,"",92,null,9," ","",14,null,null,null,null,null,null,null,null,null,null,null,null,null,null,null,null,null,null,null,null,null,null,null,null,null,null,null,"E60",null,8]
[null,59,129,999,null,72,null,59,65,51,14,100,null,59,33,26,7,34,null,null,null,null,null,null,null,null,null,null,null,null,null,null,null,null,null,null,null,null,null,null,null,null,null,null,null,null,null,null,null,null,null,null,null,null,null,null,null,null,null,null,null,null,null,null,null,null,null,null,null,null,null,null,null,null,null,null,null,41,null,"",41,null,17,0,"",12,null,9,0,"",11,null,null,null,null,null,null,null,null,null,null,null,null,null,null,null,null,null,null,21,null,79,51,null,null,null,null,null,"E61",null,3]
[null,60,65,999,null,185,null,60,33,null,null,29,null,60,17,null," ",18,null,null,null,null,null,null,null,null,null,null,null,null,null,null,null,null,null,null,null,null,null,null,null,null,null,null,null,null,null,null,null,null,null,null,null,null,null,null,null,null,null,null,null,null,null,null,null,null,null,null,null,null,null,null,null,null,null,null,null,null,null,"",null,null,null,null,"",null,null,null,null,"",null,null,null,null,null,null,null,null,null,null,null,null,null,null,null,null,null,null,null,null,null,125,85,null,null,null,null,null,"E62",null,4]
[null,61,65,999,null,121,null,61,33,null,null,68,null,61,17,null," ",31,null,null,null,null,null,null,null,null,null,null,null,null,null,null,null,null,null,null,null,null,null,null,null,null,null,null,null,null,null,null,null,null,null,null,null,null,null,null,null,null,null,null,null,null,null,null,null,null,null,null,null,null,null,null,null,null,null,null,null,129,41,"",216,null,65,31,"E34",117,null,33,16,"E17",54,null,null,null,null,null,null,null,null,null,null,null,null,null,null,null,null,null,null,null,null,null,null,null,null,null,null,null,"E63",null,2]
[null,62,129,999,null,136,null,62,65,35,30,61,null,62,33,18,15,47,null,null,null,null,null,null,null,null,null,null,null,null,null,null,null,null,null,null,null,null,null,null,null,null,null,null,null,null,null,null,null,null,null,null,null,null,null,null,null,null,null,null,null,null,null,null,null,null,null,null,null,null,null,null,null,null,null,null,null,129,null,"E4",88,null,65,63,"E2",53,null,33,0,"E1",38,null,null,null,null,null,null,null,null,null,null,null,null,null,null,null,null,null,null,22,null,66,52,null,null,null,null,null,"E64",null,1]
[null,63,129,999,null,249,null,63,65,3,62,125,null,63,33,2,31,63,null,null,null,null,null,null,null,null,null,null,null,null,null,null,null,null,null,null,null,null,null,null,null,null,null,null,null,null,null,null,null,null,null,null,null,null,null,null,null,null,null,null,null,null,null,null,null,null,null,null,null,null,null,null,null,null,null,null,null,null,null,"",null,null,null,null,"",null,null,null,null,"",null,null,null,null,null,null,null,null,null,null,null,null,null,null,null,null,null,null,null,null,null,126,86]
[null,64,8,null,null,8,null,64,3,null,null,4,null,64,2," "," ",2,null,null,null,null,null,null,null,null,null,null,null,null,null,null,null,null,null,null,null,null,null,null,null,null,null,null,null,null,null,null,null,null,null,null,null,null,null,null,null,null,null,null,null,null,null,null,null,null,null,null,null,null,null,null,null,null,null,null,null,65,null,"",169,null,33,0,"",76,null,17,0,"",22]
[null,65,5,null,null,5,null,65,3,null,null,3,null,null,null,null,null,null,null,null,null,null,null,null,null,null,null,null,null,null,null,null,null,null,null,null,null,null,null,null,null,null,null,null,null,null,null,null,null,null,null,null,null,null,null,null,null,null,null,null,null,null,null,null,null,null,null,null,null,null,null,null,null,null,null,null,null,65,null,"",105,null,33,0,"",21,null,17,0,"",27,null,null,null,null,null,null,null,null,null,null,null,null,null,null,null,null,null,null,23,null,98,50]
[null,66,129,999,null,252,null,66,65,4,61,126,null,null,null,null,null,null,null,null,null,null,null,null,null,null,null,null,null,null,null,null,null,null,null,null,null,null,null,null,null,null,null,null,null,null,null,null,null,null,null,null,null,null,null,null,null,null,null,null,null,null,null,null,null,null,null,null,null,null,null,null,null,null,null,null,null,null,null,"",null,null,null,null,"",null,null,null,null,"",null,null,null,null,null,null,null,null,null,null,null,null,null,null,null,null,null,null,null,null,null,127,87]
[null,67,129,999,null,124,null,67,65,36,29,62,null,null,null,null,null,null,null,null,null,null,null,null,null,null,null,null,null,null,null,null,null,null,null,null,null,null,null,null,null,null,null,null,null,null,null,null,null,null,null,null,null,null,null,null,null,null,null,null,null,null,null,null,null,null,null,null,null,null,null,null,null,null,null,null,null,129,null,"",152,null,65,47,"E18",108,null,33,24,"E9",43]
[null,68,65,999,null,133,null,68,33,null,null,67,null,null,null,null,null,null,null,null,null,null,null,null,null,null,null,null,null,null,null,null,null,null,null,null,null,null,null,null,null,null,null,null,null,null,null,null,null,null,null,null,null,null,null,null,null,null,null,null,null,null,null,null,null,null,null,null,null,null,null,null,null,null,null,null,null,129,24,"",24,null,65,15,"E50",44,null,33,8,"E25",59,null,null,null,null,null,null,null,null,null,null,null,null,null,null,null,null,null,null,24,null,47,49]
[null,69,65,999,null,69,null,69,33,null,null,30,null,null,null,null,null,null,null,null,null,null,null,null,null,null,null,null,null,null,null,null,null,null,null,null,null,null,null,null,null,null,null,null,null,null,null,null,null,null,null,null,null,null,null,null,null,null,null,null,null,null,null,null,null,null,null,null,null,null,null,null,null,null,null,null,null,null,null,"",null,null,null,null,"",null,null,null,null,"",null,null,null,null,null,null,null,null,null,null,null,null,null,null,null,null,null,null,null,null,null,128,88]
[null,70,129,999,null,188,null,70,65,52,13,99,null,null,null,null,null,null,null,null,null,null,null,null,null,null,null,null,null,null,null,null,null,null,null,null,null,null,null,null,null,null,null,null,null,null,null,null,null,null,null,null,null,null,null,null,null,null,null,null,null,null,null,null,null,null,null,null,null,null,null,null,null,null,null,null,null,24,null,"",233,null,9,0,"",85,null,5," ","",6]
[null,71,129,999,null,60,null,71,65,20,45,35,null,null,null,null,null,null,null,null,null,null,null,null,null,null,null,null,null,null,null,null,null,null,null,null,null,null,null,null,null,null,null,null,null,null,null,null,null,null,null,null,null,null,null,null,null,null,null,null,null,null,null,null,null,null,null,null,null,null,null,null,null,null,null,null,null,25,null,"",25,null,9,0,"",84,null,5,0,"",7,null,null,null,null,null,null,null,null,null,null,null,null,null,null,null,null,null,null,25,null,91,59]
[null,72,60,999,null,197,null,72,17,null,null,94,null,null,null,null,null,null,null,null,null,null,null,null,null,null,null,null,null,null,null,null,null,null,null,null,null,null,null,null,null,null,null,null,null,null,null,null,null,null,null,null,null,null,null,null,null,null,null,null,null,null,null,null,null,null,null,null,null,null,null,null,null,null,null,null,null,null,null,"",null,null,null,null,"",null,null,null,null,"",null,null,null,null,null,null,null,null,null,null,null,null,null,null,null,null,null,null,null,null,null,129,89]
[null,73,53,null,null,37,null,73,17,null,null,14,null,null,null,null,null,null,null,null,null,null,null,null,null,null,null,null,null,null,null,null,null,null,null,null,null,null,null,null,null,null,null,null,null,null,null,null,null,null,null,null,null,null,null,null,null,null,null,null,null,null,null,null,null,null,null,null,null,null,null,null,null,null,null,null,null,129,25,"",232,null,65,11,"E54",45,null,33,6,"E27",58]
[null,74,129,53,null,220,null,74,65,28,37,115,null,null,null,null,null,null,null,null,null,null,null,null,null,null,null,null,null,null,null,null,null,null,null,null,null,null,null,null,null,null,null,null,null,null,null,null,null,null,null,null,null,null,null,null,null,null,null,null,null,null,null,null,null,null,null,null,null,null,null,null,null,null,null,null,null,129,null,"",104,null,65,43,"E22",109,null,33,22,"E11",42,null,null,null,null,null,null,null,null,null,null,null,null,null,null,null,null,null,null,26,null,54,60]
[null,75,129,null,10,92,null,75,65,60,5,51,null,null,null,null,null,null,null,null,null,null,null,null,null,null,null,null,null,null,null,null,null,null,null,null,null,null,null,null,null,null,null,null,null,null,null,null,null,null,null,null,null,null,null,null,null,null,null,null,null,null,null,null,null,null,null,null,null,null,null,null,null,null,null,null,null,null,null,"",null,null,null,null,"",null,null,null,null,"",null,null,null,null,null,null,null,null,null,null,null,null,null,null,null,null,null,null,null,null,null,130,90]
[null,76,65,null,null,165,null,76,33,null,null,78,null,null,null,null,null,null,null,null,null,null,null,null,null,null,null,null,null,null,null,null,null,null,null,null,null,null,null,null,null,null,null,null,null,null,null,null,null,null,null,null,null,null,null,null,null,null,null,null,null,null,null,null,null,null,null,null,null,null,null,null,null,null,null,null,null,65,null,"",153,null,33,0,"",20,null,17,0,"",26]
[null,77,65,null,null,101,null,77,33,null,null,19,null,null,null,null,null,null,null,null,null,null,null,null,null,null,null,null,null,null,null,null,null,null,null,null,null,null,null,null,null,null,null,null,null,null,null,null,null,null,null,null,null,null,null,null,null,null,null,null,null,null,null,null,null,null,null,null,null,null,null,null,null,null,null,null,null,65,null,"",89,null,33,0,"",77,null,17,0,"",23,null,null,null,null,null,null,null,null,null,null,null,null,null,null,null,null,null,null,27,null,65,58]
[null,78,129,null,null,156,null,78,65,44,21,110,null,null,null,null,null,null,null,null,null,null,null,null,null,null,null,null,null,null,null,null,null,null,null,null,null,null,null,null,null,null,null,null,null,null,null,null,null,null,null,null,null,null,null,null,null,null,null,null,null,null,null,null,null,null,null,null,null,null,null,null,null,null,null,null,null,null,null,"",null,null,null,null,"",null,null,null,null,"",null,null,null,null,null,null,null,null,null,null,null,null,null,null,null,null,null,null,null,null,null,131,91]
[null,79,129,28,2,28,null,79,65,12,53,46,null,null,null,null,null,null,null,null,null,null,null,null,null,null,null,null,null,null,null,null,null,null,null,null,null,null,null,null,null,null,null,null,null,null,null,null,null,null,null,null,null,null,null,null,null,null,null,null,null,null,null,null,null,null,null,null,null,null,null,null,null,null,null,null,null,129,null,"E26",168,null,65,59,"E6",52,null,33,14,"E3",39]
[null,80,28,null,null,229,null,80,9,null,null,83,null,null,null,null,null,null,null,null,null,null,null,null,null,null,null,null,null,null,null,null,null,null,null,null,null,null,null,null,null,null,null,null,null,null,null,null,null,null,null,null,null,null,null,null,null,null,null,null,null,null,null,null,null,null,null,null,null,null,null,null,null,null,null,null,null,129,56,"",40,null,65,27,"E38",116,null,33,8,"E19",55,null,null,null,null,null,null,null,null,null,null,null,null,null,null,null,null,null,null,28,null,76,57]
[null,81,21,null,null,21,null,81,9,null,null,86,null,null,null,null,null,null,null,null,null,null,null,null,null,null,null,null,null,null,null,null,null,null,null,null,null,null,null,null,null,null,null,null,null,null,null,null,null,null,null,null,null,null,null,null,null,null,null,null,null,null,null,null,null,null,null,null,null,null,null,null,null,null,null,null,null,null,null,"",null,null,null,null,"",null,null,null,null,"",null,null,null,null,null,null,null,null,null,null,null,null,null,null,null,null,null,null,null,null,null,132,92]
[null,82,129,21,30,236,null,82,65,16,49,43,null,null,null,null,null,null,null,null,null,null,null,null,null,null,null,null,null,null,null,null,null,null,null,null,null,null,null,null,null,null,null,null,null,null,null,null,null,null,null,null,null,null,null,null,null,null,null,null,null,null,null,null,null,null,null,null,null,null,null,null,null,null,null,null,null,56,null,"",217,null,17,0,"",13,null,9," ","",10]
[null,83,129,null,null,108,null,83,65,48,17,107,null,null,null,null,null,null,null,null,null,null,null,null,null,null,null,null,null,null,null,null,null,null,null,null,null,null,null,null,null,null,null,null,null,null,null,null,null,null,null,null,null,null,null,null,null,null,null,null,null,null,null,null,null,null,null,null,null,null,null,null,null,null,null,null,null,57,999,"",57,null,17,0,"",93,null,9,0,"",15,null,null,null,null,null,null,null,null,null,null,null,null,null,null,null,null,null,null,29,null,43,62]
[null,84,65,null,null,149,null,84,33,null,null,22,null,null,null,null,null,null,null,null,null,null,null,null,null,null,null,null,null,null,null,null,null,null,null,null,null,null,null,null,null,null,null,null,null,null,null,null,null,null,null,null,null,null,null,null,null,null,null,null,null,null,null,null,null,null,null,null,null,null,null,null,null,null,null,null,null,null,null,"",null,null,null,null,"",null,null,null,null,"",null,null,null,null,null,null,null,null,null,null,null,null,null,null,null,null,null,null,null,null,null,133,93]
[null,85,65,null,null,85,null,85,33,null,null,75,null,null,null,null,null,null,null,null,null,null,null,null,null,null,null,null,null,null,null,null,null,null,null,null,null,null,null,null,null,null,null,null,null,null,null,null,null,null,null,null,null,null,null,null,null,null,null,null,null,null,null,null,null,null,null,null,null,null,null,null,null,null,null,null,null,129,999,"",200,null,65,19,"E46",36,null,33,10,"E23",50]
[null,86,129,null,16,172,null,86,65,64,1,54,null,null,null,null,null,null,null,null,null,null,null,null,null,null,null,null,null,null,null,null,null,null,null,null,null,null,null,null,null,null,null,null,null,null,null,null,null,null,null,null,null,null,null,null,null,null,null,null,null,null,null,null,null,null,null,null,null,null,null,null,null,null,null,null,null,129,999,"",72,null,65,51,"E14",100,null,33,26,"E7",34,null,null,null,null,null,null,null,null,null,null,null,null,null,null,null,null,null,null,30,null,60,61]
[null,87,129,44,null,44,null,87,65,32,33,118,null,null,null,null,null,null,null,null,null,null,null,null,null,null,null,null,null,null,null,null,null,null,null,null,null,null,null,null,null,null,null,null,null,null,null,null,null,null,null,null,null,null,null,null,null,null,null,null,null,null,null,null,null,null,null,null,null,null,null,null,null,null,null,null,null,null,null,"",null,null,null,null,"",null,null,null,null,"",null,null,null,null,null,null,null,null,null,null,null,null,null,null,null,null,null,null,null,null,null,134,94]
[null,88,44,null,null,213,null,88,17,null,null,11,null,null,null,null,null,null,null,null,null,null,null,null,null,null,null,null,null,null,null,null,null,null,null,null,null,null,null,null,null,null,null,null,null,null,null,null,null,null,null,null,null,null,null,null,null,null,null,null,null,null,null,null,null,null,null,null,null,null,null,null,null,null,null,null,null,65,999,"",185,null,33,0,"",29,null,17,0,"",18]
[null,89,37,null,null,53,null,89,17,null,null,91,null,null,null,null,null,null,null,null,null,null,null,null,null,null,null,null,null,null,null,null,null,null,null,null,null,null,null,null,null,null,null,null,null,null,null,null,null,null,null,null,null,null,null,null,null,null,null,null,null,null,null,null,null,null,null,null,null,null,null,null,null,null,null,null,null,65,999,"",121,null,33,0,"",68,null,17,0,"",31,null,null,null,null,null,null,null,null,null,null,null,null,null,null,null,null,null,null,31,null,80,63]
[null,90,129,37,null,204,null,90,65,24,41,38,null,null,null,null,null,null,null,null,null,null,null,null,null,null,null,null,null,null,null,null,null,null,null,null,null,null,null,null,null,null,null,null,null,null,null,null,null,null,null,null,null,null,null,null,null,null,null,null,null,null,null,null,null,null,null,null,null,null,null,null,null,null,null,null,null,null,null,"",null,null,null,null,"",null,null,null,null,"",null,null,null,null,null,null,null,null,null,null,null,null,null,null,null,null,null,null,null,null,null,135,95]
[null,91,129,null,18,76,null,91,65,56,9,102,null,null,null,null,null,null,null,null,null,null,null,null,null,null,null,null,null,null,null,null,null,null,null,null,null,null,null,null,null,null,null,null,null,null,null,null,null,null,null,null,null,null,null,null,null,null,null,null,null,null,null,null,null,null,null,null,null,null,null,null,null,null,null,null,null,129,999,"",136,null,65,35,"E30",61,null,33,18,"E15",47]
[null,92,65,null,null,181,null,92,33,null,null,27,null,null,null,null,null,null,null,null,null,null,null,null,null,null,null,null,null,null,null,null,null,null,null,null,null,null,null,null,null,null,null,null,null,null,null,null,null,null,null,null,null,null,null,null,null,null,null,null,null,null,null,null,null,null,null,null,null,null,null,null,null,null,null,null,null,129,999,"",249,null,65,3,"E62",125,null,33,2,"E31",63,null,null,null,null,null,null,null,null,null,null,null,null,null,null,null,null,null,null,32,null,97,64]
[null,93,65,null,null,117,null,93,33,null,null,70,null,null,null,null,null,null,null,null,null,null,null,null,null,null,null,null,null,null,null,null,null,null,null,null,null,null,null,null,null,null,null,null,null,null,null,null,null,null,null,null,null,null,null,null,null,null,null,null,null,null,null,null,null,null,null,null,null,null,null,null,null,null,null,null,null,null,null,"",null,null,null,null,"",null,null,null,null,null,null,null,null,null,null,null,null,null,null,null,null,null,null,null,null,null,null,null,null,null,null,136,96]
[null,94,129,null,null,140,null,94,65,40,25,59,null,null,null,null,null,null,null,null,null,null,null,null,null,null,null,null,null,null,null,null,null,null,null,null,null,null,null,null,null,null,null,null,null,null,null,null,null,null,null,null,null,null,null,null,null,null,null,null,null,null,null,null,null,null,null,null,null,null,null,null,null,null,null,null,null,8,null,"",8,null,3,0,"",4,null,2," "," ",2]
[null,95,129,12,null,12,null,95,65,8,57,123,null,null,null,null,null,null,null,null,null,null,null,null,null,null,null,null,null,null,null,null,null,null,null,null,null,null,null,null,null,null,null,null,null,null,null,null,null,null,null,null,null,null,null,null,null,null,null,null,null,null,null,null,null,null,null,null,null,null,null,null,null,null,null,null,null,5,null,"",5,null,3,0,"",3,null,null,null,null,null,null,null,null,null,null,null,null,null,null,null,null,null,null,null,null,null,null,null,33,null,102]
[null,96,12,null,null,245,null,96,5,null,null,6,null,null,null,null,null,null,null,null,null,null,null,null,null,null,null,null,null,null,null,null,null,null,null,null,null,null,null,null,null,null,null,null,null,null,null,null,null,null,null,null,null,null,null,null,null,null,null,null,null,null,null,null,null,null,null,null,null,null,null,null,null,null,null,null,null,null,null,"",null,null,null,null,"",null,null,null,null,null,null,null,null,null,null,null,null,null,null,null,null,null,null,null,null,null,null,null,null,null,null,137]
[null,97,13,null,null,13,null,97,5,null,null,7,null,null,null,null,null,null,null,null,null,null,null,null,null,null,null,null,null,null,null,null,null,null,null,null,null,null,null,null,null,null,null,null,null,null,null,null,null,null,null,null,null,null,null,null,null,null,null,null,null,null,null,null,null,null,null,null,null,null,null,null,null,null,null,null,null,129,999,"",252,null,65,4,"E61",126]
[null,98,129,13,null,244,null,98,65,6,59,122,null,null,null,null,null,null,null,null,null,null,null,null,null,null,null,null,null,null,null,null,null,null,null,null,null,null,null,null,null,null,null,null,null,null,null,null,null,null,null,null,null,null,null,null,null,null,null,null,null,null,null,null,null,null,null,null,null,null,null,null,null,null,null,null,null,129,999,"",124,null,65,36,"E29",62,null,null,null,null,null,null,null,null,null,null,null,null,null,null,null,null,null,null,null,null,null,null,null,34,null,64]
[null,99,129,null,27,116,null,99,65,38,27,58,null,null,null,null,null,null,null,null,null,null,null,null,null,null,null,null,null,null,null,null,null,null,null,null,null,null,null,null,null,null,null,null,null,null,null,null,null,null,null,null,null,null,null,null,null,null,null,null,null,null,null,null,null,null,null,null,null,null,null,null,null,null,null,null,null,null,null,"",null,null,null,null,"",null,null,null,null,null,null,null,null,null,null,null,null,null,null,null,null,null,null,null,null,null,null,null,null,null,null,138]
[null,100,65,null,null,141,null,100,33,null,null,71,null,null,null,null,null,null,null,null,null,null,null,null,null,null,null,null,null,null,null,null,null,null,null,null,null,null,null,null,null,null,null,null,null,null,null,null,null,null,null,null,null,null,null,null,null,null,null,null,null,null,null,null,null,null,null,null,null,null,null,null,null,null,null,null,null,65,999,"",133,null,33,0,"",67]
[null,101,65,null,null,77,null,101,33,null,null,26,null,null,null,null,null,null,null,null,null,null,null,null,null,null,null,null,null,null,null,null,null,null,null,null,null,null,null,null,null,null,null,null,null,null,null,null,null,null,null,null,null,null,null,null,null,null,null,null,null,null,null,null,null,null,null,null,null,null,null,null,null,null,null,null,null,65,999,"",69,null,33,0,"",30,null,null,null,null,null,null,null,null,null,null,null,null,null,null,null,null,null,null,null,null,null,null,null,35,null,59]
[null,102,129,null,22,180,null,102,65,54,11,103,null,null,null,null,null,null,null,null,null,null,null,null,null,null,null,null,null,null,null,null,null,null,null,null,null,null,null,null,null,null,null,null,null,null,null,null,null,null,null,null,null,null,null,null,null,null,null,null,null,null,null,null,null,null,null,null,null,null,null,null,null,null,null,null,null,null,null,"",null,null,null,null,"",null,null,null,null,null,null,null,null,null,null,null,null,null,null,null,null,null,null,null,null,null,null,null,null,null,null,139]
[null,103,129,36,null,52,null,103,65,22,43,39,null,null,null,null,null,null,null,null,null,null,null,null,null,null,null,null,null,null,null,null,null,null,null,null,null,null,null,null,null,null,null,null,null,null,null,null,null,null,null,null,null,null,null,null,null,null,null,null,null,null,null,null,null,null,null,null,null,null,null,null,null,null,null,null,null,129,999,"",188,null,65,52,"E13",99]
[null,104,36,null,null,205,null,104,17,null,null,90,null,null,null,null,null,null,null,null,null,null,null,null,null,null,null,null,null,null,null,null,null,null,null,null,null,null,null,null,null,null,null,null,null,null,null,null,null,null,null,null,null,null,null,null,null,null,null,null,null,null,null,null,null,null,null,null,null,null,null,null,null,null,null,null,null,129,999,"",60,null,65,20,"E45",35,null,null,null,null,null,null,null,null,null,null,null,null,null,null,null,null,null,null,null,null,null,null,null,36,null,75]
[null,105,45,null,null,45,null,105,17,null,null,10,null,null,null,null,null,null,null,null,null,null,null,null,null,null,null,null,null,null,null,null,null,null,null,null,null,null,null,null,null,null,null,null,null,null,null,null,null,null,null,null,null,null,null,null,null,null,null,null,null,null,null,null,null,null,null,null,null,null,null,null,null,null,null,null,null,null,null,"",null,null,null,null,"",null,null,null,null,null,null,null,null,null,null,null,null,null,null,null,null,null,null,null,null,null,null,null,null,null,null,140]
[null,106,129,45,null,212,null,106,65,30,35,119,null,null,null,null,null,null,null,null,null,null,null,null,null,null,null,null,null,null,null,null,null,null,null,null,null,null,null,null,null,null,null,null,null,null,null,null,null,null,null,null,null,null,null,null,null,null,null,null,null,null,null,null,null,null,null,null,null,null,null,null,null,null,null,null,null,60,999,"",197,null,17,0,"",94]
[null,107,129,null,6,84,null,107,65,62,3,55,null,null,null,null,null,null,null,null,null,null,null,null,null,null,null,null,null,null,null,null,null,null,null,null,null,null,null,null,null,null,null,null,null,null,null,null,null,null,null,null,null,null,null,null,null,null,null,null,null,null,null,null,null,null,null,null,null,null,null,null,null,null,null,null,null,53,null,"",37,null,17,0,"",14,null,null,null,null,null,null,null,null,null,null,null,null,null,null,null,null,null,null,null,null,null,null,null,37,null,48]
[null,108,65,null,null,173,null,108,33,null,null,74,null,null,null,null,null,null,null,null,null,null,null,null,null,null,null,null,null,null,null,null,null,null,null,null,null,null,null,null,null,null,null,null,null,null,null,null,null,null,null,null,null,null,null,null,null,null,null,null,null,null,null,null,null,null,null,null,null,null,null,null,null,null,null,null,null,null,null,"",null,null,null,null,"",null,null,null,null,null,null,null,null,null,null,null,null,null,null,null,null,null,null,null,null,null,null,null,null,null,null,141]
[null,109,65,null,null,109,null,109,33,null,null,23,null,null,null,null,null,null,null,null,null,null,null,null,null,null,null,null,null,null,null,null,null,null,null,null,null,null,null,null,null,null,null,null,null,null,null,null,null,null,null,null,null,null,null,null,null,null,null,null,null,null,null,null,null,null,null,null,null,null,null,null,null,null,null,null,null,129,53,"",220,null,65,28,"E37",115]
[null,110,129,null,12,148,null,110,65,46,19,106,null,null,null,null,null,null,null,null,null,null,null,null,null,null,null,null,null,null,null,null,null,null,null,null,null,null,null,null,null,null,null,null,null,null,null,null,null,null,null,null,null,null,null,null,null,null,null,null,null,null,null,null,null,null,null,null,null,null,null,null,null,null,null,null,null,129,null,"E10",92,null,65,60,"E5",51,null,null,null,null,null,null,null,null,null,null,null,null,null,null,null,null,null,null,null,null,null,null,null,38,null,49]
[null,111,129,20,null,20,null,111,65,14,51,42,null,null,null,null,null,null,null,null,null,null,null,null,null,null,null,null,null,null,null,null,null,null,null,null,null,null,null,null,null,null,null,null,null,null,null,null,null,null,null,null,null,null,null,null,null,null,null,null,null,null,null,null,null,null,null,null,null,null,null,null,null,null,null,null,null,null,null,"",null,null,null,null,"",null,null,null,null,null,null,null,null,null,null,null,null,null,null,null,null,null,null,null,null,null,null,null,null,null,null,142]
[null,112,20,null,null,237,null,112,9,null,null,87,null,null,null,null,null,null,null,null,null,null,null,null,null,null,null,null,null,null,null,null,null,null,null,null,null,null,null,null,null,null,null,null,null,null,null,null,null,null,null,null,null,null,null,null,null,null,null,null,null,null,null,null,null,null,null,null,null,null,null,null,null,null,null,null,null,65,null,"",165,null,33,0,"",78]
[null,113,29,null,null,29,null,113,9,null,null,82,null,null,null,null,null,null,null,null,null,null,null,null,null,null,null,null,null,null,null,null,null,null,null,null,null,null,null,null,null,null,null,null,null,null,null,null,null,null,null,null,null,null,null,null,null,null,null,null,null,null,null,null,null,null,null,null,null,null,null,null,null,null,null,null,null,65,null,"",101,null,33,0,"",19,null,null,null,null,null,null,null,null,null,null,null,null,null,null,null,null,null,null,null,null,null,null,null,39,null,53]
[null,114,129,29,null,228,null,114,65,10,55,47,null,null,null,null,null,null,null,null,null,null,null,null,null,null,null,null,null,null,null,null,null,null,null,null,null,null,null,null,null,null,null,null,null,null,null,null,null,null,null,null,null,null,null,null,null,null,null,null,null,null,null,null,null,null,null,null,null,null,null,null,null,null,null,null,null,null,null,"",null,null,null,null,"",null,null,null,null,null,null,null,null,null,null,null,null,null,null,null,null,null,null,null,null,null,null,null,null,null,null,143]
[null,115,129,null,null,100,null,115,65,42,23,111,null,null,null,null,null,null,null,null,null,null,null,null,null,null,null,null,null,null,null,null,null,null,null,null,null,null,null,null,null,null,null,null,null,null,null,null,null,null,null,null,null,null,null,null,null,null,null,null,null,null,null,null,null,null,null,null,null,null,null,null,null,null,null,null,null,129,null,"",156,null,65,44,"E21",110]
[null,116,65,null,null,157,null,116,33,null,null,18,null,null,null,null,null,null,null,null,null,null,null,null,null,null,null,null,null,null,null,null,null,null,null,null,null,null,null,null,null,null,null,null,null,null,null,null,null,null,null,null,null,null,null,null,null,null,null,null,null,null,null,null,null,null,null,null,null,null,null,null,null,null,null,null,null,129,28,"E2",28,null,65,12,"E53",46,null,null,null,null,null,null,null,null,null,null,null,null,null,null,null,null,null,null,null,null,null,null,null,40,null,70]
[null,117,65,null,null,93,null,117,33,null,null,79,null,null,null,null,null,null,null,null,null,null,null,null,null,null,null,null,null,null,null,null,null,null,null,null,null,null,null,null,null,null,null,null,null,null,null,null,null,null,null,null,null,null,null,null,null,null,null,null,null,null,null,null,null,null,null,null,null,null,null,null,null,null,null,null,null,null,null,"",null,null,null,null,"",null,null,null,null,null,null,null,null,null,null,null,null,null,null,null,null,null,null,null,null,null,null,null,null,null,null,144]
[null,118,129,null,14,164,null,118,65,58,7,50,null,null,null,null,null,null,null,null,null,null,null,null,null,null,null,null,null,null,null,null,null,null,null,null,null,null,null,null,null,null,null,null,null,null,null,null,null,null,null,null,null,null,null,null,null,null,null,null,null,null,null,null,null,null,null,null,null,null,null,null,null,null,null,null,null,28,null,"",229,null,9,0,"",83]
[null,119,129,52,null,36,null,119,65,26,39,114,null,null,null,null,null,null,null,null,null,null,null,null,null,null,null,null,null,null,null,null,null,null,null,null,null,null,null,null,null,null,null,null,null,null,null,null,null,null,null,null,null,null,null,null,null,null,null,null,null,null,null,null,null,null,null,null,null,null,null,null,null,null,null,null,null,21,null,"",21,null,9,0,"",86,null,null,null,null,null,null,null,null,null,null,null,null,null,null,null,null,null,null,null,null,null,null,null,41,null,86]
[null,120,52,null,null,221,null,120,17,null,null,15,null,null,null,null,null,null,null,null,null,null,null,null,null,null,null,null,null,null,null,null,null,null,null,null,null,null,null,null,null,null,null,null,null,null,null,null,null,null,null,null,null,null,null,null,null,null,null,null,null,null,null,null,null,null,null,null,null,null,null,null,null,null,null,null,null,null,null,"",null,null,null,null,"",null,null,null,null,null,null,null,null,null,null,null,null,null,null,null,null,null,null,null,null,null,null,null,null,null,null,145]
[null,121,61,999,null,61,null,121,17,null,null,95,null,null,null,null,null,null,null,null,null,null,null,null,null,null,null,null,null,null,null,null,null,null,null,null,null,null,null,null,null,null,null,null,null,null,null,null,null,null,null,null,null,null,null,null,null,null,null,null,null,null,null,null,null,null,null,null,null,null,null,null,null,null,null,null,null,129,21,"E30",236,null,65,16,"E49",43]
[null,122,129,999,null,196,null,122,65,18,47,34,null,null,null,null,null,null,null,null,null,null,null,null,null,null,null,null,null,null,null,null,null,null,null,null,null,null,null,null,null,null,null,null,null,null,null,null,null,null,null,null,null,null,null,null,null,null,null,null,null,null,null,null,null,null,null,null,null,null,null,null,null,null,null,null,null,129,null,"",108,null,65,48,"E17",107,null,null,null,null,null,null,null,null,null,null,null,null,null,null,null,null,null,null,null,null,null,null,null,42,null,85]
[null,123,129,999,null,68,null,123,65,50,15,98,null,null,null,null,null,null,null,null,null,null,null,null,null,null,null,null,null,null,null,null,null,null,null,null,null,null,null,null,null,null,null,null,null,null,null,null,null,null,null,null,null,null,null,null,null,null,null,null,null,null,null,null,null,null,null,null,null,null,null,null,null,null,null,null,null,null,null,"",null,null,null,null,"",null,null,null,null,null,null,null,null,null,null,null,null,null,null,null,null,null,null,null,null,null,null,null,null,null,null,146]
[null,124,65,999,null,189,null,124,33,null,null,31,null,null,null,null,null,null,null,null,null,null,null,null,null,null,null,null,null,null,null,null,null,null,null,null,null,null,null,null,null,null,null,null,null,null,null,null,null,null,null,null,null,null,null,null,null,null,null,null,null,null,null,null,null,null,null,null,null,null,null,null,null,null,null,null,null,65,null,"",149,null,33,0,"",22]
[null,125,65,999,null,125,null,125,33,null,null,66,null,null,null,null,null,null,null,null,null,null,null,null,null,null,null,null,null,null,null,null,null,null,null,null,null,null,null,null,null,null,null,null,null,null,null,null,null,null,null,null,null,null,null,null,null,null,null,null,null,null,null,null,null,null,null,null,null,null,null,null,null,null,null,null,null,65,null,"",85,null,33,0,"",75,null,null,null,null,null,null,null,null,null,null,null,null,null,null,null,null,null,null,null,null,null,null,null,43,null,96]
[null,126,129,999,null,132,null,126,65,34,31,63,null,null,null,null,null,null,null,null,null,null,null,null,null,null,null,null,null,null,null,null,null,null,null,null,null,null,null,null,null,null,null,null,null,null,null,null,null,null,null,null,null,null,null,null,null,null,null,null,null,null,null,null,null,null,null,null,null,null,null,null,null,null,null,null,null,null,null,"",null,null,null,null,"",null,null,null,null,null,null,null,null,null,null,null,null,null,null,null,null,null,null,null,null,null,null,null,null,null,null,147]
[null,127,129,999,null,253,null,127,65,2,63,127,null,null,null,null,null,null,null,null,null,null,null,null,null,null,null,null,null,null,null,null,null,null,null,null,null,null,null,null,null,null,null,null,null,null,null,null,null,null,null,null,null,null,null,null,null,null,null,null,null,null,null,null,null,null,null,null,null,null,null,null,null,null,null,null,null,129,null,"E16",172,null,65,64,"E1",54]
[null,128,4,null,null,4,null,128,2,null,null,2,null,null,null,null,null,null,null,null,null,null,null,null,null,null,null,null,null,null,null,null,null,null,null,null,null,null,null,null,null,null,null,null,null,null,null,null,null,null,null,null,null,null,null,null,null,null,null,null,null,null,null,null,null,null,null,null,null,null,null,null,null,null,null,null,null,129,44,"",44,null,65,32,"E33",118,null,null,null,null,null,null,null,null,null,null,null,null,null,null,null,null,null,null,null,null,null,null,null,44,null,92]
[null,129,3,null,null,3,null,null,null,null,null,null,null,null,null,null,null,null,null,null,null,null,null,null,null,null,null,null,null,null,null,null,null,null,null,null,null,null,null,null,null,null,null,null,null,null,null,null,null,null,null,null,null,null,null,null,null,null,null,null,null,null,null,null,null,null,null,null,null,null,null,null,null,null,null,null,null,null,null,"",null,null,null,null,"",null,null,null,null,null,null,null,null,null,null,null,null,null,null,null,null,null,null,null,null,null,null,null,null,null,null,148]
[null,130,129,999,null,254,null,null,null,null,null,null,null,null,null,null,null,null,null,null,null,null,null,null,null,null,null,null,null,null,null,null,null,null,null,null,null,null,null,null,null,null,null,null,null,null,null,null,null,null,null,null,null,null,null,null,null,null,null,null,null,null,null,null,null,null,null,null,null,null,null,null,null,null,null,null,null,44,null,"",213,null,17,0,"",11]
[null,131,129,999,null,126,null,null,null,null,null,null,null,null,null,null,null,null,null,null,null,null,null,null,null,null,null,null,null,null,null,null,null,null,null,null,null,null,null,null,null,null,null,null,null,null,null,null,null,null,null,null,null,null,null,null,null,null,null,null,null,null,null,null,null,null,null,null,null,null,null,null,null,null,null,null,null,37,null,"",53,null,17,0,"",91,null,null,null,null,null,null,null,null,null,null,null,null,null,null,null,null,null,null,null,null,null,null,null,45,null,44]
[null,132,65,999,null,131,null,null,null,null,null,null,null,null,null,null,null,null,null,null,null,null,null,null,null,null,null,null,null,null,null,null,null,null,null,null,null,null,null,null,null,null,null,null,null,null,null,null,null,null,null,null,null,null,null,null,null,null,null,null,null,null,null,null,null,null,null,null,null,null,null,null,null,null,null,null,null,null,null,"",null,null,null,null,"",null,null,null,null,null,null,null,null,null,null,null,null,null,null,null,null,null,null,null,null,null,null,null,null,null,null,149]
[null,133,65,999,null,67,null,null,null,null,null,null,null,null,null,null,null,null,null,null,null,null,null,null,null,null,null,null,null,null,null,null,null,null,null,null,null,null,null,null,null,null,null,null,null,null,null,null,null,null,null,null,null,null,null,null,null,null,null,null,null,null,null,null,null,null,null,null,null,null,null,null,null,null,null,null,null,129,37,"",204,null,65,24,"E41",38]
[null,134,129,999,null,190,null,null,null,null,null,null,null,null,null,null,null,null,null,null,null,null,null,null,null,null,null,null,null,null,null,null,null,null,null,null,null,null,null,null,null,null,null,null,null,null,null,null,null,null,null,null,null,null,null,null,null,null,null,null,null,null,null,null,null,null,null,null,null,null,null,null,null,null,null,null,null,129,null,"E18",76,null,65,56,"E9",102,null,null,null,null,null,null,null,null,null,null,null,null,null,null,null,null,null,null,null,null,null,null,null,46,null,69]
[null,135,129,999,null,62,null,null,null,null,null,null,null,null,null,null,null,null,null,null,null,null,null,null,null,null,null,null,null,null,null,null,null,null,null,null,null,null,null,null,null,null,null,null,null,null,null,null,null,null,null,null,null,null,null,null,null,null,null,null,null,null,null,null,null,null,null,null,null,null,null,null,null,null,null,null,null,null,null,"",null,null,null,null,"",null,null,null,null,null,null,null,null,null,null,null,null,null,null,null,null,null,null,null,null,null,null,null,null,null,null,150]
[null,136,62,999,null,195,null,null,null,null,null,null,null,null,null,null,null,null,null,null,null,null,null,null,null,null,null,null,null,null,null,null,null,null,null,null,null,null,null,null,null,null,null,null,null,null,null,null,null,null,null,null,null,null,null,null,null,null,null,null,null,null,null,null,null,null,null,null,null,null,null,null,null,null,null,null,null,65,null,"",181,null,33,0,"",27]
[null,137,51,null,null,35,null,null,null,null,null,null,null,null,null,null,null,null,null,null,null,null,null,null,null,null,null,null,null,null,null,null,null,null,null,null,null,null,null,null,null,null,null,null,null,null,null,null,null,null,null,null,null,null,null,null,null,null,null,null,null,null,null,null,null,null,null,null,null,null,null,null,null,null,null,null,null,65,null,"",117,null,33,0,"",70,null,null,null,null,null,null,null,null,null,null,null,null,null,null,null,null,null,null,null,null,null,null,null,47,null,101]
[null,138,129,51,null,222,null,null,null,null,null,null,null,null,null,null,null,null,null,null,null,null,null,null,null,null,null,null,null,null,null,null,null,null,null,null,null,null,null,null,null,null,null,null,null,null,null,null,null,null,null,null,null,null,null,null,null,null,null,null,null,null,null,null,null,null,null,null,null,null,null,null,null,null,null,null,null,null,null,"",null,null,null,null,"",null,null,null,null,null,null,null,null,null,null,null,null,null,null,null,null,null,null,null,null,null,null,null,null,null,null,151]
[null,139,129,null,13,94,null,null,null,null,null,null,null,null,null,null,null,null,null,null,null,null,null,null,null,null,null,null,null,null,null,null,null,null,null,null,null,null,null,null,null,null,null,null,null,null,null,null,null,null,null,null,null,null,null,null,null,null,null,null,null,null,null,null,null,null,null,null,null,null,null,null,null,null,null,null,null,129,null,"",140,null,65,40,"E25",59]
[null,140,65,null,null,163,null,null,null,null,null,null,null,null,null,null,null,null,null,null,null,null,null,null,null,null,null,null,null,null,null,null,null,null,null,null,null,null,null,null,null,null,null,null,null,null,null,null,null,null,null,null,null,null,null,null,null,null,null,null,null,null,null,null,null,null,null,null,null,null,null,null,null,null,null,null,null,129,12,"",12,null,65,8,"E57",123,null,null,null,null,null,null,null,null,null,null,null,null,null,null,null,null,null,null,null,null,null,null,null,48,null,81]
[null,141,65,null,null,99,null,null,null,null,null,null,null,null,null,null,null,null,null,null,null,null,null,null,null,null,null,null,null,null,null,null,null,null,null,null,null,null,null,null,null,null,null,null,null,null,null,null,null,null,null,null,null,null,null,null,null,null,null,null,null,null,null,null,null,null,null,null,null,null,null,null,null,null,null,null,null,null,null,"",null,null,null,null,"",null,null,null,null,null,null,null,null,null,null,null,null,null,null,null,null,null,null,null,null,null,null,null,null,null,null,152]
[null,142,129,null,null,158,null,null,null,null,null,null,null,null,null,null,null,null,null,null,null,null,null,null,null,null,null,null,null,null,null,null,null,null,null,null,null,null,null,null,null,null,null,null,null,null,null,null,null,null,null,null,null,null,null,null,null,null,null,null,null,null,null,null,null,null,null,null,null,null,null,null,null,null,null,null,null,12,null,"",245,null,5,0,"",6]
[null,143,129,30,28,30,null,null,null,null,null,null,null,null,null,null,null,null,null,null,null,null,null,null,null,null,null,null,null,null,null,null,null,null,null,null,null,null,null,null,null,null,null,null,null,null,null,null,null,null,null,null,null,null,null,null,null,null,null,null,null,null,null,null,null,null,null,null,null,null,null,null,null,null,null,null,null,13,null,"",13,null,5,0,"",7,null,null,null,null,null,null,null,null,null,null,null,null,null,null,null,null,null,null,null,null,null,null,null,49,null,41]
[null,144,30,null,null,227,null,null,null,null,null,null,null,null,null,null,null,null,null,null,null,null,null,null,null,null,null,null,null,null,null,null,null,null,null,null,null,null,null,null,null,null,null,null,null,null,null,null,null,null,null,null,null,null,null,null,null,null,null,null,null,null,null,null,null,null,null,null,null,null,null,null,null,null,null,null,null,null,null,"",null,null,null,null,"",null,null,null,null,null,null,null,null,null,null,null,null,null,null,null,null,null,null,null,null,null,null,null,null,null,null,153]
[null,145,19,null,null,19,null,null,null,null,null,null,null,null,null,null,null,null,null,null,null,null,null,null,null,null,null,null,null,null,null,null,null,null,null,null,null,null,null,null,null,null,null,null,null,null,null,null,null,null,null,null,null,null,null,null,null,null,null,null,null,null,null,null,null,null,null,null,null,null,null,null,null,null,null,null,null,129,13,"",244,null,65,6,"E59",122]
[null,146,129,19,null,238,null,null,null,null,null,null,null,null,null,null,null,null,null,null,null,null,null,null,null,null,null,null,null,null,null,null,null,null,null,null,null,null,null,null,null,null,null,null,null,null,null,null,null,null,null,null,null,null,null,null,null,null,null,null,null,null,null,null,null,null,null,null,null,null,null,null,null,null,null,null,null,129,null,"E27",116,null,65,38,"E27",58,null,null,null,null,null,null,null,null,null,null,null,null,null,null,null,null,null,null,null,null,null,null,null,50,null,99]
[null,147,129,null,null,110,null,null,null,null,null,null,null,null,null,null,null,null,null,null,null,null,null,null,null,null,null,null,null,null,null,null,null,null,null,null,null,null,null,null,null,null,null,null,null,null,null,null,null,null,null,null,null,null,null,null,null,null,null,null,null,null,null,null,null,null,null,null,null,null,null,null,null,null,null,null,null,null,null,"",null,null,null,null,"",null,null,null,null,null,null,null,null,null,null,null,null,null,null,null,null,null,null,null,null,null,null,null,null,null,null,154]
[null,148,65,null,null,147,null,null,null,null,null,null,null,null,null,null,null,null,null,null,null,null,null,null,null,null,null,null,null,null,null,null,null,null,null,null,null,null,null,null,null,null,null,null,null,null,null,null,null,null,null,null,null,null,null,null,null,null,null,null,null,null,null,null,null,null,null,null,null,null,null,null,null,null,null,null,null,65,null,"",141,null,33,0,"",71]
[null,149,65,null,null,83,null,null,null,null,null,null,null,null,null,null,null,null,null,null,null,null,null,null,null,null,null,null,null,null,null,null,null,null,null,null,null,null,null,null,null,null,null,null,null,null,null,null,null,null,null,null,null,null,null,null,null,null,null,null,null,null,null,null,null,null,null,null,null,null,null,null,null,null,null,null,null,65,null,"",77,null,33,0,"",26,null,null,null,null,null,null,null,null,null,null,null,null,null,null,null,null,null,null,null,null,null,null,null,51,null,78]
[null,150,129,null,5,174,null,null,null,null,null,null,null,null,null,null,null,null,null,null,null,null,null,null,null,null,null,null,null,null,null,null,null,null,null,null,null,null,null,null,null,null,null,null,null,null,null,null,null,null,null,null,null,null,null,null,null,null,null,null,null,null,null,null,null,null,null,null,null,null,null,null,null,null,null,null,null,null,null,"",null,null,null,null,"",null,null,null,null,null,null,null,null,null,null,null,null,null,null,null,null,null,null,null,null,null,null,null,null,null,null,155]
[null,151,129,46,null,46,null,null,null,null,null,null,null,null,null,null,null,null,null,null,null,null,null,null,null,null,null,null,null,null,null,null,null,null,null,null,null,null,null,null,null,null,null,null,null,null,null,null,null,null,null,null,null,null,null,null,null,null,null,null,null,null,null,null,null,null,null,null,null,null,null,null,null,null,null,null,null,129,null,"E22",180,null,65,54,"E11",103]
[null,152,46,null,null,211,null,null,null,null,null,null,null,null,null,null,null,null,null,null,null,null,null,null,null,null,null,null,null,null,null,null,null,null,null,null,null,null,null,null,null,null,null,null,null,null,null,null,null,null,null,null,null,null,null,null,null,null,null,null,null,null,null,null,null,null,null,null,null,null,null,null,null,null,null,null,null,129,36,"",52,null,65,22,"E43",39,null,null,null,null,null,null,null,null,null,null,null,null,null,null,null,null,null,null,null,null,null,null,null,52,null,57]
[null,153,35,null,null,51,null,null,null,null,null,null,null,null,null,null,null,null,null,null,null,null,null,null,null,null,null,null,null,null,null,null,null,null,null,null,null,null,null,null,null,null,null,null,null,null,null,null,null,null,null,null,null,null,null,null,null,null,null,null,null,null,null,null,null,null,null,null,null,null,null,null,null,null,null,null,null,null,null,"",null,null,null,null,"",null,null,null,null,null,null,null,null,null,null,null,null,null,null,null,null,null,null,null,null,null,null,null,null,null,null,156]
[null,154,129,35,null,206,null,null,null,null,null,null,null,null,null,null,null,null,null,null,null,null,null,null,null,null,null,null,null,null,null,null,null,null,null,null,null,null,null,null,null,null,null,null,null,null,null,null,null,null,null,null,null,null,null,null,null,null,null,null,null,null,null,null,null,null,null,null,null,null,null,null,null,null,null,null,null,36,null,"",205,null,17,0,"",90]
[null,155,129,null,21,78,null,null,null,null,null,null,null,null,null,null,null,null,null,null,null,null,null,null,null,null,null,null,null,null,null,null,null,null,null,null,null,null,null,null,null,null,null,null,null,null,null,null,null,null,null,null,null,null,null,null,null,null,null,null,null,null,null,null,null,null,null,null,null,null,null,null,null,null,null,null,null,45,null,"",45,null,17,0,"",10,null,null,null,null,null,null,null,null,null,null,null,null,null,null,null,null,null,null,null,null,null,null,null,53,null,73]
[null,156,65,null,null,179,null,null,null,null,null,null,null,null,null,null,null,null,null,null,null,null,null,null,null,null,null,null,null,null,null,null,null,null,null,null,null,null,null,null,null,null,null,null,null,null,null,null,null,null,null,null,null,null,null,null,null,null,null,null,null,null,null,null,null,null,null,null,null,null,null,null,null,null,null,null,null,null,null,"",null,null,null,null,"",null,null,null,null,null,null,null,null,null,null,null,null,null,null,null,null,null,null,null,null,null,null,null,null,null,null,157]
[null,157,65,null,null,115,null,null,null,null,null,null,null,null,null,null,null,null,null,null,null,null,null,null,null,null,null,null,null,null,null,null,null,null,null,null,null,null,null,null,null,null,null,null,null,null,null,null,null,null,null,null,null,null,null,null,null,null,null,null,null,null,null,null,null,null,null,null,null,null,null,null,null,null,null,null,null,129,45,"",212,null,65,30,"E35",119]
[null,158,129,null,31,142,null,null,null,null,null,null,null,null,null,null,null,null,null,null,null,null,null,null,null,null,null,null,null,null,null,null,null,null,null,null,null,null,null,null,null,null,null,null,null,null,null,null,null,null,null,null,null,null,null,null,null,null,null,null,null,null,null,null,null,null,null,null,null,null,null,null,null,null,null,null,null,129,null,"E6",84,null,65,62,"E3",55,null,null,null,null,null,null,null,null,null,null,null,null,null,null,null,null,null,null,null,null,null,null,null,54,null,37]
[null,159,129,14,null,14,null,null,null,null,null,null,null,null,null,null,null,null,null,null,null,null,null,null,null,null,null,null,null,null,null,null,null,null,null,null,null,null,null,null,null,null,null,null,null,null,null,null,null,null,null,null,null,null,null,null,null,null,null,null,null,null,null,null,null,null,null,null,null,null,null,null,null,null,null,null,null,null,null,"",null,null,null,null,"",null,null,null,null,null,null,null,null,null,null,null,null,null,null,null,null,null,null,null,null,null,null,null,null,null,null,158]
[null,160,14,null,null,243,null,null,null,null,null,null,null,null,null,null,null,null,null,null,null,null,null,null,null,null,null,null,null,null,null,null,null,null,null,null,null,null,null,null,null,null,null,null,null,null,null,null,null,null,null,null,null,null,null,null,null,null,null,null,null,null,null,null,null,null,null,null,null,null,null,null,null,null,null,null,null,65,null,"",173,null,33,0,"",74]
[null,161,11,null,null,11,null,null,null,null,null,null,null,null,null,null,null,null,null,null,null,null,null,null,null,null,null,null,null,null,null,null,null,null,null,null,null,null,null,null,null,null,null,null,null,null,null,null,null,null,null,null,null,null,null,null,null,null,null,null,null,null,null,null,null,null,null,null,null,null,null,null,null,null,null,null,null,65,null,"",109,null,33,0,"",23,null,null,null,null,null,null,null,null,null,null,null,null,null,null,null,null,null,null,null,null,null,null,null,55,null,51]
[null,162,129,11,null,246,null,null,null,null,null,null,null,null,null,null,null,null,null,null,null,null,null,null,null,null,null,null,null,null,null,null,null,null,null,null,null,null,null,null,null,null,null,null,null,null,null,null,null,null,null,null,null,null,null,null,null,null,null,null,null,null,null,null,null,null,null,null,null,null,null,null,null,null,null,null,null,null,null,"",null,null,null,null,"",null,null,null,null,null,null,null,null,null,null,null,null,null,null,null,null,null,null,null,null,null,null,null,null,null,null,159]
[null,163,129,null,null,118,null,null,null,null,null,null,null,null,null,null,null,null,null,null,null,null,null,null,null,null,null,null,null,null,null,null,null,null,null,null,null,null,null,null,null,null,null,null,null,null,null,null,null,null,null,null,null,null,null,null,null,null,null,null,null,null,null,null,null,null,null,null,null,null,null,null,null,null,null,null,null,129,null,"E12",148,null,65,46,"E19",106]
[null,164,65,null,null,139,null,null,null,null,null,null,null,null,null,null,null,null,null,null,null,null,null,null,null,null,null,null,null,null,null,null,null,null,null,null,null,null,null,null,null,null,null,null,null,null,null,null,null,null,null,null,null,null,null,null,null,null,null,null,null,null,null,null,null,null,null,null,null,null,null,null,null,null,null,null,null,129,20,"",20,null,65,14,"E51",42,null,null,null,null,null,null,null,null,null,null,null,null,null,null,null,null,null,null,null,null,null,null,null,56,null,56]
[null,165,65,null,null,75,null,null,null,null,null,null,null,null,null,null,null,null,null,null,null,null,null,null,null,null,null,null,null,null,null,null,null,null,null,null,null,null,null,null,null,null,null,null,null,null,null,null,null,null,null,null,null,null,null,null,null,null,null,null,null,null,null,null,null,null,null,null,null,null,null,null,null,null,null,null,null,null,null,"",null,null,null,null,"",null,null,null,null,null,null,null,null,null,null,null,null,null,null,null,null,null,null,null,null,null,null,null,null,null,null,160]
[null,166,129,null,17,182,null,null,null,null,null,null,null,null,null,null,null,null,null,null,null,null,null,null,null,null,null,null,null,null,null,null,null,null,null,null,null,null,null,null,null,null,null,null,null,null,null,null,null,null,null,null,null,null,null,null,null,null,null,null,null,null,null,null,null,null,null,null,null,null,null,null,null,null,null,null,null,20,null,"",237,null,9,0,"",87]
[null,167,129,38,null,54,null,null,null,null,null,null,null,null,null,null,null,null,null,null,null,null,null,null,null,null,null,null,null,null,null,null,null,null,null,null,null,null,null,null,null,null,null,null,null,null,null,null,null,null,null,null,null,null,null,null,null,null,null,null,null,null,null,null,null,null,null,null,null,null,null,null,null,null,null,null,null,29,null,"",29,null,9,0,"",82,null,null,null,null,null,null,null,null,null,null,null,null,null,null,null,null,null,null,null,null,null,null,null,57,null,88]
[null,168,38,null,null,203,null,null,null,null,null,null,null,null,null,null,null,null,null,null,null,null,null,null,null,null,null,null,null,null,null,null,null,null,null,null,null,null,null,null,null,null,null,null,null,null,null,null,null,null,null,null,null,null,null,null,null,null,null,null,null,null,null,null,null,null,null,null,null,null,null,null,null,null,null,null,null,null,null,"",null,null,null,null,"",null,null,null,null,null,null,null,null,null,null,null,null,null,null,null,null,null,null,null,null,null,null,null,null,null,null,161]
[null,169,43,null,null,43,null,null,null,null,null,null,null,null,null,null,null,null,null,null,null,null,null,null,null,null,null,null,null,null,null,null,null,null,null,null,null,null,null,null,null,null,null,null,null,null,null,null,null,null,null,null,null,null,null,null,null,null,null,null,null,null,null,null,null,null,null,null,null,null,null,null,null,null,null,null,null,129,29,"",228,null,65,10,"E55",47]
[null,170,129,43,null,214,null,null,null,null,null,null,null,null,null,null,null,null,null,null,null,null,null,null,null,null,null,null,null,null,null,null,null,null,null,null,null,null,null,null,null,null,null,null,null,null,null,null,null,null,null,null,null,null,null,null,null,null,null,null,null,null,null,null,null,null,null,null,null,null,null,null,null,null,null,null,null,129,null,"",100,null,65,42,"E23",111,null,null,null,null,null,null,null,null,null,null,null,null,null,null,null,null,null,null,null,null,null,null,null,58,null,38]
[null,171,129,null,1,86,null,null,null,null,null,null,null,null,null,null,null,null,null,null,null,null,null,null,null,null,null,null,null,null,null,null,null,null,null,null,null,null,null,null,null,null,null,null,null,null,null,null,null,null,null,null,null,null,null,null,null,null,null,null,null,null,null,null,null,null,null,null,null,null,null,null,null,null,null,null,null,null,null,"",null,null,null,null,"",null,null,null,null,null,null,null,null,null,null,null,null,null,null,null,null,null,null,null,null,null,null,null,null,null,null,162]
[null,172,65,null,null,171,null,null,null,null,null,null,null,null,null,null,null,null,null,null,null,null,null,null,null,null,null,null,null,null,null,null,null,null,null,null,null,null,null,null,null,null,null,null,null,null,null,null,null,null,null,null,null,null,null,null,null,null,null,null,null,null,null,null,null,null,null,null,null,null,null,null,null,null,null,null,null,65,null,"",157,null,33,0,"",18]
[null,173,65,null,null,107,null,null,null,null,null,null,null,null,null,null,null,null,null,null,null,null,null,null,null,null,null,null,null,null,null,null,null,null,null,null,null,null,null,null,null,null,null,null,null,null,null,null,null,null,null,null,null,null,null,null,null,null,null,null,null,null,null,null,null,null,null,null,null,null,null,null,null,null,null,null,null,65,null,"",93,null,33,0,"",79,null,null,null,null,null,null,null,null,null,null,null,null,null,null,null,null,null,null,null,null,null,null,null,59,null,62]
[null,174,129,null,null,150,null,null,null,null,null,null,null,null,null,null,null,null,null,null,null,null,null,null,null,null,null,null,null,null,null,null,null,null,null,null,null,null,null,null,null,null,null,null,null,null,null,null,null,null,null,null,null,null,null,null,null,null,null,null,null,null,null,null,null,null,null,null,null,null,null,null,null,null,null,null,null,null,null,"",null,null,null,null,"",null,null,null,null,null,null,null,null,null,null,null,null,null,null,null,null,null,null,null,null,null,null,null,null,null,null,163]
[null,175,129,22,null,22,null,null,null,null,null,null,null,null,null,null,null,null,null,null,null,null,null,null,null,null,null,null,null,null,null,null,null,null,null,null,null,null,null,null,null,null,null,null,null,null,null,null,null,null,null,null,null,null,null,null,null,null,null,null,null,null,null,null,null,null,null,null,null,null,null,null,null,null,null,null,null,129,null,"E14",164,null,65,58,"E7",50]
[null,176,22,null,null,235,null,null,null,null,null,null,null,null,null,null,null,null,null,null,null,null,null,null,null,null,null,null,null,null,null,null,null,null,null,null,null,null,null,null,null,null,null,null,null,null,null,null,null,null,null,null,null,null,null,null,null,null,null,null,null,null,null,null,null,null,null,null,null,null,null,null,null,null,null,null,null,129,52,"",36,null,65,26,"E39",114,null,null,null,null,null,null,null,null,null,null,null,null,null,null,null,null,null,null,null,null,null,null,null,60,null,89]
[null,177,27,null,null,27,null,null,null,null,null,null,null,null,null,null,null,null,null,null,null,null,null,null,null,null,null,null,null,null,null,null,null,null,null,null,null,null,null,null,null,null,null,null,null,null,null,null,null,null,null,null,null,null,null,null,null,null,null,null,null,null,null,null,null,null,null,null,null,null,null,null,null,null,null,null,null,null,null,"",null,null,null,null,"",null,null,null,null,null,null,null,null,null,null,null,null,null,null,null,null,null,null,null,null,null,null,null,null,null,null,164]
[null,178,129,27,null,230,null,null,null,null,null,null,null,null,null,null,null,null,null,null,null,null,null,null,null,null,null,null,null,null,null,null,null,null,null,null,null,null,null,null,null,null,null,null,null,null,null,null,null,null,null,null,null,null,null,null,null,null,null,null,null,null,null,null,null,null,null,null,null,null,null,null,null,null,null,null,null,52,null,"",221,null,17,0,"",15]
[null,179,129,null,null,102,null,null,null,null,null,null,null,null,null,null,null,null,null,null,null,null,null,null,null,null,null,null,null,null,null,null,null,null,null,null,null,null,null,null,null,null,null,null,null,null,null,null,null,null,null,null,null,null,null,null,null,null,null,null,null,null,null,null,null,null,null,null,null,null,null,null,null,null,null,null,null,61,999,"",61,null,17,0,"",95,null,null,null,null,null,null,null,null,null,null,null,null,null,null,null,null,null,null,null,null,null,null,null,61,null,35]
[null,180,65,null,null,155,null,null,null,null,null,null,null,null,null,null,null,null,null,null,null,null,null,null,null,null,null,null,null,null,null,null,null,null,null,null,null,null,null,null,null,null,null,null,null,null,null,null,null,null,null,null,null,null,null,null,null,null,null,null,null,null,null,null,null,null,null,null,null,null,null,null,null,null,null,null,null,null,null,"",null,null,null,null,"",null,null,null,null,null,null,null,null,null,null,null,null,null,null,null,null,null,null,null,null,null,null,null,null,null,null,165]
[null,181,65,null,null,91,null,null,null,null,null,null,null,null,null,null,null,null,null,null,null,null,null,null,null,null,null,null,null,null,null,null,null,null,null,null,null,null,null,null,null,null,null,null,null,null,null,null,null,null,null,null,null,null,null,null,null,null,null,null,null,null,null,null,null,null,null,null,null,null,null,null,null,null,null,null,null,129,999,"",196,null,65,18,"E47",34]
[null,182,129,null,9,166,null,null,null,null,null,null,null,null,null,null,null,null,null,null,null,null,null,null,null,null,null,null,null,null,null,null,null,null,null,null,null,null,null,null,null,null,null,null,null,null,null,null,null,null,null,null,null,null,null,null,null,null,null,null,null,null,null,null,null,null,null,null,null,null,null,null,null,null,null,null,null,129,999,"",68,null,65,50,"E15",98,null,null,null,null,null,null,null,null,null,null,null,null,null,null,null,null,null,null,null,null,null,null,null,62,null,39]
[null,183,129,54,null,38,null,null,null,null,null,null,null,null,null,null,null,null,null,null,null,null,null,null,null,null,null,null,null,null,null,null,null,null,null,null,null,null,null,null,null,null,null,null,null,null,null,null,null,null,null,null,null,null,null,null,null,null,null,null,null,null,null,null,null,null,null,null,null,null,null,null,null,null,null,null,null,null,null,"",null,null,null,null,"",null,null,null,null,null,null,null,null,null,null,null,null,null,null,null,null,null,null,null,null,null,null,null,null,null,null,166]
[null,184,54,null,null,219,null,null,null,null,null,null,null,null,null,null,null,null,null,null,null,null,null,null,null,null,null,null,null,null,null,null,null,null,null,null,null,null,null,null,null,null,null,null,null,null,null,null,null,null,null,null,null,null,null,null,null,null,null,null,null,null,null,null,null,null,null,null,null,null,null,null,null,null,null,null,null,65,999,"",189,null,33,0,"",31]
[null,185,59,999,null,59,null,null,null,null,null,null,null,null,null,null,null,null,null,null,null,null,null,null,null,null,null,null,null,null,null,null,null,null,null,null,null,null,null,null,null,null,null,null,null,null,null,null,null,null,null,null,null,null,null,null,null,null,null,null,null,null,null,null,null,null,null,null,null,null,null,null,null,null,null,null,null,65,999,"",125,null,33,0,"",66,null,null,null,null,null,null,null,null,null,null,null,null,null,null,null,null,null,null,null,null,null,null,null,63,null,83]
[null,186,129,999,null,198,null,null,null,null,null,null,null,null,null,null,null,null,null,null,null,null,null,null,null,null,null,null,null,null,null,null,null,null,null,null,null,null,null,null,null,null,null,null,null,null,null,null,null,null,null,null,null,null,null,null,null,null,null,null,null,null,null,null,null,null,null,null,null,null,null,null,null,null,null,null,null,null,null,"",null,null,null,null,"",null,null,null,null,null,null,null,null,null,null,null,null,null,null,null,null,null,null,null,null,null,null,null,null,null,null,167]
[null,187,129,999,null,70,null,null,null,null,null,null,null,null,null,null,null,null,null,null,null,null,null,null,null,null,null,null,null,null,null,null,null,null,null,null,null,null,null,null,null,null,null,null,null,null,null,null,null,null,null,null,null,null,null,null,null,null,null,null,null,null,null,null,null,null,null,null,null,null,null,null,null,null,null,null,null,129,999,"",132,null,65,34,"E31",63]
[null,188,65,999,null,187,null,null,null,null,null,null,null,null,null,null,null,null,null,null,null,null,null,null,null,null,null,null,null,null,null,null,null,null,null,null,null,null,null,null,null,null,null,null,null,null,null,null,null,null,null,null,null,null,null,null,null,null,null,null,null,null,null,null,null,null,null,null,null,null,null,null,null,null,null,null,null,129,999,"",253,null,65,2,"E63",127,null,null,null,null,null,null,null,null,null,null,null,null,null,null,null,null,null,null,null,null,null,null,null,64,null,72]
[null,189,65,999,null,123,null,null,null,null,null,null,null,null,null,null,null,null,null,null,null,null,null,null,null,null,null,null,null,null,null,null,null,null,null,null,null,null,null,null,null,null,null,null,null,null,null,null,null,null,null,null,null,null,null,null,null,null,null,null,null,null,null,null,null,null,null,null,null,null,null,null,null,null,null,null,null,null,null,"",null,null,null,null,null,null,null,null,null,null,null,null,null,null,null,null,null,null,null,null,null,null,null,null,null,null,null,null,null,null,null,168]
[null,190,129,999,null,134,null,null,null,null,null,null,null,null,null,null,null,null,null,null,null,null,null,null,null,null,null,null,null,null,null,null,null,null,null,null,null,null,null,null,null,null,null,null,null,null,null,null,null,null,null,null,null,null,null,null,null,null,null,null,null,null,null,null,null,null,null,null,null,null,null,null,null,null,null,null,null,4,null,"",4,null,2,0,0,2]
[null,191,129,999,null,251,null,null,null,null,null,null,null,null,null,null,null,null,null,null,null,null,null,null,null,null,null,null,null,null,null,null,null,null,null,null,null,null,null,null,null,null,null,null,null,null,null,null,null,null,null,null,null,null,null,null,null,null,null,null,null,null,null,null,null,null,null,null,null,null,null,null,null,null,null,null,null,3,null,"",3]
[null,192,6,null,null,6,null,null,null,null,null,null,null,null,null,null,null,null,null,null,null,null,null,null,null,null,null,null,null,null,null,null,null,null,null,null,null,null,null,null,null,null,null,null,null,null,null,null,null,null,null,null,null,null,null,null,null,null,null,null,null,null,null,null,null,null,null,null,null,null,null,null,null,null,null,null,null,null,null,""]
[null,193,7,null,null,7,null,null,null,null,null,null,null,null,null,null,null,null,null,null,null,null,null,null,null,null,null,null,null,null,null,null,null,null,null,null,null,null,null,null,null,null,null,null,null,null,null,null,null,null,null,null,null,null,null,null,null,null,null,null,null,null,null,null,null,null,null,null,null,null,null,null,null,null,null,null,null,129,999,"",254]
[null,194,129,999,null,250,null,null,null,null,null,null,null,null,null,null,null,null,null,null,null,null,null,null,null,null,null,null,null,null,null,null,null,null,null,null,null,null,null,null,null,null,null,null,null,null,null,null,null,null,null,null,null,null,null,null,null,null,null,null,null,null,null,null,null,null,null,null,null,null,null,null,null,null,null,null,null,129,999,"",126]
[null,195,129,999,null,122,null,null,null,null,null,null,null,null,null,null,null,null,null,null,null,null,null,null,null,null,null,null,null,null,null,null,null,null,null,null,null,null,null,null,null,null,null,null,null,null,null,null,null,null,null,null,null,null,null,null,null,null,null,null,null,null,null,null,null,null,null,null,null,null,null,null,null,null,null,null,null,null,null,""]
[null,196,65,999,null,135,null,null,null,null,null,null,null,null,null,null,null,null,null,null,null,null,null,null,null,null,null,null,null,null,null,null,null,null,null,null,null,null,null,null,null,null,null,null,null,null,null,null,null,null,null,null,null,null,null,null,null,null,null,null,null,null,null,null,null,null,null,null,null,null,null,null,null,null,null,null,null,65,999,"",131]
[null,197,65,999,null,71,null,null,null,null,null,null,null,null,null,null,null,null,null,null,null,null,null,null,null,null,null,null,null,null,null,null,null,null,null,null,null,null,null,null,null,null,null,null,null,null,null,null,null,null,null,null,null,null,null,null,null,null,null,null,null,null,null,null,null,null,null,null,null,null,null,null,null,null,null,null,null,65,999,"",67]
[null,198,129,999,null,186,null,null,null,null,null,null,null,null,null,null,null,null,null,null,null,null,null,null,null,null,null,null,null,null,null,null,null,null,null,null,null,null,null,null,null,null,null,null,null,null,null,null,null,null,null,null,null,null,null,null,null,null,null,null,null,null,null,null,null,null,null,null,null,null,null,null,null,null,null,null,null,null,null,""]
[null,199,129,999,null,58,null,null,null,null,null,null,null,null,null,null,null,null,null,null,null,null,null,null,null,null,null,null,null,null,null,null,null,null,null,null,null,null,null,null,null,null,null,null,null,null,null,null,null,null,null,null,null,null,null,null,null,null,null,null,null,null,null,null,null,null,null,null,null,null,null,null,null,null,null,null,null,129,999,"",190]
[null,200,58,999,null,199,null,null,null,null,null,null,null,null,null,null,null,null,null,null,null,null,null,null,null,null,null,null,null,null,null,null,null,null,null,null,null,null,null,null,null,null,null,null,null,null,null,null,null,null,null,null,null,null,null,null,null,null,null,null,null,null,null,null,null,null,null,null,null,null,null,null,null,null,null,null,null,129,999,"",62]
[null,201,55,null,null,39,null,null,null,null,null,null,null,null,null,null,null,null,null,null,null,null,null,null,null,null,null,null,null,null,null,null,null,null,null,null,null,null,null,null,null,null,null,null,null,null,null,null,null,null,null,null,null,null,null,null,null,null,null,null,null,null,null,null,null,null,null,null,null,null,null,null,null,null,null,null,null,null,null,""]
[null,202,129,55,null,218,null,null,null,null,null,null,null,null,null,null,null,null,null,null,null,null,null,null,null,null,null,null,null,null,null,null,null,null,null,null,null,null,null,null,null,null,null,null,null,null,null,null,null,null,null,null,null,null,null,null,null,null,null,null,null,null,null,null,null,null,null,null,null,null,null,null,null,null,null,null,null,62,999,"",195]
[null,203,129,null,11,90,null,null,null,null,null,null,null,null,null,null,null,null,null,null,null,null,null,null,null,null,null,null,null,null,null,null,null,null,null,null,null,null,null,null,null,null,null,null,null,null,null,null,null,null,null,null,null,null,null,null,null,null,null,null,null,null,null,null,null,null,null,null,null,null,null,null,null,null,null,null,null,51,null,"",35]
[null,204,65,null,null,167,null,null,null,null,null,null,null,null,null,null,null,null,null,null,null,null,null,null,null,null,null,null,null,null,null,null,null,null,null,null,null,null,null,null,null,null,null,null,null,null,null,null,null,null,null,null,null,null,null,null,null,null,null,null,null,null,null,null,null,null,null,null,null,null,null,null,null,null,null,null,null,null,null,""]
[null,205,65,null,null,103,null,null,null,null,null,null,null,null,null,null,null,null,null,null,null,null,null,null,null,null,null,null,null,null,null,null,null,null,null,null,null,null,null,null,null,null,null,null,null,null,null,null,null,null,null,null,null,null,null,null,null,null,null,null,null,null,null,null,null,null,null,null,null,null,null,null,null,null,null,null,null,129,51,"",222]
[null,206,129,null,25,154,null,null,null,null,null,null,null,null,null,null,null,null,null,null,null,null,null,null,null,null,null,null,null,null,null,null,null,null,null,null,null,null,null,null,null,null,null,null,null,null,null,null,null,null,null,null,null,null,null,null,null,null,null,null,null,null,null,null,null,null,null,null,null,null,null,null,null,null,null,null,null,129,null,"E13",94]
[null,207,129,26,null,26,null,null,null,null,null,null,null,null,null,null,null,null,null,null,null,null,null,null,null,null,null,null,null,null,null,null,null,null,null,null,null,null,null,null,null,null,null,null,null,null,null,null,null,null,null,null,null,null,null,null,null,null,null,null,null,null,null,null,null,null,null,null,null,null,null,null,null,null,null,null,null,null,null,""]
[null,208,26,null,null,231,null,null,null,null,null,null,null,null,null,null,null,null,null,null,null,null,null,null,null,null,null,null,null,null,null,null,null,null,null,null,null,null,null,null,null,null,null,null,null,null,null,null,null,null,null,null,null,null,null,null,null,null,null,null,null,null,null,null,null,null,null,null,null,null,null,null,null,null,null,null,null,65,null,"",163]
[null,209,23,null,null,23,null,null,null,null,null,null,null,null,null,null,null,null,null,null,null,null,null,null,null,null,null,null,null,null,null,null,null,null,null,null,null,null,null,null,null,null,null,null,null,null,null,null,null,null,null,null,null,null,null,null,null,null,null,null,null,null,null,null,null,null,null,null,null,null,null,null,null,null,null,null,null,65,null,"",99]
[null,210,129,23,null,234,null,null,null,null,null,null,null,null,null,null,null,null,null,null,null,null,null,null,null,null,null,null,null,null,null,null,null,null,null,null,null,null,null,null,null,null,null,null,null,null,null,null,null,null,null,null,null,null,null,null,null,null,null,null,null,null,null,null,null,null,null,null,null,null,null,null,null,null,null,null,null,null,null,""]
[null,211,129,null,null,106,null,null,null,null,null,null,null,null,null,null,null,null,null,null,null,null,null,null,null,null,null,null,null,null,null,null,null,null,null,null,null,null,null,null,null,null,null,null,null,null,null,null,null,null,null,null,null,null,null,null,null,null,null,null,null,null,null,null,null,null,null,null,null,null,null,null,null,null,null,null,null,129,null,"",158]
[null,212,65,null,null,151,null,null,null,null,null,null,null,null,null,null,null,null,null,null,null,null,null,null,null,null,null,null,null,null,null,null,null,null,null,null,null,null,null,null,null,null,null,null,null,null,null,null,null,null,null,null,null,null,null,null,null,null,null,null,null,null,null,null,null,null,null,null,null,null,null,null,null,null,null,null,null,129,30,"E28",30]
[null,213,65,null,null,87,null,null,null,null,null,null,null,null,null,null,null,null,null,null,null,null,null,null,null,null,null,null,null,null,null,null,null,null,null,null,null,null,null,null,null,null,null,null,null,null,null,null,null,null,null,null,null,null,null,null,null,null,null,null,null,null,null,null,null,null,null,null,null,null,null,null,null,null,null,null,null,null,null,""]
[null,214,129,null,3,170,null,null,null,null,null,null,null,null,null,null,null,null,null,null,null,null,null,null,null,null,null,null,null,null,null,null,null,null,null,null,null,null,null,null,null,null,null,null,null,null,null,null,null,null,null,null,null,null,null,null,null,null,null,null,null,null,null,null,null,null,null,null,null,null,null,null,null,null,null,null,null,30,null,"",227]
[null,215,129,42,null,42,null,null,null,null,null,null,null,null,null,null,null,null,null,null,null,null,null,null,null,null,null,null,null,null,null,null,null,null,null,null,null,null,null,null,null,null,null,null,null,null,null,null,null,null,null,null,null,null,null,null,null,null,null,null,null,null,null,null,null,null,null,null,null,null,null,null,null,null,null,null,null,19,null,"",19]
[null,216,42,null,null,215,null,null,null,null,null,null,null,null,null,null,null,null,null,null,null,null,null,null,null,null,null,null,null,null,null,null,null,null,null,null,null,null,null,null,null,null,null,null,null,null,null,null,null,null,null,null,null,null,null,null,null,null,null,null,null,null,null,null,null,null,null,null,null,null,null,null,null,null,null,null,null,null,null,""]
[null,217,39,null,null,55,null,null,null,null,null,null,null,null,null,null,null,null,null,null,null,null,null,null,null,null,null,null,null,null,null,null,null,null,null,null,null,null,null,null,null,null,null,null,null,null,null,null,null,null,null,null,null,null,null,null,null,null,null,null,null,null,null,null,null,null,null,null,null,null,null,null,null,null,null,null,null,129,19,"",238]
[null,218,129,39,null,202,null,null,null,null,null,null,null,null,null,null,null,null,null,null,null,null,null,null,null,null,null,null,null,null,null,null,null,null,null,null,null,null,null,null,null,null,null,null,null,null,null,null,null,null,null,null,null,null,null,null,null,null,null,null,null,null,null,null,null,null,null,null,null,null,null,null,null,null,null,null,null,129,null,"",110]
[null,219,129,null,19,74,null,null,null,null,null,null,null,null,null,null,null,null,null,null,null,null,null,null,null,null,null,null,null,null,null,null,null,null,null,null,null,null,null,null,null,null,null,null,null,null,null,null,null,null,null,null,null,null,null,null,null,null,null,null,null,null,null,null,null,null,null,null,null,null,null,null,null,null,null,null,null,null,null,""]
[null,220,65,null,null,183,null,null,null,null,null,null,null,null,null,null,null,null,null,null,null,null,null,null,null,null,null,null,null,null,null,null,null,null,null,null,null,null,null,null,null,null,null,null,null,null,null,null,null,null,null,null,null,null,null,null,null,null,null,null,null,null,null,null,null,null,null,null,null,null,null,null,null,null,null,null,null,65,null,"",147]
[null,221,65,null,null,119,null,null,null,null,null,null,null,null,null,null,null,null,null,null,null,null,null,null,null,null,null,null,null,null,null,null,null,null,null,null,null,null,null,null,null,null,null,null,null,null,null,null,null,null,null,null,null,null,null,null,null,null,null,null,null,null,null,null,null,null,null,null,null,null,null,null,null,null,null,null,null,65,null,"",83]
[null,222,129,null,null,138,null,null,null,null,null,null,null,null,null,null,null,null,null,null,null,null,null,null,null,null,null,null,null,null,null,null,null,null,null,null,null,null,null,null,null,null,null,null,null,null,null,null,null,null,null,null,null,null,null,null,null,null,null,null,null,null,null,null,null,null,null,null,null,null,null,null,null,null,null,null,null,null,null,""]
[null,223,129,10,null,10,null,null,null,null,null,null,null,null,null,null,null,null,null,null,null,null,null,null,null,null,null,null,null,null,null,null,null,null,null,null,null,null,null,null,null,null,null,null,null,null,null,null,null,null,null,null,null,null,null,null,null,null,null,null,null,null,null,null,null,null,null,null,null,null,null,null,null,null,null,null,null,129,null,"E5",174]
[null,224,10,null,null,247,null,null,null,null,null,null,null,null,null,null,null,null,null,null,null,null,null,null,null,null,null,null,null,null,null,null,null,null,null,null,null,null,null,null,null,null,null,null,null,null,null,null,null,null,null,null,null,null,null,null,null,null,null,null,null,null,null,null,null,null,null,null,null,null,null,null,null,null,null,null,null,129,46,"",46]
[null,225,15,null,null,15,null,null,null,null,null,null,null,null,null,null,null,null,null,null,null,null,null,null,null,null,null,null,null,null,null,null,null,null,null,null,null,null,null,null,null,null,null,null,null,null,null,null,null,null,null,null,null,null,null,null,null,null,null,null,null,null,null,null,null,null,null,null,null,null,null,null,null,null,null,null,null,null,null,""]
[null,226,129,15,null,242,null,null,null,null,null,null,null,null,null,null,null,null,null,null,null,null,null,null,null,null,null,null,null,null,null,null,null,null,null,null,null,null,null,null,null,null,null,null,null,null,null,null,null,null,null,null,null,null,null,null,null,null,null,null,null,null,null,null,null,null,null,null,null,null,null,null,null,null,null,null,null,46,null,"",211]
[null,227,129,null,32,114,null,null,null,null,null,null,null,null,null,null,null,null,null,null,null,null,null,null,null,null,null,null,null,null,null,null,null,null,null,null,null,null,null,null,null,null,null,null,null,null,null,null,null,null,null,null,null,null,null,null,null,null,null,null,null,null,null,null,null,null,null,null,null,null,null,null,null,null,null,null,null,35,null,"",51]
[null,228,65,null,null,143,null,null,null,null,null,null,null,null,null,null,null,null,null,null,null,null,null,null,null,null,null,null,null,null,null,null,null,null,null,null,null,null,null,null,null,null,null,null,null,null,null,null,null,null,null,null,null,null,null,null,null,null,null,null,null,null,null,null,null,null,null,null,null,null,null,null,null,null,null,null,null,null,null,""]
[null,229,65,null,null,79,null,null,null,null,null,null,null,null,null,null,null,null,null,null,null,null,null,null,null,null,null,null,null,null,null,null,null,null,null,null,null,null,null,null,null,null,null,null,null,null,null,null,null,null,null,null,null,null,null,null,null,null,null,null,null,null,null,null,null,null,null,null,null,null,null,null,null,null,null,null,null,129,35,"",206]
[null,230,129,null,23,178,null,null,null,null,null,null,null,null,null,null,null,null,null,null,null,null,null,null,null,null,null,null,null,null,null,null,null,null,null,null,null,null,null,null,null,null,null,null,null,null,null,null,null,null,null,null,null,null,null,null,null,null,null,null,null,null,null,null,null,null,null,null,null,null,null,null,null,null,null,null,null,129,null,"E21",78]
[null,231,129,34,null,50,null,null,null,null,null,null,null,null,null,null,null,null,null,null,null,null,null,null,null,null,null,null,null,null,null,null,null,null,null,null,null,null,null,null,null,null,null,null,null,null,null,null,null,null,null,null,null,null,null,null,null,null,null,null,null,null,null,null,null,null,null,null,null,null,null,null,null,null,null,null,null,null,null,""]
[null,232,34,null,null,207,null,null,null,null,null,null,null,null,null,null,null,null,null,null,null,null,null,null,null,null,null,null,null,null,null,null,null,null,null,null,null,null,null,null,null,null,null,null,null,null,null,null,null,null,null,null,null,null,null,null,null,null,null,null,null,null,null,null,null,null,null,null,null,null,null,null,null,null,null,null,null,65,null,"",179]
[null,233,47,null,null,47,null,null,null,null,null,null,null,null,null,null,null,null,null,null,null,null,null,null,null,null,null,null,null,null,null,null,null,null,null,null,null,null,null,null,null,null,null,null,null,null,null,null,null,null,null,null,null,null,null,null,null,null,null,null,null,null,null,null,null,null,null,null,null,null,null,null,null,null,null,null,null,65,null,"",115]
[null,234,129,47,null,210,null,null,null,null,null,null,null,null,null,null,null,null,null,null,null,null,null,null,null,null,null,null,null,null,null,null,null,null,null,null,null,null,null,null,null,null,null,null,null,null,null,null,null,null,null,null,null,null,null,null,null,null,null,null,null,null,null,null,null,null,null,null,null,null,null,null,null,null,null,null,null,null,null,""]
[null,235,129,null,7,82,null,null,null,null,null,null,null,null,null,null,null,null,null,null,null,null,null,null,null,null,null,null,null,null,null,null,null,null,null,null,null,null,null,null,null,null,null,null,null,null,null,null,null,null,null,null,null,null,null,null,null,null,null,null,null,null,null,null,null,null,null,null,null,null,null,null,null,null,null,null,null,129,null,"E31",142]
[null,236,65,null,null,175,null,null,null,null,null,null,null,null,null,null,null,null,null,null,null,null,null,null,null,null,null,null,null,null,null,null,null,null,null,null,null,null,null,null,null,null,null,null,null,null,null,null,null,null,null,null,null,null,null,null,null,null,null,null,null,null,null,null,null,null,null,null,null,null,null,null,null,null,null,null,null,129,14,"",14]
[null,237,65,null,null,111,null,null,null,null,null,null,null,null,null,null,null,null,null,null,null,null,null,null,null,null,null,null,null,null,null,null,null,null,null,null,null,null,null,null,null,null,null,null,null,null,null,null,null,null,null,null,null,null,null,null,null,null,null,null,null,null,null,null,null,null,null,null,null,null,null,null,null,null,null,null,null,null,null,""]
[null,238,129,null,null,146,null,null,null,null,null,null,null,null,null,null,null,null,null,null,null,null,null,null,null,null,null,null,null,null,null,null,null,null,null,null,null,null,null,null,null,null,null,null,null,null,null,null,null,null,null,null,null,null,null,null,null,null,null,null,null,null,null,null,null,null,null,null,null,null,null,null,null,null,null,null,null,14,null,"",243]
[null,239,129,18,null,18,null,null,null,null,null,null,null,null,null,null,null,null,null,null,null,null,null,null,null,null,null,null,null,null,null,null,null,null,null,null,null,null,null,null,null,null,null,null,null,null,null,null,null,null,null,null,null,null,null,null,null,null,null,null,null,null,null,null,null,null,null,null,null,null,null,null,null,null,null,null,null,11,null,"",11]
[null,240,18,null,null,239,null,null,null,null,null,null,null,null,null,null,null,null,null,null,null,null,null,null,null,null,null,null,null,null,null,null,null,null,null,null,null,null,null,null,null,null,null,null,null,null,null,null,null,null,null,null,null,null,null,null,null,null,null,null,null,null,null,null,null,null,null,null,null,null,null,null,null,null,null,null,null,null,null,""]
[null,241,31,null,null,31,null,null,null,null,null,null,null,null,null,null,null,null,null,null,null,null,null,null,null,null,null,null,null,null,null,null,null,null,null,null,null,null,null,null,null,null,null,null,null,null,null,null,null,null,null,null,null,null,null,null,null,null,null,null,null,null,null,null,null,null,null,null,null,null,null,null,null,null,null,null,null,129,11,"",246]
[null,242,129,31,null,226,null,null,null,null,null,null,null,null,null,null,null,null,null,null,null,null,null,null,null,null,null,null,null,null,null,null,null,null,null,null,null,null,null,null,null,null,null,null,null,null,null,null,null,null,null,null,null,null,null,null,null,null,null,null,null,null,null,null,null,null,null,null,null,null,null,null,null,null,null,null,null,129,null,"",118]
[null,243,129,null,null,98,null,null,null,null,null,null,null,null,null,null,null,null,null,null,null,null,null,null,null,null,null,null,null,null,null,null,null,null,null,null,null,null,null,null,null,null,null,null,null,null,null,null,null,null,null,null,null,null,null,null,null,null,null,null,null,null,null,null,null,null,null,null,null,null,null,null,null,null,null,null,null,null,null,""]
[null,244,65,null,null,159,null,null,null,null,null,null,null,null,null,null,null,null,null,null,null,null,null,null,null,null,null,null,null,null,null,null,null,null,null,null,null,null,null,null,null,null,null,null,null,null,null,null,null,null,null,null,null,null,null,null,null,null,null,null,null,null,null,null,null,null,null,null,null,null,null,null,null,null,null,null,null,65,null,"",139]
[null,245,65,null,null,95,null,null,null,null,null,null,null,null,null,null,null,null,null,null,null,null,null,null,null,null,null,null,null,null,null,null,null,null,null,null,null,null,null,null,null,null,null,null,null,null,null,null,null,null,null,null,null,null,null,null,null,null,null,null,null,null,null,null,null,null,null,null,null,null,null,null,null,null,null,null,null,65,null,"",75]
[null,246,129,null,15,162,null,null,null,null,null,null,null,null,null,null,null,null,null,null,null,null,null,null,null,null,null,null,null,null,null,null,null,null,null,null,null,null,null,null,null,null,null,null,null,null,null,null,null,null,null,null,null,null,null,null,null,null,null,null,null,null,null,null,null,null,null,null,null,null,null,null,null,null,null,null,null,null,null,""]
[null,247,129,50,null,34,null,null,null,null,null,null,null,null,null,null,null,null,null,null,null,null,null,null,null,null,null,null,null,null,null,null,null,null,null,null,null,null,null,null,null,null,null,null,null,null,null,null,null,null,null,null,null,null,null,null,null,null,null,null,null,null,null,null,null,null,null,null,null,null,null,null,null,null,null,null,null,129,null,"E17",182]
[null,248,50,null,null,223,null,null,null,null,null,null,null,null,null,null,null,null,null,null,null,null,null,null,null,null,null,null,null,null,null,null,null,null,null,null,null,null,null,null,null,null,null,null,null,null,null,null,null,null,null,null,null,null,null,null,null,null,null,null,null,null,null,null,null,null,null,null,null,null,null,null,null,null,null,null,null,129,38,"",54]
[null,249,63,999,null,63,null,null,null,null,null,null,null,null,null,null,null,null,null,null,null,null,null,null,null,null,null,null,null,null,null,null,null,null,null,null,null,null,null,null,null,null,null,null,null,null,null,null,null,null,null,null,null,null,null,null,null,null,null,null,null,null,null,null,null,null,null,null,null,null,null,null,null,null,null,null,null,null,null,""]
[null,250,129,999,null,194,null,null,null,null,null,null,null,null,null,null,null,null,null,null,null,null,null,null,null,null,null,null,null,null,null,null,null,null,null,null,null,null,null,null,null,null,null,null,null,null,null,null,null,null,null,null,null,null,null,null,null,null,null,null,null,null,null,null,null,null,null,null,null,null,null,null,null,null,null,null,null,38,null,"",203]
[null,251,129,999,null,66,null,null,null,null,null,null,null,null,null,null,null,null,null,null,null,null,null,null,null,null,null,null,null,null,null,null,null,null,null,null,null,null,null,null,null,null,null,null,null,null,null,null,null,null,null,null,null,null,null,null,null,null,null,null,null,null,null,null,null,null,null,null,null,null,null,null,null,null,null,null,null,43,null,"",43]
[null,252,65,999,null,191,null,null,null,null,null,null,null,null,null,null,null,null,null,null,null,null,null,null,null,null,null,null,null,null,null,null,null,null,null,null,null,null,null,null,null,null,null,null,null,null,null,null,null,null,null,null,null,null,null,null,null,null,null,null,null,null,null,null,null,null,null,null,null,null,null,null,null,null,null,null,null,null,null,""]
[null,253,65,999,null,127,null,null,null,null,null,null,null,null,null,null,null,null,null,null,null,null,null,null,null,null,null,null,null,null,null,null,null,null,null,null,null,null,null,null,null,null,null,null,null,null,null,null,null,null,null,null,null,null,null,null,null,null,null,null,null,null,null,null,null,null,null,null,null,null,null,null,null,null,null,null,null,129,43,"",214]
[null,254,129,999,null,130,null,null,null,null,null,null,null,null,null,null,null,null,null,null,null,null,null,null,null,null,null,null,null,null,null,null,null,null,null,null,null,null,null,null,null,null,null,null,null,null,null,null,null,null,null,null,null,null,null,null,null,null,null,null,null,null,null,null,null,null,null,null,null,null,null,null,null,null,null,null,null,129,null,"E1",86]
[null,255,129,999,null,255,null,null,null,null,null,null,null,null,null,null,null,null,null,null,null,null,null,null,null,null,null,null,null,null,null,null,null,null,null,null,null,null,null,null,null,null,null,null,null,null,null,null,null,null,null,null,null,null,null,null,null,null,null,null,null,null,null,null,null,null,null,null,null,null,null,null,null,null,null,null,null,null,null,""]
[null,256,2,null,null,2,null,null,null,null,null,null,null,null,null,null,null,null,null,null,null,null,null,null,null,null,null,null,null,null,null,null,null,null,null,null,null,null,null,null,null,null,null,null,null,null,null,null,null,null,null,null,null,null,null,null,null,null,null,null,null,null,null,null,null,null,null,null,null,null,null,null,null,null,null,null,null,65,null,"",171]
[null,null,null,null,null,null,null,null,null,null,null,null,null,null,null,null,null,null,null,null,null,null,null,null,null,null,null,null,null,null,null,null,null,null,null,null,null,null,null,null,null,null,null,null,null,null,null,null,null,null,null,null,null,null,null,null,null,null,null,null,null,null,null,null,null,null,null,null,null,null,null,null,null,null,null,null,null,65,null,"",107]
[null,null,null,null,null,null,null,null,null,null,null,null,null,null,null,null,null,null,null,null,null,null,null,null,null,null,null,null,null,null,null,null,null,null,null,null,null,null,null,null,null,null,null,null,null,null,null,null,null,null,null,null,null,null,null,null,null,null,null,null,null,null,null,null,null,null,null,null,null,null,null,null,null,null,null,null,null,null,null,""]
[null,null,null,null,null,null,null,null,null,null,null,null,null,null,null,null,null,null,null,null,null,null,null,null,null,null,null,null,null,null,null,null,null,null,null,null,null,null,null,null,null,null,null,null,null,null,null,null,null,null,null,null,null,null,null,null,null,null,null,null,null,null,null,null,null,null,null,null,null,null,null,null,null,null,null,null,null,129,null,"",150]
[null,null,null,null,null,null,null,null,null,null,null,null,null,null,null,null,null,null,null,null,null,null,null,null,null,null,null,null,null,null,null,null,null,null,null,null,null,null,null,null,null,null,null,null,null,null,null,null,null,null,null,null,null,null,null,null,null,null,null,null,null,null,null,null,null,null,null,null,null,null,null,null,null,null,null,null,null,129,22,"",22]
[null,null,null,null,null,null,null,null,null,null,null,null,null,null,null,null,null,null,null,null,null,null,null,null,null,null,null,null,null,null,null,null,null,null,null,null,null,null,null,null,null,null,null,null,null,null,null,null,null,null,null,null,null,null,null,null,null,null,null,null,null,null,null,null,null,null,null,null,null,null,null,null,null,null,null,null,null,null,null,""]
[null,null,null,null,null,null,null,null,null,null,null,null,null,null,null,null,null,null,null,null,null,null,null,null,null,null,null,null,null,null,null,null,null,null,null,null,null,null,null,null,null,null,null,null,null,null,null,null,null,null,null,null,null,null,null,null,null,null,null,null,null,null,null,null,null,null,null,null,null,null,null,null,null,null,null,null,null,22,null,"",235]
[null,null,null,null,null,null,null,null,null,null,null,null,null,null,null,null,null,null,null,null,null,null,null,null,null,null,null,null,null,null,null,null,null,null,null,null,null,null,null,null,null,null,null,null,null,null,null,null,null,null,null,null,null,null,null,null,null,null,null,null,null,null,null,null,null,null,null,null,null,null,null,null,null,null,null,null,null,27,null,"",27]
[null,null,null,null,null,null,null,null,null,null,null,null,null,null,null,null,null,null,null,null,null,null,null,null,null,null,null,null,null,null,null,null,null,null,null,null,null,null,null,null,null,null,null,null,null,null,null,null,null,null,null,null,null,null,null,null,null,null,null,null,null,null,null,null,null,null,null,null,null,null,null,null,null,null,null,null,null,null,null,""]
[null,null,null,null,null,null,null,null,null,null,null,null,null,null,null,null,null,null,null,null,null,null,null,null,null,null,null,null,null,null,null,null,null,null,null,null,null,null,null,null,null,null,null,null,null,null,null,null,null,null,null,null,null,null,null,null,null,null,null,null,null,null,null,null,null,null,null,null,null,null,null,null,null,null,null,null,null,129,27,"",230]
[null,null,null,null,null,null,null,null,null,null,null,null,null,null,null,null,null,null,null,null,null,null,null,null,null,null,null,null,null,null,null,null,null,null,null,null,null,null,null,null,null,null,null,null,null,null,null,null,null,null,null,null,null,null,null,null,null,null,null,null,null,null,null,null,null,null,null,null,null,null,null,null,null,null,null,null,null,129,null,"",102]
[null,null,null,null,null,null,null,null,null,null,null,null,null,null,null,null,null,null,null,null,null,null,null,null,null,null,null,null,null,null,null,null,null,null,null,null,null,null,null,null,null,null,null,null,null,null,null,null,null,null,null,null,null,null,null,null,null,null,null,null,null,null,null,null,null,null,null,null,null,null,null,null,null,null,null,null,null,null,null,""]
[null,null,null,null,null,null,null,null,null,null,null,null,null,null,null,null,null,null,null,null,null,null,null,null,null,null,null,null,null,null,null,null,null,null,null,null,null,null,null,null,null,null,null,null,null,null,null,null,null,null,null,null,null,null,null,null,null,null,null,null,null,null,null,null,null,null,null,null,null,null,null,null,null,null,null,null,null,65,null,"",155]
[null,null,null,null,null,null,null,null,null,null,null,null,null,null,null,null,null,null,null,null,null,null,null,null,null,null,null,null,null,null,null,null,null,null,null,null,null,null,null,null,null,null,null,null,null,null,null,null,null,null,null,null,null,null,null,null,null,null,null,null,null,null,null,null,null,null,null,null,null,null,null,null,null,null,null,null,null,65,null,"",91]
[null,null,null,null,null,null,null,null,null,null,null,null,null,null,null,null,null,null,null,null,null,null,null,null,null,null,null,null,null,null,null,null,null,null,null,null,null,null,null,null,null,null,null,null,null,null,null,null,null,null,null,null,null,null,null,null,null,null,null,null,null,null,null,null,null,null,null,null,null,null,null,null,null,null,null,null,null,null,null,""]
[null,null,null,null,null,null,null,null,null,null,null,null,null,null,null,null,null,null,null,null,null,null,null,null,null,null,null,null,null,null,null,null,null,null,null,null,null,null,null,null,null,null,null,null,null,null,null,null,null,null,null,null,null,null,null,null,null,null,null,null,null,null,null,null,null,null,null,null,null,null,null,null,null,null,null,null,null,129,null,"E9",166]
[null,null,null,null,null,null,null,null,null,null,null,null,null,null,null,null,null,null,null,null,null,null,null,null,null,null,null,null,null,null,null,null,null,null,null,null,null,null,null,null,null,null,null,null,null,null,null,null,null,null,null,null,null,null,null,null,null,null,null,null,null,null,null,null,null,null,null,null,null,null,null,null,null,null,null,null,null,129,54,"",38]
[null,null,null,null,null,null,null,null,null,null,null,null,null,null,null,null,null,null,null,null,null,null,null,null,null,null,null,null,null,null,null,null,null,null,null,null,null,null,null,null,null,null,null,null,null,null,null,null,null,null,null,null,null,null,null,null,null,null,null,null,null,null,null,null,null,null,null,null,null,null,null,null,null,null,null,null,null,null,null,""]
[null,null,null,null,null,null,null,null,null,null,null,null,null,null,null,null,null,null,null,null,null,null,null,null,null,null,null,null,null,null,null,null,null,null,null,null,null,null,null,null,null,null,null,null,null,null,null,null,null,null,null,null,null,null,null,null,null,null,null,null,null,null,null,null,null,null,null,null,null,null,null,null,null,null,null,null,null,54,null,"",219]
[null,null,null,null,null,null,null,null,null,null,null,null,null,null,null,null,null,null,null,null,null,null,null,null,null,null,null,null,null,null,null,null,null,null,null,null,null,null,null,null,null,null,null,null,null,null,null,null,null,null,null,null,null,null,null,null,null,null,null,null,null,null,null,null,null,null,null,null,null,null,null,null,null,null,null,null,null,59,999,"",59]
[null,null,null,null,null,null,null,null,null,null,null,null,null,null,null,null,null,null,null,null,null,null,null,null,null,null,null,null,null,null,null,null,null,null,null,null,null,null,null,null,null,null,null,null,null,null,null,null,null,null,null,null,null,null,null,null,null,null,null,null,null,null,null,null,null,null,null,null,null,null,null,null,null,null,null,null,null,null,null,""]
[null,null,null,null,null,null,null,null,null,null,null,null,null,null,null,null,null,null,null,null,null,null,null,null,null,null,null,null,null,null,null,null,null,null,null,null,null,null,null,null,null,null,null,null,null,null,null,null,null,null,null,null,null,null,null,null,null,null,null,null,null,null,null,null,null,null,null,null,null,null,null,null,null,null,null,null,null,129,999,"",198]
[null,null,null,null,null,null,null,null,null,null,null,null,null,null,null,null,null,null,null,null,null,null,null,null,null,null,null,null,null,null,null,null,null,null,null,null,null,null,null,null,null,null,null,null,null,null,null,null,null,null,null,null,null,null,null,null,null,null,null,null,null,null,null,null,null,null,null,null,null,null,null,null,null,null,null,null,null,129,999,"",70]
[null,null,null,null,null,null,null,null,null,null,null,null,null,null,null,null,null,null,null,null,null,null,null,null,null,null,null,null,null,null,null,null,null,null,null,null,null,null,null,null,null,null,null,null,null,null,null,null,null,null,null,null,null,null,null,null,null,null,null,null,null,null,null,null,null,null,null,null,null,null,null,null,null,null,null,null,null,null,null,""]
[null,null,null,null,null,null,null,null,null,null,null,null,null,null,null,null,null,null,null,null,null,null,null,null,null,null,null,null,null,null,null,null,null,null,null,null,null,null,null,null,null,null,null,null,null,null,null,null,null,null,null,null,null,null,null,null,null,null,null,null,null,null,null,null,null,null,null,null,null,null,null,null,null,null,null,null,null,65,999,"",187]
[null,null,null,null,null,null,null,null,null,null,null,null,null,null,null,null,null,null,null,null,null,null,null,null,null,null,null,null,null,null,null,null,null,null,null,null,null,null,null,null,null,null,null,null,null,null,null,null,null,null,null,null,null,null,null,null,null,null,null,null,null,null,null,null,null,null,null,null,null,null,null,null,null,null,null,null,null,65,999,"",123]
[null,null,null,null,null,null,null,null,null,null,null,null,null,null,null,null,null,null,null,null,null,null,null,null,null,null,null,null,null,null,null,null,null,null,null,null,null,null,null,null,null,null,null,null,null,null,null,null,null,null,null,null,null,null,null,null,null,null,null,null,null,null,null,null,null,null,null,null,null,null,null,null,null,null,null,null,null,null,null,""]
[null,null,null,null,null,null,null,null,null,null,null,null,null,null,null,null,null,null,null,null,null,null,null,null,null,null,null,null,null,null,null,null,null,null,null,null,null,null,null,null,null,null,null,null,null,null,null,null,null,null,null,null,null,null,null,null,null,null,null,null,null,null,null,null,null,null,null,null,null,null,null,null,null,null,null,null,null,129,999,"",134]
[null,null,null,null,null,null,null,null,null,null,null,null,null,null,null,null,null,null,null,null,null,null,null,null,null,null,null,null,null,null,null,null,null,null,null,null,null,null,null,null,null,null,null,null,null,null,null,null,null,null,null,null,null,null,null,null,null,null,null,null,null,null,null,null,null,null,null,null,null,null,null,null,null,null,null,null,null,129,999,"",251]
[null,null,null,null,null,null,null,null,null,null,null,null,null,null,null,null,null,null,null,null,null,null,null,null,null,null,null,null,null,null,null,null,null,null,null,null,null,null,null,null,null,null,null,null,null,null,null,null,null,null,null,null,null,null,null,null,null,null,null,null,null,null,null,null,null,null,null,null,null,null,null,null,null,null,null,null,null,null,null,""]
[null,null,null,null,null,null,null,null,null,null,null,null,null,null,null,null,null,null,null,null,null,null,null,null,null,null,null,null,null,null,null,null,null,null,null,null,null,null,null,null,null,null,null,null,null,null,null,null,null,null,null,null,null,null,null,null,null,null,null,null,null,null,null,null,null,null,null,null,null,null,null,null,null,null,null,null,null,6,null,"",6]
[null,null,null,null,null,null,null,null,null,null,null,null,null,null,null,null,null,null,null,null,null,null,null,null,null,null,null,null,null,null,null,null,null,null,null,null,null,null,null,null,null,null,null,null,null,null,null,null,null,null,null,null,null,null,null,null,null,null,null,null,null,null,null,null,null,null,null,null,null,null,null,null,null,null,null,null,null,7,null,"",7]
[null,null,null,null,null,null,null,null,null,null,null,null,null,null,null,null,null,null,null,null,null,null,null,null,null,null,null,null,null,null,null,null,null,null,null,null,null,null,null,null,null,null,null,null,null,null,null,null,null,null,null,null,null,null,null,null,null,null,null,null,null,null,null,null,null,null,null,null,null,null,null,null,null,null,null,null,null,null,null,""]
[null,null,null,null,null,null,null,null,null,null,null,null,null,null,null,null,null,null,null,null,null,null,null,null,null,null,null,null,null,null,null,null,null,null,null,null,null,null,null,null,null,null,null,null,null,null,null,null,null,null,null,null,null,null,null,null,null,null,null,null,null,null,null,null,null,null,null,null,null,null,null,null,null,null,null,null,null,129,999,"",250]
[null,null,null,null,null,null,null,null,null,null,null,null,null,null,null,null,null,null,null,null,null,null,null,null,null,null,null,null,null,null,null,null,null,null,null,null,null,null,null,null,null,null,null,null,null,null,null,null,null,null,null,null,null,null,null,null,null,null,null,null,null,null,null,null,null,null,null,null,null,null,null,null,null,null,null,null,null,129,999,"",122]
[null,null,null,null,null,null,null,null,null,null,null,null,null,null,null,null,null,null,null,null,null,null,null,null,null,null,null,null,null,null,null,null,null,null,null,null,null,null,null,null,null,null,null,null,null,null,null,null,null,null,null,null,null,null,null,null,null,null,null,null,null,null,null,null,null,null,null,null,null,null,null,null,null,null,null,null,null,null,null,""]
[null,null,null,null,null,null,null,null,null,null,null,null,null,null,null,null,null,null,null,null,null,null,null,null,null,null,null,null,null,null,null,null,null,null,null,null,null,null,null,null,null,null,null,null,null,null,null,null,null,null,null,null,null,null,null,null,null,null,null,null,null,null,null,null,null,null,null,null,null,null,null,null,null,null,null,null,null,65,999,"",135]
[null,null,null,null,null,null,null,null,null,null,null,null,null,null,null,null,null,null,null,null,null,null,null,null,null,null,null,null,null,null,null,null,null,null,null,null,null,null,null,null,null,null,null,null,null,null,null,null,null,null,null,null,null,null,null,null,null,null,null,null,null,null,null,null,null,null,null,null,null,null,null,null,null,null,null,null,null,65,999,"",71]
[null,null,null,null,null,null,null,null,null,null,null,null,null,null,null,null,null,null,null,null,null,null,null,null,null,null,null,null,null,null,null,null,null,null,null,null,null,null,null,null,null,null,null,null,null,null,null,null,null,null,null,null,null,null,null,null,null,null,null,null,null,null,null,null,null,null,null,null,null,null,null,null,null,null,null,null,null,null,null,""]
[null,null,null,null,null,null,null,null,null,null,null,null,null,null,null,null,null,null,null,null,null,null,null,null,null,null,null,null,null,null,null,null,null,null,null,null,null,null,null,null,null,null,null,null,null,null,null,null,null,null,null,null,null,null,null,null,null,null,null,null,null,null,null,null,null,null,null,null,null,null,null,null,null,null,null,null,null,129,999,"",186]
[null,null,null,null,null,null,null,null,null,null,null,null,null,null,null,null,null,null,null,null,null,null,null,null,null,null,null,null,null,null,null,null,null,null,null,null,null,null,null,null,null,null,null,null,null,null,null,null,null,null,null,null,null,null,null,null,null,null,null,null,null,null,null,null,null,null,null,null,null,null,null,null,null,null,null,null,null,129,999,"",58]
[null,null,null,null,null,null,null,null,null,null,null,null,null,null,null,null,null,null,null,null,null,null,null,null,null,null,null,null,null,null,null,null,null,null,null,null,null,null,null,null,null,null,null,null,null,null,null,null,null,null,null,null,null,null,null,null,null,null,null,null,null,null,null,null,null,null,null,null,null,null,null,null,null,null,null,null,null,null,null,""]
[null,null,null,null,null,null,null,null,null,null,null,null,null,null,null,null,null,null,null,null,null,null,null,null,null,null,null,null,null,null,null,null,null,null,null,null,null,null,null,null,null,null,null,null,null,null,null,null,null,null,null,null,null,null,null,null,null,null,null,null,null,null,null,null,null,null,null,null,null,null,null,null,null,null,null,null,null,58,999,"",199]
[null,null,null,null,null,null,null,null,null,null,null,null,null,null,null,null,null,null,null,null,null,null,null,null,null,null,null,null,null,null,null,null,null,null,null,null,null,null,null,null,null,null,null,null,null,null,null,null,null,null,null,null,null,null,null,null,null,null,null,null,null,null,null,null,null,null,null,null,null,null,null,null,null,null,null,null,null,55,null,"",39]
[null,null,null,null,null,null,null,null,null,null,null,null,null,null,null,null,null,null,null,null,null,null,null,null,null,null,null,null,null,null,null,null,null,null,null,null,null,null,null,null,null,null,null,null,null,null,null,null,null,null,null,null,null,null,null,null,null,null,null,null,null,null,null,null,null,null,null,null,null,null,null,null,null,null,null,null,null,null,null,""]
[null,null,null,null,null,null,null,null,null,null,null,null,null,null,null,null,null,null,null,null,null,null,null,null,null,null,null,null,null,null,null,null,null,null,null,null,null,null,null,null,null,null,null,null,null,null,null,null,null,null,null,null,null,null,null,null,null,null,null,null,null,null,null,null,null,null,null,null,null,null,null,null,null,null,null,null,null,129,55,"",218]
[null,null,null,null,null,null,null,null,null,null,null,null,null,null,null,null,null,null,null,null,null,null,null,null,null,null,null,null,null,null,null,null,null,null,null,null,null,null,null,null,null,null,null,null,null,null,null,null,null,null,null,null,null,null,null,null,null,null,null,null,null,null,null,null,null,null,null,null,null,null,null,null,null,null,null,null,null,129,null,"E11",90]
[null,null,null,null,null,null,null,null,null,null,null,null,null,null,null,null,null,null,null,null,null,null,null,null,null,null,null,null,null,null,null,null,null,null,null,null,null,null,null,null,null,null,null,null,null,null,null,null,null,null,null,null,null,null,null,null,null,null,null,null,null,null,null,null,null,null,null,null,null,null,null,null,null,null,null,null,null,null,null,""]
[null,null,null,null,null,null,null,null,null,null,null,null,null,null,null,null,null,null,null,null,null,null,null,null,null,null,null,null,null,null,null,null,null,null,null,null,null,null,null,null,null,null,null,null,null,null,null,null,null,null,null,null,null,null,null,null,null,null,null,null,null,null,null,null,null,null,null,null,null,null,null,null,null,null,null,null,null,65,null,"",167]
[null,null,null,null,null,null,null,null,null,null,null,null,null,null,null,null,null,null,null,null,null,null,null,null,null,null,null,null,null,null,null,null,null,null,null,null,null,null,null,null,null,null,null,null,null,null,null,null,null,null,null,null,null,null,null,null,null,null,null,null,null,null,null,null,null,null,null,null,null,null,null,null,null,null,null,null,null,65,null,"",103]
[null,null,null,null,null,null,null,null,null,null,null,null,null,null,null,null,null,null,null,null,null,null,null,null,null,null,null,null,null,null,null,null,null,null,null,null,null,null,null,null,null,null,null,null,null,null,null,null,null,null,null,null,null,null,null,null,null,null,null,null,null,null,null,null,null,null,null,null,null,null,null,null,null,null,null,null,null,null,null,""]
[null,null,null,null,null,null,null,null,null,null,null,null,null,null,null,null,null,null,null,null,null,null,null,null,null,null,null,null,null,null,null,null,null,null,null,null,null,null,null,null,null,null,null,null,null,null,null,null,null,null,null,null,null,null,null,null,null,null,null,null,null,null,null,null,null,null,null,null,null,null,null,null,null,null,null,null,null,129,null,"E25",154]
[null,null,null,null,null,null,null,null,null,null,null,null,null,null,null,null,null,null,null,null,null,null,null,null,null,null,null,null,null,null,null,null,null,null,null,null,null,null,null,null,null,null,null,null,null,null,null,null,null,null,null,null,null,null,null,null,null,null,null,null,null,null,null,null,null,null,null,null,null,null,null,null,null,null,null,null,null,129,26,"",26]
[null,null,null,null,null,null,null,null,null,null,null,null,null,null,null,null,null,null,null,null,null,null,null,null,null,null,null,null,null,null,null,null,null,null,null,null,null,null,null,null,null,null,null,null,null,null,null,null,null,null,null,null,null,null,null,null,null,null,null,null,null,null,null,null,null,null,null,null,null,null,null,null,null,null,null,null,null,null,null,""]
[null,null,null,null,null,null,null,null,null,null,null,null,null,null,null,null,null,null,null,null,null,null,null,null,null,null,null,null,null,null,null,null,null,null,null,null,null,null,null,null,null,null,null,null,null,null,null,null,null,null,null,null,null,null,null,null,null,null,null,null,null,null,null,null,null,null,null,null,null,null,null,null,null,null,null,null,null,26,null,"",231]
[null,null,null,null,null,null,null,null,null,null,null,null,null,null,null,null,null,null,null,null,null,null,null,null,null,null,null,null,null,null,null,null,null,null,null,null,null,null,null,null,null,null,null,null,null,null,null,null,null,null,null,null,null,null,null,null,null,null,null,null,null,null,null,null,null,null,null,null,null,null,null,null,null,null,null,null,null,23,null,"",23]
[null,null,null,null,null,null,null,null,null,null,null,null,null,null,null,null,null,null,null,null,null,null,null,null,null,null,null,null,null,null,null,null,null,null,null,null,null,null,null,null,null,null,null,null,null,null,null,null,null,null,null,null,null,null,null,null,null,null,null,null,null,null,null,null,null,null,null,null,null,null,null,null,null,null,null,null,null,null,null,""]
[null,null,null,null,null,null,null,null,null,null,null,null,null,null,null,null,null,null,null,null,null,null,null,null,null,null,null,null,null,null,null,null,null,null,null,null,null,null,null,null,null,null,null,null,null,null,null,null,null,null,null,null,null,null,null,null,null,null,null,null,null,null,null,null,null,null,null,null,null,null,null,null,null,null,null,null,null,129,23,"",234]
[null,null,null,null,null,null,null,null,null,null,null,null,null,null,null,null,null,null,null,null,null,null,null,null,null,null,null,null,null,null,null,null,null,null,null,null,null,null,null,null,null,null,null,null,null,null,null,null,null,null,null,null,null,null,null,null,null,null,null,null,null,null,null,null,null,null,null,null,null,null,null,null,null,null,null,null,null,129,null,"",106]
[null,null,null,null,null,null,null,null,null,null,null,null,null,null,null,null,null,null,null,null,null,null,null,null,null,null,null,null,null,null,null,null,null,null,null,null,null,null,null,null,null,null,null,null,null,null,null,null,null,null,null,null,null,null,null,null,null,null,null,null,null,null,null,null,null,null,null,null,null,null,null,null,null,null,null,null,null,null,null,""]
[null,null,null,null,null,null,null,null,null,null,null,null,null,null,null,null,null,null,null,null,null,null,null,null,null,null,null,null,null,null,null,null,null,null,null,null,null,null,null,null,null,null,null,null,null,null,null,null,null,null,null,null,null,null,null,null,null,null,null,null,null,null,null,null,null,null,null,null,null,null,null,null,null,null,null,null,null,65,null,"",151]
[null,null,null,null,null,null,null,null,null,null,null,null,null,null,null,null,null,null,null,null,null,null,null,null,null,null,null,null,null,null,null,null,null,null,null,null,null,null,null,null,null,null,null,null,null,null,null,null,null,null,null,null,null,null,null,null,null,null,null,null,null,null,null,null,null,null,null,null,null,null,null,null,null,null,null,null,null,65,null,"",87]
[null,null,null,null,null,null,null,null,null,null,null,null,null,null,null,null,null,null,null,null,null,null,null,null,null,null,null,null,null,null,null,null,null,null,null,null,null,null,null,null,null,null,null,null,null,null,null,null,null,null,null,null,null,null,null,null,null,null,null,null,null,null,null,null,null,null,null,null,null,null,null,null,null,null,null,null,null,null,null,""]
[null,null,null,null,null,null,null,null,null,null,null,null,null,null,null,null,null,null,null,null,null,null,null,null,null,null,null,null,null,null,null,null,null,null,null,null,null,null,null,null,null,null,null,null,null,null,null,null,null,null,null,null,null,null,null,null,null,null,null,null,null,null,null,null,null,null,null,null,null,null,null,null,null,null,null,null,null,129,null,"E3",170]
[null,null,null,null,null,null,null,null,null,null,null,null,null,null,null,null,null,null,null,null,null,null,null,null,null,null,null,null,null,null,null,null,null,null,null,null,null,null,null,null,null,null,null,null,null,null,null,null,null,null,null,null,null,null,null,null,null,null,null,null,null,null,null,null,null,null,null,null,null,null,null,null,null,null,null,null,null,129,42,"",42]
[null,null,null,null,null,null,null,null,null,null,null,null,null,null,null,null,null,null,null,null,null,null,null,null,null,null,null,null,null,null,null,null,null,null,null,null,null,null,null,null,null,null,null,null,null,null,null,null,null,null,null,null,null,null,null,null,null,null,null,null,null,null,null,null,null,null,null,null,null,null,null,null,null,null,null,null,null,null,null,""]
[null,null,null,null,null,null,null,null,null,null,null,null,null,null,null,null,null,null,null,null,null,null,null,null,null,null,null,null,null,null,null,null,null,null,null,null,null,null,null,null,null,null,null,null,null,null,null,null,null,null,null,null,null,null,null,null,null,null,null,null,null,null,null,null,null,null,null,null,null,null,null,null,null,null,null,null,null,42,null,"",215]
[null,null,null,null,null,null,null,null,null,null,null,null,null,null,null,null,null,null,null,null,null,null,null,null,null,null,null,null,null,null,null,null,null,null,null,null,null,null,null,null,null,null,null,null,null,null,null,null,null,null,null,null,null,null,null,null,null,null,null,null,null,null,null,null,null,null,null,null,null,null,null,null,null,null,null,null,null,39,null,"",55]
[null,null,null,null,null,null,null,null,null,null,null,null,null,null,null,null,null,null,null,null,null,null,null,null,null,null,null,null,null,null,null,null,null,null,null,null,null,null,null,null,null,null,null,null,null,null,null,null,null,null,null,null,null,null,null,null,null,null,null,null,null,null,null,null,null,null,null,null,null,null,null,null,null,null,null,null,null,null,null,""]
[null,null,null,null,null,null,null,null,null,null,null,null,null,null,null,null,null,null,null,null,null,null,null,null,null,null,null,null,null,null,null,null,null,null,null,null,null,null,null,null,null,null,null,null,null,null,null,null,null,null,null,null,null,null,null,null,null,null,null,null,null,null,null,null,null,null,null,null,null,null,null,null,null,null,null,null,null,129,39,"",202]
[null,null,null,null,null,null,null,null,null,null,null,null,null,null,null,null,null,null,null,null,null,null,null,null,null,null,null,null,null,null,null,null,null,null,null,null,null,null,null,null,null,null,null,null,null,null,null,null,null,null,null,null,null,null,null,null,null,null,null,null,null,null,null,null,null,null,null,null,null,null,null,null,null,null,null,null,null,129,null,"E19",74]
[null,null,null,null,null,null,null,null,null,null,null,null,null,null,null,null,null,null,null,null,null,null,null,null,null,null,null,null,null,null,null,null,null,null,null,null,null,null,null,null,null,null,null,null,null,null,null,null,null,null,null,null,null,null,null,null,null,null,null,null,null,null,null,null,null,null,null,null,null,null,null,null,null,null,null,null,null,null,null,""]
[null,null,null,null,null,null,null,null,null,null,null,null,null,null,null,null,null,null,null,null,null,null,null,null,null,null,null,null,null,null,null,null,null,null,null,null,null,null,null,null,null,null,null,null,null,null,null,null,null,null,null,null,null,null,null,null,null,null,null,null,null,null,null,null,null,null,null,null,null,null,null,null,null,null,null,null,null,65,null,"",183]
[null,null,null,null,null,null,null,null,null,null,null,null,null,null,null,null,null,null,null,null,null,null,null,null,null,null,null,null,null,null,null,null,null,null,null,null,null,null,null,null,null,null,null,null,null,null,null,null,null,null,null,null,null,null,null,null,null,null,null,null,null,null,null,null,null,null,null,null,null,null,null,null,null,null,null,null,null,65,null,"",119]
[null,null,null,null,null,null,null,null,null,null,null,null,null,null,null,null,null,null,null,null,null,null,null,null,null,null,null,null,null,null,null,null,null,null,null,null,null,null,null,null,null,null,null,null,null,null,null,null,null,null,null,null,null,null,null,null,null,null,null,null,null,null,null,null,null,null,null,null,null,null,null,null,null,null,null,null,null,null,null,""]
[null,null,null,null,null,null,null,null,null,null,null,null,null,null,null,null,null,null,null,null,null,null,null,null,null,null,null,null,null,null,null,null,null,null,null,null,null,null,null,null,null,null,null,null,null,null,null,null,null,null,null,null,null,null,null,null,null,null,null,null,null,null,null,null,null,null,null,null,null,null,null,null,null,null,null,null,null,129,null,"",138]
[null,null,null,null,null,null,null,null,null,null,null,null,null,null,null,null,null,null,null,null,null,null,null,null,null,null,null,null,null,null,null,null,null,null,null,null,null,null,null,null,null,null,null,null,null,null,null,null,null,null,null,null,null,null,null,null,null,null,null,null,null,null,null,null,null,null,null,null,null,null,null,null,null,null,null,null,null,129,10,"",10]
[null,null,null,null,null,null,null,null,null,null,null,null,null,null,null,null,null,null,null,null,null,null,null,null,null,null,null,null,null,null,null,null,null,null,null,null,null,null,null,null,null,null,null,null,null,null,null,null,null,null,null,null,null,null,null,null,null,null,null,null,null,null,null,null,null,null,null,null,null,null,null,null,null,null,null,null,null,null,null,""]
[null,null,null,null,null,null,null,null,null,null,null,null,null,null,null,null,null,null,null,null,null,null,null,null,null,null,null,null,null,null,null,null,null,null,null,null,null,null,null,null,null,null,null,null,null,null,null,null,null,null,null,null,null,null,null,null,null,null,null,null,null,null,null,null,null,null,null,null,null,null,null,null,null,null,null,null,null,10,null,"",247]
[null,null,null,null,null,null,null,null,null,null,null,null,null,null,null,null,null,null,null,null,null,null,null,null,null,null,null,null,null,null,null,null,null,null,null,null,null,null,null,null,null,null,null,null,null,null,null,null,null,null,null,null,null,null,null,null,null,null,null,null,null,null,null,null,null,null,null,null,null,null,null,null,null,null,null,null,null,15,null,"",15]
[null,null,null,null,null,null,null,null,null,null,null,null,null,null,null,null,null,null,null,null,null,null,null,null,null,null,null,null,null,null,null,null,null,null,null,null,null,null,null,null,null,null,null,null,null,null,null,null,null,null,null,null,null,null,null,null,null,null,null,null,null,null,null,null,null,null,null,null,null,null,null,null,null,null,null,null,null,null,null,""]
[null,null,null,null,null,null,null,null,null,null,null,null,null,null,null,null,null,null,null,null,null,null,null,null,null,null,null,null,null,null,null,null,null,null,null,null,null,null,null,null,null,null,null,null,null,null,null,null,null,null,null,null,null,null,null,null,null,null,null,null,null,null,null,null,null,null,null,null,null,null,null,null,null,null,null,null,null,129,15,"",242]
[null,null,null,null,null,null,null,null,null,null,null,null,null,null,null,null,null,null,null,null,null,null,null,null,null,null,null,null,null,null,null,null,null,null,null,null,null,null,null,null,null,null,null,null,null,null,null,null,null,null,null,null,null,null,null,null,null,null,null,null,null,null,null,null,null,null,null,null,null,null,null,null,null,null,null,null,null,129,null,"E32",114]
[null,null,null,null,null,null,null,null,null,null,null,null,null,null,null,null,null,null,null,null,null,null,null,null,null,null,null,null,null,null,null,null,null,null,null,null,null,null,null,null,null,null,null,null,null,null,null,null,null,null,null,null,null,null,null,null,null,null,null,null,null,null,null,null,null,null,null,null,null,null,null,null,null,null,null,null,null,null,null,""]
[null,null,null,null,null,null,null,null,null,null,null,null,null,null,null,null,null,null,null,null,null,null,null,null,null,null,null,null,null,null,null,null,null,null,null,null,null,null,null,null,null,null,null,null,null,null,null,null,null,null,null,null,null,null,null,null,null,null,null,null,null,null,null,null,null,null,null,null,null,null,null,null,null,null,null,null,null,65,null,"",143]
[null,null,null,null,null,null,null,null,null,null,null,null,null,null,null,null,null,null,null,null,null,null,null,null,null,null,null,null,null,null,null,null,null,null,null,null,null,null,null,null,null,null,null,null,null,null,null,null,null,null,null,null,null,null,null,null,null,null,null,null,null,null,null,null,null,null,null,null,null,null,null,null,null,null,null,null,null,65,null,"",79]
[null,null,null,null,null,null,null,null,null,null,null,null,null,null,null,null,null,null,null,null,null,null,null,null,null,null,null,null,null,null,null,null,null,null,null,null,null,null,null,null,null,null,null,null,null,null,null,null,null,null,null,null,null,null,null,null,null,null,null,null,null,null,null,null,null,null,null,null,null,null,null,null,null,null,null,null,null,null,null,""]
[null,null,null,null,null,null,null,null,null,null,null,null,null,null,null,null,null,null,null,null,null,null,null,null,null,null,null,null,null,null,null,null,null,null,null,null,null,null,null,null,null,null,null,null,null,null,null,null,null,null,null,null,null,null,null,null,null,null,null,null,null,null,null,null,null,null,null,null,null,null,null,null,null,null,null,null,null,129,null,"E23",178]
[null,null,null,null,null,null,null,null,null,null,null,null,null,null,null,null,null,null,null,null,null,null,null,null,null,null,null,null,null,null,null,null,null,null,null,null,null,null,null,null,null,null,null,null,null,null,null,null,null,null,null,null,null,null,null,null,null,null,null,null,null,null,null,null,null,null,null,null,null,null,null,null,null,null,null,null,null,129,34,"",50]
[null,null,null,null,null,null,null,null,null,null,null,null,null,null,null,null,null,null,null,null,null,null,null,null,null,null,null,null,null,null,null,null,null,null,null,null,null,null,null,null,null,null,null,null,null,null,null,null,null,null,null,null,null,null,null,null,null,null,null,null,null,null,null,null,null,null,null,null,null,null,null,null,null,null,null,null,null,null,null,""]
[null,null,null,null,null,null,null,null,null,null,null,null,null,null,null,null,null,null,null,null,null,null,null,null,null,null,null,null,null,null,null,null,null,null,null,null,null,null,null,null,null,null,null,null,null,null,null,null,null,null,null,null,null,null,null,null,null,null,null,null,null,null,null,null,null,null,null,null,null,null,null,null,null,null,null,null,null,34,null,"",207]
[null,null,null,null,null,null,null,null,null,null,null,null,null,null,null,null,null,null,null,null,null,null,null,null,null,null,null,null,null,null,null,null,null,null,null,null,null,null,null,null,null,null,null,null,null,null,null,null,null,null,null,null,null,null,null,null,null,null,null,null,null,null,null,null,null,null,null,null,null,null,null,null,null,null,null,null,null,47,null,"",47]
[null,null,null,null,null,null,null,null,null,null,null,null,null,null,null,null,null,null,null,null,null,null,null,null,null,null,null,null,null,null,null,null,null,null,null,null,null,null,null,null,null,null,null,null,null,null,null,null,null,null,null,null,null,null,null,null,null,null,null,null,null,null,null,null,null,null,null,null,null,null,null,null,null,null,null,null,null,null,null,""]
[null,null,null,null,null,null,null,null,null,null,null,null,null,null,null,null,null,null,null,null,null,null,null,null,null,null,null,null,null,null,null,null,null,null,null,null,null,null,null,null,null,null,null,null,null,null,null,null,null,null,null,null,null,null,null,null,null,null,null,null,null,null,null,null,null,null,null,null,null,null,null,null,null,null,null,null,null,129,47,"",210]
[null,null,null,null,null,null,null,null,null,null,null,null,null,null,null,null,null,null,null,null,null,null,null,null,null,null,null,null,null,null,null,null,null,null,null,null,null,null,null,null,null,null,null,null,null,null,null,null,null,null,null,null,null,null,null,null,null,null,null,null,null,null,null,null,null,null,null,null,null,null,null,null,null,null,null,null,null,129,null,"E7",82]
[null,null,null,null,null,null,null,null,null,null,null,null,null,null,null,null,null,null,null,null,null,null,null,null,null,null,null,null,null,null,null,null,null,null,null,null,null,null,null,null,null,null,null,null,null,null,null,null,null,null,null,null,null,null,null,null,null,null,null,null,null,null,null,null,null,null,null,null,null,null,null,null,null,null,null,null,null,null,null,""]
[null,null,null,null,null,null,null,null,null,null,null,null,null,null,null,null,null,null,null,null,null,null,null,null,null,null,null,null,null,null,null,null,null,null,null,null,null,null,null,null,null,null,null,null,null,null,null,null,null,null,null,null,null,null,null,null,null,null,null,null,null,null,null,null,null,null,null,null,null,null,null,null,null,null,null,null,null,65,null,"",175]
[null,null,null,null,null,null,null,null,null,null,null,null,null,null,null,null,null,null,null,null,null,null,null,null,null,null,null,null,null,null,null,null,null,null,null,null,null,null,null,null,null,null,null,null,null,null,null,null,null,null,null,null,null,null,null,null,null,null,null,null,null,null,null,null,null,null,null,null,null,null,null,null,null,null,null,null,null,65,null,"",111]
[null,null,null,null,null,null,null,null,null,null,null,null,null,null,null,null,null,null,null,null,null,null,null,null,null,null,null,null,null,null,null,null,null,null,null,null,null,null,null,null,null,null,null,null,null,null,null,null,null,null,null,null,null,null,null,null,null,null,null,null,null,null,null,null,null,null,null,null,null,null,null,null,null,null,null,null,null,null,null,""]
[null,null,null,null,null,null,null,null,null,null,null,null,null,null,null,null,null,null,null,null,null,null,null,null,null,null,null,null,null,null,null,null,null,null,null,null,null,null,null,null,null,null,null,null,null,null,null,null,null,null,null,null,null,null,null,null,null,null,null,null,null,null,null,null,null,null,null,null,null,null,null,null,null,null,null,null,null,129,null,"",146]
[null,null,null,null,null,null,null,null,null,null,null,null,null,null,null,null,null,null,null,null,null,null,null,null,null,null,null,null,null,null,null,null,null,null,null,null,null,null,null,null,null,null,null,null,null,null,null,null,null,null,null,null,null,null,null,null,null,null,null,null,null,null,null,null,null,null,null,null,null,null,null,null,null,null,null,null,null,129,18,"",18]
[null,null,null,null,null,null,null,null,null,null,null,null,null,null,null,null,null,null,null,null,null,null,null,null,null,null,null,null,null,null,null,null,null,null,null,null,null,null,null,null,null,null,null,null,null,null,null,null,null,null,null,null,null,null,null,null,null,null,null,null,null,null,null,null,null,null,null,null,null,null,null,null,null,null,null,null,null,null,null,""]
[null,null,null,null,null,null,null,null,null,null,null,null,null,null,null,null,null,null,null,null,null,null,null,null,null,null,null,null,null,null,null,null,null,null,null,null,null,null,null,null,null,null,null,null,null,null,null,null,null,null,null,null,null,null,null,null,null,null,null,null,null,null,null,null,null,null,null,null,null,null,null,null,null,null,null,null,null,18,null,"",239]
[null,null,null,null,null,null,null,null,null,null,null,null,null,null,null,null,null,null,null,null,null,null,null,null,null,null,null,null,null,null,null,null,null,null,null,null,null,null,null,null,null,null,null,null,null,null,null,null,null,null,null,null,null,null,null,null,null,null,null,null,null,null,null,null,null,null,null,null,null,null,null,null,null,null,null,null,null,31,null,"",31]
[null,null,null,null,null,null,null,null,null,null,null,null,null,null,null,null,null,null,null,null,null,null,null,null,null,null,null,null,null,null,null,null,null,null,null,null,null,null,null,null,null,null,null,null,null,null,null,null,null,null,null,null,null,null,null,null,null,null,null,null,null,null,null,null,null,null,null,null,null,null,null,null,null,null,null,null,null,null,null,""]
[null,null,null,null,null,null,null,null,null,null,null,null,null,null,null,null,null,null,null,null,null,null,null,null,null,null,null,null,null,null,null,null,null,null,null,null,null,null,null,null,null,null,null,null,null,null,null,null,null,null,null,null,null,null,null,null,null,null,null,null,null,null,null,null,null,null,null,null,null,null,null,null,null,null,null,null,null,129,31,"",226]
[null,null,null,null,null,null,null,null,null,null,null,null,null,null,null,null,null,null,null,null,null,null,null,null,null,null,null,null,null,null,null,null,null,null,null,null,null,null,null,null,null,null,null,null,null,null,null,null,null,null,null,null,null,null,null,null,null,null,null,null,null,null,null,null,null,null,null,null,null,null,null,null,null,null,null,null,null,129,null,"",98]
[null,null,null,null,null,null,null,null,null,null,null,null,null,null,null,null,null,null,null,null,null,null,null,null,null,null,null,null,null,null,null,null,null,null,null,null,null,null,null,null,null,null,null,null,null,null,null,null,null,null,null,null,null,null,null,null,null,null,null,null,null,null,null,null,null,null,null,null,null,null,null,null,null,null,null,null,null,null,null,""]
[null,null,null,null,null,null,null,null,null,null,null,null,null,null,null,null,null,null,null,null,null,null,null,null,null,null,null,null,null,null,null,null,null,null,null,null,null,null,null,null,null,null,null,null,null,null,null,null,null,null,null,null,null,null,null,null,null,null,null,null,null,null,null,null,null,null,null,null,null,null,null,null,null,null,null,null,null,65,null,"",159]
[null,null,null,null,null,null,null,null,null,null,null,null,null,null,null,null,null,null,null,null,null,null,null,null,null,null,null,null,null,null,null,null,null,null,null,null,null,null,null,null,null,null,null,null,null,null,null,null,null,null,null,null,null,null,null,null,null,null,null,null,null,null,null,null,null,null,null,null,null,null,null,null,null,null,null,null,null,65,null,"",95]
[null,null,null,null,null,null,null,null,null,null,null,null,null,null,null,null,null,null,null,null,null,null,null,null,null,null,null,null,null,null,null,null,null,null,null,null,null,null,null,null,null,null,null,null,null,null,null,null,null,null,null,null,null,null,null,null,null,null,null,null,null,null,null,null,null,null,null,null,null,null,null,null,null,null,null,null,null,null,null,""]
[null,null,null,null,null,null,null,null,null,null,null,null,null,null,null,null,null,null,null,null,null,null,null,null,null,null,null,null,null,null,null,null,null,null,null,null,null,null,null,null,null,null,null,null,null,null,null,null,null,null,null,null,null,null,null,null,null,null,null,null,null,null,null,null,null,null,null,null,null,null,null,null,null,null,null,null,null,129,null,"E15",162]
[null,null,null,null,null,null,null,null,null,null,null,null,null,null,null,null,null,null,null,null,null,null,null,null,null,null,null,null,null,null,null,null,null,null,null,null,null,null,null,null,null,null,null,null,null,null,null,null,null,null,null,null,null,null,null,null,null,null,null,null,null,null,null,null,null,null,null,null,null,null,null,null,null,null,null,null,null,129,50,"",34]
[null,null,null,null,null,null,null,null,null,null,null,null,null,null,null,null,null,null,null,null,null,null,null,null,null,null,null,null,null,null,null,null,null,null,null,null,null,null,null,null,null,null,null,null,null,null,null,null,null,null,null,null,null,null,null,null,null,null,null,null,null,null,null,null,null,null,null,null,null,null,null,null,null,null,null,null,null,null,null,""]
[null,null,null,null,null,null,null,null,null,null,null,null,null,null,null,null,null,null,null,null,null,null,null,null,null,null,null,null,null,null,null,null,null,null,null,null,null,null,null,null,null,null,null,null,null,null,null,null,null,null,null,null,null,null,null,null,null,null,null,null,null,null,null,null,null,null,null,null,null,null,null,null,null,null,null,null,null,50,null,"",223]
[null,null,null,null,null,null,null,null,null,null,null,null,null,null,null,null,null,null,null,null,null,null,null,null,null,null,null,null,null,null,null,null,null,null,null,null,null,null,null,null,null,null,null,null,null,null,null,null,null,null,null,null,null,null,null,null,null,null,null,null,null,null,null,null,null,null,null,null,null,null,null,null,null,null,null,null,null,63,999,"",63]
[null,null,null,null,null,null,null,null,null,null,null,null,null,null,null,null,null,null,null,null,null,null,null,null,null,null,null,null,null,null,null,null,null,null,null,null,null,null,null,null,null,null,null,null,null,null,null,null,null,null,null,null,null,null,null,null,null,null,null,null,null,null,null,null,null,null,null,null,null,null,null,null,null,null,null,null,null,null,null,""]
[null,null,null,null,null,null,null,null,null,null,null,null,null,null,null,null,null,null,null,null,null,null,null,null,null,null,null,null,null,null,null,null,null,null,null,null,null,null,null,null,null,null,null,null,null,null,null,null,null,null,null,null,null,null,null,null,null,null,null,null,null,null,null,null,null,null,null,null,null,null,null,null,null,null,null,null,null,129,999,"",194]
[null,null,null,null,null,null,null,null,null,null,null,null,null,null,null,null,null,null,null,null,null,null,null,null,null,null,null,null,null,null,null,null,null,null,null,null,null,null,null,null,null,null,null,null,null,null,null,null,null,null,null,null,null,null,null,null,null,null,null,null,null,null,null,null,null,null,null,null,null,null,null,null,null,null,null,null,null,129,999,"",66]
[null,null,null,null,null,null,null,null,null,null,null,null,null,null,null,null,null,null,null,null,null,null,null,null,null,null,null,null,null,null,null,null,null,null,null,null,null,null,null,null,null,null,null,null,null,null,null,null,null,null,null,null,null,null,null,null,null,null,null,null,null,null,null,null,null,null,null,null,null,null,null,null,null,null,null,null,null,null,null,""]
[null,null,null,null,null,null,null,null,null,null,null,null,null,null,null,null,null,null,null,null,null,null,null,null,null,null,null,null,null,null,null,null,null,null,null,null,null,null,null,null,null,null,null,null,null,null,null,null,null,null,null,null,null,null,null,null,null,null,null,null,null,null,null,null,null,null,null,null,null,null,null,null,null,null,null,null,null,65,999,"",191]
[null,null,null,null,null,null,null,null,null,null,null,null,null,null,null,null,null,null,null,null,null,null,null,null,null,null,null,null,null,null,null,null,null,null,null,null,null,null,null,null,null,null,null,null,null,null,null,null,null,null,null,null,null,null,null,null,null,null,null,null,null,null,null,null,null,null,null,null,null,null,null,null,null,null,null,null,null,65,999,"",127]
[null,null,null,null,null,null,null,null,null,null,null,null,null,null,null,null,null,null,null,null,null,null,null,null,null,null,null,null,null,null,null,null,null,null,null,null,null,null,null,null,null,null,null,null,null,null,null,null,null,null,null,null,null,null,null,null,null,null,null,null,null,null,null,null,null,null,null,null,null,null,null,null,null,null,null,null,null,null,null,""]
[null,null,null,null,null,null,null,null,null,null,null,null,null,null,null,null,null,null,null,null,null,null,null,null,null,null,null,null,null,null,null,null,null,null,null,null,null,null,null,null,null,null,null,null,null,null,null,null,null,null,null,null,null,null,null,null,null,null,null,null,null,null,null,null,null,null,null,null,null,null,null,null,null,null,null,null,null,129,999,"",130]
[null,null,null,null,null,null,null,null,null,null,null,null,null,null,null,null,null,null,null,null,null,null,null,null,null,null,null,null,null,null,null,null,null,null,null,null,null,null,null,null,null,null,null,null,null,null,null,null,null,null,null,null,null,null,null,null,null,null,null,null,null,null,null,null,null,null,null,null,null,null,null,null,null,null,null,null,null,129,999,"",255]
[null,null,null,null,null,null,null,null,null,null,null,null,null,null,null,null,null,null,null,null,null,null,null,null,null,null,null,null,null,null,null,null,null,null,null,null,null,null,null,null,null,null,null,null,null,null,null,null,null,null,null,null,null,null,null,null,null,null,null,null,null,null,null,null,null,null,null,null,null,null,null,null,null,null,null,null,null,null,null,""]
[null,null,null,null,null,null,null,null,null,null,null,null,null,null,null,null,null,null,null,null,null,null,null,null,null,null,null,null,null,null,null,null,null,null,null,null,null,null,null,null,null,null,null,null,null,null,null,null,null,null,null,null,null,null,null,null,null,null,null,null,null,null,null,null,null,null,null,null,null,null,null,null,null,null,null,null,null,2,null,"",2]

{"sheet":"Kura","index":2,"n_rows":313,"n_cols":32,"rows_kept":313,"cut":false,"hidden":false,"merged":[[1,34,2,35],[0,0,0,8],[1,0,1,8]]}
["TÜRKİYE MASA TENİSİ FEDERASYONU\nGENÇLER TAKIM KUZEYDOĞU BÖLGE YARIŞMALARI",null,null,null,null,null,null,null,null,null,null,null,null,null,null,null,null,null,null,null,null,null,null,null,null,null,null,"Ferdi",{"$f":"A1","v":"TÜRKİYE MASA TENİSİ FEDERASYONU\nGENÇLER TAKIM KUZEYDOĞU BÖLGE YARIŞMALARI"}]
["KIZ TAKIM  [15-16 Mart 2025 TRABZON]",null,null,null,null,null,null,null,null,null,null,null,null,null,null,null,null,null,null,null,null,null,null,null,null,null,null,"Grup",{"$f":"A2","v":"KIZ TAKIM  [15-16 Mart 2025 TRABZON]"}]
["No",null,"Puan","Sporcu","İl","İl",null,"TŞ","Grup",null,null,null,null,null,null,null,null,null,null,null,null,null,null,null,null,null,null,1,"[ Ön Eleme ]","[ Eleme ]","[ Ana Tablo ]","[ Grup ]"]
[1,null,null,"ÇORUM BLD. SPOR (A)","ÇRM","ÇORUM","K",5,5,null,null,null,null,null,null,null,null,null,null,null,null,null,null,null,null,{"$f":"IF(D4=\"\",0,D4&\" (\"&E4&\")\")","v":"ÇORUM BLD. SPOR (A) (ÇRM)"},{"$f":"D4","v":"ÇORUM BLD. SPOR (A)"}]
[2,null,null,"ÇORUM GENÇLİK SPOR (A)","ÇRM","ÇORUM","K","",2,null,null,null,null,null,null,null,null,null,null,null,null,null,null,null,null,"ÇORUM GENÇLİK SPOR (A) (ÇRM)",{"$f":"D5","v":"ÇORUM GENÇLİK SPOR (A)"}]
[3,null,null,"ŞAFAKTEPE SK (A)","ANK","ANKARA","K","",3,null,null,null,null,null,null,null,null,null,null,null,null,null,null,null,null,"ŞAFAKTEPE SK (A) (ANK)","ŞAFAKTEPE SK (A)"]
[5,5.3504526615142822E-2,null,"KUTLUBEY OKULLARI (A)","AMS","AMASYA","K","",9,null,null,null,null,null,null,null,null,null,null,null,null,null,null,null,null,"KUTLUBEY OKULLARI (A) (AMS)","KUTLUBEY OKULLARI (A)"]
[6,0.59245824813842773,null,"GİRESUN GENÇLİK VE SPOR (A)","GRS","GİRESUN","K","",9,null,null,null,null,null,null,null,null,null,null,null,null,null,null,null,null,"GİRESUN GENÇLİK VE SPOR (A) (GRS)","GİRESUN GENÇLİK VE SPOR (A)"]
[4,0.76711165904998779,null,"YALIKÖY ŞBÇ OO (A)","GRS","GİRESUN","K","",9,null,null,null,null,null,null,null,null,null,null,null,null,null,null,null,null,"YALIKÖY ŞBÇ OO (A) (GRS)","YALIKÖY ŞBÇ OO (A)"]
[9,0.30097049474716187,null,"FINDIKLI 1974 SPOR (A)","RİZ","RİZE","K",null,null,null,null,null,null,null,null,null,null,null,null,null,null,null,null,null,null,"FINDIKLI 1974 SPOR (A) (RİZ)","FINDIKLI 1974 SPOR (A)"]
[7,0.40137434005737305,null,"BAYBURT GMSK (A)","BYB","BAYBURT","K",null,null,null,null,null,null,null,null,null,null,null,null,null,null,null,null,null,null,"BAYBURT GMSK (A) (BYB)","BAYBURT GMSK (A)"]
[10,0.94857108592987061,null,"ORTAHİSAR BLD. SPOR (A)","TRB","TRABZON","K",null,null,null,null,null,null,null,null,null,null,null,null,null,null,null,null,null,null,"ORTAHİSAR BLD. SPOR (A) (TRB)","ORTAHİSAR BLD. SPOR (A)"]
[8,0.97982937097549438,null,"BEŞİKDÜZÜ AYYILDIZ SPOR (A)","TRB","TRABZON","K",null,null,null,null,null,null,null,null,null,null,null,null,null,null,null,null,null,null,"BEŞİKDÜZÜ AYYILDIZ SPOR (A) (TRB)","BEŞİKDÜZÜ AYYILDIZ SPOR (A)"]
[11,null,null,null,null,null,null,null,null,null,null,null,null,null,null,null,null,null,null,null,null,null,null,null,null,0,0]
[12,null,null,null,null,null,null,null,null,null,null,null,null,null,null,null,null,null,null,null,null,null,null,null,null,0,0]
[13,null,null,null,null,null,null,null,null,null,null,null,null,null,null,null,null,null,null,null,null,null,null,null,null,0,0]
[14,null,null,null,null,null,null,null,null,null,null,null,null,null,null,null,null,null,null,null,null,null,null,null,null,0,0]
[15,null,null,null,null,null,null,null,null,null,null,null,null,null,null,null,null,null,null,null,null,null,null,null,null,0,0]
[16,null,null,null,null,null,null,null,null,null,null,null,null,null,null,null,null,null,null,null,null,null,null,null,null,0,0]
[17,null,null,null,null,null,null,null,null,null,null,null,null,null,null,null,null,null,null,null,null,null,null,null,null,0,0]
[18,null,null,null,null,null,null,null,null,null,null,null,null,null,null,null,null,null,null,null,null,null,null,null,null,0,0]
[19,null,null,null,null,null,null,null,null,null,null,null,null,null,null,null,null,null,null,null,null,null,null,null,null,0,0]
[20,null,null,null,null,null,null,null,null,null,null,null,null,null,null,null,null,null,null,null,null,null,null,null,null,0,0]
[21,null,null,null,null,null,null,null,null,null,null,null,null,null,null,null,null,null,null,null,null,null,null,null,null,0,0]
[22,null,null,null,null,null,null,null,null,null,null,null,null,null,null,null,null,null,null,null,null,null,null,null,null,0,0]
[23,null,null,null,null,null,null,null,null,null,null,null,null,null,null,null,null,null,null,null,null,null,null,null,null,0,0]
[24,null,null,null,null,null,null,null,null,null,null,null,null,null,null,null,null,null,null,null,null,null,null,null,null,0,0]
[25,null,null,null,null,null,null,null,null,null,null,null,null,null,null,null,null,null,null,null,null,null,null,null,null,0,0]
[26,null,null,null,null,null,null,null,null,null,null,null,null,null,null,null,null,null,null,null,null,null,null,null,null,0,0]
[27,null,null,null,null,null,null,null,null,null,null,null,null,null,null,null,null,null,null,null,null,null,null,null,null,0,0]
[28,null,null,null,null,null,null,null,null,null,null,null,null,null,null,null,null,null,null,null,null,null,null,null,null,0,0]
[29,null,null,null,null,null,null,null,null,null,null,null,null,null,null,null,null,null,null,null,null,null,null,null,null,0,0]
[30,null,null,null,null,null,null,null,null,null,null,null,null,null,null,null,null,null,null,null,null,null,null,null,null,0,0]
[31,null,null,null,null,null,null,null,null,null,null,null,null,null,null,null,null,null,null,null,null,null,null,null,null,0,0]
[32,null,null,null,null,null,null,null,null,null,null,null,null,null,null,null,null,null,null,null,null,null,null,null,null,0,0]
[33,null,null,null,null,null,null,null,null,null,null,null,null,null,null,null,null,null,null,null,null,null,null,null,null,0,0]
[34,null,null,null,null,null,null,null,null,null,null,null,null,null,null,null,null,null,null,null,null,null,null,null,null,0,0]
[35,null,null,null,null,null,null,null,null,null,null,null,null,null,null,null,null,null,null,null,null,null,null,null,null,0,0]
[36,null,null,null,null,null,null,null,null,null,null,null,null,null,null,null,null,null,null,null,null,null,null,null,null,0,0]
[37,null,null,null,null,null,null,null,null,null,null,null,null,null,null,null,null,null,null,null,null,null,null,null,null,0,0]
[38,null,null,null,null,null,null,null,null,null,null,null,null,null,null,null,null,null,null,null,null,null,null,null,null,0,0]
[39,null,null,null,null,null,null,null,null,null,null,null,null,null,null,null,null,null,null,null,null,null,null,null,null,0,0]
[40,null,null,null,null,null,null,null,null,null,null,null,null,null,null,null,null,null,null,null,null,null,null,null,null,0,0]
[41,null,null,null,null,null,null,null,null,null,null,null,null,null,null,null,null,null,null,null,null,null,null,null,null,0,0]
[42,null,null,null,null,null,null,null,null,null,null,null,null,null,null,null,null,null,null,null,null,null,null,null,null,0,0]
[43,null,null,null,null,null,null,null,null,null,null,null,null,null,null,null,null,null,null,null,null,null,null,null,null,0,0]
[44,null,null,null,null,null,null,null,null,null,null,null,null,null,null,null,null,null,null,null,null,null,null,null,null,0,0]
[45,null,null,null,null,null,null,null,null,null,null,null,null,null,null,null,null,null,null,null,null,null,null,null,null,0,0]
[46,null,null,null,null,null,null,null,null,null,null,null,null,null,null,null,null,null,null,null,null,null,null,null,null,0,0]
[47,null,null,null,null,null,null,null,null,null,null,null,null,null,null,null,null,null,null,null,null,null,null,null,null,0,0]
[48,null,null,null,null,null,null,null,null,null,null,null,null,null,null,null,null,null,null,null,null,null,null,null,null,0,0]
[49,null,null,null,null,null,null,null,null,null,null,null,null,null,null,null,null,null,null,null,null,null,null,null,null,0,0]
[50,null,null,null,null,null,null,null,null,null,null,null,null,null,null,null,null,null,null,null,null,null,null,null,null,0,0]
[51,null,null,null,null,null,null,null,null,null,null,null,null,null,null,null,null,null,null,null,null,null,null,null,null,0,0]
[52,null,null,null,null,null,null,null,null,null,null,null,null,null,null,null,null,null,null,null,null,null,null,null,null,0,0]
[53,null,null,null,null,null,null,null,null,null,null,null,null,null,null,null,null,null,null,null,null,null,null,null,null,0,0]
[54,null,null,null,null,null,null,null,null,null,null,null,null,null,null,null,null,null,null,null,null,null,null,null,null,0,0]
[55,null,null,null,null,null,null,null,null,null,null,null,null,null,null,null,null,null,null,null,null,null,null,null,null,0,0]
[56,null,null,null,null,null,null,null,null,null,null,null,null,null,null,null,null,null,null,null,null,null,null,null,null,0,0]
[57,null,null,null,null,null,null,null,null,null,null,null,null,null,null,null,null,null,null,null,null,null,null,null,null,0,0]
[58,null,null,null,null,null,null,null,null,null,null,null,null,null,null,null,null,null,null,null,null,null,null,null,null,0,0]
[59,null,null,null,null,null,null,null,null,null,null,null,null,null,null,null,null,null,null,null,null,null,null,null,null,0,0]
[60,null,null,null,null,null,null,null,null,null,null,null,null,null,null,null,null,null,null,null,null,null,null,null,null,0,0]
[61,null,null,null,null,null,null,null,null,null,null,null,null,null,null,null,null,null,null,null,null,null,null,null,null,0,0]
[62,null,null,null,null,null,null,null,null,null,null,null,null,null,null,null,null,null,null,null,null,null,null,null,null,0,0]
[63,null,null,null,null,null,null,null,null,null,null,null,null,null,null,null,null,null,null,null,null,null,null,null,null,0,0]
[64,null,null,null,null,null,null,null,null,null,null,null,null,null,null,null,null,null,null,null,null,null,null,null,null,0,0]
[65,null,null,null,null,null,null,null,null,null,null,null,null,null,null,null,null,null,null,null,null,null,null,null,null,{"$f":"IF(D68=\"\",0,D68&\" (\"&E68&\")\")","v":0},0]
[66,null,null,null,null,null,null,null,null,null,null,null,null,null,null,null,null,null,null,null,null,null,null,null,null,0,{"$f":"D69","v":0}]
[67,null,null,null,null,null,null,null,null,null,null,null,null,null,null,null,null,null,null,null,null,null,null,null,null,0,0]
[68,null,null,null,null,null,null,null,null,null,null,null,null,null,null,null,null,null,null,null,null,null,null,null,null,0,0]
[69,null,null,null,null,null,null,null,null,null,null,null,null,null,null,null,null,null,null,null,null,null,null,null,null,0,0]
[70,null,null,null,null,null,null,null,null,null,null,null,null,null,null,null,null,null,null,null,null,null,null,null,null,0,0]
[71,null,null,null,null,null,null,null,null,null,null,null,null,null,null,null,null,null,null,null,null,null,null,null,null,0,0]
[72,null,null,null,null,null,null,null,null,null,null,null,null,null,null,null,null,null,null,null,null,null,null,null,null,0,0]
[73,null,null,null,null,null,null,null,null,null,null,null,null,null,null,null,null,null,null,null,null,null,null,null,null,0,0]
[74,null,null,null,null,null,null,null,null,null,null,null,null,null,null,null,null,null,null,null,null,null,null,null,null,0,0]
[75,null,null,null,null,null,null,null,null,null,null,null,null,null,null,null,null,null,null,null,null,null,null,null,null,0,0]
[76,null,null,null,null,null,null,null,null,null,null,null,null,null,null,null,null,null,null,null,null,null,null,null,null,0,0]
[77,null,null,null,null,null,null,null,null,null,null,null,null,null,null,null,null,null,null,null,null,null,null,null,null,0,0]
[78,null,null,null,null,null,null,null,null,null,null,null,null,null,null,null,null,null,null,null,null,null,null,null,null,0,0]
[79,null,null,null,null,null,null,null,null,null,null,null,null,null,null,null,null,null,null,null,null,null,null,null,null,0,0]
[80,null,null,null,null,null,null,null,null,null,null,null,null,null,null,null,null,null,null,null,null,null,null,null,null,0,0]
[81,null,null,null,null,null,null,null,null,null,null,null,null,null,null,null,null,null,null,null,null,null,null,null,null,0,0]
[82,null,null,null,null,null,null,null,null,null,null,null,null,null,null,null,null,null,null,null,null,null,null,null,null,0,0]
[83,null,null,null,null,null,null,null,null,null,null,null,null,null,null,null,null,null,null,null,null,null,null,null,null,0,0]
[84,null,null,null,null,null,null,null,null,null,null,null,null,null,null,null,null,null,null,null,null,null,null,null,null,0,0]
[85,null,null,null,null,null,null,null,null,null,null,null,null,null,null,null,null,null,null,null,null,null,null,null,null,0,0]
[86,null,null,null,null,null,null,null,null,null,null,null,null,null,null,null,null,null,null,null,null,null,null,null,null,0,0]
[87,null,null,null,null,null,null,null,null,null,null,null,null,null,null,null,null,null,null,null,null,null,null,null,null,0,0]
[88,null,null,null,null,null,null,null,null,null,null,null,null,null,null,null,null,null,null,null,null,null,null,null,null,0,0]
[89,null,null,null,null,null,null,null,null,null,null,null,null,null,null,null,null,null,null,null,null,null,null,null,null,0,0]
[90,null,null,null,null,null,null,null,null,null,null,null,null,null,null,null,null,null,null,null,null,null,null,null,null,0,0]
[91,null,null,null,null,null,null,null,null,null,null,null,null,null,null,null,null,null,null,null,null,null,null,null,null,0,0]
[92,null,null,null,null,null,null,null,null,null,null,null,null,null,null,null,null,null,null,null,null,null,null,null,null,0,0]
[93,null,null,null,null,null,null,null,null,null,null,null,null,null,null,null,null,null,null,null,null,null,null,null,null,0,0]
[94,null,null,null,null,null,null,null,null,null,null,null,null,null,null,null,null,null,null,null,null,null,null,null,null,0,0]
[95,null,null,null,null,null,null,null,null,null,null,null,null,null,null,null,null,null,null,null,null,null,null,null,null,0,0]
[96,null,null,null,null,null,null,null,null,null,null,null,null,null,null,null,null,null,null,null,null,null,null,null,null,0,0]
[97,null,null,null,null,null,null,null,null,null,null,null,null,null,null,null,null,null,null,null,null,null,null,null,null,0,0]
[98,null,null,null,null,null,null,null,null,null,null,null,null,null,null,null,null,null,null,null,null,null,null,null,null,0,0]
[99,null,null,null,null,null,null,null,null,null,null,null,null,null,null,null,null,null,null,null,null,null,null,null,null,0,0]
[100,null,null,null,null,null,null,null,null,null,null,null,null,null,null,null,null,null,null,null,null,null,null,null,null,0,0]
[101,null,null,null,null,null,null,null,null,null,null,null,null,null,null,null,null,null,null,null,null,null,null,null,null,0,0]
[102,null,null,null,null,null,null,null,null,null,null,null,null,null,null,null,null,null,null,null,null,null,null,null,null,0,0]
[103,null,null,null,null,null,null,null,null,null,null,null,null,null,null,null,null,null,null,null,null,null,null,null,null,0,0]
[104,null,null,null,null,null,null,null,null,null,null,null,null,null,null,null,null,null,null,null,null,null,null,null,null,0,0]
[105,null,null,null,null,null,null,null,null,null,null,null,null,null,null,null,null,null,null,null,null,null,null,null,null,0,0]
[106,null,null,null,null,null,null,null,null,null,null,null,null,null,null,null,null,null,null,null,null,null,null,null,null,0,0]
[107,null,null,null,null,null,null,null,null,null,null,null,null,null,null,null,null,null,null,null,null,null,null,null,null,0,0]
[108,null,null,null,null,null,null,null,null,null,null,null,null,null,null,null,null,null,null,null,null,null,null,null,null,0,0]
[109,null,null,null,null,null,null,null,null,null,null,null,null,null,null,null,null,null,null,null,null,null,null,null,null,0,0]
[110,null,null,null,null,null,null,null,null,null,null,null,null,null,null,null,null,null,null,null,null,null,null,null,null,0,0]
[111,null,null,null,null,null,null,null,null,null,null,null,null,null,null,null,null,null,null,null,null,null,null,null,null,0,0]
[112,null,null,null,null,null,null,null,null,null,null,null,null,null,null,null,null,null,null,null,null,null,null,null,null,0,0]
[113,null,null,null,null,null,null,null,null,null,null,null,null,null,null,null,null,null,null,null,null,null,null,null,null,0,0]
[114,null,null,null,null,null,null,null,null,null,null,null,null,null,null,null,null,null,null,null,null,null,null,null,null,0,0]
[115,null,null,null,null,null,null,null,null,null,null,null,null,null,null,null,null,null,null,null,null,null,null,null,null,0,0]
[116,null,null,null,null,null,null,null,null,null,null,null,null,null,null,null,null,null,null,null,null,null,null,null,null,0,0]
[117,null,null,null,null,null,null,null,null,null,null,null,null,null,null,null,null,null,null,null,null,null,null,null,null,0,0]
[118,null,null,null,null,null,null,null,null,null,null,null,null,null,null,null,null,null,null,null,null,null,null,null,null,0,0]
[119,null,null,null,null,null,null,null,null,null,null,null,null,null,null,null,null,null,null,null,null,null,null,null,null,0,0]
[120,null,null,null,null,null,null,null,null,null,null,null,null,null,null,null,null,null,null,null,null,null,null,null,null,0,0]
[121,null,null,null,null,null,null,null,null,null,null,null,null,null,null,null,null,null,null,null,null,null,null,null,null,0,0]
[122,null,null,null,null,null,null,null,null,null,null,null,null,null,null,null,null,null,null,null,null,null,null,null,null,0,0]
[123,null,null,null,null,null,null,null,null,null,null,null,null,null,null,null,null,null,null,null,null,null,null,null,null,0,0]
[124,null,null,null,null,null,null,null,null,null,null,null,null,null,null,null,null,null,null,null,null,null,null,null,null,0,0]
[125,null,null,null,null,null,null,null,null,null,null,null,null,null,null,null,null,null,null,null,null,null,null,null,null,0,0]
[126,null,null,null,null,null,null,null,null,null,null,null,null,null,null,null,null,null,null,null,null,null,null,null,null,0,0]
[127,null,null,null,null,null,null,null,null,null,null,null,null,null,null,null,null,null,null,null,null,null,null,null,null,0,0]
[128,null,null,null,null,null,null,null,null,null,null,null,null,null,null,null,null,null,null,null,null,null,null,null,null,0,0]
[129,null,null,null,null,null,null,null,null,null,null,null,null,null,null,null,null,null,null,null,null,null,null,null,null,{"$f":"IF(D132=\"\",0,D132&\" (\"&E132&\")\")","v":0},0]
[130,null,null,null,null,null,null,null,null,null,null,null,null,null,null,null,null,null,null,null,null,null,null,null,null,0,{"$f":"D133","v":0}]
[131,null,null,null,null,null,null,null,null,null,null,null,null,null,null,null,null,null,null,null,null,null,null,null,null,0,0]
[132,null,null,null,null,null,null,null,null,null,null,null,null,null,null,null,null,null,null,null,null,null,null,null,null,0,0]
[133,null,null,null,null,null,null,null,null,null,null,null,null,null,null,null,null,null,null,null,null,null,null,null,null,0,0]
[134,null,null,null,null,null,null,null,null,null,null,null,null,null,null,null,null,null,null,null,null,null,null,null,null,0,0]
[135,null,null,null,null,null,null,null,null,null,null,null,null,null,null,null,null,null,null,null,null,null,null,null,null,0,0]
[136,null,null,null,null,null,null,null,null,null,null,null,null,null,null,null,null,null,null,null,null,null,null,null,null,0,0]
[137,null,null,null,null,null,null,null,null,null,null,null,null,null,null,null,null,null,null,null,null,null,null,null,null,0,0]
[138,null,null,null,null,null,null,null,null,null,null,null,null,null,null,null,null,null,null,null,null,null,null,null,null,0,0]
[139,null,null,null,null,null,null,null,null,null,null,null,null,null,null,null,null,null,null,null,null,null,null,null,null,0,0]
[140,null,null,null,null,null,null,null,null,null,null,null,null,null,null,null,null,null,null,null,null,null,null,null,null,0,0]
[141,null,null,null,null,null,null,null,null,null,null,null,null,null,null,null,null,null,null,null,null,null,null,null,null,0,0]
[142,null,null,null,null,null,null,null,null,null,null,null,null,null,null,null,null,null,null,null,null,null,null,null,null,0,0]
[143,null,null,null,null,null,null,null,null,null,null,null,null,null,null,null,null,null,null,null,null,null,null,null,null,0,0]
[144,null,null,null,null,null,null,null,null,null,null,null,null,null,null,null,null,null,null,null,null,null,null,null,null,0,0]
[145,null,null,null,null,null,null,null,null,null,null,null,null,null,null,null,null,null,null,null,null,null,null,null,null,0,0]
[146,null,null,null,null,null,null,null,null,null,null,null,null,null,null,null,null,null,null,null,null,null,null,null,null,0,0]
[147,null,null,null,null,null,null,null,null,null,null,null,null,null,null,null,null,null,null,null,null,null,null,null,null,0,0]
[148,null,null,null,null,null,null,null,null,null,null,null,null,null,null,null,null,null,null,null,null,null,null,null,null,0,0]
[149,null,null,null,null,null,null,null,null,null,null,null,null,null,null,null,null,null,null,null,null,null,null,null,null,0,0]
[150,null,null,null,null,null,null,null,null,null,null,null,null,null,null,null,null,null,null,null,null,null,null,null,null,0,0]
[151,null,null,null,null,null,null,null,null,null,null,null,null,null,null,null,null,null,null,null,null,null,null,null,null,0,0]
[152,null,null,null,null,null,null,null,null,null,null,null,null,null,null,null,null,null,null,null,null,null,null,null,null,0,0]
[153,null,null,null,null,null,null,null,null,null,null,null,null,null,null,null,null,null,null,null,null,null,null,null,null,0,0]
[154,null,null,null,null,null,null,null,null,null,null,null,null,null,null,null,null,null,null,null,null,null,null,null,null,0,0]
[155,null,null,null,null,null,null,null,null,null,null,null,null,null,null,null,null,null,null,null,null,null,null,null,null,0,0]
[156,null,null,null,null,null,null,null,null,null,null,null,null,null,null,null,null,null,null,null,null,null,null,null,null,0,0]
[157,null,null,null,null,null,null,null,null,null,null,null,null,null,null,null,null,null,null,null,null,null,null,null,null,0,0]
[158,null,null,null,null,null,null,null,null,null,null,null,null,null,null,null,null,null,null,null,null,null,null,null,null,0,0]
[159,null,null,null,null,null,null,null,null,null,null,null,null,null,null,null,null,null,null,null,null,null,null,null,null,0,0]
[160,null,null,null,null,null,null,null,null,null,null,null,null,null,null,null,null,null,null,null,null,null,null,null,null,0,0]
[161,null,null,null,null,null,null,null,null,null,null,null,null,null,null,null,null,null,null,null,null,null,null,null,null,0,0]
[162,null,null,null,null,null,null,null,null,null,null,null,null,null,null,null,null,null,null,null,null,null,null,null,null,0,0]
[163,null,null,null,null,null,null,null,null,null,null,null,null,null,null,null,null,null,null,null,null,null,null,null,null,0,0]
[164,null,null,null,null,null,null,null,null,null,null,null,null,null,null,null,null,null,null,null,null,null,null,null,null,0,0]
[165,null,null,null,null,null,null,null,null,null,null,null,null,null,null,null,null,null,null,null,null,null,null,null,null,0,0]
[166,null,null,null,null,null,null,null,null,null,null,null,null,null,null,null,null,null,null,null,null,null,null,null,null,0,0]
[167,null,null,null,null,null,null,null,null,null,null,null,null,null,null,null,null,null,null,null,null,null,null,null,null,0,0]
[168,null,null,null,null,null,null,null,null,null,null,null,null,null,null,null,null,null,null,null,null,null,null,null,null,0,0]
[169,null,null,null,null,null,null,null,null,null,null,null,null,null,null,null,null,null,null,null,null,null,null,null,null,0,0]
[170,null,null,null,null,null,null,null,null,null,null,null,null,null,null,null,null,null,null,null,null,null,null,null,null,0,0]
[171,null,null,null,null,null,null,null,null,null,null,null,null,null,null,null,null,null,null,null,null,null,null,null,null,0,0]
[172,null,null,null,null,null,null,null,null,null,null,null,null,null,null,null,null,null,null,null,null,null,null,null,null,0,0]
[173,null,null,null,null,null,null,null,null,null,null,null,null,null,null,null,null,null,null,null,null,null,null,null,null,0,0]
[174,null,null,null,null,null,null,null,null,null,null,null,null,null,null,null,null,null,null,null,null,null,null,null,null,0,0]
[175,null,null,null,null,null,null,null,null,null,null,null,null,null,null,null,null,null,null,null,null,null,null,null,null,0,0]
[176,null,null,null,null,null,null,null,null,null,null,null,null,null,null,null,null,null,null,null,null,null,null,null,null,0,0]
[177,null,null,null,null,null,null,null,null,null,null,null,null,null,null,null,null,null,null,null,null,null,null,null,null,0,0]
[178,null,null,null,null,null,null,null,null,null,null,null,null,null,null,null,null,null,null,null,null,null,null,null,null,0,0]
[179,null,null,null,null,null,null,null,null,null,null,null,null,null,null,null,null,null,null,null,null,null,null,null,null,0,0]
[180,null,null,null,null,null,null,null,null,null,null,null,null,null,null,null,null,null,null,null,null,null,null,null,null,0,0]
[181,null,null,null,null,null,null,null,null,null,null,null,null,null,null,null,null,null,null,null,null,null,null,null,null,0,0]
[182,null,null,null,null,null,null,null,null,null,null,null,null,null,null,null,null,null,null,null,null,null,null,null,null,0,0]
[183,null,null,null,null,null,null,null,null,null,null,null,null,null,null,null,null,null,null,null,null,null,null,null,null,0,0]
[184,null,null,null,null,null,null,null,null,null,null,null,null,null,null,null,null,null,null,null,null,null,null,null,null,0,0]
[185,null,null,null,null,null,null,null,null,null,null,null,null,null,null,null,null,null,null,null,null,null,null,null,null,0,0]
[186,null,null,null,null,null,null,null,null,null,null,null,null,null,null,null,null,null,null,null,null,null,null,null,null,0,0]
[187,null,null,null,null,null,null,null,null,null,null,null,null,null,null,null,null,null,null,null,null,null,null,null,null,0,0]
[188,null,null,null,null,null,null,null,null,null,null,null,null,null,null,null,null,null,null,null,null,null,null,null,null,0,0]
[189,null,null,null,null,null,null,null,null,null,null,null,null,null,null,null,null,null,null,null,null,null,null,null,null,0,0]
[190,null,null,null,null,null,null,null,null,null,null,null,null,null,null,null,null,null,null,null,null,null,null,null,null,0,0]
[191,null,null,null,null,null,null,null,null,null,null,null,null,null,null,null,null,null,null,null,null,null,null,null,null,0,0]
[192,null,null,null,null,null,null,null,null,null,null,null,null,null,null,null,null,null,null,null,null,null,null,null,null,0,0]
[193,null,null,null,null,null,null,null,null,null,null,null,null,null,null,null,null,null,null,null,null,null,null,null,null,{"$f":"IF(D196=\"\",0,D196&\" (\"&E196&\")\")","v":0},0]
[194,null,null,null,null,null,null,null,null,null,null,null,null,null,null,null,null,null,null,null,null,null,null,null,null,0,{"$f":"D197","v":0}]
[195,null,null,null,null,null,null,null,null,null,null,null,null,null,null,null,null,null,null,null,null,null,null,null,null,0,0]
[196,null,null,null,null,null,null,null,null,null,null,null,null,null,null,null,null,null,null,null,null,null,null,null,null,0,0]
[197,null,null,null,null,null,null,null,null,null,null,null,null,null,null,null,null,null,null,null,null,null,null,null,null,0,0]
[198,null,null,null,null,null,null,null,null,null,null,null,null,null,null,null,null,null,null,null,null,null,null,null,null,0,0]
[199,null,null,null,null,null,null,null,null,null,null,null,null,null,null,null,null,null,null,null,null,null,null,null,null,0,0]
[200,null,null,null,null,null,null,null,null,null,null,null,null,null,null,null,null,null,null,null,null,null,null,null,null,0,0]
[201,null,null,null,null,null,null,null,null,null,null,null,null,null,null,null,null,null,null,null,null,null,null,null,null,0,0]
[202,null,null,null,null,null,null,null,null,null,null,null,null,null,null,null,null,null,null,null,null,null,null,null,null,0,0]
[203,null,null,null,null,null,null,null,null,null,null,null,null,null,null,null,null,null,null,null,null,null,null,null,null,0,0]
[204,null,null,null,null,null,null,null,null,null,null,null,null,null,null,null,null,null,null,null,null,null,null,null,null,0,0]
[205,null,null,null,null,null,null,null,null,null,null,null,null,null,null,null,null,null,null,null,null,null,null,null,null,0,0]
[206,null,null,null,null,null,null,null,null,null,null,null,null,null,null,null,null,null,null,null,null,null,null,null,null,0,0]
[207,null,null,null,null,null,null,null,null,null,null,null,null,null,null,null,null,null,null,null,null,null,null,null,null,0,0]
[208,null,null,null,null,null,null,null,null,null,null,null,null,null,null,null,null,null,null,null,null,null,null,null,null,0,0]
[209,null,null,null,null,null,null,null,null,null,null,null,null,null,null,null,null,null,null,null,null,null,null,null,null,0,0]
[210,null,null,null,null,null,null,null,null,null,null,null,null,null,null,null,null,null,null,null,null,null,null,null,null,0,0]
[211,null,null,null,null,null,null,null,null,null,null,null,null,null,null,null,null,null,null,null,null,null,null,null,null,0,0]
[212,null,null,null,null,null,null,null,null,null,null,null,null,null,null,null,null,null,null,null,null,null,null,null,null,0,0]
[213,null,null,null,null,null,null,null,null,null,null,null,null,null,null,null,null,null,null,null,null,null,null,null,null,0,0]
[214,null,null,null,null,null,null,null,null,null,null,null,null,null,null,null,null,null,null,null,null,null,null,null,null,0,0]
[215,null,null,null,null,null,null,null,null,null,null,null,null,null,null,null,null,null,null,null,null,null,null,null,null,0,0]
[216,null,null,null,null,null,null,null,null,null,null,null,null,null,null,null,null,null,null,null,null,null,null,null,null,0,0]
[217,null,null,null,null,null,null,null,null,null,null,null,null,null,null,null,null,null,null,null,null,null,null,null,null,0,0]
[218,null,null,null,null,null,null,null,null,null,null,null,null,null,null,null,null,null,null,null,null,null,null,null,null,0,0]
[219,null,null,null,null,null,null,null,null,null,null,null,null,null,null,null,null,null,null,null,null,null,null,null,null,0,0]
[220,null,null,null,null,null,null,null,null,null,null,null,null,null,null,null,null,null,null,null,null,null,null,null,null,0,0]
[221,null,null,null,null,null,null,null,null,null,null,null,null,null,null,null,null,null,null,null,null,null,null,null,null,0,0]
[222,null,null,null,null,null,null,null,null,null,null,null,null,null,null,null,null,null,null,null,null,null,null,null,null,0,0]
[223,null,null,null,null,null,null,null,null,null,null,null,null,null,null,null,null,null,null,null,null,null,null,null,null,0,0]
[224,null,null,null,null,null,null,null,null,null,null,null,null,null,null,null,null,null,null,null,null,null,null,null,null,0,0]
[225,null,null,null,null,null,null,null,null,null,null,null,null,null,null,null,null,null,null,null,null,null,null,null,null,0,0]
[226,null,null,null,null,null,null,null,null,null,null,null,null,null,null,null,null,null,null,null,null,null,null,null,null,0,0]
[227,null,null,null,null,null,null,null,null,null,null,null,null,null,null,null,null,null,null,null,null,null,null,null,null,0,0]
[228,null,null,null,null,null,null,null,null,null,null,null,null,null,null,null,null,null,null,null,null,null,null,null,null,0,0]
[229,null,null,null,null,null,null,null,null,null,null,null,null,null,null,null,null,null,null,null,null,null,null,null,null,0,0]
[230,null,null,null,null,null,null,null,null,null,null,null,null,null,null,null,null,null,null,null,null,null,null,null,null,0,0]
[231,null,null,null,null,null,null,null,null,null,null,null,null,null,null,null,null,null,null,null,null,null,null,null,null,0,0]
[232,null,null,null,null,null,null,null,null,null,null,null,null,null,null,null,null,null,null,null,null,null,null,null,null,0,0]
[233,null,null,null,null,null,null,null,null,null,null,null,null,null,null,null,null,null,null,null,null,null,null,null,null,0,0]
[234,null,null,null,null,null,null,null,null,null,null,null,null,null,null,null,null,null,null,null,null,null,null,null,null,0,0]
[235,null,null,null,null,null,null,null,null,null,null,null,null,null,null,null,null,null,null,null,null,null,null,null,null,0,0]
[236,null,null,null,null,null,null,null,null,null,null,null,null,null,null,null,null,null,null,null,null,null,null,null,null,0,0]
[237,null,null,null,null,null,null,null,null,null,null,null,null,null,null,null,null,null,null,null,null,null,null,null,null,0,0]
[238,null,null,null,null,null,null,null,null,null,null,null,null,null,null,null,null,null,null,null,null,null,null,null,null,0,0]
[239,null,null,null,null,null,null,null,null,null,null,null,null,null,null,null,null,null,null,null,null,null,null,null,null,0,0]
[240,null,null,null,null,null,null,null,null,null,null,null,null,null,null,null,null,null,null,null,null,null,null,null,null,0,0]
[241,null,null,null,null,null,null,null,null,null,null,null,null,null,null,null,null,null,null,null,null,null,null,null,null,0,0]
[242,null,null,null,null,null,null,null,null,null,null,null,null,null,null,null,null,null,null,null,null,null,null,null,null,0,0]
[243,null,null,null,null,null,null,null,null,null,null,null,null,null,null,null,null,null,null,null,null,null,null,null,null,0,0]
[244,null,null,null,null,null,null,null,null,null,null,null,null,null,null,null,null,null,null,null,null,null,null,null,null,0,0]
[245,null,null,null,null,null,null,null,null,null,null,null,null,null,null,null,null,null,null,null,null,null,null,null,null,0,0]
[246,null,null,null,null,null,null,null,null,null,null,null,null,null,null,null,null,null,null,null,null,null,null,null,null,0,0]
[247,null,null,null,null,null,null,null,null,null,null,null,null,null,null,null,null,null,null,null,null,null,null,null,null,0,0]
[248,null,null,null,null,null,null,null,null,null,null,null,null,null,null,null,null,null,null,null,null,null,null,null,null,0,0]
[249,null,null,null,null,null,null,null,null,null,null,null,null,null,null,null,null,null,null,null,null,null,null,null,null,0,0]
[250,null,null,null,null,null,null,null,null,null,null,null,null,null,null,null,null,null,null,null,null,null,null,null,null,0,0]
[251,null,null,null,null,null,null,null,null,null,null,null,null,null,null,null,null,null,null,null,null,null,null,null,null,0,0]
[252,null,null,null,null,null,null,null,null,null,null,null,null,null,null,null,null,null,null,null,null,null,null,null,null,0,0]
[253,null,null,null,null,null,null,null,null,null,null,null,null,null,null,null,null,null,null,null,null,null,null,null,null,0,0]
[254,null,null,null,null,null,null,null,null,null,null,null,null,null,null,null,null,null,null,null,null,null,null,null,null,0,0]
[255,null,null,null,null,null,null,null,null,null,null,null,null,null,null,null,null,null,null,null,null,null,null,null,null,0,0]
[256,null,null,null,null,null,null,null,null,null,null,null,null,null,null,null,null,null,null,null,null,null,null,null,null,0,0]
[257,null,null,null,null,null,null,null,null,null,null,null,null,null,null,null,null,null,null,null,null,null,null,null,null,{"$f":"IF(D260=\"\",0,D260&\" (\"&E260&\")\")","v":0},0]
[258,null,null,null,null,null,null,null,null,null,null,null,null,null,null,null,null,null,null,null,null,null,null,null,null,0,{"$f":"D261","v":0}]
[259,null,null,null,null,null,null,null,null,null,null,null,null,null,null,null,null,null,null,null,null,null,null,null,null,0,0]
[260,null,null,null,null,null,null,null,null,null,null,null,null,null,null,null,null,null,null,null,null,null,null,null,null,0,0]
[261,null,null,null,null,null,null,null,null,null,null,null,null,null,null,null,null,null,null,null,null,null,null,null,null,0,0]
[262,null,null,null,null,null,null,null,null,null,null,null,null,null,null,null,null,null,null,null,null,null,null,null,null,0,0]
[263,null,null,null,null,null,null,null,null,null,null,null,null,null,null,null,null,null,null,null,null,null,null,null,null,0,0]
[264,null,null,null,null,null,null,null,null,null,null,null,null,null,null,null,null,null,null,null,null,null,null,null,null,0,0]
[265,null,null,null,null,null,null,null,null,null,null,null,null,null,null,null,null,null,null,null,null,null,null,null,null,0,0]
[266,null,null,null,null,null,null,null,null,null,null,null,null,null,null,null,null,null,null,null,null,null,null,null,null,0,0]
[267,null,null,null,null,null,null,null,null,null,null,null,null,null,null,null,null,null,null,null,null,null,null,null,null,0,0]
[268,null,null,null,null,null,null,null,null,null,null,null,null,null,null,null,null,null,null,null,null,null,null,null,null,0,0]
[269,null,null,null,null,null,null,null,null,null,null,null,null,null,null,null,null,null,null,null,null,null,null,null,null,0,0]
[270,null,null,null,null,null,null,null,null,null,null,null,null,null,null,null,null,null,null,null,null,null,null,null,null,0,0]
[271,null,null,null,null,null,null,null,null,null,null,null,null,null,null,null,null,null,null,null,null,null,null,null,null,0,0]
[272,null,null,null,null,null,null,null,null,null,null,null,null,null,null,null,null,null,null,null,null,null,null,null,null,0,0]
[273,null,null,null,null,null,null,null,null,null,null,null,null,null,null,null,null,null,null,null,null,null,null,null,null,0,0]
[274,null,null,null,null,null,null,null,null,null,null,null,null,null,null,null,null,null,null,null,null,null,null,null,null,0,0]
[275,null,null,null,null,null,null,null,null,null,null,null,null,null,null,null,null,null,null,null,null,null,null,null,null,0,0]
[276,null,null,null,null,null,null,null,null,null,null,null,null,null,null,null,null,null,null,null,null,null,null,null,null,0,0]
[277,null,null,null,null,null,null,null,null,null,null,null,null,null,null,null,null,null,null,null,null,null,null,null,null,0,0]
[278,null,null,null,null,null,null,null,null,null,null,null,null,null,null,null,null,null,null,null,null,null,null,null,null,0,0]
[279,null,null,null,null,null,null,null,null,null,null,null,null,null,null,null,null,null,null,null,null,null,null,null,null,0,0]
[280,null,null,null,null,null,null,null,null,null,null,null,null,null,null,null,null,null,null,null,null,null,null,null,null,0,0]
[281,null,null,null,null,null,null,null,null,null,null,null,null,null,null,null,null,null,null,null,null,null,null,null,null,0,0]
[282,null,null,null,null,null,null,null,null,null,null,null,null,null,null,null,null,null,null,null,null,null,null,null,null,0,0]
[283,null,null,null,null,null,null,null,null,null,null,null,null,null,null,null,null,null,null,null,null,null,null,null,null,0,0]
[284,null,null,null,null,null,null,null,null,null,null,null,null,null,null,null,null,null,null,null,null,null,null,null,null,0,0]
[285,null,null,null,null,null,null,null,null,null,null,null,null,null,null,null,null,null,null,null,null,null,null,null,null,0,0]
[286,null,null,null,null,null,null,null,null,null,null,null,null,null,null,null,null,null,null,null,null,null,null,null,null,0,0]
[287,null,null,null,null,null,null,null,null,null,null,null,null,null,null,null,null,null,null,null,null,null,null,null,null,0,0]
[288,null,null,null,null,null,null,null,null,null,null,null,null,null,null,null,null,null,null,null,null,null,null,null,null,0,0]
[289,null,null,null,null,null,null,null,null,null,null,null,null,null,null,null,null,null,null,null,null,null,null,null,null,0,0]
[290,null,null,null,null,null,null,null,null,null,null,null,null,null,null,null,null,null,null,null,null,null,null,null,null,0,0]
[291,null,null,null,null,null,null,null,null,null,null,null,null,null,null,null,null,null,null,null,null,null,null,null,null,0,0]
[292,null,null,null,null,null,null,null,null,null,null,null,null,null,null,null,null,null,null,null,null,null,null,null,null,0,0]
[293,null,null,null,null,null,null,null,null,null,null,null,null,null,null,null,null,null,null,null,null,null,null,null,null,0,0]
[294,null,null,null,null,null,null,null,null,null,null,null,null,null,null,null,null,null,null,null,null,null,null,null,null,0,0]
[295,null,null,null,null,null,null,null,null,null,null,null,null,null,null,null,null,null,null,null,null,null,null,null,null,0,0]
[296,null,null,null,null,null,null,null,null,null,null,null,null,null,null,null,null,null,null,null,null,null,null,null,null,0,0]
[297,null,null,null,null,null,null,null,null,null,null,null,null,null,null,null,null,null,null,null,null,null,null,null,null,0,0]
[298,null,null,null,null,null,null,null,null,null,null,null,null,null,null,null,null,null,null,null,null,null,null,null,null,0,0]
[299,null,null,null,null,null,null,null,null,null,null,null,null,null,null,null,null,null,null,null,null,null,null,null,null,0,0]
[300,null,null,null,null,null,null,null,null,null,null,null,null,null,null,null,null,null,null,null,null,null,null,null,null,0,0]
[301,null,null,null,null,null,null,null,null,null,null,null,null,null,null,null,null,null,null,null,null,null,null,null,null,0,0]
[302,null,null,null,null,null,null,null,null,null,null,null,null,null,null,null,null,null,null,null,null,null,null,null,null,0,0]
[303,null,null,null,null,null,null,null,null,null,null,null,null,null,null,null,null,null,null,null,null,null,null,null,null,0,0]
[304,null,null,null,null,null,null,null,null,null,null,null,null,null,null,null,null,null,null,null,null,null,null,null,null,0,0]
[305,null,null,null,null,null,null,null,null,null,null,null,null,null,null,null,null,null,null,null,null,null,null,null,null,0,0]
[306,null,null,null,null,null,null,null,null,null,null,null,null,null,null,null,null,null,null,null,null,null,null,null,null,0,0]
[307,null,null,null,null,null,null,null,null,null,null,null,null,null,null,null,null,null,null,null,null,null,null,null,null,0,0]
[308,null,null,null,null,null,null,null,null,null,null,null,null,null,null,null,null,null,null,null,null,null,null,null,null,0,0]
[309,null,null,null,null,null,null,null,null,null,null,null,null,null,null,null,null,null,null,null,null,null,null,null,null,0,0]
[310,null,null,null,null,null,null,null,null,null,null,null,null,null,null,null,null,null,null,null,null,null,null,null,null,0,0]

{"sheet":"Grup","index":3,"n_rows":26,"n_cols":362,"rows_kept":26,"cut":false,"hidden":false,"merged":[[8,240,8,241],[8,242,8,243],[8,244,8,245],[4,203,4,204],[4,205,4,206],[4,207,4,208],[4,209,4,210],[4,211,4,212],[4,213,4,214],[4,215,4,216],[4,217,4,218],[8,203,8,204],[13,240,13,241],[13,242,13,243],[13,244,13,245],[13,223,13,224],[13,225,13,226],[13,227,13,228],[13,229,13,230],[13,231,13,232],[13,233,13,234],[13,235,13,236],[0,1,1,33],[2,1,2,33],[13,166,13,168],[13,169,13,170],[13,171,13,172],[15,166,15,168],[15,169,15,170],[15,171,15,172],[14,166,14,168],[14,169,14,170],[14,171,14,172],[9,166,9,168],[9,169,9,170],[9,171,9,172],[8,166,8,168],[8,169,8,170],[8,171,8,172],[4,1,4,3],[4,4,4,5],[4,6,4,7],[4,8,4,9],[4,10,4,11],[4,22,4,23],[4,24,4,25],[0,397,0,402],[13,173,13,174],[13,175,13,176],[13,187,13,188],[13,189,13,190],[13,191,13,192],[13,197,13,198],[13,246,13,247],[8,215,8,216],[8,217,8,218],[13,193,13,194],[13,195,13,196],[13,203,13,204],[13,205,13,206],[13,207,13,208],[13,209,13,210],[13,213,13,214],[13,215,13,216],[13,217,13,218],[13,221,13,222],[9,173,9,174],[9,175,9,176],[8,173,8,174],[8,175,8,176],[13,211,13,212],[16,166,16,168],[16,169,16,170],[16,171,16,172],[16,195,16,196],[17,169,17,170],[17,171,17,172],[17,175,17,176],[17,195,17,196],[17,197,17,198],[16,197,16,198],[14,197,14,198],[15,197,15,198],[14,195,14,196],[15,195,15,196],[9,193,9,194],[9,195,9,196],[8,211,8,212],[8,213,8,214],[8,187,8,188],[8,189,8,190],[8,191,8,192],[8,193,8,194],[8,195,8,196],[8,209,8,210],[8,205,8,206],[8,207,8,208],[10,195,10,196],[11,193,11,194],[11,195,11,196],[10,166,10,168],[10,169,10,170],[10,171,10,172],[10,173,10,174],[10,175,10,176],[10,193,10,194],[11,166,11,168],[11,169,11,170],[11,171,11,172],[11,173,11,174],[11,175,11,176],[4,187,4,188],[4,189,4,190],[4,191,4,192],[4,193,4,194],[4,166,4,168],[4,169,4,170],[4,171,4,172],[6,191,6,192],[6,193,6,194],[5,166,5,168],[5,169,5,170],[5,171,5,172],[5,173,5,174],[5,175,5,176],[5,191,5,192],[5,193,5,194],[4,173,4,174],[4,175,4,176],[24,166,24,168],[24,169,24,170],[24,171,24,172],[23,197,23,198],[23,199,23,200],[24,197,24,198],[24,199,24,200],[19,193,19,194],[19,195,19,196],[23,169,23,170],[23,171,23,172],[23,166,23,168],[20,166,20,168],[20,169,20,170],[20,171,20,172],[20,197,20,198],[20,199,20,200],[21,166,21,168],[21,169,21,170],[21,171,21,172],[21,197,21,198],[21,199,21,200],[19,203,19,204],[19,205,19,206],[22,166,22,168],[22,169,22,170],[22,171,22,172],[22,197,22,198],[22,199,22,200],[19,197,19,198],[19,199,19,200],[19,166,19,168],[19,169,19,170],[19,171,19,172],[19,173,19,174],[19,175,19,176],[19,187,19,188],[19,189,19,190],[19,191,19,192],[19,223,19,224],[19,225,19,226],[19,227,19,228],[19,229,19,230],[19,231,19,232],[19,233,19,234],[19,235,19,236],[19,207,19,208],[19,209,19,210],[19,211,19,212],[19,213,19,214],[19,215,19,216],[19,217,19,218],[19,221,19,222],[4,52,4,53],[5,1,5,3],[5,4,5,5],[5,6,5,7],[5,8,5,9],[5,10,5,11],[5,26,5,27],[5,28,5,29],[6,26,6,27],[6,28,6,29],[4,26,4,27],[4,28,4,29],[4,38,4,39],[4,40,4,41],[4,42,4,43],[4,44,4,45],[4,46,4,47],[4,48,4,49],[4,50,4,51],[8,38,8,39],[8,40,8,41],[8,42,8,43],[8,44,8,45],[8,46,8,47],[8,48,8,49],[8,50,8,51],[8,52,8,53],[9,1,9,3],[9,4,9,5],[9,6,9,7],[9,8,9,9],[9,10,9,11],[9,26,9,27],[9,28,9,29],[8,1,8,3],[8,4,8,5],[8,6,8,7],[8,8,8,9],[8,10,8,11],[8,22,8,23],[8,24,8,25],[8,26,8,27],[8,28,8,29],[10,26,10,27],[10,28,10,29],[12,1,12,3],[12,4,12,5],[12,6,12,7],[12,8,12,9],[12,10,12,11],[12,22,12,23],[12,24,12,25],[12,26,12,27],[12,28,12,29],[12,77,12,78],[12,79,12,80],[13,1,13,3],[13,4,13,5],[13,6,13,7],[13,8,13,9],[13,10,13,11],[13,28,13,29],[13,30,13,31],[12,30,12,31],[12,38,12,39],[12,40,12,41],[12,42,12,43],[12,44,12,45],[12,46,12,47],[12,48,12,49],[12,50,12,51],[12,52,12,53],[14,30,14,31],[15,1,15,3],[15,4,15,5],[15,6,15,7],[15,8,15,9],[15,10,15,11],[15,28,15,29],[15,30,15,31],[12,75,12,76],[17,22,17,23],[17,24,17,25],[17,26,17,27],[17,28,17,29],[14,1,14,3],[14,4,14,5],[14,6,14,7],[14,8,14,9],[14,10,14,11],[14,28,14,29],[17,75,17,76],[17,77,17,78],[17,79,17,80],[18,1,18,3],[18,4,18,5],[18,6,18,7],[18,8,18,9],[18,10,18,11],[18,28,18,29],[18,30,18,31],[17,30,17,31],[17,38,17,39],[17,40,17,41],[17,42,17,43],[17,44,17,45],[17,46,17,47],[17,48,17,49],[17,50,17,51],[17,52,17,53],[17,1,17,3],[17,4,17,5],[17,6,17,7],[17,8,17,9],[17,10,17,11],[19,1,19,3],[19,4,19,5],[19,6,19,7],[19,8,19,9],[19,10,19,11],[19,28,19,29],[19,30,19,31],[20,1,20,3],[20,4,20,5],[20,6,20,7],[20,8,20,9],[20,10,20,11],[20,28,20,29],[20,30,20,31]]}
[1,{"$f":"Kura!AC1","v":"TÜRKİYE MASA TENİSİ FEDERASYONU\nGENÇLER TAKIM KUZEYDOĞU BÖLGE YARIŞMALARI"},null,null,null,null,null,null,null,null,null,null,null,null,null,null,null,null,null,null,null,null,null,null,null,null,null,null,null,null,null,null,null,null,null,null,null,null,null,null,null,null,null,null,null,null,null,null,null,null,null,null,null,null,null,null,null,null,null,null,null,null,null,null,null,null,null,null,null,null,null,null,null,null,null,null,null,null,null,null,null,null,null,null,null,null,null,null,null,null,null,null,null,null,null,null,null,null,null,null,null,null,null,null,null,null,null,null,null,null,null,null,null,null,null,null,null,null,null,null,null,null,null,null,null,null,null,null,null,null,null,null,null,null,null,null,null,null,null,null,null,null,null,null,{"$f":"COUNTA(EI:EI)","v":8},null,null,null,null,null,null,null,null,null,null,null,null,null,null,null,null,null,null,null,null,null,4,null,null,null,null,null,null,null,null,null,null,null,null,null,null,null,null,null,null,null,null,null,null,null,null,null,null,null,null,null,null,null,null,null,null,null,null,null,null,null,null,null,null,null,null,null,null,null,null,null,null,null,null,null,null,null,null,null,null,null,null,null,null,null,null,null,null,null,null,null,null,null,null,null,null,null,null,null,null,null,null,null,null,null,null,null,null,null,null,null,null,null,null,null,null,null,null,null,null,null,null,null,null,null,null,null,null,null,null,null,null,null,null,null,null,null,null,null,null,null,null,null,null,null,null,null,null,null,null,null,null,null,null,null,null,null,null,null,null,null,null,null,null,null,null,null,null,null,null,null,null,null,null,null,null,null,null,null,null,null,null,null,null,null,null,null,null,null,null,null,null,null,null,null,null,null,null,{"$f":"COUNTA(MH:MH)","v":4},null,null,null,null,null,null,null,null,null,null,null,null,null,null,null,null,2,2]
[null,null,null,null,null,null,null,null,null,null,null,null,null,null,null,null,null,null,null,null,null,null,null,null,null,null,null,null,null,null,null,null,null,null,null,null,null,null,null,null,null,null,null,null,null,null,null,null,null,null,null,null,null,null,null,null,null,null,null,null,null,null,null,null,null,null,null,null,null,null,null,null,null,null,null,null,null,null,null,null,null,null,null,null,null,null,null,null,null,null,null,null,null,null,null,null,null,null,null,null,null,null,null,null,null,null,null,null,null,null,null,null,null,null,null,null,null,null,null,null,null,null,null,null,null,null,null,null,null,null,null,null,null,null,null,null,null,null,null,null,null,null,null,null,null,null,null,null,null,null,null,null,null,null,null,null,null,null,null,null,null,null,null,null,null,null,null,null,null,null,null,null,null,null,null,null,null,null,null,null,null,null,null,null,null,null,null,null,null,null,null,null,null,null,null,null,null,null,null,null,null,null,null,null,null,null,null,null,null,null,null,null,null,null,null,null,null,null,null,null,null,null,null,null,null,null,null,null,null,null,null,null,null,null,null,null,null,null,null,null,null,null,null,null,null,null,null,null,null,null,null,null,null,null,null,null,null,null,null,null,null,null,null,null,null,null,null,null,null,null,null,null,null,null,null,null,null,null,null,null,null,null,null,null,null,null,null,null,null,null,null,null,null,null,null,null,null,null,null,null,null,null,null,null,null,null,null,null,null,null,null,null,null,null,null,null,null,null,null,null,null,null,null,null,null,null,null,null,null,null,null,null,null,null,null,null,null,null,1,8,null,null,null,null,null,2,"x","x",null,null,null,null,null,null,null,null,null,null,null,null,3]
[null,{"$f":"Kura!A2&\" \"&Kura!AF3","v":"KIZ TAKIM  [15-16 Mart 2025 TRABZON] [ Grup ]"},null,null,null,null,null,null,null,null,null,null,null,null,null,null,null,null,null,null,null,null,null,null,null,null,null,null,null,null,null,null,null,null,null,null,null,null,null,null,null,null,null,null,null,null,null,null,null,null,null,null,null,null,null,null,null,null,null,null,null,null,null,null,null,null,null,null,null,null,null,null,null,null,null,null,null,null,null,null,null,null,null,null,null,null,null,null,null,null,null,null,null,null,null,null,null,null,null,null,null,null,null,null,null,null,null,null,null,null,null,null,null,null,null,null,null,null,null,null,null,null,null,null,null,null,null,null,null,null,null,null,null,null,null,null,null,null,null,null,null,null,null,null,null,null,null,null,null,null,null,null,null,null,null,null,null,null,null,null,null,null,null,null,null,null,null,null,null,null,null,null,null,null,null,null,null,null,null,null,null,null,null,null,null,null,null,null,null,null,null,null,null,null,null,null,null,null,null,null,null,null,null,null,null,null,null,null,null,null,null,null,null,null,null,null,null,null,null,null,null,null,null,null,null,null,null,null,null,null,null,null,null,null,null,null,null,null,null,null,null,null,null,null,null,null,null,null,null,null,null,null,null,null,null,null,null,null,null,null,null,null,null,null,null,null,null,null,null,null,null,null,null,null,null,null,null,null,null,null,null,null,null,null,null,null,null,null,null,null,null,null,null,null,null,null,null,null,null,null,null,null,null,null,null,null,null,null,null,null,null,null,null,null,null,null,null,null,null,null,null,null,null,null,null,null,null,null,null,null,null,null,null,null,null,null,null,null,2,7,null,null,null,null,null,2,"x","x",null,null,null,null,null,null,null,null,null,null,null,null,4]
[null,null,null,null,null,null,null,null,null,null,null,null,null,null,null,null,null,null,null,null,null,null,null,null,null,null,null,null,null,null,null,null,null,null,null,null,null,null,null,null,null,null,null,null,null,null,null,null,null,null,null,null,null,null,null,null,null,null,null,null,null,null,null,null,null,null,null,null,null,null,null,null,null,null,null,null,null,null,null,null,null,null,null,null,null,null,null,null,null,null,null,null,null,null,null,null,null,null,null,null,null,null,null,null,null,null,null,null,null,null,null,null,null,null,null,null,null,null,null,null,null,null,null,null,null,null,null,null,null,null,null,null,null,null,null,null,null,null,null,null,null,null,null,null,null,null,null,null,null,null,null,null,null,null,null,null,null,null,null,null,null,null,null,null,null,null,null,null,null,null,null,null,null,null,null,null,null,null,null,null,null,null,null,null,null,null,null,null,null,null,null,null,null,null,null,null,null,null,null,null,null,null,null,null,null,null,null,null,null,null,null,null,null,null,null,null,null,null,null,null,null,null,null,null,null,null,null,null,null,null,null,null,null,null,null,null,null,null,null,null,null,null,null,null,null,null,null,null,null,null,null,null,null,null,null,null,null,null,null,null,null,null,null,null,null,null,null,null,null,null,null,null,null,null,null,null,null,null,null,null,null,null,null,null,null,null,null,null,null,null,null,null,null,null,null,null,null,null,null,null,null,null,null,null,null,null,null,null,null,null,null,null,null,null,null,null,null,null,null,null,null,null,null,null,null,null,null,null,null,null,null,null,null,null,null,null,null,null,3,6,9,null,null,null,null,3,"x","x","x",null,null,null,null,1,null,null,null,null,null,null,5]
[2,"Tarih",null,null,"Saat",null,"Tur",null,"Maç",null,"Masa",null,null,3,"Grup",null,1,null,null,null,null,null,1,null,2,null,"Puan",null,"Sıralama",null,null,null,null,null,null,null,null,null,"Maç",null,"1.Set",null,"2.Set",null,"3.Set",null,"4.Set",null,"5.Set",null,"Sonuç",null,"Sonuç",null,null,null,null,null,null,null,null,null,null,null,null,null,null,null,null,null,null,null,null,null,null,null,null,null,null,null,null,null,null,null,null,null,null,null,null,null,null,null,null,null,null,null,null,null,null,null,null,null,null,null,null,null,null,null,null,null,null,null,null,null,null,null,null,null,null,null,null,null,null,null,null,null,null,null,null,null,null,null,null,null,null,null,null,null,"G1","1-2","ÇORUM BLD. SPOR (A) (ÇRM)","BEŞİKDÜZÜ AYYILDIZ SPOR (A) (TRB)","2025-03-15","10.00",0,null,null,null,null,null,null,null,null,null,null,null,null,null,null,null,null,null,null,null,null,null,"Tarih",null,null,"Saat",null,"Tur",null,"Maç",null,"Masa",null,null,3,"Grup",null,2,null,null,null,null,null,1,null,2,null,"Puan",null,"Sıralama",null,null,null,null,null,null,null,null,null,"Maç",null,"1.Set",null,"2.Set",null,"3.Set",null,"4.Set",null,"5.Set",null,"Sonuç",null,"Sonuç",null,null,null,null,null,null,null,null,null,null,null,null,null,null,null,null,null,null,null,null,null,null,null,null,null,null,null,null,null,null,null,null,null,null,null,null,null,null,null,null,null,null,null,null,null,null,null,null,null,null,null,null,null,null,null,null,null,null,null,null,null,null,null,null,null,null,null,null,null,null,null,null,null,null,null,null,null,null,null,null,null,null,null,null,null,{"$f":"\"G\"&FZ5","v":"G2"},"1-2",{"$f":"+FY6","v":"ÇORUM GENÇLİK SPOR (A) (ÇRM)"},{"$f":"+FY7","v":{"$error":"#N/A"}},{"$f":"+FK6","v":"2025-03-16"},{"$f":"+FN6","v":"09:30:00"},{"$f":"+FT6","v":0},null,null,null,null,null,null,null,null,null,null,null,null,null,null,null,null,null,null,null,null,null,null,null,null,null,null,null,null,4,5,10,null,null,null,null,3,"x","x","x",null,null,null,null,8]
[null,{"$f":"TODAY()","v":"2025-03-16"},null,null,"10.00",null,1,null,"1 - 2",null,null,null,1,{"$f":"\"G\"&Q5&\".\"&AC6","v":"G1.1"},1,{"$f":"VLOOKUP(M6,Kura!$A$4:$AN$300,26,0)","v":"ÇORUM BLD. SPOR (A) (ÇRM)"},null,null,null,null,null,null,null,null,{"$f":"IF(AND(SUM(AY6:AZ6)=0,BA6=\"\",BB6=\"\"),\"\",IF(SUM(AY6:AZ6)=0,BA6,AY6))","v":3},{"$f":"IF(AND(SUM(AY6:AZ6)=0,BA6=\"\",BB6=\"\"),\"\",IF(SUM(AY6:AZ6)=0,BB6,AZ6))","v":0},{"$f":"IF(AE6>0,IF(OR(Y6=\"H\",Y6=\"W\"),0,IF(Y6=Main!$W$2,2,1)),\"\")","v":2},null,{"$f":"IF(SUM(AE6:AE7)=0,\"\",IF(AA6>AA7,1,2))","v":1},null,{"$f":"SUM(W6:Z6)","v":3},null,null,null,null,null,null,null,1,2,null,null,null,null,null,null,null,null,null,null,{"$f":"IF(AO6>AP6,1)+IF(AQ6>AR6,1)+IF(AS6>AT6,1)+IF(AU6>AV6,1)+IF(AW6>AX6,1)","v":0},{"$f":"IF(AO6<AP6,1)+IF(AQ6<AR6,1)+IF(AS6<AT6,1)+IF(AU6<AV6,1)+IF(AW6<AX6,1)","v":0},3,0,{"$f":"+AW6+AU6+AS6+AQ6+AO6","v":0},{"$f":"+AX6+AV6+AT6+AR6+AP6","v":0},null,null,null,null,null,null,null,null,null,null,null,null,null,null,null,null,null,null,null,null,null,null,null,null,null,null,null,null,null,null,null,null,null,null,null,null,null,null,null,null,null,null,null,null,null,null,null,null,null,null,null,null,null,null,null,null,null,null,null,null,null,null,null,null,null,null,null,null,null,null,null,null,null,null,null,null,null,null,null,null,null,null,"G2","1-2","ÇORUM GENÇLİK SPOR (A) (ÇRM)","BAYBURT GMSK (A) (BYB)","2025-03-15","10.00",0,null,null,null,null,null,null,null,null,null,null,null,null,null,null,null,null,null,null,null,null,null,{"$f":"TODAY()","v":"2025-03-16"},null,null,"09:30:00",null,1,null,"1 - 2",null,null,null,{"$f":"+FZ5","v":2},{"$f":"\"G\"&FZ5&\".\"&GL6","v":"G2."},1,{"$f":"VLOOKUP(FV6,Kura!$A$4:$AN$300,26,0)","v":"ÇORUM GENÇLİK SPOR (A) (ÇRM)"},null,null,null,null,null,null,null,null,{"$f":"IF(AND(SUM(HH6:HI6)=0,HJ6=\"\",HK6=\"\"),\"\",IF(SUM(HH6:HI6)=0,HJ6,HH6))","v":""},{"$f":"IF(AND(SUM(HH6:HI6)=0,HJ6=\"\",HK6=\"\"),\"\",IF(SUM(HH6:HI6)=0,HK6,HI6))","v":""},{"$f":"IF(GN6>0,IF(OR(GH6=\"H\",GH6=\"W\"),0,IF(GH6=Main!$W$2,2,1)),\"\")","v":""},null,{"$f":"IF(SUM(GN6:GN7)=0,\"\",IF(GJ6>GJ7,1,2))","v":""},null,{"$f":"SUM(GF6:GI6)","v":0},null,null,null,null,null,null,null,1,2,null,null,null,null,null,null,null,null,null,null,{"$f":"IF(GX6>GY6,1)+IF(GZ6>HA6,1)+IF(HB6>HC6,1)+IF(HD6>HE6,1)+IF(HF6>HG6,1)","v":0},{"$f":"IF(GX6<GY6,1)+IF(GZ6<HA6,1)+IF(HB6<HC6,1)+IF(HD6<HE6,1)+IF(HF6<HG6,1)","v":0},null,null,{"$f":"+HF6+HD6+HB6+GZ6+GX6","v":0},{"$f":"+HG6+HE6+HC6+HA6+GY6","v":0}]
[null,".",null,null,null,null,null,null,null,null,null,null,8,{"$f":"\"G\"&Q5&\".\"&AC7","v":"G1.2"},2,{"$f":"VLOOKUP(M7,Kura!$A$4:$AN$300,26,0)","v":"BEŞİKDÜZÜ AYYILDIZ SPOR (A) (TRB)"},null,null,null,null,null,null,{"$f":"+Z6","v":0},{"$f":"+Y6","v":3},null,null,{"$f":"IF(AE7>0,IF(OR(W7=\"H\",W7=\"W\"),0,IF(W7=Main!$W$2,2,1)),\"\")","v":1},null,{"$f":"IF(SUM(AE6:AE7)=0,\"\",IF(AA7>AA6,1,2))","v":2},null,{"$f":"SUM(W7:Z7)","v":3},null,null,null,null,null,null,null,null,null,null,null,null,null,null,null,null,null,null,null,null,null,null,null,null,null,null,null,null,null,null,null,null,null,null,null,null,null,null,null,null,null,null,null,null,null,null,null,null,null,null,null,null,null,null,null,null,null,null,null,null,null,null,null,null,null,null,null,null,null,null,null,null,null,null,null,null,null,null,null,null,null,null,null,null,null,null,null,null,null,null,null,null,null,null,null,null,null,null,null,null,null,null,null,null,null,null,null,"G3","1-3","ŞAFAKTEPE SK (A) (ANK)","FINDIKLI 1974 SPOR (A) (RİZ)","2025-03-15","10.00",0,null,null,null,null,null,null,null,null,null,null,null,null,null,null,null,null,null,null,null,null,null,".",null,null,null,null,null,null,null,null,null,null,null,{"$f":"\"G\"&FZ5&\".\"&GL7","v":"G2."},2,{"$f":"VLOOKUP(FV7,Kura!$A$4:$AN$300,26,0)","v":{"$error":"#N/A"}},null,null,null,null,null,null,{"$f":"+GI6","v":""},{"$f":"+GH6","v":""},null,null,{"$f":"IF(GN7>0,IF(OR(GF7=\"H\",GF7=\"W\"),0,IF(GF7=Main!$W$2,2,1)),\"\")","v":""},null,{"$f":"IF(SUM(GN6:GN7)=0,\"\",IF(GJ7>GJ6,1,2))","v":""},null,{"$f":"SUM(GF7:GI7)","v":0}]
[null,null,null,null,null,null,null,null,null,null,null,null,null,null,null,null,null,null,null,null,null,null,null,null,null,null,null,null,null,null,null,null,null,null,null,null,null,null,null,null,null,null,null,null,null,null,null,null,null,null,null,null,null,null,null,null,null,null,null,null,null,null,null,null,null,null,null,null,null,null,null,null,null,null,null,null,null,null,null,null,null,null,null,null,null,null,null,null,null,null,null,null,null,null,null,null,null,null,null,null,null,null,null,null,null,null,null,null,null,null,null,null,null,null,null,null,null,null,null,null,null,null,null,null,null,null,null,null,null,null,null,null,null,null,null,null,null,null,"G3","1-2","ŞAFAKTEPE SK (A) (ANK)","GİRESUN GENÇLİK VE SPOR (A) (GRS)","2025-03-15","11:30:00",0,null,null,null,null,null,null,null,null,null,null,null,null,null,null,null,null,null,null,null,null,null,null,null,null,null,null,null,null,null,null,null,null,null,null,null,null,null,null,null,null,null,null,null,null,null,null,null,null,null,null,null,null,null,null,null,null,null,null,null,null,null,null,null,null,null,null,null,null,null,null,null,null,null,null,null,null,null,null,null,null,null,null,null,null,null,null,null,null,null,null,null,null,null,null,null,null,null,null,null,null,null,null,null,null,null,null,null,null,null,null,null,null,null,null,null,null,null,null,null,null,null,null,null,null,null,null,null,null,null,null,null,null,null,null,null,null,null,null,null,null,null,null,null,null,null,null,null,null,null,null,null,null,null,null,null,null,null,null,null,null,null,null,null,null,null,null,null,null,null,null,null,null,null,null,null,null,null,null,null,null,null,null,null,null,null,null,null,null,null,null,null,null,null,null,null,null,null,null,null,null,null,null,null,null,null,null,null,null,2]
[2,"Tarih",null,null,"Saat",null,"Tur",null,"Maç",null,"Masa",null,null,3,"Grup",null,2,null,null,null,null,null,1,null,2,null,"Puan",null,"Sıralama",null,null,null,null,null,null,null,null,null,"Maç",null,"1.Set",null,"2.Set",null,"3.Set",null,"4.Set",null,"5.Set",null,"Sonuç",null,"Sonuç",null,null,null,null,null,null,null,null,null,null,null,null,null,null,null,null,null,null,null,null,null,null,null,null,null,null,null,null,null,null,null,null,null,null,null,null,null,null,null,null,null,null,null,null,null,null,null,null,null,null,null,null,null,null,null,null,null,null,null,null,null,null,null,null,null,null,null,null,null,null,null,null,null,null,null,null,null,null,null,null,null,null,null,null,null,"G3","2-3","GİRESUN GENÇLİK VE SPOR (A) (GRS)","FINDIKLI 1974 SPOR (A) (RİZ)","2025-03-15","13.30",0,null,null,null,null,null,null,null,null,null,null,null,null,null,null,null,null,null,null,null,null,null,"Tarih",null,null,"Saat",null,"Tur",null,"Maç",null,"Masa",null,null,3,"Grup",null,4,null,null,null,null,null,1,null,2,null,3,null,"Puan",null,"Sıralama",null,null,null,null,null,null,null,"Maç",null,"1.Set",null,"2.Set",null,"3.Set",null,"4.Set",null,"5.Set",null,"Sonuç",null,"Sonuç",null,null,null,null,null,null,null,null,null,null,null,null,null,null,null,null,null,null,null,null,null,null,1,null,2,null,3,null,null,null,null,{"$f":"IF(SUM(GP10:GP12)=0,0,IF(AND(GL10=GL11,GL10=GL12,GL11=GL12),1,0))","v":0},1,{"$f":"(IF(II10>IJ10,1)+IF(IK10>IL10,1))/(IF(II10<IJ10,1)+IF(IK10<IL10,1))","v":{"$error":"#DIV/0!"}},{"$f":"SUM(II10+IK10)/SUM(IJ10+IL10)","v":{"$error":"#VALUE!"}},{"$f":"SUM(HL10+HL11)/SUM(HM10+HM11)","v":{"$error":"#DIV/0!"}},{"$f":"IF(AND(IR9<>IR10,IR9<>IR11,IR9<>IR12,IR10<>IR11,IR10<>IR12,IR11<>IR12),RANK(IR9,IR9:IR12),IF(AND(IS9<>IS10,IS9<>IS11,IS9<>IS12,IS10<>IS11,IS10<>IS12,IS11<>IS12),RANK(IS9,IS9:IS12),IF(AND(IT9<>IT10,IT9<>IT11,IT9<>IT12,IT10<>IT11,IT10<>IT12,IT11<>IT12),RANK(IT9,IT9:IT12))))","v":{"$error":"#DIV/0!"}},null,null,null,null,null,null,null,null,null,null,null,null,null,null,null,null,null,null,null,null,null,null,null,null,null,{"$f":"SUM(JW9:JW11,KA9:KA11)","v":3},"1-3",{"$f":"IF(AND(IP9=0,GL10=GL12),1,0)","v":1},{"$f":"IF(JW9=1,IF(IK10>IL10,0.2,0),0)","v":0},{"$f":"IF(JW9=1,IF(IL10>IK10,0.2,0),0)","v":0},null,null,null,null,{"$f":"GL10+JX9+JX10","v":{"$error":"#VALUE!"}},{"$f":"RANK(KD9,KD9:KD11)","v":{"$error":"#VALUE!"}},null,{"$f":"IF(AND(JU9=0,IP9=0,IV9=0,JB9=0,JH9=0,JN9=0),RANK(GL10,GL10:GM12))","v":false},null,null,null,null,null,null,null,null,null,null,{"$f":"\"G\"&FZ9","v":"G4"},"1-3",{"$f":"+FY10","v":"YALIKÖY ŞBÇ OO (A) (GRS)"},{"$f":"+FY12","v":{"$error":"#N/A"}},{"$f":"+FK10","v":"2025-03-16"},{"$f":"+FN10","v":"09:30:00"},{"$f":"+FT10","v":0},null,null,null,null,null,null,null,null,null,null,null,null,null,null,null,null,null,null,null,null,null,null,null,null,null,null,null,null,null,null,null,null,null,null,null,null,null,null,null,null,null,null,null,7]
[null,{"$f":"TODAY()","v":"2025-03-16"},null,null,"10.00",null,1,null,"1 - 2",null,null,null,2,{"$f":"\"G\"&Q9&\".\"&AC10","v":"G2.1"},1,{"$f":"VLOOKUP(M10,Kura!$A$4:$AN$300,26,0)","v":"ÇORUM GENÇLİK SPOR (A) (ÇRM)"},null,null,null,null,null,null,null,null,{"$f":"IF(AND(SUM(AY10:AZ10)=0,BA10=\"\",BB10=\"\"),\"\",IF(SUM(AY10:AZ10)=0,BA10,AY10))","v":3},{"$f":"IF(AND(SUM(AY10:AZ10)=0,BA10=\"\",BB10=\"\"),\"\",IF(SUM(AY10:AZ10)=0,BB10,AZ10))","v":0},{"$f":"IF(AE10>0,IF(OR(Y10=\"H\",Y10=\"W\"),0,IF(Y10=Main!$W$2,2,1)),\"\")","v":2},null,{"$f":"IF(SUM(AE10:AE11)=0,\"\",IF(AA10>AA11,1,2))","v":1},null,{"$f":"SUM(W10:Z10)","v":3},null,null,null,null,null,null,null,1,2,null,null,null,null,null,null,null,null,null,null,{"$f":"IF(AO10>AP10,1)+IF(AQ10>AR10,1)+IF(AS10>AT10,1)+IF(AU10>AV10,1)+IF(AW10>AX10,1)","v":0},{"$f":"IF(AO10<AP10,1)+IF(AQ10<AR10,1)+IF(AS10<AT10,1)+IF(AU10<AV10,1)+IF(AW10<AX10,1)","v":0},3,0,{"$f":"+AW10+AU10+AS10+AQ10+AO10","v":0},{"$f":"+AX10+AV10+AT10+AR10+AP10","v":0},null,null,null,null,null,null,null,null,null,null,null,null,null,null,null,null,null,null,null,null,null,null,null,null,null,null,null,null,null,null,null,null,null,null,null,null,null,null,null,null,null,null,null,null,null,null,null,null,null,null,null,null,null,null,null,null,null,null,null,null,null,null,null,null,null,null,null,null,null,null,null,null,null,null,null,null,null,null,null,null,null,null,"G4","1-3","YALIKÖY ŞBÇ OO (A) (GRS)","ORTAHİSAR BLD. SPOR (A) (TRB)","2025-03-15","10.00",0,null,null,null,null,null,null,null,null,null,null,null,null,null,null,null,null,null,null,null,null,null,{"$f":"TODAY()","v":"2025-03-16"},null,null,"09:30:00",null,1,null,"1 - 3",null,null,null,{"$f":"+FZ9","v":4},{"$f":"\"G\"&FZ9&\".\"&GN10","v":"G4."},1,{"$f":"VLOOKUP(FV10,Kura!$A$4:$AN$300,26,0)","v":"YALIKÖY ŞBÇ OO (A) (GRS)"},null,null,null,null,null,null,null,null,{"$f":"IF(AND(SUM(HH11:HI11)=0,HJ11=\"\",HK11=\"\"),\"\",IF(SUM(HH11:HI11)=0,HJ11,HH11))","v":""},{"$f":"IF(AND(SUM(HH11:HI11)=0,HJ11=\"\",HK11=\"\"),\"\",IF(SUM(HH11:HI11)=0,HK11,HI11))","v":""},{"$f":"IF(AND(SUM(HH10:HI10)=0,HJ10=\"\",HK10=\"\"),\"\",IF(SUM(HH10:HI10)=0,HJ10,HH10))","v":""},{"$f":"IF(AND(SUM(HH10:HI10)=0,HJ10=\"\",HK10=\"\"),\"\",IF(SUM(HH10:HI10)=0,HK10,HI10))","v":""},{"$f":"IF(GP10>0,IF(OR(GH10=\"H\",GH10=\"W\"),0,IF(GH10=Main!$W$2,2,1))+IF(OR(GJ10=\"H\",GJ10=\"W\"),0,IF(GJ10=Main!$W$2,2,1)),\"\")","v":""},null,{"$f":"IF(AND(GP10=0,GP11=0,GP12=0),\"\",IF(IP9=1,IU9,IF(JU9>0,KE9,IF(SUM(IP9+JU9)=0,KG9))))","v":""},null,{"$f":"SUM(GF10:GK10)","v":0},null,null,null,null,null,1,3,null,null,null,null,null,null,null,null,null,null,{"$f":"IF(GX10>GY10,1)+IF(GZ10>HA10,1)+IF(HB10>HC10,1)+IF(HD10>HE10,1)+IF(HF10>HG10,1)","v":0},{"$f":"IF(GX10<GY10,1)+IF(GZ10<HA10,1)+IF(HB10<HC10,1)+IF(HD10<HE10,1)+IF(HF10<HG10,1)","v":0},null,null,{"$f":"+HF10+HD10+HB10+GZ10+GX10","v":0},{"$f":"+HG10+HE10+HC10+HA10+GY10","v":0},null,null,null,null,null,null,null,null,null,null,null,null,null,null,null,null,null,null,null,null,null,{"$f":"IF(OR(GH10=\"H\",GH10=\"W\"),0,GH10)","v":""},{"$f":"IF(OR(GI10=\"H\",GI10=\"W\"),0,GI10)","v":""},{"$f":"IF(OR(GJ10=\"H\",GJ10=\"W\"),0,GJ10)","v":""},{"$f":"IF(OR(GK10=\"H\",GK10=\"W\"),0,GK10)","v":""},null,null,null,null,2,{"$f":"(IF(IG11>IH11,1)+IF(IK11>IL11,1))/(IF(IG11<IH11,1)+IF(IK11<IL11,1))","v":{"$error":"#DIV/0!"}},{"$f":"SUM(IG11+IK11)/SUM(IH11+IL11)","v":{"$error":"#VALUE!"}},{"$f":"SUM(HM11+HL12)/SUM(HL11+HM12)","v":{"$error":"#DIV/0!"}},{"$f":"IF(AND(IR9<>IR10,IR9<>IR11,IR9<>IR12,IR10<>IR11,IR10<>IR12,IR11<>IR12),RANK(IR10,IR9:IR12),IF(AND(IS9<>IS10,IS9<>IS11,IS9<>IS12,IS10<>IS11,IS10<>IS12,IS11<>IS12),RANK(IS10,IS9:IS12),IF(AND(IT9<>IT10,IT9<>IT11,IT9<>IT12,IT10<>IT11,IT10<>IT12,IT11<>IT12),RANK(IT10,IT9:IT12))))","v":{"$error":"#DIV/0!"}},null,null,null,null,null,null,null,null,null,null,null,null,null,null,null,null,null,null,null,null,null,null,null,null,null,null,"1-2",{"$f":"IF(AND(IP9=0,GL10=GL11),1,0)","v":1},{"$f":"IF(JW10=1,IF(II10>IJ10,0.2,0),0)","v":0},{"$f":"IF(JW10=1,IF(IJ10>II10,0.2,0),0)","v":0},null,null,null,null,{"$f":"GL11+JY10+JX11","v":{"$error":"#VALUE!"}},{"$f":"RANK(KD10,KD9:KD11)","v":{"$error":"#VALUE!"}},null,{"$f":"IF(AND(JU9=0,IP9=0,IV9=0,JB9=0,JH9=0,JN9=0),RANK(GL11,GL10:GM12))","v":false},null,null,null,null,null,null,null,null,null,null,{"$f":"KR9","v":"G4"},"1-2",{"$f":"+FY10","v":"YALIKÖY ŞBÇ OO (A) (GRS)"},{"$f":"+FY11","v":{"$error":"#N/A"}},{"$f":"+FK11","v":"2025-03-16"},{"$f":"+FN11","v":"10:30:00"},0]
[null,".",null,null,null,null,null,null,null,null,null,null,7,{"$f":"\"G\"&Q9&\".\"&AC11","v":"G2.2"},2,{"$f":"VLOOKUP(M11,Kura!$A$4:$AN$300,26,0)","v":"BAYBURT GMSK (A) (BYB)"},null,null,null,null,null,null,{"$f":"+Z10","v":0},{"$f":"+Y10","v":3},null,null,{"$f":"IF(AE11>0,IF(OR(W11=\"H\",W11=\"W\"),0,IF(W11=Main!$W$2,2,1)),\"\")","v":1},null,{"$f":"IF(SUM(AE10:AE11)=0,\"\",IF(AA11>AA10,1,2))","v":2},null,{"$f":"SUM(W11:Z11)","v":3},null,null,null,null,null,null,null,null,null,null,null,null,null,null,null,null,null,null,null,null,null,null,null,null,null,null,null,null,null,null,null,null,null,null,null,null,null,null,null,null,null,null,null,null,null,null,null,null,null,null,null,null,null,null,null,null,null,null,null,null,null,null,null,null,null,null,null,null,null,null,null,null,null,null,null,null,null,null,null,null,null,null,null,null,null,null,null,null,null,null,null,null,null,null,null,null,null,null,null,null,null,null,null,null,null,null,null,"G4","1-2","YALIKÖY ŞBÇ OO (A) (GRS)","KUTLUBEY OKULLARI (A) (AMS)","2025-03-15","11:30:00",0,null,null,null,null,null,null,null,null,null,null,null,null,null,null,null,null,null,null,null,null,null,{"$f":"TODAY()","v":"2025-03-16"},null,null,"10:30:00",null,2,null,"1 - 2",null,null,null,null,{"$f":"\"G\"&FZ9&\".\"&GN11","v":"G4."},2,{"$f":"VLOOKUP(FV11,Kura!$A$4:$AN$300,26,0)","v":{"$error":"#N/A"}},null,null,null,null,null,null,{"$f":"+GI10","v":""},{"$f":"+GH10","v":""},null,null,{"$f":"IF(AND(SUM(HH12:HI12)=0,HJ12=\"\",HK12=\"\"),\"\",IF(SUM(HH12:HI12)=0,HJ12,HH12))","v":""},{"$f":"IF(AND(SUM(HH12:HI12)=0,HJ12=\"\",HK12=\"\"),\"\",IF(SUM(HH12:HI12)=0,HK12,HI12))","v":""},{"$f":"IF(GP11>0,IF(OR(GF11=\"H\",GF11=\"W\"),0,IF(GF11=Main!$W$2,2,1))+IF(OR(GJ11=\"H\",GJ11=\"W\"),0,IF(GJ11=Main!$W$2,2,1)),\"\")","v":""},null,{"$f":"IF(AND(GP10=0,GP11=0,GP12=0),\"\",IF(IP9=1,IU10,IF(JU9>0,KE10,IF(SUM(IP9+JU9)=0,KG10))))","v":""},null,{"$f":"SUM(GF11:GK11)","v":0},null,null,null,null,null,1,2,null,null,null,null,null,null,null,null,null,null,{"$f":"IF(GX11>GY11,1)+IF(GZ11>HA11,1)+IF(HB11>HC11,1)+IF(HD11>HE11,1)+IF(HF11>HG11,1)","v":0},{"$f":"IF(GX11<GY11,1)+IF(GZ11<HA11,1)+IF(HB11<HC11,1)+IF(HD11<HE11,1)+IF(HF11<HG11,1)","v":0},null,null,0,0,null,null,null,null,null,null,null,null,null,null,null,null,null,null,null,null,null,null,null,{"$f":"+IJ10","v":""},{"$f":"+II10","v":""},null,null,{"$f":"IF(OR(GJ11=\"H\",GJ11=\"W\"),0,GJ11)","v":""},{"$f":"IF(OR(GK11=\"H\",GK11=\"W\"),0,GK11)","v":""},null,null,null,null,3,{"$f":"(IF(IG12>IH12,1)+IF(II12>IJ12,1))/(IF(IG12<IH12,1)+IF(II12<IJ12,1))","v":{"$error":"#DIV/0!"}},{"$f":"SUM(II12+IG12)/SUM(IJ12+IH12)","v":{"$error":"#VALUE!"}},{"$f":"SUM(HM10+HM12)/SUM(HL10+HL12)","v":{"$error":"#DIV/0!"}},{"$f":"IF(AND(IR9<>IR10,IR9<>IR11,IR9<>IR12,IR10<>IR11,IR10<>IR12,IR11<>IR12),RANK(IR11,IR9:IR12),IF(AND(IS9<>IS10,IS9<>IS11,IS9<>IS12,IS10<>IS11,IS10<>IS12,IS11<>IS12),RANK(IS11,IS9:IS12),IF(AND(IT9<>IT10,IT9<>IT11,IT9<>IT12,IT10<>IT11,IT10<>IT12,IT11<>IT12),RANK(IT11,IT9:IT12))))","v":{"$error":"#DIV/0!"}},null,null,null,null,null,null,null,null,null,null,null,null,null,null,null,null,null,null,null,null,null,null,null,null,null,null,"2-3",{"$f":"IF(AND(IP9=0,GL11=GL12),1,0)","v":1},{"$f":"IF(JW11=1,IF(IK11>IL11,0.2,0),0)","v":0},{"$f":"IF(JW11=1,IF(IL11>IK11,0.2,0),0)","v":0},null,null,null,null,{"$f":"GL12+JY9+JY11","v":{"$error":"#VALUE!"}},{"$f":"RANK(KD11,KD9:KD11)","v":{"$error":"#VALUE!"}},null,{"$f":"IF(AND(JU9=0,IP9=0,IV9=0,JB9=0,JH9=0,JN9=0),RANK(GL12,GL10:GM12))","v":false},null,null,null,null,null,null,null,null,null,null,{"$f":"KR10","v":"G4"},"2-3",{"$f":"+FY11","v":{"$error":"#N/A"}},{"$f":"+FY12","v":{"$error":"#N/A"}},{"$f":"+FK12","v":"2025-03-16"},{"$f":"+FN12","v":"11:30:00"},0]
[null,null,null,null,null,null,null,null,null,null,null,null,null,null,null,null,null,null,null,null,null,null,null,null,null,null,null,null,null,null,null,null,null,null,null,null,null,null,null,null,null,null,null,null,null,null,null,null,null,null,null,null,null,null,null,null,null,null,null,null,null,null,null,null,null,null,null,null,null,null,null,null,null,null,null,null,null,null,null,null,null,null,null,null,null,null,null,null,null,null,null,null,null,null,null,null,null,null,null,null,null,null,null,null,null,null,null,null,null,null,null,null,null,null,null,null,null,null,null,null,null,null,null,null,null,null,null,null,null,null,null,null,null,null,null,null,null,null,"G4","2-3","KUTLUBEY OKULLARI (A) (AMS)","ORTAHİSAR BLD. SPOR (A) (TRB)","2025-03-15","13.30",0,null,null,null,null,null,null,null,null,null,null,null,null,null,null,null,null,null,null,null,null,null,{"$f":"TODAY()","v":"2025-03-16"},null,null,"11:30:00",null,3,null,"2 - 3",null,null,null,null,{"$f":"\"G\"&FZ9&\".\"&GN12","v":"G4."},3,{"$f":"VLOOKUP(FV12,Kura!$A$4:$AN$300,26,0)","v":{"$error":"#N/A"}},null,null,null,null,null,null,{"$f":"+GK10","v":""},{"$f":"+GJ10","v":""},{"$f":"+GK11","v":""},{"$f":"+GJ11","v":""},null,null,{"$f":"IF(GP12>0,IF(OR(GF12=\"H\",GF12=\"W\"),0,IF(GF12=Main!$W$2,2,1))+IF(OR(GH12=\"H\",GH12=\"W\"),0,IF(GH12=Main!$W$2,2,1)),\"\")","v":""},null,{"$f":"IF(AND(GP10=0,GP11=0,GP12=0),\"\",IF(IP9=1,IU11,IF(JU9>0,KE11,IF(SUM(IP9+JU9)=0,KG11))))","v":""},null,{"$f":"SUM(GF12:GK12)","v":0},null,null,null,null,null,2,3,null,null,null,null,null,null,null,null,null,null,{"$f":"IF(GX12>GY12,1)+IF(GZ12>HA12,1)+IF(HB12>HC12,1)+IF(HD12>HE12,1)+IF(HF12>HG12,1)","v":0},{"$f":"IF(GX12<GY12,1)+IF(GZ12<HA12,1)+IF(HB12<HC12,1)+IF(HD12<HE12,1)+IF(HF12<HG12,1)","v":0},null,null,0,0,null,null,null,null,null,null,null,null,null,null,null,null,null,null,null,null,null,null,null,{"$f":"+IL10","v":""},{"$f":"+IK10","v":""},{"$f":"+IL11","v":""},{"$f":"+IK11","v":""},null,null,null,null,null,null,null,null,null,null,null,null,null,null,null,null,null,null,null,null,null,null,null,null,null,null,null,null,null,null,null,null,null,null,null,null,null,null,null,null,null,null,null,null,null,null,null,null,null,null,null,null,null,null,null,null,null,null,null,null,null,null,null,null,null,null,null,null,null,null,null,null,null,null,null,null,null,null,null,null,null,null,null,null,null,null,null,null,null,null,null,null,null,null,null,null,null,null,null,null,null,null,null,null,null,null,null,null,null,3]
[3,"Tarih",null,null,"Saat",null,"Tur",null,"Maç",null,"Masa",null,null,3,"Grup",null,3,null,null,null,null,null,1,null,2,null,3,null,"Puan",null,"Sıralama",null,null,null,null,null,null,null,"Maç",null,"1.Set",null,"2.Set",null,"3.Set",null,"4.Set",null,"5.Set",null,"Sonuç",null,"Sonuç",null,null,null,null,null,null,null,null,null,null,null,null,null,null,null,null,null,null,null,null,null,null,1,null,2,null,3,null,null,null,null,{"$f":"IF(SUM(AG14:AG16)=0,0,IF(AND(AC14=AC15,AC14=AC16,AC15=AC16),1,0))","v":0},1,{"$f":"(IF(BZ14>CA14,1)+IF(CB14>CC14,1))/(IF(BZ14<CA14,1)+IF(CB14<CC14,1))","v":{"$error":"#DIV/0!"}},{"$f":"SUM(BZ14+CB14)/SUM(CA14+CC14)","v":{"$error":"#DIV/0!"}},{"$f":"SUM(BC14+BC15)/SUM(BD14+BD15)","v":{"$error":"#DIV/0!"}},{"$f":"IF(AND(CI13<>CI14,CI13<>CI15,CI13<>CI16,CI14<>CI15,CI14<>CI16,CI15<>CI16),RANK(CI13,CI13:CI16),IF(AND(CJ13<>CJ14,CJ13<>CJ15,CJ13<>CJ16,CJ14<>CJ15,CJ14<>CJ16,CJ15<>CJ16),RANK(CJ13,CJ13:CJ16),IF(AND(CK13<>CK14,CK13<>CK15,CK13<>CK16,CK14<>CK15,CK14<>CK16,CK15<>CK16),RANK(CK13,CK13:CK16))))","v":{"$error":"#DIV/0!"}},null,null,null,null,null,null,null,null,null,null,null,null,null,null,null,null,null,null,null,null,null,null,null,null,null,{"$f":"SUM(DN13:DN15,DR13:DR15)","v":0},"1-3",{"$f":"IF(AND(CG13=0,AC14=AC16),1,0)","v":0},{"$f":"IF(DN13=1,IF(CB14>CC14,0.2,0),0)","v":0},{"$f":"IF(DN13=1,IF(CC14>CB14,0.2,0),0)","v":0},null,null,null,null,{"$f":"AC14+DO13+DO14","v":4},{"$f":"RANK(DU13,DU13:DU15)","v":1},null,{"$f":"IF(AND(DL13=0,CG13=0,CM13=0,CS13=0,CY13=0,DE13=0),RANK(AC14,AC14:AD16))","v":1},null,null,null,null,null,null,null,null,null,null,null,null,null,null,null,"00:00:00",null,null,null,null,null,null,null,null,null,null,null,null,null,null,null,null,null,null,null,null,null,null,null,null,null,null,null,null,null,null,null,null,null,null,null,null,null,null,null,null,null,null,null,null,null,null,null,null,null,null,null,null,null,null,null,null,null,null,null,null,null,null,null,null,null,null,null,null,null,null,null,null,null,null,null,null,null,null,null,null,null,null,null,null,null,null,null,null,null,null,null,null,null,null,null,null,null,null,null,null,null,null,null,null,null,null,null,null,null,null,null,null,null,null,null,null,null,null,null,null,null,null,null,null,null,null,null,null,null,null,null,null,null,null,null,null,null,null,null,null,null,null,null,null,null,null,null,null,null,null,null,null,null,null,null,null,null,null,null,null,null,null,null,null,null,null,null,null,null,null,null,null,null,null,null,null,null,null,null,null,null,null,null,null,null,null,null,null,null,null,null,null,null,null,null,null,null,null,null,null,null,null,null,null,null,null,null,null,null,6]
[null,{"$f":"TODAY()","v":"2025-03-16"},null,null,"10.00",null,1,null,"1 - 3",null,null,null,3,{"$f":"\"G\"&Q13&\".\"&AE14","v":"G3.1"},1,{"$f":"VLOOKUP(M14,Kura!$A$4:$AN$300,26,0)","v":"ŞAFAKTEPE SK (A) (ANK)"},null,null,null,null,null,null,null,null,{"$f":"IF(AND(SUM(AY15:AZ15)=0,BA15=\"\",BB15=\"\"),\"\",IF(SUM(AY15:AZ15)=0,BA15,AY15))","v":3},{"$f":"IF(AND(SUM(AY15:AZ15)=0,BA15=\"\",BB15=\"\"),\"\",IF(SUM(AY15:AZ15)=0,BB15,AZ15))","v":0},{"$f":"IF(AND(SUM(AY14:AZ14)=0,BA14=\"\",BB14=\"\"),\"\",IF(SUM(AY14:AZ14)=0,BA14,AY14))","v":3},{"$f":"IF(AND(SUM(AY14:AZ14)=0,BA14=\"\",BB14=\"\"),\"\",IF(SUM(AY14:AZ14)=0,BB14,AZ14))","v":0},{"$f":"IF(AG14>0,IF(OR(Y14=\"H\",Y14=\"W\"),0,IF(Y14=Main!$W$2,2,1))+IF(OR(AA14=\"H\",AA14=\"W\"),0,IF(AA14=Main!$W$2,2,1)),\"\")","v":4},null,{"$f":"IF(AND(AG14=0,AG15=0,AG16=0),\"\",IF(CG13=1,CL13,IF(DL13>0,DV13,IF(SUM(CG13+DL13)=0,DX13))))","v":1},null,{"$f":"SUM(W14:AB14)","v":6},null,null,null,null,null,1,3,null,null,null,null,null,null,null,null,null,null,{"$f":"IF(AO14>AP14,1)+IF(AQ14>AR14,1)+IF(AS14>AT14,1)+IF(AU14>AV14,1)+IF(AW14>AX14,1)","v":0},{"$f":"IF(AO14<AP14,1)+IF(AQ14<AR14,1)+IF(AS14<AT14,1)+IF(AU14<AV14,1)+IF(AW14<AX14,1)","v":0},3,0,{"$f":"+AW14+AU14+AS14+AQ14+AO14","v":0},{"$f":"+AX14+AV14+AT14+AR14+AP14","v":0},null,null,null,null,null,null,null,null,null,null,null,null,null,null,null,null,null,null,null,null,null,{"$f":"IF(OR(Y14=\"H\",Y14=\"W\"),0,Y14)","v":3},{"$f":"IF(OR(Z14=\"H\",Z14=\"W\"),0,Z14)","v":0},{"$f":"IF(OR(AA14=\"H\",AA14=\"W\"),0,AA14)","v":3},{"$f":"IF(OR(AB14=\"H\",AB14=\"W\"),0,AB14)","v":0},null,null,null,null,2,{"$f":"(IF(BX15>BY15,1)+IF(CB15>CC15,1))/(IF(BX15<BY15,1)+IF(CB15<CC15,1))","v":0},{"$f":"SUM(BX15+CB15)/SUM(BY15+CC15)","v":0},{"$f":"SUM(BD15+BC16)/SUM(BC15+BD16)","v":{"$error":"#DIV/0!"}},{"$f":"IF(AND(CI13<>CI14,CI13<>CI15,CI13<>CI16,CI14<>CI15,CI14<>CI16,CI15<>CI16),RANK(CI14,CI13:CI16),IF(AND(CJ13<>CJ14,CJ13<>CJ15,CJ13<>CJ16,CJ14<>CJ15,CJ14<>CJ16,CJ15<>CJ16),RANK(CJ14,CJ13:CJ16),IF(AND(CK13<>CK14,CK13<>CK15,CK13<>CK16,CK14<>CK15,CK14<>CK16,CK15<>CK16),RANK(CK14,CK13:CK16))))","v":{"$error":"#DIV/0!"}},null,null,null,null,null,null,null,null,null,null,null,null,null,null,null,null,null,null,null,null,null,null,null,null,null,null,"1-2",{"$f":"IF(AND(CG13=0,AC14=AC15),1,0)","v":0},{"$f":"IF(DN14=1,IF(BZ14>CA14,0.2,0),0)","v":0},{"$f":"IF(DN14=1,IF(CA14>BZ14,0.2,0),0)","v":0},null,null,null,null,{"$f":"AC15+DP14+DO15","v":2},{"$f":"RANK(DU14,DU13:DU15)","v":3},null,{"$f":"IF(AND(DL13=0,CG13=0,CM13=0,CS13=0,CY13=0,DE13=0),RANK(AC15,AC14:AD16))","v":3},null,null,null,null,null,null,null,null,null,null,null,null,null,null,null,null,null,null,null,null,null,null,null,null,null,null,null,null,null,null,null,null,null,null,null,null,null,null,"Tarih",null,null,"Saat",null,"Tur",null,"Maç",null,"Masa",null,null,4,"Grup",null,3,null,null,null,null,null,1,null,2,null,3,null,4,null,"Puan",null,"Sıralama",null,null,null,null,null,"Maç",null,"1.Set",null,"2.Set",null,"3.Set",null,"4.Set",null,"5.Set",null,"Sonuç",null,"Sonuç",null,null,null,"Maç",null,"1.Set",null,"2.Set",null,"3.Set",null,"4.Set",null,"5.Set",null,"Sonuç",null,"Sonuç",null,null,null,null,1,null,2,null,3,null,4,null,null,{"$f":"IF(SUM(GR15:GR18)=0,0,IF(AND(GN15=GN16,GN15=GN17,GN15=GN18,GN16=GN17,GN16=GN18,GN17=GN18),1,0))","v":0},1,{"$f":"(IF(II15>IJ15,1)+IF(IK15>IL15,1)+IF(IM15>IN15,1))/(IF(II15<IJ15,1)+IF(IK15<IL15,1)+IF(IM15<IN15,1))","v":{"$error":"#DIV/0!"}},{"$f":"SUM(II15+IK15+IM15)/SUM(IJ15+IL15+IN15)","v":{"$error":"#VALUE!"}},{"$f":"SUM(HL15+HL17+ID16)/SUM(HM15+HM17+IE16)","v":{"$error":"#DIV/0!"}},{"$f":"IF(AND(IR14<>IR15,IR14<>IR16,IR14<>IR17,IR15<>IR16,IR15<>IR17,IR16<>IR17),RANK(IR14,IR14:IR17),IF(AND(IS14<>IS15,IS14<>IS16,IS14<>IS17,IS15<>IS16,IS15<>IS17,IS16<>IS17),RANK(IS14,IS14:IS17),IF(AND(IT14<>IT15,IT14<>IT16,IT14<>IT17,IT15<>IT16,IT15<>IT17,IT16<>IT17),RANK(IT14,IT14:IT17))))","v":{"$error":"#DIV/0!"}},{"$f":"IF(SUM(GR15:GR18)=0,0,IF(AND(GN15=GN16,GN15=GN17,GN16=GN17),1,0))","v":0},1,{"$f":"(IF(II15>IJ15,1)+IF(IK15>IL15,1))/(IF(II15<IJ15,1)+IF(IK15<IL15,1))","v":{"$error":"#DIV/0!"}},{"$f":"SUM(II15+IK15)/SUM(IJ15+IL15)","v":{"$error":"#VALUE!"}},{"$f":"SUM(HL15+HL17)/SUM(HM15+HM17)","v":{"$error":"#DIV/0!"}},{"$f":"IF(AND(IX14<>IX15,IX14<>IX16,IX15<>IX16),RANK(IX14,IX14:IX17),IF(AND(IY14<>IY15,IY14<>IY16,IY15<>IY16),RANK(IY14,IY14:IY17),IF(AND(IZ14<>IZ15,IZ14<>IZ16,IZ15<>IZ16,),RANK(IZ14,IZ14:IZ17))))","v":{"$error":"#DIV/0!"}},{"$f":"IF(SUM(GR15:GR18)=0,0,IF(AND(GN15=GN16,GN15=GN18,GN16=GN18),1,0))","v":0},1,{"$f":"(IF(II15>IJ15,1)+IF(IM15>IN15,1))/(IF(II15<IJ15,1)+IF(IM15<IN15,1))","v":{"$error":"#DIV/0!"}},{"$f":"SUM(II15+IM15)/SUM(IJ15+IN15)","v":{"$error":"#VALUE!"}},{"$f":"SUM(HL17+ID16)/SUM(HM17+IE16)","v":{"$error":"#DIV/0!"}},{"$f":"IF(AND(JD14<>JD15,JD14<>JD17,JD15<>JD17),RANK(JD14,JD14:JD17),IF(AND(JE14<>JE15,JE14<>JE17,JE15<>JE17),RANK(JE14,JE14:JE17),IF(AND(JF14<>JF15,JF14<>JF17,JF15<>JF17),RANK(JF14,JF14:JF17))))","v":{"$error":"#DIV/0!"}},{"$f":"IF(SUM(GR15:GR18)=0,0,IF(AND(GN15=GN17,GN15=GN18,GN17=GN18),1,0))","v":0},1,{"$f":"(IF(IK15>IL15,1)+IF(IM15>IN15,1))/(IF(IK15<IL15,1)+IF(IM15<IN15,1))","v":{"$error":"#DIV/0!"}},{"$f":"SUM(IK15+IM15)/SUM(IL15+IN15)","v":{"$error":"#VALUE!"}},{"$f":"SUM(HL15+ID16)/SUM(HM15+IE16)","v":{"$error":"#DIV/0!"}},{"$f":"IF(AND(JJ14<>JJ16,JJ14<>JJ17,JJ16<>JJ17),RANK(JJ14,JJ14:JJ17),IF(AND(JK14<>JK16,JK14<>JK17,JK16<>JK17),RANK(JK14,JK14:JK17),IF(AND(JL14<>JL16,JL14<>JL17,JL16<>JL17),RANK(JL14,JL14:JL17))))","v":{"$error":"#DIV/0!"}},{"$f":"IF(SUM(GR15:GR18)=0,0,IF(AND(GN16=GN17,GN16=GN18,GN17=GN18),1,0))","v":0},1,{"$f":"IF(AND(GN15>GN16,GN15>GN17,GN15>GN18),100,0)","v":0},{"$f":"+JP14","v":0},{"$f":"+JP14","v":0},{"$f":"IF(AND(JP15<>JP16,JP15<>JP17,JP16<>JP17),RANK(JP14,JP14:JP17),IF(AND(JQ15<>JQ16,JQ15<>JQ17,JQ16<>JQ17),RANK(JQ14,JQ14:JQ17),IF(AND(JR15<>JR16,JR15<>JR17,JR16<>JR17),RANK(JR14,JR14:JR17))))","v":{"$error":"#DIV/0!"}},null,{"$f":"SUM(JW14:JW16,KA14:KA16)","v":6},"1-2",{"$f":"IF(AND(IP14=0,IV14=0,JB14=0,JH14=0,JN14=0,GN15=GN16),1,0)","v":1},{"$f":"IF(JW14=1,IF(II15>IJ15,0.2,0),0)","v":0},{"$f":"IF(JW14=1,IF(IJ15>II15,0.2,0),0)","v":0},"2-3",{"$f":"IF(AND(IP14=0,IV14=0,JB14=0,JH14=0,JN14=0,GN16=GN17),1,0)","v":1},{"$f":"IF(KA14=1,IF(IK16>IL16,0.2,0),0)","v":0},{"$f":"IF(KA14=1,IF(IL16>IK16,0.2,0),0)","v":0},{"$f":"GN15+JX14+JX15+JX16","v":{"$error":"#VALUE!"}},{"$f":"RANK(KD14,KD14:KD17)","v":{"$error":"#VALUE!"}},null,{"$f":"IF(AND(JU14=0,IP14=0,IV14=0,JB14=0,JH14=0,JN14=0),RANK(GN15,GN15:GO18))","v":false},null,null,null,null,null,null,null,null,null,null,{"$f":"\"G\"&FZ14","v":"G3"},"1-3",{"$f":"+FY15","v":"ŞAFAKTEPE SK (A) (ANK)"},{"$f":"+FY17","v":{"$error":"#N/A"}},{"$f":"+FK15","v":"2025-03-16"},{"$f":"+FN15","v":"09:30:00"},{"$f":"+FT15","v":0},null,null,null,null,null,null,null,null,null,null,null,null,null,null,null,null,null,null,null,null,null,null,null,null,null,null,null,null,null,null,null,null,null,null,null,null,null,null,null,null,null,null,null,9]
[null,{"$f":"TODAY()","v":"2025-03-16"},null,null,"11:30:00",null,2,null,"1 - 2",null,null,null,6,{"$f":"\"G\"&Q13&\".\"&AE15","v":"G3.3"},2,{"$f":"VLOOKUP(M15,Kura!$A$4:$AN$300,26,0)","v":"GİRESUN GENÇLİK VE SPOR (A) (GRS)"},null,null,null,null,null,null,{"$f":"+Z14","v":0},{"$f":"+Y14","v":3},null,null,{"$f":"IF(AND(SUM(AY16:AZ16)=0,BA16=\"\",BB16=\"\"),\"\",IF(SUM(AY16:AZ16)=0,BA16,AY16))","v":0},{"$f":"IF(AND(SUM(AY16:AZ16)=0,BA16=\"\",BB16=\"\"),\"\",IF(SUM(AY16:AZ16)=0,BB16,AZ16))","v":3},{"$f":"IF(AG15>0,IF(OR(W15=\"H\",W15=\"W\"),0,IF(W15=Main!$W$2,2,1))+IF(OR(AA15=\"H\",AA15=\"W\"),0,IF(AA15=Main!$W$2,2,1)),\"\")","v":2},null,{"$f":"IF(AND(AG14=0,AG15=0,AG16=0),\"\",IF(CG13=1,CL14,IF(DL13>0,DV14,IF(SUM(CG13+DL13)=0,DX14))))","v":3},null,{"$f":"SUM(W15:AB15)","v":6},null,null,null,null,null,1,2,null,null,null,null,null,null,null,null,null,null,{"$f":"IF(AO15>AP15,1)+IF(AQ15>AR15,1)+IF(AS15>AT15,1)+IF(AU15>AV15,1)+IF(AW15>AX15,1)","v":0},{"$f":"IF(AO15<AP15,1)+IF(AQ15<AR15,1)+IF(AS15<AT15,1)+IF(AU15<AV15,1)+IF(AW15<AX15,1)","v":0},3,0,0,0,null,null,null,null,null,null,null,null,null,null,null,null,null,null,null,null,null,null,null,{"$f":"+CA14","v":0},{"$f":"+BZ14","v":3},null,null,{"$f":"IF(OR(AA15=\"H\",AA15=\"W\"),0,AA15)","v":0},{"$f":"IF(OR(AB15=\"H\",AB15=\"W\"),0,AB15)","v":3},null,null,null,null,3,{"$f":"(IF(BX16>BY16,1)+IF(BZ16>CA16,1))/(IF(BX16<BY16,1)+IF(BZ16<CA16,1))","v":1},{"$f":"SUM(BZ16+BX16)/SUM(CA16+BY16)","v":1},{"$f":"SUM(BD14+BD16)/SUM(BC14+BC16)","v":{"$error":"#DIV/0!"}},{"$f":"IF(AND(CI13<>CI14,CI13<>CI15,CI13<>CI16,CI14<>CI15,CI14<>CI16,CI15<>CI16),RANK(CI15,CI13:CI16),IF(AND(CJ13<>CJ14,CJ13<>CJ15,CJ13<>CJ16,CJ14<>CJ15,CJ14<>CJ16,CJ15<>CJ16),RANK(CJ15,CJ13:CJ16),IF(AND(CK13<>CK14,CK13<>CK15,CK13<>CK16,CK14<>CK15,CK14<>CK16,CK15<>CK16),RANK(CK15,CK13:CK16))))","v":{"$error":"#DIV/0!"}},null,null,null,null,null,null,null,null,null,null,null,null,null,null,null,null,null,null,null,null,null,null,null,null,null,null,"2-3",{"$f":"IF(AND(CG13=0,AC15=AC16),1,0)","v":0},{"$f":"IF(DN15=1,IF(CB15>CC15,0.2,0),0)","v":0},{"$f":"IF(DN15=1,IF(CC15>CB15,0.2,0),0)","v":0},null,null,null,null,{"$f":"AC16+DP13+DP15","v":3},{"$f":"RANK(DU15,DU13:DU15)","v":2},null,{"$f":"IF(AND(DL13=0,CG13=0,CM13=0,CS13=0,CY13=0,DE13=0),RANK(AC16,AC14:AD16))","v":2},null,null,null,null,null,null,null,null,null,null,null,null,null,null,null,null,null,null,null,null,null,null,null,null,null,null,null,null,null,null,null,null,null,null,null,null,null,null,{"$f":"TODAY()","v":"2025-03-16"},null,null,"09:30:00",null,1,null,"1-3","2-4",null,null,{"$f":"+FZ14","v":3},{"$f":"\"G\"&FZ14&\".\"&GP15","v":"G3."},1,{"$f":"VLOOKUP(FV15,Kura!$A$4:$AN$300,26,0)","v":"ŞAFAKTEPE SK (A) (ANK)"},null,null,null,null,null,null,null,null,{"$f":"IF(AND(SUM(HH17:HI17)=0,HJ17=\"\",HK17=\"\"),\"\",IF(SUM(HH17:HI17)=0,HJ17,HH17))","v":""},{"$f":"IF(AND(SUM(HH17:HI17)=0,HJ17=\"\",HK17=\"\"),\"\",IF(SUM(HH17:HI17)=0,HK17,HI17))","v":""},{"$f":"IF(AND(SUM(HH15:HI15)=0,HJ15=\"\",HK15=\"\"),\"\",IF(SUM(HH15:HI15)=0,HJ15,HH15))","v":""},{"$f":"IF(AND(SUM(HH15:HI15)=0,HJ15=\"\",HK15=\"\"),\"\",IF(SUM(HH15:HI15)=0,HK15,HI15))","v":""},{"$f":"IF(AND(SUM(HZ16:IA16)=0,IB16=\"\",IC16=\"\"),\"\",IF(SUM(HZ16:IA16)=0,IB16,HZ16))","v":""},{"$f":"IF(AND(SUM(HZ16:IA16)=0,IB16=\"\",IC16=\"\"),\"\",IF(SUM(HZ16:IA16)=0,IC16,IA16))","v":""},{"$f":"IF(GR15>0,IF(OR(GH15=\"H\",GH15=\"W\"),0,IF(GH15=Main!$W$2,2,1))+IF(OR(GJ15=\"H\",GJ15=\"W\"),0,IF(GJ15=Main!$W$2,2,1))+IF(OR(GL15=\"H\",GL15=\"W\"),0,IF(GL15=Main!$W$2,2,1)),\"\")","v":""},null,{"$f":"IF(AND(GR15=0,GR16=0,GR17=0,GR18=0),\"\",IF(IP14=1,IU14,IF(IV14=1,JA14,IF(JB14=1,JG14,IF(JH14=1,JM14,IF(JN14=1,JS14,IF(JU14>0,KE14,IF(SUM(IP14+IV14+JB14+JH14+JN14+JU14)=0,KG14))))))))","v":""},null,{"$f":"SUM(GF15:GM15)","v":0},null,null,null,1,3,null,null,null,null,null,null,null,null,null,null,{"$f":"IF(GX15>GY15,1)+IF(GZ15>HA15,1)+IF(HB15>HC15,1)+IF(HD15>HE15,1)+IF(HF15>HG15,1)","v":0},{"$f":"IF(GX15<GY15,1)+IF(GZ15<HA15,1)+IF(HB15<HC15,1)+IF(HD15<HE15,1)+IF(HF15<HG15,1)","v":0},null,null,{"$f":"+HF15+HD15+HB15+GZ15+GX15","v":0},0,3,4,null,null,null,null,null,null,null,null,null,null,{"$f":"IF(HP15>HQ15,1)+IF(HR15>HS15,1)+IF(HT15>HU15,1)+IF(HV15>HW15,1)+IF(HX15>HY15,1)","v":0},{"$f":"IF(HP15<HQ15,1)+IF(HR15<HS15,1)+IF(HT15<HU15,1)+IF(HV15<HW15,1)+IF(HX15<HY15,1)","v":0},null,null,{"$f":"+HX15+HV15+HT15+HR15+HP15","v":0},0,null,null,null,{"$f":"IF(OR(GH15=\"H\",GH15=\"W\"),0,GH15)","v":""},"","","","","",null,null,2,{"$f":"(IF(IG16>IH16,1)+IF(IK16>IL16,1)+IF(IM16>IN16,1))/(IF(IG16<IH16,1)+IF(IK16<IL16,1)+IF(IM16<IN16,1))","v":{"$error":"#DIV/0!"}},{"$f":"SUM(IG16+IK16+IM16)/SUM(IH16+IL16+IN16)","v":{"$error":"#VALUE!"}},{"$f":"SUM(HL16+HM17+ID17)/SUM(HM16+HL17+IE17)","v":{"$error":"#DIV/0!"}},{"$f":"IF(AND(IR14<>IR15,IR14<>IR16,IR14<>IR17,IR15<>IR16,IR15<>IR17,IR16<>IR17),RANK(IR15,IR14:IR17),IF(AND(IS14<>IS15,IS14<>IS16,IS14<>IS17,IS15<>IS16,IS15<>IS17,IS16<>IS17),RANK(IS15,IS14:IS17),IF(AND(IT14<>IT15,IT14<>IT16,IT14<>IT17,IT15<>IT16,IT15<>IT17,IT16<>IT17),RANK(IT15,IT14:IT17))))","v":{"$error":"#DIV/0!"}},null,2,{"$f":"(IF(IG16>IH16,1)+IF(IK16>IL16,1))/(IF(IG16<IH16,1)+IF(IK16<IL16,1))","v":{"$error":"#DIV/0!"}},{"$f":"SUM(IG16+IK16)/SUM(IH16+IL16)","v":{"$error":"#VALUE!"}},{"$f":"SUM(ID17+HM17)/SUM(IE17+HL17)","v":{"$error":"#DIV/0!"}},{"$f":"IF(AND(IX14<>IX15,IX14<>IX16,IX15<>IX16),RANK(IX15,IX14:IX17),IF(AND(IY14<>IY15,IY14<>IY16,IY15<>IY16),RANK(IY15,IY14:IY17),IF(AND(IZ14<>IZ15,IZ14<>IZ16,IZ15<>IZ16,),RANK(IZ15,IZ14:IZ17))))","v":{"$error":"#DIV/0!"}},null,2,{"$f":"(IF(IG16>IH16,1)+IF(IM16>IN16,1))/(IF(IG16<IH16,1)+IF(IM16<IN16,1))","v":{"$error":"#DIV/0!"}},{"$f":"SUM(IG16+IM16)/SUM(IH16+IN16)","v":{"$error":"#VALUE!"}},{"$f":"SUM(HM17+HL16)/SUM(HL17+HM16)","v":{"$error":"#DIV/0!"}},{"$f":"IF(AND(JD14<>JD15,JD14<>JD17,JD15<>JD17),RANK(JD15,JD14:JD17),IF(AND(JE14<>JE15,JE14<>JE17,JE15<>JE17),RANK(JE15,JE14:JE17),IF(AND(JF14<>JF15,JF14<>JF17,JF15<>JF17),RANK(JF15,JF14:JF17))))","v":{"$error":"#DIV/0!"}},null,2,{"$f":"IF(AND(GN16>GN15,GN16>GN17,GN16>GN18),100,0)","v":0},{"$f":"+JJ15","v":0},{"$f":"+JJ15","v":0},{"$f":"IF(AND(JJ14<>JJ16,JJ14<>JJ17,JJ16<>JJ17),RANK(JJ15,JJ14:JJ17),IF(AND(JK14<>JK16,JK14<>JK17,JK16<>JK17),RANK(JK15,JK14:JK17),IF(AND(JL14<>JL16,JL14<>JL17,JL16<>JL17),RANK(JL15,JL14:JL17))))","v":{"$error":"#DIV/0!"}},null,2,{"$f":"(IF(IK16>IL16,1)+IF(IM16>IN16,1))/(IF(IK16<IL16,1)+IF(IM16<IN16,1))","v":{"$error":"#DIV/0!"}},{"$f":"SUM(IM16+IK16)/SUM(IN16+IL16)","v":{"$error":"#VALUE!"}},{"$f":"SUM(HL16+ID17)/SUM(HM16+IE17)","v":{"$error":"#DIV/0!"}},{"$f":"IF(AND(JP15<>JP16,JP15<>JP17,JP16<>JP17),RANK(JP15,JP14:JP17),IF(AND(JQ15<>JQ16,JQ15<>JQ17,JQ16<>JQ17),RANK(JQ15,JQ14:JQ17),IF(AND(JR15<>JR16,JR15<>JR17,JR16<>JR17),RANK(JR15,JR14:JR17))))","v":{"$error":"#DIV/0!"}},null,null,"1-3",{"$f":"IF(AND(IP14=0,IV14=0,JB14=0,JH14=0,JN14=0,GN15=GN17),1,0)","v":1},{"$f":"IF(JW15=1,IF(IK15>IL15,0.2,0),0)","v":0},{"$f":"IF(JW15=1,IF(IL15>IK15,0.2,0),0)","v":0},"2-4",{"$f":"IF(AND(IP14=0,IV14=0,JB14=0,JH14=0,JN14=0,GN16=GN18),1,0)","v":1},{"$f":"IF(KA15=1,IF(IM16>IN16,0.2,0),0)","v":0},{"$f":"IF(KA15=1,IF(IN16>IM16,0.2,0),0)","v":0},{"$f":"GN16+JY14+KB14+KB15","v":{"$error":"#VALUE!"}},{"$f":"RANK(KD15,KD14:KD17)","v":{"$error":"#VALUE!"}},null,{"$f":"IF(AND(JU14=0,IP14=0,IV14=0,JB14=0,JH14=0,JN14=0),RANK(GN16,GN15:GO18))","v":false},null,null,null,null,null,null,null,null,null,null,{"$f":"KR14","v":"G3"},"2-4",{"$f":"+FY16","v":{"$error":"#N/A"}},{"$f":"+FY18","v":{"$error":"#N/A"}},{"$f":"+KV14","v":"2025-03-16"},{"$f":"+KW14","v":"09:30:00"},{"$f":"+FU15","v":0}]
[null,{"$f":"TODAY()","v":"2025-03-16"},null,null,"13.30",null,3,null,"2 - 3",null,null,null,9,{"$f":"\"G\"&Q13&\".\"&AE16","v":"G3.2"},3,{"$f":"VLOOKUP(M16,Kura!$A$4:$AN$300,26,0)","v":"FINDIKLI 1974 SPOR (A) (RİZ)"},null,null,null,null,null,null,{"$f":"+AB14","v":0},{"$f":"+AA14","v":3},{"$f":"+AB15","v":3},{"$f":"+AA15","v":0},null,null,{"$f":"IF(AG16>0,IF(OR(W16=\"H\",W16=\"W\"),0,IF(W16=Main!$W$2,2,1))+IF(OR(Y16=\"H\",Y16=\"W\"),0,IF(Y16=Main!$W$2,2,1)),\"\")","v":3},null,{"$f":"IF(AND(AG14=0,AG15=0,AG16=0),\"\",IF(CG13=1,CL15,IF(DL13>0,DV15,IF(SUM(CG13+DL13)=0,DX15))))","v":2},null,{"$f":"SUM(W16:AB16)","v":6},null,null,null,null,null,2,3,null,null,null,null,null,null,null,null,null,null,{"$f":"IF(AO16>AP16,1)+IF(AQ16>AR16,1)+IF(AS16>AT16,1)+IF(AU16>AV16,1)+IF(AW16>AX16,1)","v":0},{"$f":"IF(AO16<AP16,1)+IF(AQ16<AR16,1)+IF(AS16<AT16,1)+IF(AU16<AV16,1)+IF(AW16<AX16,1)","v":0},0,3,0,0,null,null,null,null,null,null,null,null,null,null,null,null,null,null,null,null,null,null,null,{"$f":"+CC14","v":0},{"$f":"+CB14","v":3},{"$f":"+CC15","v":3},{"$f":"+CB15","v":0},null,null,null,null,null,null,null,null,null,null,null,null,null,null,null,null,null,null,null,null,null,null,null,null,null,null,null,null,null,null,null,null,null,null,null,null,null,null,null,null,null,null,null,null,null,null,null,null,null,null,null,null,null,null,null,null,null,null,null,null,null,null,null,null,null,null,null,null,null,null,null,null,null,null,null,null,null,null,null,null,null,null,null,null,null,null,null,{"$f":"TODAY()","v":"2025-03-16"},null,null,"10:30:00",null,2,null,"1-2","3-4",null,null,null,{"$f":"\"G\"&FZ14&\".\"&GP16","v":"G3."},2,{"$f":"VLOOKUP(FV16,Kura!$A$4:$AN$300,26,0)","v":{"$error":"#N/A"}},null,null,null,null,null,null,{"$f":"+GI15","v":""},{"$f":"+GH15","v":""},null,null,{"$f":"IF(AND(SUM(HZ17:IA17)=0,IB17=\"\",IC17=\"\"),\"\",IF(SUM(HZ17:IA17)=0,IB17,HZ17))","v":""},{"$f":"IF(AND(SUM(HZ17:IA17)=0,IB17=\"\",IC17=\"\"),\"\",IF(SUM(HZ17:IA17)=0,IC17,IA17))","v":""},{"$f":"IF(AND(SUM(HH16:HI16)=0,HJ16=\"\",HK16=\"\"),\"\",IF(SUM(HH16:HI16)=0,HJ16,HH16))","v":""},{"$f":"IF(AND(SUM(HH16:HI16)=0,HJ16=\"\",HK16=\"\"),\"\",IF(SUM(HH16:HI16)=0,HK16,HI16))","v":""},{"$f":"IF(GR16>0,IF(OR(GF16=\"H\",GF16=\"W\"),0,IF(GF16=Main!$W$2,2,1))+IF(OR(GJ16=\"H\",GJ16=\"W\"),0,IF(GJ16=Main!$W$2,2,1))+IF(OR(GL16=\"H\",GL16=\"W\"),0,IF(GL16=Main!$W$2,2,1)),\"\")","v":""},null,{"$f":"IF(AND(GR15=0,GR16=0,GR17=0,GR18=0),\"\",IF(IP14=1,IU15,IF(IV14=1,JA15,IF(JB14=1,JG15,IF(JH14=1,JM15,IF(JN14=1,JS15,IF(JU14>0,KE15,IF(SUM(IP14+IV14+JB14+JH14+JN14+JU14)=0,KG15))))))))","v":""},null,{"$f":"SUM(GF16:GM16)","v":0},null,null,null,2,4,null,null,null,null,null,null,null,null,null,null,{"$f":"IF(GX16>GY16,1)+IF(GZ16>HA16,1)+IF(HB16>HC16,1)+IF(HD16>HE16,1)+IF(HF16>HG16,1)","v":0},{"$f":"IF(GX16<GY16,1)+IF(GZ16<HA16,1)+IF(HB16<HC16,1)+IF(HD16<HE16,1)+IF(HF16<HG16,1)","v":0},null,null,0,0,1,4,null,null,null,null,null,null,null,null,null,null,{"$f":"IF(HP16>HQ16,1)+IF(HR16>HS16,1)+IF(HT16>HU16,1)+IF(HV16>HW16,1)+IF(HX16>HY16,1)","v":0},{"$f":"IF(HP16<HQ16,1)+IF(HR16<HS16,1)+IF(HT16<HU16,1)+IF(HV16<HW16,1)+IF(HX16<HY16,1)","v":0},null,null,0,0,null,{"$f":"+IJ15","v":""},{"$f":"+II15","v":""},null,null,{"$f":"IF(OR(GJ16=\"H\",GJ16=\"W\"),0,GJ16)","v":""},{"$f":"IF(OR(GK16=\"H\",GK16=\"W\"),0,GK16)","v":""},{"$f":"IF(OR(GL16=\"H\",GL16=\"W\"),0,GL16)","v":""},{"$f":"IF(OR(GM16=\"H\",GM16=\"W\"),0,GM16)","v":""},null,null,3,{"$f":"(IF(IG17>IH17,1)+IF(II17>IJ17,1)+IF(IM17>IN17,1))/(IF(IG17<IH17,1)+IF(II17<IJ17,1)+IF(IM17<IN17,1))","v":{"$error":"#DIV/0!"}},{"$f":"SUM(IG17+II17+IM17)/SUM(IH17+IJ17+IN17)","v":{"$error":"#VALUE!"}},{"$f":"SUM(HM15+ID15+ID16)/SUM(HL15+IE15+IE16)","v":{"$error":"#DIV/0!"}},{"$f":"IF(AND(IR14<>IR15,IR14<>IR16,IR14<>IR17,IR15<>IR16,IR15<>IR17,IR16<>IR17),RANK(IR16,IR14:IR17),IF(AND(IS14<>IS15,IS14<>IS16,IS14<>IS17,IS15<>IS16,IS15<>IS17,IS16<>IS17),RANK(IS16,IS14:IS17),IF(AND(IT14<>IT15,IT14<>IT16,IT14<>IT17,IT15<>IT16,IT15<>IT17,IT16<>IT17),RANK(IT16,IT14:IT17))))","v":{"$error":"#DIV/0!"}},null,3,{"$f":"(IF(IG17>IH17,1)+IF(II17>IJ17,1))/(IF(IG17<IH17,1)+IF(II17<IJ17,1))","v":{"$error":"#DIV/0!"}},{"$f":"SUM(IG17+II17)/SUM(IH17+IJ17)","v":{"$error":"#VALUE!"}},{"$f":"SUM(IE17+HM15)/SUM(ID17+HL15)","v":{"$error":"#DIV/0!"}},{"$f":"IF(AND(IX14<>IX15,IX14<>IX16,IX15<>IX16),RANK(IX16,IX14:IX17),IF(AND(IY14<>IY15,IY14<>IY16,IY15<>IY16),RANK(IY16,IY14:IY17),IF(AND(IZ14<>IZ15,IZ14<>IZ16,IZ15<>IZ16,),RANK(IZ16,IZ14:IZ17))))","v":{"$error":"#DIV/0!"}},null,3,{"$f":"IF(AND(GN17>GN15,GN17>GN16,GN17>GN18),100,0)","v":0},{"$f":"+JD16","v":0},{"$f":"+JD16","v":0},{"$f":"IF(AND(JD14<>JD15,JD14<>JD17,JD15<>JD17),RANK(JD16,JD14:JD17),IF(AND(JE14<>JE15,JE14<>JE17,JE15<>JE17),RANK(JE16,JE14:JE17),IF(AND(JF14<>JF15,JF14<>JF17,JF15<>JF17),RANK(JF16,JF14:JF17))))","v":{"$error":"#DIV/0!"}},null,3,{"$f":"(IF(IG17>IH17,1)+IF(IM17>IN17,1))/(IF(IG17<IH17,1)+IF(IM17<IN17,1))","v":{"$error":"#DIV/0!"}},{"$f":"SUM(IG17+IM17)/SUM(IH17+IN17)","v":{"$error":"#VALUE!"}},{"$f":"SUM(HM15+ID15)/SUM(HL15+IE15)","v":{"$error":"#DIV/0!"}},{"$f":"IF(AND(JJ14<>JJ16,JJ14<>JJ17,JJ16<>JJ17),RANK(JJ16,JJ14:JJ17),IF(AND(JK14<>JK16,JK14<>JK17,JK16<>JK17),RANK(JK16,JK14:JK17),IF(AND(JL14<>JL16,JL14<>JL17,JL16<>JL17),RANK(JL16,JL14:JL17))))","v":{"$error":"#DIV/0!"}},null,3,{"$f":"(IF(II17>IJ17,1)+IF(IM17>IN17,1))/(IF(II17<IJ17,1)+IF(IM17<IN17,1))","v":{"$error":"#DIV/0!"}},{"$f":"SUM(IM17+II17)/SUM(IN17+IJ17)","v":{"$error":"#VALUE!"}},{"$f":"SUM(IE17+ID15)/SUM(ID17+IE15)","v":{"$error":"#DIV/0!"}},{"$f":"IF(AND(JP15<>JP16,JP15<>JP17,JP16<>JP17),RANK(JP16,JP14:JP17),IF(AND(JQ15<>JQ16,JQ15<>JQ17,JQ16<>JQ17),RANK(JQ16,JQ14:JQ17),IF(AND(JR15<>JR16,JR15<>JR17,JR16<>JR17),RANK(JR16,JR14:JR17))))","v":{"$error":"#DIV/0!"}},null,null,"1-4",{"$f":"IF(AND(IP14=0,IV14=0,JB14=0,JH14=0,JN14=0,GN15=GN18),1,0)","v":1},{"$f":"IF(JW16=1,IF(IM15>IN15,0.2,0),0)","v":0},{"$f":"IF(JW16=1,IF(IN15>IM15,0.2,0),0)","v":0},"3-4",{"$f":"IF(AND(IP14=0,IV14=0,JB14=0,JH14=0,JN14=0,GN17=GN18),1,0)","v":1},{"$f":"IF(KA16=1,IF(IM17>IN17,0.2,0),0)","v":0},{"$f":"IF(KA16=1,IF(IN17>IM17,0.2,0),0)","v":0},{"$f":"GN17+JY15+KC14+KB16","v":{"$error":"#VALUE!"}},{"$f":"RANK(KD16,KD14:KD17)","v":{"$error":"#VALUE!"}},null,{"$f":"IF(AND(JU14=0,IP14=0,IV14=0,JB14=0,JH14=0,JN14=0),RANK(GN17,GN15:GO18))","v":false},null,null,null,null,null,null,null,null,null,null,{"$f":"KR15","v":"G3"},"1-2",{"$f":"+FY15","v":"ŞAFAKTEPE SK (A) (ANK)"},{"$f":"+FY16","v":{"$error":"#N/A"}},{"$f":"+FK16","v":"2025-03-16"},{"$f":"+FN16","v":"10:30:00"},{"$f":"FT16","v":0}]
[null,null,null,null,null,null,null,null,null,null,null,null,null,null,null,null,null,null,null,null,null,null,null,null,null,null,null,null,null,null,null,null,null,null,null,null,null,null,null,null,null,null,null,null,null,null,null,null,null,null,null,null,null,null,null,null,null,null,null,null,null,null,null,null,null,null,null,null,null,null,null,null,null,null,null,null,null,null,null,null,null,null,null,null,null,null,null,null,null,null,null,null,null,null,null,null,null,null,null,null,null,null,null,null,null,null,null,null,null,null,null,null,null,null,null,null,null,null,null,null,null,null,null,null,null,null,null,null,null,null,null,null,null,null,null,null,null,null,null,null,null,null,null,null,null,null,null,null,null,null,null,null,null,null,null,null,null,null,null,null,null,null,null,null,null,null,{"$f":"TODAY()","v":"2025-03-16"},null,null,"11:30:00",null,3,null,"1-4","2-3",null,null,null,{"$f":"\"G\"&FZ14&\".\"&GP17","v":"G3."},3,{"$f":"VLOOKUP(FV17,Kura!$A$4:$AN$300,26,0)","v":{"$error":"#N/A"}},null,null,null,null,null,null,{"$f":"+GK15","v":""},{"$f":"+GJ15","v":""},{"$f":"+GK16","v":""},{"$f":"+GJ16","v":""},null,null,{"$f":"IF(AND(SUM(HZ15:IA15)=0,IB15=\"\",IC15=\"\"),\"\",IF(SUM(HZ15:IA15)=0,IB15,HZ15))","v":""},{"$f":"IF(AND(SUM(HZ15:IA15)=0,IB15=\"\",IC15=\"\"),\"\",IF(SUM(HZ15:IA15)=0,IC15,IA15))","v":""},{"$f":"IF(GR17>0,IF(OR(GF17=\"H\",GF17=\"W\"),0,IF(GF17=Main!$W$2,2,1))+IF(OR(GH17=\"H\",GH17=\"W\"),0,IF(GH17=Main!$W$2,2,1))+IF(OR(GL17=\"H\",GL17=\"W\"),0,IF(GL17=Main!$W$2,2,1)),\"\")","v":""},null,{"$f":"IF(AND(GR15=0,GR16=0,GR17=0,GR18=0),\"\",IF(IP14=1,IU16,IF(IV14=1,JA16,IF(JB14=1,JG16,IF(JH14=1,JM16,IF(JN14=1,JS16,IF(JU14>0,KE16,IF(SUM(IP14+IV14+JB14+JH14+JN14+JU14)=0,KG16))))))))","v":""},null,0,null,null,null,1,2,null,null,null,null,null,null,null,null,null,null,{"$f":"IF(GX17>GY17,1)+IF(GZ17>HA17,1)+IF(HB17>HC17,1)+IF(HD17>HE17,1)+IF(HF17>HG17,1)","v":0},{"$f":"IF(GX17<GY17,1)+IF(GZ17<HA17,1)+IF(HB17<HC17,1)+IF(HD17<HE17,1)+IF(HF17<HG17,1)","v":0},null,null,0,0,2,3,null,null,null,null,null,null,null,null,null,null,{"$f":"IF(HP17>HQ17,1)+IF(HR17>HS17,1)+IF(HT17>HU17,1)+IF(HV17>HW17,1)+IF(HX17>HY17,1)","v":0},{"$f":"IF(HP17<HQ17,1)+IF(HR17<HS17,1)+IF(HT17<HU17,1)+IF(HV17<HW17,1)+IF(HX17<HY17,1)","v":0},null,null,0,0,null,{"$f":"+IL15","v":""},{"$f":"+IK15","v":""},{"$f":"+IL16","v":""},{"$f":"+IK16","v":""},null,null,{"$f":"IF(OR(GL17=\"H\",GL17=\"W\"),0,GL17)","v":""},{"$f":"IF(OR(GM17=\"H\",GM17=\"W\"),0,GM17)","v":""},null,null,4,{"$f":"(IF(IG18>IH18,1)+IF(II18>IJ18,1)+IF(IK18>IL18,1))/(IF(IG18<IH18,1)+IF(II18<IJ18,1)+IF(IK18<IL18,1))","v":{"$error":"#DIV/0!"}},{"$f":"SUM(IG18+II18+IK18)/SUM(IH18+IJ18+IL18)","v":{"$error":"#VALUE!"}},{"$f":"SUM(HM16+IE15+IE16)/SUM(HL16+ID15+ID16)","v":{"$error":"#DIV/0!"}},{"$f":"IF(AND(IR14<>IR15,IR14<>IR16,IR14<>IR17,IR15<>IR16,IR15<>IR17,IR16<>IR17),RANK(IR17,IR14:IR17),IF(AND(IS14<>IS15,IS14<>IS16,IS14<>IS17,IS15<>IS16,IS15<>IS17,IS16<>IS17),RANK(IS17,IS14:IS17),IF(AND(IT14<>IT15,IT14<>IT16,IT14<>IT17,IT15<>IT16,IT15<>IT17,IT16<>IT17),RANK(IT17,IT14:IT17))))","v":{"$error":"#DIV/0!"}},null,4,{"$f":"IF(AND(GN18>GN17,GN18>GN16,GN18>GN15),100,0)","v":0},{"$f":"IX17","v":0},{"$f":"IX17","v":0},{"$f":"IF(AND(IX14<>IX15,IX14<>IX16,IX15<>IX16),RANK(IX17,IX14:IX17),IF(AND(IY14<>IY15,IY14<>IY16,IY15<>IY16),RANK(IY17,IY14:IY17),IF(AND(IZ14<>IZ15,IZ14<>IZ16,IZ15<>IZ16,),RANK(IZ17,IZ14:IZ17))))","v":{"$error":"#DIV/0!"}},null,4,{"$f":"(IF(IG18>IH18,1)+IF(II18>IJ18,1))/(IF(IG18<IH18,1)+IF(II18<IJ18,1))","v":{"$error":"#DIV/0!"}},{"$f":"SUM(IG18+II18)/SUM(IH18+IJ18)","v":{"$error":"#VALUE!"}},{"$f":"SUM(IE16+HM16)/SUM(ID16+HL16)","v":{"$error":"#DIV/0!"}},{"$f":"IF(AND(JD14<>JD15,JD14<>JD17,JD15<>JD17),RANK(JD17,JD14:JD17),IF(AND(JE14<>JE15,JE14<>JE17,JE15<>JE17),RANK(JE17,JE14:JE17),IF(AND(JF14<>JF15,JF14<>JF17,JF15<>JF17),RANK(JF17,JF14:JF17))))","v":{"$error":"#DIV/0!"}},null,4,{"$f":"(IF(IG18>IH18,1)+IF(IK18>IL18,1))/(IF(IG18<IH18,1)+IF(IK18<IL18,1))","v":{"$error":"#DIV/0!"}},{"$f":"SUM(IG18+IK18)/SUM(IH18+IL18)","v":{"$error":"#VALUE!"}},{"$f":"SUM(IE16+IE15)/SUM(ID16+ID15)","v":{"$error":"#DIV/0!"}},{"$f":"IF(AND(JJ14<>JJ16,JJ14<>JJ17,JJ16<>JJ17),RANK(JJ17,JJ14:JJ17),IF(AND(JK14<>JK16,JK14<>JK17,JK16<>JK17),RANK(JK17,JK14:JK17),IF(AND(JL14<>JL16,JL14<>JL17,JL16<>JL17),RANK(JL17,JL14:JL17))))","v":{"$error":"#DIV/0!"}},null,4,{"$f":"(IF(II18>IJ18,1)+IF(IK18>IL18,1))/(IF(II18<IJ18,1)+IF(IK18<IL18,1))","v":{"$error":"#DIV/0!"}},{"$f":"SUM(IK18+II18)/SUM(IL18+IJ18)","v":{"$error":"#VALUE!"}},{"$f":"SUM(HM16+IE15)/SUM(HL16+ID15)","v":{"$error":"#DIV/0!"}},{"$f":"IF(AND(JP15<>JP16,JP15<>JP17,JP16<>JP17),RANK(JP17,JP14:JP17),IF(AND(JQ15<>JQ16,JQ15<>JQ17,JQ16<>JQ17),RANK(JQ17,JQ14:JQ17),IF(AND(JR15<>JR16,JR15<>JR17,JR16<>JR17),RANK(JR17,JR14:JR17))))","v":{"$error":"#DIV/0!"}},null,null,null,null,null,null,null,null,null,null,{"$f":"GN18+JY16+KC15+KC16","v":{"$error":"#VALUE!"}},{"$f":"RANK(KD17,KD14:KD17)","v":{"$error":"#VALUE!"}},null,{"$f":"IF(AND(JU14=0,IP14=0,IV14=0,JB14=0,JH14=0,JN14=0),RANK(GN18,GN15:GO18))","v":false},null,null,null,null,null,null,null,null,null,null,{"$f":"KR16","v":"G3"},"3-4",{"$f":"+FY17","v":{"$error":"#N/A"}},{"$f":"+FY18","v":{"$error":"#N/A"}},{"$f":"+KV16","v":"2025-03-16"},{"$f":"+KW16","v":"10:30:00"},{"$f":"FU16","v":0},null,null,null,null,null,null,null,null,null,null,null,null,null,null,null,null,null,null,null,null,null,null,null,null,null,null,null,null,null,null,null,null,null,null,null,null,null,null,null,null,null,null,null,4]
[3,"Tarih",null,null,"Saat",null,"Tur",null,"Maç",null,"Masa",null,null,3,"Grup",null,4,null,null,null,null,null,1,null,2,null,3,null,"Puan",null,"Sıralama",null,null,null,null,null,null,null,"Maç",null,"1.Set",null,"2.Set",null,"3.Set",null,"4.Set",null,"5.Set",null,"Sonuç",null,"Sonuç",null,null,null,null,null,null,null,null,null,null,null,null,null,null,null,null,null,null,null,null,null,null,1,null,2,null,3,null,null,null,null,{"$f":"IF(SUM(AG19:AG21)=0,0,IF(AND(AC19=AC20,AC19=AC21,AC20=AC21),1,0))","v":0},1,{"$f":"(IF(BZ19>CA19,1)+IF(CB19>CC19,1))/(IF(BZ19<CA19,1)+IF(CB19<CC19,1))","v":1},{"$f":"SUM(BZ19+CB19)/SUM(CA19+CC19)","v":0.75},{"$f":"SUM(BC19+BC20)/SUM(BD19+BD20)","v":{"$error":"#DIV/0!"}},{"$f":"IF(AND(CI18<>CI19,CI18<>CI20,CI18<>CI21,CI19<>CI20,CI19<>CI21,CI20<>CI21),RANK(CI18,CI18:CI21),IF(AND(CJ18<>CJ19,CJ18<>CJ20,CJ18<>CJ21,CJ19<>CJ20,CJ19<>CJ21,CJ20<>CJ21),RANK(CJ18,CJ18:CJ21),IF(AND(CK18<>CK19,CK18<>CK20,CK18<>CK21,CK19<>CK20,CK19<>CK21,CK20<>CK21),RANK(CK18,CK18:CK21))))","v":{"$error":"#DIV/0!"}},null,null,null,null,null,null,null,null,null,null,null,null,null,null,null,null,null,null,null,null,null,null,null,null,null,{"$f":"SUM(DN18:DN20,DR18:DR20)","v":0},"1-3",{"$f":"IF(AND(CG18=0,AC19=AC21),1,0)","v":0},{"$f":"IF(DN18=1,IF(CB19>CC19,0.2,0),0)","v":0},{"$f":"IF(DN18=1,IF(CC19>CB19,0.2,0),0)","v":0},null,null,null,null,{"$f":"AC19+DO18+DO19","v":3},{"$f":"RANK(DU18,DU18:DU20)","v":2},null,{"$f":"IF(AND(DL18=0,CG18=0,CM18=0,CS18=0,CY18=0,DE18=0),RANK(AC19,AC19:AD21))","v":2},null,null,null,null,null,null,null,null,null,null,null,null,null,null,null,null,null,null,null,null,null,null,null,null,null,null,null,null,null,null,null,null,null,null,null,null,null,null,".",".",".",null,null,null,null,null,null,null,null,null,{"$f":"\"G\"&FZ14&\".\"&GP18","v":"G3."},4,{"$f":"VLOOKUP(FV18,Kura!$A$4:$AN$300,26,0)","v":{"$error":"#N/A"}},null,null,null,null,null,null,{"$f":"+GM15","v":""},{"$f":"+GL15","v":""},{"$f":"+GM16","v":""},{"$f":"+GL16","v":""},{"$f":"+GM17","v":""},{"$f":"+GL17","v":""},null,null,{"$f":"IF(GR18>0,IF(OR(GF18=\"H\",GF18=\"W\"),0,IF(GF18=Main!$W$2,2,1))+IF(OR(GH18=\"H\",GH18=\"W\"),0,IF(GH18=Main!$W$2,2,1))+IF(OR(GJ18=\"H\",GJ18=\"W\"),0,IF(GJ18=Main!$W$2,2,1)),\"\")","v":""},null,{"$f":"IF(AND(GR15=0,GR16=0,GR17=0,GR18=0),\"\",IF(IP14=1,IU17,IF(IV14=1,JA17,IF(JB14=1,JG17,IF(JH14=1,JM17,IF(JN14=1,JS17,IF(JU14>0,KE17,IF(SUM(IP14+IV14+JB14+JH14+JN14+JU14)=0,KG17))))))))","v":""},null,0,null,null,null,null,null,null,null,null,null,null,null,null,null,null,null,null,null,null,null,null,null,null,null,null,null,null,null,null,null,null,null,null,null,null,null,null,null,null,null,null,{"$f":"+IN15","v":""},{"$f":"+IM15","v":""},{"$f":"+IN16","v":""},{"$f":"+IM16","v":""},{"$f":"+IN17","v":""},{"$f":"+IM17","v":""},null,null,null,null,null,null,null,null,null,null,null,null,null,null,null,null,null,null,null,null,null,null,null,null,null,null,null,null,null,null,null,null,null,null,null,null,null,null,null,null,null,null,null,null,null,null,null,null,null,null,null,null,null,null,null,null,null,{"$f":"KR17","v":"G3"},"1-4",{"$f":"+FY15","v":"ŞAFAKTEPE SK (A) (ANK)"},{"$f":"+FY18","v":{"$error":"#N/A"}},{"$f":"+FK17","v":"2025-03-16"},{"$f":"+FN17","v":"11:30:00"},{"$f":"FT17","v":0},null,null,null,null,null,null,null,null,null,null,null,null,null,null,null,null,null,null,null,null,null,null,null,null,null,null,null,null,null,null,null,null,null,null,null,null,null,null,null,null,null,null,null,5]
[null,{"$f":"TODAY()","v":"2025-03-16"},null,null,"10.00",null,1,null,"1 - 3",null,null,null,4,{"$f":"\"G\"&Q18&\".\"&AE19","v":"G4.2"},1,{"$f":"VLOOKUP(M19,Kura!$A$4:$AN$300,26,0)","v":"YALIKÖY ŞBÇ OO (A) (GRS)"},null,null,null,null,null,null,null,null,{"$f":"IF(AND(SUM(AY20:AZ20)=0,BA20=\"\",BB20=\"\"),\"\",IF(SUM(AY20:AZ20)=0,BA20,AY20))","v":0},{"$f":"IF(AND(SUM(AY20:AZ20)=0,BA20=\"\",BB20=\"\"),\"\",IF(SUM(AY20:AZ20)=0,BB20,AZ20))","v":3},{"$f":"IF(AND(SUM(AY19:AZ19)=0,BA19=\"\",BB19=\"\"),\"\",IF(SUM(AY19:AZ19)=0,BA19,AY19))","v":3},{"$f":"IF(AND(SUM(AY19:AZ19)=0,BA19=\"\",BB19=\"\"),\"\",IF(SUM(AY19:AZ19)=0,BB19,AZ19))","v":1},{"$f":"IF(AG19>0,IF(OR(Y19=\"H\",Y19=\"W\"),0,IF(Y19=Main!$W$2,2,1))+IF(OR(AA19=\"H\",AA19=\"W\"),0,IF(AA19=Main!$W$2,2,1)),\"\")","v":3},null,{"$f":"IF(AND(AG19=0,AG20=0,AG21=0),\"\",IF(CG18=1,CL18,IF(DL18>0,DV18,IF(SUM(CG18+DL18)=0,DX18))))","v":2},null,{"$f":"SUM(W19:AB19)","v":7},null,null,null,null,null,1,3,null,null,null,null,null,null,null,null,null,null,{"$f":"IF(AO19>AP19,1)+IF(AQ19>AR19,1)+IF(AS19>AT19,1)+IF(AU19>AV19,1)+IF(AW19>AX19,1)","v":0},{"$f":"IF(AO19<AP19,1)+IF(AQ19<AR19,1)+IF(AS19<AT19,1)+IF(AU19<AV19,1)+IF(AW19<AX19,1)","v":0},3,1,{"$f":"+AW19+AU19+AS19+AQ19+AO19","v":0},{"$f":"+AX19+AV19+AT19+AR19+AP19","v":0},null,null,null,null,null,null,null,null,null,null,null,null,null,null,null,null,null,null,null,null,null,{"$f":"IF(OR(Y19=\"H\",Y19=\"W\"),0,Y19)","v":0},{"$f":"IF(OR(Z19=\"H\",Z19=\"W\"),0,Z19)","v":3},{"$f":"IF(OR(AA19=\"H\",AA19=\"W\"),0,AA19)","v":3},{"$f":"IF(OR(AB19=\"H\",AB19=\"W\"),0,AB19)","v":1},null,null,null,null,2,{"$f":"(IF(BX20>BY20,1)+IF(CB20>CC20,1))/(IF(BX20<BY20,1)+IF(CB20<CC20,1))","v":{"$error":"#DIV/0!"}},{"$f":"SUM(BX20+CB20)/SUM(BY20+CC20)","v":{"$error":"#DIV/0!"}},{"$f":"SUM(BD20+BC21)/SUM(BC20+BD21)","v":{"$error":"#DIV/0!"}},{"$f":"IF(AND(CI18<>CI19,CI18<>CI20,CI18<>CI21,CI19<>CI20,CI19<>CI21,CI20<>CI21),RANK(CI19,CI18:CI21),IF(AND(CJ18<>CJ19,CJ18<>CJ20,CJ18<>CJ21,CJ19<>CJ20,CJ19<>CJ21,CJ20<>CJ21),RANK(CJ19,CJ18:CJ21),IF(AND(CK18<>CK19,CK18<>CK20,CK18<>CK21,CK19<>CK20,CK19<>CK21,CK20<>CK21),RANK(CK19,CK18:CK21))))","v":{"$error":"#DIV/0!"}},null,null,null,null,null,null,null,null,null,null,null,null,null,null,null,null,null,null,null,null,null,null,null,null,null,null,"1-2",{"$f":"IF(AND(CG18=0,AC19=AC20),1,0)","v":0},{"$f":"IF(DN19=1,IF(BZ19>CA19,0.2,0),0)","v":0},{"$f":"IF(DN19=1,IF(CA19>BZ19,0.2,0),0)","v":0},null,null,null,null,{"$f":"AC20+DP19+DO20","v":4},{"$f":"RANK(DU19,DU18:DU20)","v":1},null,{"$f":"IF(AND(DL18=0,CG18=0,CM18=0,CS18=0,CY18=0,DE18=0),RANK(AC20,AC19:AD21))","v":1},null,null,null,null,null,null,null,null,null,null,null,null,null,null,null,null,null,null,null,null,null,null,null,null,null,null,null,null,null,null,null,null,null,null,null,null,null,null,null,null,null,null,null,null,null,null,null,null,null,null,null,null,null,null,null,null,null,null,null,null,null,null,null,null,null,null,null,null,null,null,null,null,null,null,null,null,null,null,null,null,null,null,null,null,null,null,null,null,null,null,null,null,null,null,null,null,null,null,null,null,null,null,null,null,null,null,null,null,null,null,null,null,null,null,null,null,null,null,null,null,null,null,null,null,null,null,null,null,null,null,null,null,null,null,null,null,null,null,null,null,null,null,null,null,null,null,null,null,null,null,null,null,null,null,null,null,null,null,null,null,null,null,null,null,null,null,null,null,null,null,null,null,null,null,null,{"$f":"KR18","v":"G3"},"2-3",{"$f":"+FY16","v":{"$error":"#N/A"}},{"$f":"+FY17","v":{"$error":"#N/A"}},{"$f":"+KV18","v":"2025-03-16"},{"$f":"+KW18","v":"11:30:00"},{"$f":"FU17","v":0},null,null,null,null,null,null,null,null,null,null,null,null,null,null,null,null,null,null,null,null,null,null,null,null,null,null,null,null,null,null,null,null,null,null,null,null,null,null,null,null,null,null,null,10]
[null,{"$f":"TODAY()","v":"2025-03-16"},null,null,"11:30:00",null,2,null,"1 - 2",null,null,null,5,{"$f":"\"G\"&Q18&\".\"&AE20","v":"G4.1"},2,{"$f":"VLOOKUP(M20,Kura!$A$4:$AN$300,26,0)","v":"KUTLUBEY OKULLARI (A) (AMS)"},null,null,null,null,null,null,{"$f":"+Z19","v":3},{"$f":"+Y19","v":0},null,null,{"$f":"IF(AND(SUM(AY21:AZ21)=0,BA21=\"\",BB21=\"\"),\"\",IF(SUM(AY21:AZ21)=0,BA21,AY21))","v":3},{"$f":"IF(AND(SUM(AY21:AZ21)=0,BA21=\"\",BB21=\"\"),\"\",IF(SUM(AY21:AZ21)=0,BB21,AZ21))","v":0},{"$f":"IF(AG20>0,IF(OR(W20=\"H\",W20=\"W\"),0,IF(W20=Main!$W$2,2,1))+IF(OR(AA20=\"H\",AA20=\"W\"),0,IF(AA20=Main!$W$2,2,1)),\"\")","v":4},null,{"$f":"IF(AND(AG19=0,AG20=0,AG21=0),\"\",IF(CG18=1,CL19,IF(DL18>0,DV19,IF(SUM(CG18+DL18)=0,DX19))))","v":1},null,{"$f":"SUM(W20:AB20)","v":6},null,null,null,null,null,1,2,null,null,null,null,null,null,null,null,null,null,{"$f":"IF(AO20>AP20,1)+IF(AQ20>AR20,1)+IF(AS20>AT20,1)+IF(AU20>AV20,1)+IF(AW20>AX20,1)","v":0},{"$f":"IF(AO20<AP20,1)+IF(AQ20<AR20,1)+IF(AS20<AT20,1)+IF(AU20<AV20,1)+IF(AW20<AX20,1)","v":0},0,3,0,0,null,null,null,null,null,null,null,null,null,null,null,null,null,null,null,null,null,null,null,{"$f":"+CA19","v":3},{"$f":"+BZ19","v":0},null,null,{"$f":"IF(OR(AA20=\"H\",AA20=\"W\"),0,AA20)","v":3},{"$f":"IF(OR(AB20=\"H\",AB20=\"W\"),0,AB20)","v":0},null,null,null,null,3,{"$f":"(IF(BX21>BY21,1)+IF(BZ21>CA21,1))/(IF(BX21<BY21,1)+IF(BZ21<CA21,1))","v":0},{"$f":"SUM(BZ21+BX21)/SUM(CA21+BY21)","v":0.16666666666666666},{"$f":"SUM(BD19+BD21)/SUM(BC19+BC21)","v":{"$error":"#DIV/0!"}},{"$f":"IF(AND(CI18<>CI19,CI18<>CI20,CI18<>CI21,CI19<>CI20,CI19<>CI21,CI20<>CI21),RANK(CI20,CI18:CI21),IF(AND(CJ18<>CJ19,CJ18<>CJ20,CJ18<>CJ21,CJ19<>CJ20,CJ19<>CJ21,CJ20<>CJ21),RANK(CJ20,CJ18:CJ21),IF(AND(CK18<>CK19,CK18<>CK20,CK18<>CK21,CK19<>CK20,CK19<>CK21,CK20<>CK21),RANK(CK20,CK18:CK21))))","v":{"$error":"#DIV/0!"}},null,null,null,null,null,null,null,null,null,null,null,null,null,null,null,null,null,null,null,null,null,null,null,null,null,null,"2-3",{"$f":"IF(AND(CG18=0,AC20=AC21),1,0)","v":0},{"$f":"IF(DN20=1,IF(CB20>CC20,0.2,0),0)","v":0},{"$f":"IF(DN20=1,IF(CC20>CB20,0.2,0),0)","v":0},null,null,null,null,{"$f":"AC21+DP18+DP20","v":2},{"$f":"RANK(DU20,DU18:DU20)","v":3},null,{"$f":"IF(AND(DL18=0,CG18=0,CM18=0,CS18=0,CY18=0,DE18=0),RANK(AC21,AC19:AD21))","v":3},null,null,null,null,null,null,null,null,null,null,null,null,null,null,null,null,null,null,null,null,null,null,null,null,null,null,null,null,null,null,null,null,null,null,null,null,null,null,"Tarih",null,null,"Saat",null,"Tur",null,"Maç",null,"Masa",null,null,4,"Grup",null,4,null,null,null,null,null,1,null,2,null,3,null,4,null,5,null,"Puan",null,"Sıralama",null,null,null,"Maç",null,"1.Set",null,"2.Set",null,"3.Set",null,"4.Set",null,"5.Set",null,"Sonuç",null,"Sonuç",null,null,null,"Maç",null,"1.Set",null,"2.Set",null,"3.Set",null,"4.Set",null,"5.Set",null,"Sonuç",null,"Sonuç",null,null,null,null,null,null,null,null,null,null,null,null,null,null,null,null,null,null,null,null,null,null,null,null,null,null,null,null,null,null,null,null,null,null,null,null,null,null,null,null,null,null,null,null,null,null,null,null,null,null,null,null,null,null,null,null,null,null,null,null,null,null,null,null,null,null,null,{"$f":"\"G\"&FZ20","v":"G4"},"3-4",{"$f":"+FY23","v":{"$error":"#N/A"}},{"$f":"+FY24","v":{"$error":"#N/A"}},{"$f":"+FK21","v":"2025-03-16"},{"$f":"+FN21","v":"09:30:00"},{"$f":"+FT21","v":0},null,{"$f":"KR20","v":"G4"},"1-4",{"$f":"+FY21","v":"YALIKÖY ŞBÇ OO (A) (GRS)"},{"$f":"+FY24","v":{"$error":"#N/A"}},{"$f":"+FK23","v":"2025-03-16"},{"$f":"+FN23","v":"11:30:00"},{"$f":"+FU21","v":0}]
[null,{"$f":"TODAY()","v":"2025-03-16"},null,null,"13.30",null,3,null,"2 - 3",null,null,null,10,{"$f":"\"G\"&Q18&\".\"&AE21","v":"G4.3"},3,{"$f":"VLOOKUP(M21,Kura!$A$4:$AN$300,26,0)","v":"ORTAHİSAR BLD. SPOR (A) (TRB)"},null,null,null,null,null,null,{"$f":"+AB19","v":1},{"$f":"+AA19","v":3},{"$f":"+AB20","v":0},{"$f":"+AA20","v":3},null,null,{"$f":"IF(AG21>0,IF(OR(W21=\"H\",W21=\"W\"),0,IF(W21=Main!$W$2,2,1))+IF(OR(Y21=\"H\",Y21=\"W\"),0,IF(Y21=Main!$W$2,2,1)),\"\")","v":2},null,{"$f":"IF(AND(AG19=0,AG20=0,AG21=0),\"\",IF(CG18=1,CL20,IF(DL18>0,DV20,IF(SUM(CG18+DL18)=0,DX20))))","v":3},null,{"$f":"SUM(W21:AB21)","v":7},null,null,null,null,null,2,3,null,null,null,null,null,null,null,null,null,null,{"$f":"IF(AO21>AP21,1)+IF(AQ21>AR21,1)+IF(AS21>AT21,1)+IF(AU21>AV21,1)+IF(AW21>AX21,1)","v":0},{"$f":"IF(AO21<AP21,1)+IF(AQ21<AR21,1)+IF(AS21<AT21,1)+IF(AU21<AV21,1)+IF(AW21<AX21,1)","v":0},3,0,0,0,null,null,null,null,null,null,null,null,null,null,null,null,null,null,null,null,null,null,null,{"$f":"+CC19","v":1},{"$f":"+CB19","v":3},{"$f":"+CC20","v":0},{"$f":"+CB20","v":3},null,null,null,null,null,null,null,null,null,null,null,null,null,null,null,null,null,null,null,null,null,null,null,null,null,null,null,null,null,null,null,null,null,null,null,null,null,null,null,null,null,null,null,null,null,null,null,null,null,null,null,null,null,null,null,null,null,null,null,null,null,null,null,null,null,null,null,null,null,null,null,null,null,null,null,null,null,null,null,null,null,null,null,null,null,null,null,{"$f":"TODAY()","v":"2025-03-16"},null,null,"09:30:00",null,1,null,"3-4","2-5",null,null,{"$f":"+FZ20","v":4},{"$f":"\"G\"&FZ20&\".\"&GR21","v":"G4."},1,{"$f":"VLOOKUP(FV21,Kura!$A$4:$AN$300,26,0)","v":"YALIKÖY ŞBÇ OO (A) (GRS)"},null,null,null,null,null,null,null,null,{"$f":"IF(SUM(HJ24:HK24)=0,\"\",HJ24)","v":""},{"$f":"IF(SUM(HJ24:HK24)=0,\"\",HK24)","v":""},{"$f":"IF(SUM(IB23:IC23)=0,\"\",IB23)","v":""},{"$f":"IF(SUM(IB23:IC23)=0,\"\",IC23)","v":""},{"$f":"IF(SUM(IB21:IC21)=0,\"\",IB21)","v":""},{"$f":"IF(SUM(IB21:IC21)=0,\"\",IC21)","v":""},{"$f":"IF(SUM(IB25:IC25)=0,\"\",IB25)","v":""},{"$f":"IF(SUM(IB25:IC25)=0,\"\",IC25)","v":""},{"$f":"IF(GT21>0,IF(OR(GH21=\"H\",GH21=\"W\"),0,IF(GH21=Main!$W$2,2,1))+IF(OR(GJ21=\"H\",GJ21=\"W\"),0,IF(GJ21=Main!$W$2,2,1))+IF(OR(GN21=\"H\",GN21=\"W\"),0,IF(GN21=Main!$W$2,2,1))+IF(OR(GL21=\"H\",GL21=\"W\"),0,IF(GL21=Main!$W$2,2,1)),\"\")","v":""},null,{"$f":"IF(SUM(GT21:GT25)=0,\"\",RANK(GP21,GP21:GQ25))","v":""},null,{"$f":"SUM(GF21:GO21)","v":0},null,3,4,null,null,null,null,null,null,null,null,null,null,null,null,null,null,null,null,1,4,null,null,null,null,null,null,null,null,null,null,null,null,null,null,null,null,null,null,null,null,null,null,null,null,null,null,null,null,null,null,null,null,null,null,null,null,null,null,null,null,null,null,null,null,null,null,null,null,null,null,null,null,null,null,null,null,null,null,null,null,null,null,null,null,null,null,null,null,null,null,null,null,null,null,null,null,null,null,null,null,{"$f":"KR20","v":"G4"},"2-5",{"$f":"+FY22","v":{"$error":"#N/A"}},{"$f":"+FY25","v":{"$error":"#N/A"}},{"$f":"+FK21","v":"2025-03-16"},{"$f":"+FN21","v":"09:30:00"},{"$f":"+FT22","v":0},null,{"$f":"KR20","v":"G4"},"2-4",{"$f":"+FY22","v":{"$error":"#N/A"}},{"$f":"+FY24","v":{"$error":"#N/A"}},{"$f":"+FK24","v":"2025-03-16"},{"$f":"+FN24","v":"12:30:00"},{"$f":"+FU22","v":0}]
[null,null,null,null,null,null,null,null,null,null,null,null,null,null,null,null,null,null,null,null,null,null,null,null,null,null,null,null,null,null,null,null,null,null,null,null,null,null,null,null,null,null,null,null,null,null,null,null,null,null,null,null,null,null,null,null,null,null,null,null,null,null,null,null,null,null,null,null,null,null,null,null,null,null,null,null,null,null,null,null,null,null,null,null,null,null,null,null,null,null,null,null,null,null,null,null,null,null,null,null,null,null,null,null,null,null,null,null,null,null,null,null,null,null,null,null,null,null,null,null,null,null,null,null,null,null,null,null,null,null,null,null,null,null,null,null,null,null,null,null,null,null,null,null,null,null,null,null,null,null,null,null,null,null,null,null,null,null,null,null,null,null,null,null,null,null,{"$f":"TODAY()","v":"2025-03-16"},null,null,"10:30:00",null,2,null,"4-5","1-2",null,null,null,{"$f":"\"G\"&FZ20&\".\"&GR22","v":"G4."},2,{"$f":"VLOOKUP(FV22,Kura!$A$4:$AN$300,26,0)","v":{"$error":"#N/A"}},null,null,null,null,null,null,{"$f":"+GI21","v":""},{"$f":"+GH21","v":""},null,null,{"$f":"IF(SUM(IB24:IC24)=0,\"\",IB24)","v":""},{"$f":"IF(SUM(IB24:IC24)=0,\"\",IC24)","v":""},{"$f":"IF(SUM(IB22:IC22)=0,\"\",IB22)","v":""},{"$f":"IF(SUM(IB22:IC22)=0,\"\",IC22)","v":""},{"$f":"IF(SUM(HJ22:HK22)=0,\"\",HJ22)","v":""},{"$f":"IF(SUM(HJ22:HK22)=0,\"\",HK22)","v":""},{"$f":"IF(GT22>0,IF(OR(GF22=\"H\",GF22=\"W\"),0,IF(GF22=Main!$W$2,2,1))+IF(OR(GJ22=\"H\",GJ22=\"W\"),0,IF(GJ22=Main!$W$2,2,1))+IF(OR(GN22=\"H\",GN22=\"W\"),0,IF(GN22=Main!$W$2,2,1))+IF(OR(GL22=\"H\",GL22=\"W\"),0,IF(GL22=Main!$W$2,2,1)),\"\")","v":""},null,{"$f":"IF(SUM(GT21:GT25)=0,\"\",RANK(GP22,GP21:GQ25))","v":""},null,{"$f":"SUM(GF22:GO22)","v":0},null,2,5,null,null,null,null,null,null,null,null,null,null,null,null,null,null,null,null,2,4,null,null,null,null,null,null,null,null,null,null,null,null,null,null,null,null,null,null,null,null,null,null,null,null,null,null,null,null,null,null,null,null,null,null,null,null,null,null,null,null,null,null,null,null,null,null,null,null,null,null,null,null,null,null,null,null,null,null,null,null,null,null,null,null,null,null,null,null,null,null,null,null,null,null,null,null,null,null,null,null,{"$f":"KR21","v":"G4"},"4-5",{"$f":"+FY24","v":{"$error":"#N/A"}},{"$f":"+FY25","v":{"$error":"#N/A"}},{"$f":"+FK22","v":"2025-03-16"},{"$f":"+FN22","v":"10:30:00"},0,null,{"$f":"KR20","v":"G4"},"1-3",{"$f":"+FY21","v":"YALIKÖY ŞBÇ OO (A) (GRS)"},{"$f":"+FY23","v":{"$error":"#N/A"}},{"$f":"+FK24","v":"2025-03-16"},{"$f":"+FN24","v":"12:30:00"},{"$f":"+FU23","v":0}]
[null,null,null,null,null,null,null,null,null,null,null,null,null,null,null,null,null,null,null,null,null,null,null,null,null,null,null,null,null,null,null,null,null,null,null,null,null,null,null,null,null,null,null,null,null,null,null,null,null,null,null,null,null,null,null,null,null,null,null,null,null,null,null,null,null,null,null,null,null,null,null,null,null,null,null,null,null,null,null,null,null,null,null,null,null,null,null,null,null,null,null,null,null,null,null,null,null,null,null,null,null,null,null,null,null,null,null,null,null,null,null,null,null,null,null,null,null,null,null,null,null,null,null,null,null,null,null,null,null,null,null,null,null,null,null,null,null,null,null,null,null,null,null,null,null,null,null,null,null,null,null,null,null,null,null,null,null,null,null,null,null,null,null,null,null,null,{"$f":"TODAY()","v":"2025-03-16"},null,null,"11:30:00",null,3,null,"3-5","1-4",null,null,null,{"$f":"\"G\"&FZ20&\".\"&GR23","v":"G4."},3,{"$f":"VLOOKUP(FV23,Kura!$A$4:$AN$300,26,0)","v":{"$error":"#N/A"}},null,null,null,null,null,null,{"$f":"+GK21","v":""},{"$f":"+GJ21","v":""},{"$f":"+GK22","v":""},{"$f":"+GJ22","v":""},null,null,{"$f":"IF(SUM(HJ21:HK21)=0,\"\",HJ21)","v":""},{"$f":"IF(SUM(HJ21:HK21)=0,\"\",HK21)","v":""},{"$f":"IF(SUM(HJ25:HK25)=0,\"\",HJ25)","v":""},{"$f":"IF(SUM(HJ25:HK25)=0,\"\",HK25)","v":""},{"$f":"IF(GT23>0,IF(OR(GH23=\"H\",GH23=\"W\"),0,IF(GH23=Main!$W$2,2,1))+IF(OR(GF23=\"H\",GF23=\"W\"),0,IF(GF23=Main!$W$2,2,1))+IF(OR(GN23=\"H\",GN23=\"W\"),0,IF(GN23=Main!$W$2,2,1))+IF(OR(GL23=\"H\",GL23=\"W\"),0,IF(GL23=Main!$W$2,2,1)),\"\")","v":""},null,{"$f":"IF(SUM(GT21:GT25)=0,\"\",RANK(GP23,GP21:GQ25))","v":""},null,0,null,4,5,null,null,null,null,null,null,null,null,null,null,null,null,null,null,null,null,1,3,null,null,null,null,null,null,null,null,null,null,null,null,null,null,null,null,null,null,null,null,null,null,null,null,null,null,null,null,null,null,null,null,null,null,null,null,null,null,null,null,null,null,null,null,null,null,null,null,null,null,null,null,null,null,null,null,null,null,null,null,null,null,null,null,null,null,null,null,null,null,null,null,null,null,null,null,null,null,null,null,{"$f":"KR22","v":"G4"},"1-2",{"$f":"+FY21","v":"YALIKÖY ŞBÇ OO (A) (GRS)"},{"$f":"+FY22","v":{"$error":"#N/A"}},{"$f":"+FK22","v":"2025-03-16"},{"$f":"+FN22","v":"10:30:00"},0,null,{"$f":"KR20","v":"G4"},"2-3",{"$f":"+FY22","v":{"$error":"#N/A"}},{"$f":"+FY23","v":{"$error":"#N/A"}},{"$f":"+FK25","v":"2025-03-16"},{"$f":"+FN25","v":"13:30:00"},{"$f":"+FU24","v":0}]
[null,null,null,null,null,null,null,null,null,null,null,null,null,null,null,null,null,null,null,null,null,null,null,null,null,null,null,null,null,null,null,null,null,null,null,null,null,null,null,null,null,null,null,null,null,null,null,null,null,null,null,null,null,null,null,null,null,null,null,null,null,null,null,null,null,null,null,null,null,null,null,null,null,null,null,null,null,null,null,null,null,null,null,null,null,null,null,null,null,null,null,null,null,null,null,null,null,null,null,null,null,null,null,null,null,null,null,null,null,null,null,null,null,null,null,null,null,null,null,null,null,null,null,null,null,null,null,null,null,null,null,null,null,null,null,null,null,null,null,null,null,null,null,null,null,null,null,null,null,null,null,null,null,null,null,null,null,null,null,null,null,null,null,null,null,null,{"$f":"TODAY()","v":"2025-03-16"},null,null,"12:30:00",null,4,null,"2-4","1-3",null,null,null,{"$f":"\"G\"&FZ20&\".\"&GR24","v":"G4."},4,{"$f":"VLOOKUP(FV24,Kura!$A$4:$AN$300,26,0)","v":{"$error":"#N/A"}},null,null,null,null,null,null,{"$f":"+GM21","v":""},{"$f":"+GL21","v":""},{"$f":"+GM22","v":""},{"$f":"+GL22","v":""},{"$f":"+GM23","v":""},{"$f":"+GL23","v":""},null,null,{"$f":"IF(SUM(HJ23:HK23)=0,\"\",HJ23)","v":""},{"$f":"IF(SUM(HJ23:HK23)=0,\"\",HK23)","v":""},{"$f":"IF(GT24>0,IF(OR(GH24=\"H\",GH24=\"W\"),0,IF(GH24=Main!$W$2,2,1))+IF(OR(GJ24=\"H\",GJ24=\"W\"),0,IF(GJ24=Main!$W$2,2,1))+IF(OR(GN24=\"H\",GN24=\"W\"),0,IF(GN24=Main!$W$2,2,1))+IF(OR(GF24=\"H\",GF24=\"W\"),0,IF(GF24=Main!$W$2,2,1)),\"\")","v":""},null,{"$f":"IF(SUM(GT21:GT25)=0,\"\",RANK(GP24,GP21:GQ25))","v":""},null,0,null,1,2,null,null,null,null,null,null,null,null,null,null,null,null,null,null,null,null,2,3,null,null,null,null,null,null,null,null,null,null,null,null,null,null,null,null,null,null,null,null,null,null,null,null,null,null,null,null,null,null,null,null,null,null,null,null,null,null,null,null,null,null,null,null,null,null,null,null,null,null,null,null,null,null,null,null,null,null,null,null,null,null,null,null,null,null,null,null,null,null,null,null,null,null,null,null,null,null,null,null,{"$f":"KR23","v":"G4"},"3-5",{"$f":"+FY23","v":{"$error":"#N/A"}},{"$f":"+FY25","v":{"$error":"#N/A"}},{"$f":"+FK23","v":"2025-03-16"},{"$f":"+FN23","v":"11:30:00"},0,null,{"$f":"KR20","v":"G4"},"1-5",{"$f":"+FY25","v":{"$error":"#N/A"}},{"$f":"+FY25","v":{"$error":"#N/A"}},{"$f":"+FK25","v":"2025-03-16"},{"$f":"+FN25","v":"13:30:00"},{"$f":"+FU25","v":0}]
[null,null,null,null,null,null,null,null,null,null,null,null,null,null,null,null,null,null,null,null,null,null,null,null,null,null,null,null,null,null,null,null,null,null,null,null,null,null,null,null,null,null,null,null,null,null,null,null,null,null,null,null,null,null,null,null,null,null,null,null,null,null,null,null,null,null,null,null,null,null,null,null,null,null,null,null,null,null,null,null,null,null,null,null,null,null,null,null,null,null,null,null,null,null,null,null,null,null,null,null,null,null,null,null,null,null,null,null,null,null,null,null,null,null,null,null,null,null,null,null,null,null,null,null,null,null,null,null,null,null,null,null,null,null,null,null,null,null,null,null,null,null,null,null,null,null,null,null,null,null,null,null,null,null,null,null,null,null,null,null,null,null,null,null,null,null,"2025-03-16",null,null,"13:30:00",null,5,null,"2-3","1-5",null,null,null,{"$f":"\"G\"&FZ20&\".\"&GR25","v":"G4."},5,{"$f":"VLOOKUP(FV24,Kura!$A$4:$AN$300,26,0)","v":{"$error":"#N/A"}},null,null,null,null,null,null,{"$f":"+GO21","v":""},{"$f":"+GN21","v":""},{"$f":"+GO22","v":""},{"$f":"+GN22","v":""},{"$f":"+GO23","v":""},{"$f":"+GN23","v":""},{"$f":"+GO24","v":""},{"$f":"+GN24","v":""},null,null,{"$f":"IF(GT25>0,IF(OR(GH25=\"H\",GH25=\"W\"),0,IF(GH25=Main!$W$2,2,1))+IF(OR(GJ25=\"H\",GJ25=\"W\"),0,IF(GJ25=Main!$W$2,2,1))+IF(OR(GF25=\"H\",GF25=\"W\"),0,IF(GF25=Main!$W$2,2,1))+IF(OR(GL25=\"H\",GL25=\"W\"),0,IF(GL25=Main!$W$2,2,1)),\"\")","v":""},null,{"$f":"IF(SUM(GT21:GT25)=0,\"\",RANK(GP25,GP21:GQ25))","v":""},null,0,null,3,5,null,null,null,null,null,null,null,null,null,null,null,null,null,null,null,null,1,5]
[null,null,null,null,null,null,null,null,null,null,null,null,null,null,null,null,null,null,null,null,null,null,null,null,null,null,null,null,null,null,null,null,null,null,null,null,null,null,null,null,null,null,null,null,null,null,null,null,null,null,null,null,null,null,null,null,null,null,null,null,null,null,null,null,null,null,null,null,null,null,null,null,null,null,null,null,null,null,null,null,null,null,null,null,null,null,null,null,null,null,null,null,null,null,null,null,null,null,null,null,null,null,null,null,null,null,null,null,null,null,null,null,null,null,null,null,null,null,null,null,null,null,null,null,null,null,null,null,null,null,null,null,null,null,null,null,null,null,null,null,null,null,null,null,null,null,null,null,null,null,null,{"$f":"+E28","v":"00:00:00"},{"$f":"+L27","v":0}]

{"sheet":"Ana_Tablo_Kura","index":4,"n_rows":562,"n_cols":14,"rows_kept":562,"cut":false,"hidden":false,"merged":[[337,1,337,5],[546,1,546,5],[555,1,555,5],[533,1,533,5],[0,0,1,10],[2,0,2,10],[559,1,559,5],[539,1,539,5],[4,1,4,5],[269,1,269,5],[406,1,406,5],[479,1,479,5],[520,1,520,5],[371,1,371,5],[136,1,136,5],[202,1,202,5],[499,1,499,5],[509,1,509,5],[460,1,460,5],[442,1,442,5]]}
[{"$f":"Kura!AC1","v":"TÜRKİYE MASA TENİSİ FEDERASYONU\nGENÇLER TAKIM KUZEYDOĞU BÖLGE YARIŞMALARI"}]
[]
[{"$f":"Kura!AC2","v":"KIZ TAKIM  [15-16 Mart 2025 TRABZON]"}]
[]
[null,256]
[]
[null,"Place",null,"#","Group","Player",null,"Manuel",null,null,"S.No","Main table"]
[1,1,null,null,"G1.1",{"$f":"VLOOKUP(E8,Grup!$N$5:$AF$1000,3,0)","v":"ÇORUM BLD. SPOR (A) (ÇRM)"},null,null,1,"1.1",{"$f":"INDEX(Grup!$M$6:$M$1000,MATCH(Ana_Tablo_Kura!L8,Grup!$P$6:$P$1000,0),1)","v":1},{"$f":"IF(H8=0,VLOOKUP(I8,$B$8:$F$267,5,0),VLOOKUP(H8,Kura!$A$4:$Z$350,26,0))","v":"ÇORUM BLD. SPOR (A) (ÇRM)"},{"$f":"VLOOKUP(I8,$B$8:$F$267,4,0)","v":"G1.1"},{"$f":"IFERROR(VLOOKUP(K8,Kura!$A$4:$F$1000,6,0),0)","v":"ÇORUM"}]
[2,256,null,null,"G2.1",{"$f":"VLOOKUP(E9,Grup!$N$5:$AF$1000,3,0)","v":"ÇORUM GENÇLİK SPOR (A) (ÇRM)"},null,null,2,null,{"$f":"INDEX(Grup!$M$6:$M$1000,MATCH(Ana_Tablo_Kura!L9,Grup!$P$6:$P$1000,0),1)","v":8},{"$f":"IF(H9=0,VLOOKUP(I9,$B$8:$F$267,5,0),VLOOKUP(H9,Kura!$A$4:$Z$350,26,0))","v":"BEŞİKDÜZÜ AYYILDIZ SPOR (A) (TRB)"},{"$f":"VLOOKUP(I9,$B$8:$F$267,4,0)","v":"G1.2"},{"$f":"IFERROR(VLOOKUP(K9,Kura!$A$4:$F$1000,6,0),0)","v":"TRABZON"}]
["3-4",128,null,null,"G3.1",{"$f":"VLOOKUP(E10,Grup!$N$5:$AF$1000,3,0)","v":"ŞAFAKTEPE SK (A) (ANK)"},9.7973823547363281E-2,null,3,null,{"$f":"INDEX(Grup!$M$6:$M$1000,MATCH(Ana_Tablo_Kura!L10,Grup!$P$6:$P$1000,0),1)","v":4},{"$f":"IF(H10=0,VLOOKUP(I10,$B$8:$F$267,5,0),VLOOKUP(H10,Kura!$A$4:$Z$350,26,0))","v":"YALIKÖY ŞBÇ OO (A) (GRS)"},"G4.2",{"$f":"IFERROR(VLOOKUP(K10,Kura!$A$4:$F$1000,6,0),0)","v":"GİRESUN"}]
["3-4",129,null,null,"G4.1",{"$f":"VLOOKUP(E11,Grup!$N$5:$AF$1000,3,0)","v":"KUTLUBEY OKULLARI (A) (AMS)"},0.42845636606216431,null,4,"33/128",{"$f":"INDEX(Grup!$M$6:$M$1000,MATCH(Ana_Tablo_Kura!L11,Grup!$P$6:$P$1000,0),1)","v":{"$error":"#N/A"}},{"$f":"IF(H11=0,VLOOKUP(I11,$B$8:$F$267,5,0),VLOOKUP(H11,Kura!$A$4:$Z$350,26,0))","v":{"$error":"#N/A"}},"G128.1",{"$f":"IFERROR(VLOOKUP(K11,Kura!$A$4:$F$1000,6,0),0)","v":0}]
["5-6",65,null,null,"G5.1",{"$f":"VLOOKUP(E12,Grup!$N$5:$AF$1000,3,0)","v":{"$error":"#N/A"}},null,null,5,"33/128",{"$f":"INDEX(Grup!$M$6:$M$1000,MATCH(Ana_Tablo_Kura!L12,Grup!$P$6:$P$1000,0),1)","v":{"$error":"#N/A"}},{"$f":"IF(H12=0,VLOOKUP(I12,$B$8:$F$267,5,0),VLOOKUP(H12,Kura!$A$4:$Z$350,26,0))","v":{"$error":"#N/A"}},"G65.1",{"$f":"IFERROR(VLOOKUP(K12,Kura!$A$4:$F$1000,6,0),0)","v":0}]
["5-6",192,null,null,"G6.1",{"$f":"VLOOKUP(E13,Grup!$N$5:$AF$1000,3,0)","v":{"$error":"#N/A"}},null,null,6,null,{"$f":"INDEX(Grup!$M$6:$M$1000,MATCH(Ana_Tablo_Kura!L13,Grup!$P$6:$P$1000,0),1)","v":{"$error":"#N/A"}},{"$f":"IF(H13=0,VLOOKUP(I13,$B$8:$F$267,5,0),VLOOKUP(H13,Kura!$A$4:$Z$350,26,0))","v":{"$error":"#N/A"}},"G5.2",{"$f":"IFERROR(VLOOKUP(K13,Kura!$A$4:$F$1000,6,0),0)","v":0}]
["7-8",64,null,null,"G8.1",{"$f":"VLOOKUP(E14,Grup!$N$5:$AF$1000,3,0)","v":{"$error":"#N/A"}},null,null,7,null,{"$f":"INDEX(Grup!$M$6:$M$1000,MATCH(Ana_Tablo_Kura!L14,Grup!$P$6:$P$1000,0),1)","v":{"$error":"#N/A"}},{"$f":"IF(H14=0,VLOOKUP(I14,$B$8:$F$267,5,0),VLOOKUP(H14,Kura!$A$4:$Z$350,26,0))","v":{"$error":"#N/A"}},"G7.2",{"$f":"IFERROR(VLOOKUP(K14,Kura!$A$4:$F$1000,6,0),0)","v":0}]
["7-8",193,null,null,"G7.1",{"$f":"VLOOKUP(E15,Grup!$N$5:$AF$1000,3,0)","v":{"$error":"#N/A"}},null,null,8,"33/128",{"$f":"INDEX(Grup!$M$6:$M$1000,MATCH(Ana_Tablo_Kura!L15,Grup!$P$6:$P$1000,0),1)","v":{"$error":"#N/A"}},{"$f":"IF(H15=0,VLOOKUP(I15,$B$8:$F$267,5,0),VLOOKUP(H15,Kura!$A$4:$Z$350,26,0))","v":{"$error":"#N/A"}},"G64.1",{"$f":"IFERROR(VLOOKUP(K15,Kura!$A$4:$F$1000,6,0),0)","v":0}]
["9-12",33,null,null,"G9.1",{"$f":"VLOOKUP(E16,Grup!$N$5:$AF$1000,3,0)","v":{"$error":"#N/A"}},null,null,9,"33/128",{"$f":"INDEX(Grup!$M$6:$M$1000,MATCH(Ana_Tablo_Kura!L16,Grup!$P$6:$P$1000,0),1)","v":{"$error":"#N/A"}},{"$f":"IF(H16=0,VLOOKUP(I16,$B$8:$F$267,5,0),VLOOKUP(H16,Kura!$A$4:$Z$350,26,0))","v":{"$error":"#N/A"}},"G33.1",{"$f":"IFERROR(VLOOKUP(K16,Kura!$A$4:$F$1000,6,0),0)","v":0}]
["9-12",224,null,null,"G10.1",{"$f":"VLOOKUP(E17,Grup!$N$5:$AF$1000,3,0)","v":{"$error":"#N/A"}},null,null,10,null,{"$f":"INDEX(Grup!$M$6:$M$1000,MATCH(Ana_Tablo_Kura!L17,Grup!$P$6:$P$1000,0),1)","v":{"$error":"#N/A"}},{"$f":"IF(H17=0,VLOOKUP(I17,$B$8:$F$267,5,0),VLOOKUP(H17,Kura!$A$4:$Z$350,26,0))","v":{"$error":"#N/A"}},"G9.2",{"$f":"IFERROR(VLOOKUP(K17,Kura!$A$4:$F$1000,6,0),0)","v":0}]
["9-12",96,null,null,"G11.1",{"$f":"VLOOKUP(E18,Grup!$N$5:$AF$1000,3,0)","v":{"$error":"#N/A"}},null,null,11,null,{"$f":"INDEX(Grup!$M$6:$M$1000,MATCH(Ana_Tablo_Kura!L18,Grup!$P$6:$P$1000,0),1)","v":{"$error":"#N/A"}},{"$f":"IF(H18=0,VLOOKUP(I18,$B$8:$F$267,5,0),VLOOKUP(H18,Kura!$A$4:$Z$350,26,0))","v":{"$error":"#N/A"}},"G12.2",{"$f":"IFERROR(VLOOKUP(K18,Kura!$A$4:$F$1000,6,0),0)","v":0}]
["9-12",161,null,null,"G12.1",{"$f":"VLOOKUP(E19,Grup!$N$5:$AF$1000,3,0)","v":{"$error":"#N/A"}},null,null,12,"33/128",{"$f":"INDEX(Grup!$M$6:$M$1000,MATCH(Ana_Tablo_Kura!L19,Grup!$P$6:$P$1000,0),1)","v":{"$error":"#N/A"}},{"$f":"IF(H19=0,VLOOKUP(I19,$B$8:$F$267,5,0),VLOOKUP(H19,Kura!$A$4:$Z$350,26,0))","v":{"$error":"#N/A"}},"G95.1",{"$f":"IFERROR(VLOOKUP(K19,Kura!$A$4:$F$1000,6,0),0)","v":0}]
["13-16",97,null,null,"G13.1",{"$f":"VLOOKUP(E20,Grup!$N$5:$AF$1000,3,0)","v":{"$error":"#N/A"}},null,null,13,"33/128",{"$f":"INDEX(Grup!$M$6:$M$1000,MATCH(Ana_Tablo_Kura!L20,Grup!$P$6:$P$1000,0),1)","v":{"$error":"#N/A"}},{"$f":"IF(H20=0,VLOOKUP(I20,$B$8:$F$267,5,0),VLOOKUP(H20,Kura!$A$4:$Z$350,26,0))","v":{"$error":"#N/A"}},"G97.1",{"$f":"IFERROR(VLOOKUP(K20,Kura!$A$4:$F$1000,6,0),0)","v":0}]
["13-16",160,null,null,"G14.1",{"$f":"VLOOKUP(E21,Grup!$N$5:$AF$1000,3,0)","v":{"$error":"#N/A"}},null,null,14,null,{"$f":"INDEX(Grup!$M$6:$M$1000,MATCH(Ana_Tablo_Kura!L21,Grup!$P$6:$P$1000,0),1)","v":{"$error":"#N/A"}},{"$f":"IF(H21=0,VLOOKUP(I21,$B$8:$F$267,5,0),VLOOKUP(H21,Kura!$A$4:$Z$350,26,0))","v":{"$error":"#N/A"}},"G13.2",{"$f":"IFERROR(VLOOKUP(K21,Kura!$A$4:$F$1000,6,0),0)","v":0}]
["13-16",32,null,null,"G15.1",{"$f":"VLOOKUP(E22,Grup!$N$5:$AF$1000,3,0)","v":{"$error":"#N/A"}},null,null,15,null,{"$f":"INDEX(Grup!$M$6:$M$1000,MATCH(Ana_Tablo_Kura!L22,Grup!$P$6:$P$1000,0),1)","v":{"$error":"#N/A"}},{"$f":"IF(H22=0,VLOOKUP(I22,$B$8:$F$267,5,0),VLOOKUP(H22,Kura!$A$4:$Z$350,26,0))","v":{"$error":"#N/A"}},"G16.2",{"$f":"IFERROR(VLOOKUP(K22,Kura!$A$4:$F$1000,6,0),0)","v":0}]
["13-16",225,null,null,"G16.1",{"$f":"VLOOKUP(E23,Grup!$N$5:$AF$1000,3,0)","v":{"$error":"#N/A"}},null,null,16,"17/32.1",{"$f":"INDEX(Grup!$M$6:$M$1000,MATCH(Ana_Tablo_Kura!L23,Grup!$P$6:$P$1000,0),1)","v":{"$error":"#N/A"}},{"$f":"IF(H23=0,VLOOKUP(I23,$B$8:$F$267,5,0),VLOOKUP(H23,Kura!$A$4:$Z$350,26,0))","v":{"$error":"#N/A"}},"G31.1",{"$f":"IFERROR(VLOOKUP(K23,Kura!$A$4:$F$1000,6,0),0)","v":0}]
["17-32",17,null,null,"G17.1",{"$f":"VLOOKUP(E24,Grup!$N$5:$AF$1000,3,0)","v":{"$error":"#N/A"}},null,null,17,"17/32.1",{"$f":"INDEX(Grup!$M$6:$M$1000,MATCH(Ana_Tablo_Kura!L24,Grup!$P$6:$P$1000,0),1)","v":{"$error":"#N/A"}},{"$f":"IF(H24=0,VLOOKUP(I24,$B$8:$F$267,5,0),VLOOKUP(H24,Kura!$A$4:$Z$350,26,0))","v":{"$error":"#N/A"}},"G17.1",{"$f":"IFERROR(VLOOKUP(K24,Kura!$A$4:$F$1000,6,0),0)","v":0}]
["17-32",240,null,null,"G18.1",{"$f":"VLOOKUP(E25,Grup!$N$5:$AF$1000,3,0)","v":{"$error":"#N/A"}},null,null,18,null,{"$f":"INDEX(Grup!$M$6:$M$1000,MATCH(Ana_Tablo_Kura!L25,Grup!$P$6:$P$1000,0),1)","v":{"$error":"#N/A"}},{"$f":"IF(H25=0,VLOOKUP(I25,$B$8:$F$267,5,0),VLOOKUP(H25,Kura!$A$4:$Z$350,26,0))","v":{"$error":"#N/A"}},"G17.2",{"$f":"IFERROR(VLOOKUP(K25,Kura!$A$4:$F$1000,6,0),0)","v":0}]
["17-32",112,null,null,"G19.1",{"$f":"VLOOKUP(E26,Grup!$N$5:$AF$1000,3,0)","v":{"$error":"#N/A"}},null,null,19,null,{"$f":"INDEX(Grup!$M$6:$M$1000,MATCH(Ana_Tablo_Kura!L26,Grup!$P$6:$P$1000,0),1)","v":{"$error":"#N/A"}},{"$f":"IF(H26=0,VLOOKUP(I26,$B$8:$F$267,5,0),VLOOKUP(H26,Kura!$A$4:$Z$350,26,0))","v":{"$error":"#N/A"}},"G20.2",{"$f":"IFERROR(VLOOKUP(K26,Kura!$A$4:$F$1000,6,0),0)","v":0}]
["17-32",145,null,null,"G20.1",{"$f":"VLOOKUP(E27,Grup!$N$5:$AF$1000,3,0)","v":{"$error":"#N/A"}},null,null,20,"33/128",{"$f":"INDEX(Grup!$M$6:$M$1000,MATCH(Ana_Tablo_Kura!L27,Grup!$P$6:$P$1000,0),1)","v":{"$error":"#N/A"}},{"$f":"IF(H27=0,VLOOKUP(I27,$B$8:$F$267,5,0),VLOOKUP(H27,Kura!$A$4:$Z$350,26,0))","v":{"$error":"#N/A"}},"G111.1",{"$f":"IFERROR(VLOOKUP(K27,Kura!$A$4:$F$1000,6,0),0)","v":0}]
["17-32",81,null,null,"G21.1",{"$f":"VLOOKUP(E28,Grup!$N$5:$AF$1000,3,0)","v":{"$error":"#N/A"}},null,null,21,"33/128",{"$f":"INDEX(Grup!$M$6:$M$1000,MATCH(Ana_Tablo_Kura!L28,Grup!$P$6:$P$1000,0),1)","v":{"$error":"#N/A"}},{"$f":"IF(H28=0,VLOOKUP(I28,$B$8:$F$267,5,0),VLOOKUP(H28,Kura!$A$4:$Z$350,26,0))","v":{"$error":"#N/A"}},"G81.1",{"$f":"IFERROR(VLOOKUP(K28,Kura!$A$4:$F$1000,6,0),0)","v":0}]
["17-32",176,null,null,"G22.1",{"$f":"VLOOKUP(E29,Grup!$N$5:$AF$1000,3,0)","v":{"$error":"#N/A"}},null,null,22,null,{"$f":"INDEX(Grup!$M$6:$M$1000,MATCH(Ana_Tablo_Kura!L29,Grup!$P$6:$P$1000,0),1)","v":{"$error":"#N/A"}},{"$f":"IF(H29=0,VLOOKUP(I29,$B$8:$F$267,5,0),VLOOKUP(H29,Kura!$A$4:$Z$350,26,0))","v":{"$error":"#N/A"}},"G21.2",{"$f":"IFERROR(VLOOKUP(K29,Kura!$A$4:$F$1000,6,0),0)","v":0}]
["17-32",48,null,null,"G23.1",{"$f":"VLOOKUP(E30,Grup!$N$5:$AF$1000,3,0)","v":{"$error":"#N/A"}},null,null,23,null,{"$f":"INDEX(Grup!$M$6:$M$1000,MATCH(Ana_Tablo_Kura!L30,Grup!$P$6:$P$1000,0),1)","v":{"$error":"#N/A"}},{"$f":"IF(H30=0,VLOOKUP(I30,$B$8:$F$267,5,0),VLOOKUP(H30,Kura!$A$4:$Z$350,26,0))","v":{"$error":"#N/A"}},"G24.2",{"$f":"IFERROR(VLOOKUP(K30,Kura!$A$4:$F$1000,6,0),0)","v":0}]
["17-32",209,null,null,"G24.1",{"$f":"VLOOKUP(E31,Grup!$N$5:$AF$1000,3,0)","v":{"$error":"#N/A"}},null,null,24,"33/128",{"$f":"INDEX(Grup!$M$6:$M$1000,MATCH(Ana_Tablo_Kura!L31,Grup!$P$6:$P$1000,0),1)","v":{"$error":"#N/A"}},{"$f":"IF(H31=0,VLOOKUP(I31,$B$8:$F$267,5,0),VLOOKUP(H31,Kura!$A$4:$Z$350,26,0))","v":{"$error":"#N/A"}},"G47.1",{"$f":"IFERROR(VLOOKUP(K31,Kura!$A$4:$F$1000,6,0),0)","v":0}]
["17-32",49,null,null,"G25.1",{"$f":"VLOOKUP(E32,Grup!$N$5:$AF$1000,3,0)","v":{"$error":"#N/A"}},null,null,25,"33/128",{"$f":"INDEX(Grup!$M$6:$M$1000,MATCH(Ana_Tablo_Kura!L32,Grup!$P$6:$P$1000,0),1)","v":{"$error":"#N/A"}},{"$f":"IF(H32=0,VLOOKUP(I32,$B$8:$F$267,5,0),VLOOKUP(H32,Kura!$A$4:$Z$350,26,0))","v":{"$error":"#N/A"}},"G49.1",{"$f":"IFERROR(VLOOKUP(K32,Kura!$A$4:$F$1000,6,0),0)","v":0}]
["17-32",208,null,null,"G26.1",{"$f":"VLOOKUP(E33,Grup!$N$5:$AF$1000,3,0)","v":{"$error":"#N/A"}},null,null,26,null,{"$f":"INDEX(Grup!$M$6:$M$1000,MATCH(Ana_Tablo_Kura!L33,Grup!$P$6:$P$1000,0),1)","v":{"$error":"#N/A"}},{"$f":"IF(H33=0,VLOOKUP(I33,$B$8:$F$267,5,0),VLOOKUP(H33,Kura!$A$4:$Z$350,26,0))","v":{"$error":"#N/A"}},"G25.2",{"$f":"IFERROR(VLOOKUP(K33,Kura!$A$4:$F$1000,6,0),0)","v":0}]
["17-32",80,null,null,"G27.1",{"$f":"VLOOKUP(E34,Grup!$N$5:$AF$1000,3,0)","v":{"$error":"#N/A"}},null,null,27,null,{"$f":"INDEX(Grup!$M$6:$M$1000,MATCH(Ana_Tablo_Kura!L34,Grup!$P$6:$P$1000,0),1)","v":{"$error":"#N/A"}},{"$f":"IF(H34=0,VLOOKUP(I34,$B$8:$F$267,5,0),VLOOKUP(H34,Kura!$A$4:$Z$350,26,0))","v":{"$error":"#N/A"}},"G28.2",{"$f":"IFERROR(VLOOKUP(K34,Kura!$A$4:$F$1000,6,0),0)","v":0}]
["17-32",177,null,null,"G28.1",{"$f":"VLOOKUP(E35,Grup!$N$5:$AF$1000,3,0)","v":{"$error":"#N/A"}},null,null,28,"33/128",{"$f":"INDEX(Grup!$M$6:$M$1000,MATCH(Ana_Tablo_Kura!L35,Grup!$P$6:$P$1000,0),1)","v":{"$error":"#N/A"}},{"$f":"IF(H35=0,VLOOKUP(I35,$B$8:$F$267,5,0),VLOOKUP(H35,Kura!$A$4:$Z$350,26,0))","v":{"$error":"#N/A"}},"G79.1",{"$f":"IFERROR(VLOOKUP(K35,Kura!$A$4:$F$1000,6,0),0)","v":0}]
["17-32",113,null,null,"G29.1",{"$f":"VLOOKUP(E36,Grup!$N$5:$AF$1000,3,0)","v":{"$error":"#N/A"}},null,null,29,"33/128",{"$f":"INDEX(Grup!$M$6:$M$1000,MATCH(Ana_Tablo_Kura!L36,Grup!$P$6:$P$1000,0),1)","v":{"$error":"#N/A"}},{"$f":"IF(H36=0,VLOOKUP(I36,$B$8:$F$267,5,0),VLOOKUP(H36,Kura!$A$4:$Z$350,26,0))","v":{"$error":"#N/A"}},"G113.1",{"$f":"IFERROR(VLOOKUP(K36,Kura!$A$4:$F$1000,6,0),0)","v":0}]
["17-32",144,null,null,"G30.1",{"$f":"VLOOKUP(E37,Grup!$N$5:$AF$1000,3,0)","v":{"$error":"#N/A"}},null,null,30,null,{"$f":"INDEX(Grup!$M$6:$M$1000,MATCH(Ana_Tablo_Kura!L37,Grup!$P$6:$P$1000,0),1)","v":{"$error":"#N/A"}},{"$f":"IF(H37=0,VLOOKUP(I37,$B$8:$F$267,5,0),VLOOKUP(H37,Kura!$A$4:$Z$350,26,0))","v":{"$error":"#N/A"}},"G29.2",{"$f":"IFERROR(VLOOKUP(K37,Kura!$A$4:$F$1000,6,0),0)","v":0}]
["17-32",16,null,null,"G31.1",{"$f":"VLOOKUP(E38,Grup!$N$5:$AF$1000,3,0)","v":{"$error":"#N/A"}},null,null,31,null,{"$f":"INDEX(Grup!$M$6:$M$1000,MATCH(Ana_Tablo_Kura!L38,Grup!$P$6:$P$1000,0),1)","v":{"$error":"#N/A"}},{"$f":"IF(H38=0,VLOOKUP(I38,$B$8:$F$267,5,0),VLOOKUP(H38,Kura!$A$4:$Z$350,26,0))","v":{"$error":"#N/A"}},"G32.2",{"$f":"IFERROR(VLOOKUP(K38,Kura!$A$4:$F$1000,6,0),0)","v":0}]
["17-32",241,null,null,"G32.1",{"$f":"VLOOKUP(E39,Grup!$N$5:$AF$1000,3,0)","v":{"$error":"#N/A"}},null,null,32,"13/16.1",{"$f":"INDEX(Grup!$M$6:$M$1000,MATCH(Ana_Tablo_Kura!L39,Grup!$P$6:$P$1000,0),1)","v":{"$error":"#N/A"}},{"$f":"IF(H39=0,VLOOKUP(I39,$B$8:$F$267,5,0),VLOOKUP(H39,Kura!$A$4:$Z$350,26,0))","v":{"$error":"#N/A"}},"G15.1",{"$f":"IFERROR(VLOOKUP(K39,Kura!$A$4:$F$1000,6,0),0)","v":0}]
["33-128",9,null,null,"G33.1",{"$f":"VLOOKUP(E40,Grup!$N$5:$AF$1000,3,0)","v":{"$error":"#N/A"}},null,null,33,"9/12.1",{"$f":"INDEX(Grup!$M$6:$M$1000,MATCH(Ana_Tablo_Kura!L40,Grup!$P$6:$P$1000,0),1)","v":{"$error":"#N/A"}},{"$f":"IF(H40=0,VLOOKUP(I40,$B$8:$F$267,5,0),VLOOKUP(H40,Kura!$A$4:$Z$350,26,0))","v":{"$error":"#N/A"}},"G9.1",{"$f":"IFERROR(VLOOKUP(K40,Kura!$A$4:$F$1000,6,0),0)","v":0}]
["33-128",248,null,null,"G34.1",{"$f":"VLOOKUP(E41,Grup!$N$5:$AF$1000,3,0)","v":{"$error":"#N/A"}},null,null,34,null,{"$f":"INDEX(Grup!$M$6:$M$1000,MATCH(Ana_Tablo_Kura!L41,Grup!$P$6:$P$1000,0),1)","v":{"$error":"#N/A"}},{"$f":"IF(H41=0,VLOOKUP(I41,$B$8:$F$267,5,0),VLOOKUP(H41,Kura!$A$4:$Z$350,26,0))","v":{"$error":"#N/A"}},"G33.2",{"$f":"IFERROR(VLOOKUP(K41,Kura!$A$4:$F$1000,6,0),0)","v":0}]
["33-128",120,null,null,"G35.1",{"$f":"VLOOKUP(E42,Grup!$N$5:$AF$1000,3,0)","v":{"$error":"#N/A"}},null,null,35,null,{"$f":"INDEX(Grup!$M$6:$M$1000,MATCH(Ana_Tablo_Kura!L42,Grup!$P$6:$P$1000,0),1)","v":{"$error":"#N/A"}},{"$f":"IF(H42=0,VLOOKUP(I42,$B$8:$F$267,5,0),VLOOKUP(H42,Kura!$A$4:$Z$350,26,0))","v":{"$error":"#N/A"}},"G36.2",{"$f":"IFERROR(VLOOKUP(K42,Kura!$A$4:$F$1000,6,0),0)","v":0}]
["33-128",137,null,null,"G36.1",{"$f":"VLOOKUP(E43,Grup!$N$5:$AF$1000,3,0)","v":{"$error":"#N/A"}},null,null,36,"33/128",{"$f":"INDEX(Grup!$M$6:$M$1000,MATCH(Ana_Tablo_Kura!L43,Grup!$P$6:$P$1000,0),1)","v":{"$error":"#N/A"}},{"$f":"IF(H43=0,VLOOKUP(I43,$B$8:$F$267,5,0),VLOOKUP(H43,Kura!$A$4:$Z$350,26,0))","v":{"$error":"#N/A"}},"G119.1",{"$f":"IFERROR(VLOOKUP(K43,Kura!$A$4:$F$1000,6,0),0)","v":0}]
["33-128",73,null,null,"G37.1",{"$f":"VLOOKUP(E44,Grup!$N$5:$AF$1000,3,0)","v":{"$error":"#N/A"}},null,null,37,"33/128",{"$f":"INDEX(Grup!$M$6:$M$1000,MATCH(Ana_Tablo_Kura!L44,Grup!$P$6:$P$1000,0),1)","v":{"$error":"#N/A"}},{"$f":"IF(H44=0,VLOOKUP(I44,$B$8:$F$267,5,0),VLOOKUP(H44,Kura!$A$4:$Z$350,26,0))","v":{"$error":"#N/A"}},"G73.1",{"$f":"IFERROR(VLOOKUP(K44,Kura!$A$4:$F$1000,6,0),0)","v":0}]
["33-128",184,null,null,"G38.1",{"$f":"VLOOKUP(E45,Grup!$N$5:$AF$1000,3,0)","v":{"$error":"#N/A"}},null,null,38,null,{"$f":"INDEX(Grup!$M$6:$M$1000,MATCH(Ana_Tablo_Kura!L45,Grup!$P$6:$P$1000,0),1)","v":{"$error":"#N/A"}},{"$f":"IF(H45=0,VLOOKUP(I45,$B$8:$F$267,5,0),VLOOKUP(H45,Kura!$A$4:$Z$350,26,0))","v":{"$error":"#N/A"}},"G37.2",{"$f":"IFERROR(VLOOKUP(K45,Kura!$A$4:$F$1000,6,0),0)","v":0}]
["33-128",56,null,null,"G39.1",{"$f":"VLOOKUP(E46,Grup!$N$5:$AF$1000,3,0)","v":{"$error":"#N/A"}},null,null,39,null,{"$f":"INDEX(Grup!$M$6:$M$1000,MATCH(Ana_Tablo_Kura!L46,Grup!$P$6:$P$1000,0),1)","v":{"$error":"#N/A"}},{"$f":"IF(H46=0,VLOOKUP(I46,$B$8:$F$267,5,0),VLOOKUP(H46,Kura!$A$4:$Z$350,26,0))","v":{"$error":"#N/A"}},"G40.2",{"$f":"IFERROR(VLOOKUP(K46,Kura!$A$4:$F$1000,6,0),0)","v":0}]
["33-128",201,null,null,"G40.1",{"$f":"VLOOKUP(E47,Grup!$N$5:$AF$1000,3,0)","v":{"$error":"#N/A"}},null,null,40,"33/128",{"$f":"INDEX(Grup!$M$6:$M$1000,MATCH(Ana_Tablo_Kura!L47,Grup!$P$6:$P$1000,0),1)","v":{"$error":"#N/A"}},{"$f":"IF(H47=0,VLOOKUP(I47,$B$8:$F$267,5,0),VLOOKUP(H47,Kura!$A$4:$Z$350,26,0))","v":{"$error":"#N/A"}},"G55.1",{"$f":"IFERROR(VLOOKUP(K47,Kura!$A$4:$F$1000,6,0),0)","v":0}]
["33-128",41,null,null,"G41.1",{"$f":"VLOOKUP(E48,Grup!$N$5:$AF$1000,3,0)","v":{"$error":"#N/A"}},null,null,41,"33/128",{"$f":"INDEX(Grup!$M$6:$M$1000,MATCH(Ana_Tablo_Kura!L48,Grup!$P$6:$P$1000,0),1)","v":{"$error":"#N/A"}},{"$f":"IF(H48=0,VLOOKUP(I48,$B$8:$F$267,5,0),VLOOKUP(H48,Kura!$A$4:$Z$350,26,0))","v":{"$error":"#N/A"}},"G41.1",{"$f":"IFERROR(VLOOKUP(K48,Kura!$A$4:$F$1000,6,0),0)","v":0}]
["33-128",216,null,null,"G42.1",{"$f":"VLOOKUP(E49,Grup!$N$5:$AF$1000,3,0)","v":{"$error":"#N/A"}},null,null,42,null,{"$f":"INDEX(Grup!$M$6:$M$1000,MATCH(Ana_Tablo_Kura!L49,Grup!$P$6:$P$1000,0),1)","v":{"$error":"#N/A"}},{"$f":"IF(H49=0,VLOOKUP(I49,$B$8:$F$267,5,0),VLOOKUP(H49,Kura!$A$4:$Z$350,26,0))","v":{"$error":"#N/A"}},"G41.2",{"$f":"IFERROR(VLOOKUP(K49,Kura!$A$4:$F$1000,6,0),0)","v":0}]
["33-128",88,null,null,"G43.1",{"$f":"VLOOKUP(E50,Grup!$N$5:$AF$1000,3,0)","v":{"$error":"#N/A"}},null,null,43,null,{"$f":"INDEX(Grup!$M$6:$M$1000,MATCH(Ana_Tablo_Kura!L50,Grup!$P$6:$P$1000,0),1)","v":{"$error":"#N/A"}},{"$f":"IF(H50=0,VLOOKUP(I50,$B$8:$F$267,5,0),VLOOKUP(H50,Kura!$A$4:$Z$350,26,0))","v":{"$error":"#N/A"}},"G44.2",{"$f":"IFERROR(VLOOKUP(K50,Kura!$A$4:$F$1000,6,0),0)","v":0}]
["33-128",169,null,null,"G44.1",{"$f":"VLOOKUP(E51,Grup!$N$5:$AF$1000,3,0)","v":{"$error":"#N/A"}},null,null,44,"33/128",{"$f":"INDEX(Grup!$M$6:$M$1000,MATCH(Ana_Tablo_Kura!L51,Grup!$P$6:$P$1000,0),1)","v":{"$error":"#N/A"}},{"$f":"IF(H51=0,VLOOKUP(I51,$B$8:$F$267,5,0),VLOOKUP(H51,Kura!$A$4:$Z$350,26,0))","v":{"$error":"#N/A"}},"G87.1",{"$f":"IFERROR(VLOOKUP(K51,Kura!$A$4:$F$1000,6,0),0)","v":0}]
["33-128",105,null,null,"G45.1",{"$f":"VLOOKUP(E52,Grup!$N$5:$AF$1000,3,0)","v":{"$error":"#N/A"}},null,null,45,"33/128",{"$f":"INDEX(Grup!$M$6:$M$1000,MATCH(Ana_Tablo_Kura!L52,Grup!$P$6:$P$1000,0),1)","v":{"$error":"#N/A"}},{"$f":"IF(H52=0,VLOOKUP(I52,$B$8:$F$267,5,0),VLOOKUP(H52,Kura!$A$4:$Z$350,26,0))","v":{"$error":"#N/A"}},"G105.1",{"$f":"IFERROR(VLOOKUP(K52,Kura!$A$4:$F$1000,6,0),0)","v":0}]
["33-128",152,null,null,"G46.1",{"$f":"VLOOKUP(E53,Grup!$N$5:$AF$1000,3,0)","v":{"$error":"#N/A"}},null,null,46,null,{"$f":"INDEX(Grup!$M$6:$M$1000,MATCH(Ana_Tablo_Kura!L53,Grup!$P$6:$P$1000,0),1)","v":{"$error":"#N/A"}},{"$f":"IF(H53=0,VLOOKUP(I53,$B$8:$F$267,5,0),VLOOKUP(H53,Kura!$A$4:$Z$350,26,0))","v":{"$error":"#N/A"}},"G45.2",{"$f":"IFERROR(VLOOKUP(K53,Kura!$A$4:$F$1000,6,0),0)","v":0}]
["33-128",24,null,null,"G47.1",{"$f":"VLOOKUP(E54,Grup!$N$5:$AF$1000,3,0)","v":{"$error":"#N/A"}},null,null,47,null,{"$f":"INDEX(Grup!$M$6:$M$1000,MATCH(Ana_Tablo_Kura!L54,Grup!$P$6:$P$1000,0),1)","v":{"$error":"#N/A"}},{"$f":"IF(H54=0,VLOOKUP(I54,$B$8:$F$267,5,0),VLOOKUP(H54,Kura!$A$4:$Z$350,26,0))","v":{"$error":"#N/A"}},"G48.2",{"$f":"IFERROR(VLOOKUP(K54,Kura!$A$4:$F$1000,6,0),0)","v":0}]
["33-128",233,null,null,"G48.1",{"$f":"VLOOKUP(E55,Grup!$N$5:$AF$1000,3,0)","v":{"$error":"#N/A"}},null,null,48,"17/32.1",{"$f":"INDEX(Grup!$M$6:$M$1000,MATCH(Ana_Tablo_Kura!L55,Grup!$P$6:$P$1000,0),1)","v":{"$error":"#N/A"}},{"$f":"IF(H55=0,VLOOKUP(I55,$B$8:$F$267,5,0),VLOOKUP(H55,Kura!$A$4:$Z$350,26,0))","v":{"$error":"#N/A"}},"G23.1",{"$f":"IFERROR(VLOOKUP(K55,Kura!$A$4:$F$1000,6,0),0)","v":0}]
["33-128",25,null,null,"G49.1",{"$f":"VLOOKUP(E56,Grup!$N$5:$AF$1000,3,0)","v":{"$error":"#N/A"}},null,null,49,"17/32.1",{"$f":"INDEX(Grup!$M$6:$M$1000,MATCH(Ana_Tablo_Kura!L56,Grup!$P$6:$P$1000,0),1)","v":{"$error":"#N/A"}},{"$f":"IF(H56=0,VLOOKUP(I56,$B$8:$F$267,5,0),VLOOKUP(H56,Kura!$A$4:$Z$350,26,0))","v":{"$error":"#N/A"}},"G25.1",{"$f":"IFERROR(VLOOKUP(K56,Kura!$A$4:$F$1000,6,0),0)","v":0}]
["33-128",232,null,null,"G50.1",{"$f":"VLOOKUP(E57,Grup!$N$5:$AF$1000,3,0)","v":{"$error":"#N/A"}},null,null,50,null,{"$f":"INDEX(Grup!$M$6:$M$1000,MATCH(Ana_Tablo_Kura!L57,Grup!$P$6:$P$1000,0),1)","v":{"$error":"#N/A"}},{"$f":"IF(H57=0,VLOOKUP(I57,$B$8:$F$267,5,0),VLOOKUP(H57,Kura!$A$4:$Z$350,26,0))","v":{"$error":"#N/A"}},"G49.2",{"$f":"IFERROR(VLOOKUP(K57,Kura!$A$4:$F$1000,6,0),0)","v":0}]
["33-128",104,null,null,"G51.1",{"$f":"VLOOKUP(E58,Grup!$N$5:$AF$1000,3,0)","v":{"$error":"#N/A"}},null,null,51,null,{"$f":"INDEX(Grup!$M$6:$M$1000,MATCH(Ana_Tablo_Kura!L58,Grup!$P$6:$P$1000,0),1)","v":{"$error":"#N/A"}},{"$f":"IF(H58=0,VLOOKUP(I58,$B$8:$F$267,5,0),VLOOKUP(H58,Kura!$A$4:$Z$350,26,0))","v":{"$error":"#N/A"}},"G52.2",{"$f":"IFERROR(VLOOKUP(K58,Kura!$A$4:$F$1000,6,0),0)","v":0}]
["33-128",153,null,null,"G52.1",{"$f":"VLOOKUP(E59,Grup!$N$5:$AF$1000,3,0)","v":{"$error":"#N/A"}},null,null,52,"33/128",{"$f":"INDEX(Grup!$M$6:$M$1000,MATCH(Ana_Tablo_Kura!L59,Grup!$P$6:$P$1000,0),1)","v":{"$error":"#N/A"}},{"$f":"IF(H59=0,VLOOKUP(I59,$B$8:$F$267,5,0),VLOOKUP(H59,Kura!$A$4:$Z$350,26,0))","v":{"$error":"#N/A"}},"G103.1",{"$f":"IFERROR(VLOOKUP(K59,Kura!$A$4:$F$1000,6,0),0)","v":0}]
["33-128",89,null,null,"G53.1",{"$f":"VLOOKUP(E60,Grup!$N$5:$AF$1000,3,0)","v":{"$error":"#N/A"}},null,null,53,"33/128",{"$f":"INDEX(Grup!$M$6:$M$1000,MATCH(Ana_Tablo_Kura!L60,Grup!$P$6:$P$1000,0),1)","v":{"$error":"#N/A"}},{"$f":"IF(H60=0,VLOOKUP(I60,$B$8:$F$267,5,0),VLOOKUP(H60,Kura!$A$4:$Z$350,26,0))","v":{"$error":"#N/A"}},"G89.1",{"$f":"IFERROR(VLOOKUP(K60,Kura!$A$4:$F$1000,6,0),0)","v":0}]
["33-128",168,null,null,"G54.1",{"$f":"VLOOKUP(E61,Grup!$N$5:$AF$1000,3,0)","v":{"$error":"#N/A"}},null,null,54,null,{"$f":"INDEX(Grup!$M$6:$M$1000,MATCH(Ana_Tablo_Kura!L61,Grup!$P$6:$P$1000,0),1)","v":{"$error":"#N/A"}},{"$f":"IF(H61=0,VLOOKUP(I61,$B$8:$F$267,5,0),VLOOKUP(H61,Kura!$A$4:$Z$350,26,0))","v":{"$error":"#N/A"}},"G53.2",{"$f":"IFERROR(VLOOKUP(K61,Kura!$A$4:$F$1000,6,0),0)","v":0}]
["33-128",40,null,null,"G55.1",{"$f":"VLOOKUP(E62,Grup!$N$5:$AF$1000,3,0)","v":{"$error":"#N/A"}},null,null,55,null,{"$f":"INDEX(Grup!$M$6:$M$1000,MATCH(Ana_Tablo_Kura!L62,Grup!$P$6:$P$1000,0),1)","v":{"$error":"#N/A"}},{"$f":"IF(H62=0,VLOOKUP(I62,$B$8:$F$267,5,0),VLOOKUP(H62,Kura!$A$4:$Z$350,26,0))","v":{"$error":"#N/A"}},"G56.2",{"$f":"IFERROR(VLOOKUP(K62,Kura!$A$4:$F$1000,6,0),0)","v":0}]
["33-128",217,null,null,"G56.1",{"$f":"VLOOKUP(E63,Grup!$N$5:$AF$1000,3,0)","v":{"$error":"#N/A"}},null,null,56,"33/128",{"$f":"INDEX(Grup!$M$6:$M$1000,MATCH(Ana_Tablo_Kura!L63,Grup!$P$6:$P$1000,0),1)","v":{"$error":"#N/A"}},{"$f":"IF(H63=0,VLOOKUP(I63,$B$8:$F$267,5,0),VLOOKUP(H63,Kura!$A$4:$Z$350,26,0))","v":{"$error":"#N/A"}},"G39.1",{"$f":"IFERROR(VLOOKUP(K63,Kura!$A$4:$F$1000,6,0),0)","v":0}]
["33-128",57,null,null,"G57.1",{"$f":"VLOOKUP(E64,Grup!$N$5:$AF$1000,3,0)","v":{"$error":"#N/A"}},null,null,57,"33/128",{"$f":"INDEX(Grup!$M$6:$M$1000,MATCH(Ana_Tablo_Kura!L64,Grup!$P$6:$P$1000,0),1)","v":{"$error":"#N/A"}},{"$f":"IF(H64=0,VLOOKUP(I64,$B$8:$F$267,5,0),VLOOKUP(H64,Kura!$A$4:$Z$350,26,0))","v":{"$error":"#N/A"}},"G57.1",{"$f":"IFERROR(VLOOKUP(K64,Kura!$A$4:$F$1000,6,0),0)","v":0}]
["33-128",200,null,null,"G58.1",{"$f":"VLOOKUP(E65,Grup!$N$5:$AF$1000,3,0)","v":{"$error":"#N/A"}},null,null,58,null,{"$f":"INDEX(Grup!$M$6:$M$1000,MATCH(Ana_Tablo_Kura!L65,Grup!$P$6:$P$1000,0),1)","v":{"$error":"#N/A"}},{"$f":"IF(H65=0,VLOOKUP(I65,$B$8:$F$267,5,0),VLOOKUP(H65,Kura!$A$4:$Z$350,26,0))","v":{"$error":"#N/A"}},"G57.2",{"$f":"IFERROR(VLOOKUP(K65,Kura!$A$4:$F$1000,6,0),0)","v":0}]
["33-128",72,null,null,"G59.1",{"$f":"VLOOKUP(E66,Grup!$N$5:$AF$1000,3,0)","v":{"$error":"#N/A"}},null,null,59,null,{"$f":"INDEX(Grup!$M$6:$M$1000,MATCH(Ana_Tablo_Kura!L66,Grup!$P$6:$P$1000,0),1)","v":{"$error":"#N/A"}},{"$f":"IF(H66=0,VLOOKUP(I66,$B$8:$F$267,5,0),VLOOKUP(H66,Kura!$A$4:$Z$350,26,0))","v":{"$error":"#N/A"}},"G60.2",{"$f":"IFERROR(VLOOKUP(K66,Kura!$A$4:$F$1000,6,0),0)","v":0}]
["33-128",185,null,null,"G60.1",{"$f":"VLOOKUP(E67,Grup!$N$5:$AF$1000,3,0)","v":{"$error":"#N/A"}},null,null,60,"33/128",{"$f":"INDEX(Grup!$M$6:$M$1000,MATCH(Ana_Tablo_Kura!L67,Grup!$P$6:$P$1000,0),1)","v":{"$error":"#N/A"}},{"$f":"IF(H67=0,VLOOKUP(I67,$B$8:$F$267,5,0),VLOOKUP(H67,Kura!$A$4:$Z$350,26,0))","v":{"$error":"#N/A"}},"G71.1",{"$f":"IFERROR(VLOOKUP(K67,Kura!$A$4:$F$1000,6,0),0)","v":0}]
["33-128",121,null,null,"G61.1",{"$f":"VLOOKUP(E68,Grup!$N$5:$AF$1000,3,0)","v":{"$error":"#N/A"}},null,null,61,"33/128",{"$f":"INDEX(Grup!$M$6:$M$1000,MATCH(Ana_Tablo_Kura!L68,Grup!$P$6:$P$1000,0),1)","v":{"$error":"#N/A"}},{"$f":"IF(H68=0,VLOOKUP(I68,$B$8:$F$267,5,0),VLOOKUP(H68,Kura!$A$4:$Z$350,26,0))","v":{"$error":"#N/A"}},"G121.1",{"$f":"IFERROR(VLOOKUP(K68,Kura!$A$4:$F$1000,6,0),0)","v":0}]
["33-128",136,null,null,"G62.1",{"$f":"VLOOKUP(E69,Grup!$N$5:$AF$1000,3,0)","v":{"$error":"#N/A"}},null,null,62,null,{"$f":"INDEX(Grup!$M$6:$M$1000,MATCH(Ana_Tablo_Kura!L69,Grup!$P$6:$P$1000,0),1)","v":{"$error":"#N/A"}},{"$f":"IF(H69=0,VLOOKUP(I69,$B$8:$F$267,5,0),VLOOKUP(H69,Kura!$A$4:$Z$350,26,0))","v":{"$error":"#N/A"}},"G61.2",{"$f":"IFERROR(VLOOKUP(K69,Kura!$A$4:$F$1000,6,0),0)","v":0}]
["33-128",249,null,null,"G63.1",{"$f":"VLOOKUP(E70,Grup!$N$5:$AF$1000,3,0)","v":{"$error":"#N/A"}},null,null,63,null,{"$f":"INDEX(Grup!$M$6:$M$1000,MATCH(Ana_Tablo_Kura!L70,Grup!$P$6:$P$1000,0),1)","v":{"$error":"#N/A"}},{"$f":"IF(H70=0,VLOOKUP(I70,$B$8:$F$267,5,0),VLOOKUP(H70,Kura!$A$4:$Z$350,26,0))","v":{"$error":"#N/A"}},"G64.2",{"$f":"IFERROR(VLOOKUP(K70,Kura!$A$4:$F$1000,6,0),0)","v":0}]
["33-128",8,null,null,"G64.1",{"$f":"VLOOKUP(E71,Grup!$N$5:$AF$1000,3,0)","v":{"$error":"#N/A"}},null,null,64,"7/8.1",{"$f":"INDEX(Grup!$M$6:$M$1000,MATCH(Ana_Tablo_Kura!L71,Grup!$P$6:$P$1000,0),1)","v":{"$error":"#N/A"}},{"$f":"IF(H71=0,VLOOKUP(I71,$B$8:$F$267,5,0),VLOOKUP(H71,Kura!$A$4:$Z$350,26,0))","v":{"$error":"#N/A"}},"G8.1",{"$f":"IFERROR(VLOOKUP(K71,Kura!$A$4:$F$1000,6,0),0)","v":0}]
["33-128",5,null,null,"G65.1",{"$f":"VLOOKUP(E72,Grup!$N$5:$AF$1000,3,0)","v":{"$error":"#N/A"}},null,null,65,"5/6.1",{"$f":"INDEX(Grup!$M$6:$M$1000,MATCH(Ana_Tablo_Kura!L72,Grup!$P$6:$P$1000,0),1)","v":{"$error":"#N/A"}},{"$f":"IF(H72=0,VLOOKUP(I72,$B$8:$F$267,5,0),VLOOKUP(H72,Kura!$A$4:$Z$350,26,0))","v":{"$error":"#N/A"}},"G5.1",{"$f":"IFERROR(VLOOKUP(K72,Kura!$A$4:$F$1000,6,0),0)","v":0}]
["33-128",252,null,null,"G66.1",{"$f":"VLOOKUP(E73,Grup!$N$5:$AF$1000,3,0)","v":{"$error":"#N/A"}},null,null,66,null,{"$f":"INDEX(Grup!$M$6:$M$1000,MATCH(Ana_Tablo_Kura!L73,Grup!$P$6:$P$1000,0),1)","v":{"$error":"#N/A"}},{"$f":"IF(H73=0,VLOOKUP(I73,$B$8:$F$267,5,0),VLOOKUP(H73,Kura!$A$4:$Z$350,26,0))","v":{"$error":"#N/A"}},{"$f":"VLOOKUP(I73,$B$8:$F$267,4,0)","v":"G64.2"},{"$f":"IFERROR(VLOOKUP(K73,Kura!$A$4:$F$1000,6,0),0)","v":0}]
["33-128",124,null,null,"G67.1",{"$f":"VLOOKUP(E74,Grup!$N$5:$AF$1000,3,0)","v":{"$error":"#N/A"}},null,null,67,null,{"$f":"INDEX(Grup!$M$6:$M$1000,MATCH(Ana_Tablo_Kura!L74,Grup!$P$6:$P$1000,0),1)","v":{"$error":"#N/A"}},{"$f":"IF(H74=0,VLOOKUP(I74,$B$8:$F$267,5,0),VLOOKUP(H74,Kura!$A$4:$Z$350,26,0))","v":{"$error":"#N/A"}},"G64.2",{"$f":"IFERROR(VLOOKUP(K74,Kura!$A$4:$F$1000,6,0),0)","v":0}]
["33-128",133,null,null,"G68.1",{"$f":"VLOOKUP(E75,Grup!$N$5:$AF$1000,3,0)","v":{"$error":"#N/A"}},null,null,68,"33/128",{"$f":"INDEX(Grup!$M$6:$M$1000,MATCH(Ana_Tablo_Kura!L75,Grup!$P$6:$P$1000,0),1)","v":{"$error":"#N/A"}},{"$f":"IF(H75=0,VLOOKUP(I75,$B$8:$F$267,5,0),VLOOKUP(H75,Kura!$A$4:$Z$350,26,0))","v":{"$error":"#N/A"}},"G123.1",{"$f":"IFERROR(VLOOKUP(K75,Kura!$A$4:$F$1000,6,0),0)","v":0}]
["33-128",69,null,null,"G69.1",{"$f":"VLOOKUP(E76,Grup!$N$5:$AF$1000,3,0)","v":{"$error":"#N/A"}},null,null,69,"33/128",{"$f":"INDEX(Grup!$M$6:$M$1000,MATCH(Ana_Tablo_Kura!L76,Grup!$P$6:$P$1000,0),1)","v":{"$error":"#N/A"}},{"$f":"IF(H76=0,VLOOKUP(I76,$B$8:$F$267,5,0),VLOOKUP(H76,Kura!$A$4:$Z$350,26,0))","v":{"$error":"#N/A"}},"G69.1",{"$f":"IFERROR(VLOOKUP(K76,Kura!$A$4:$F$1000,6,0),0)","v":0}]
["33-128",188,null,null,"G70.1",{"$f":"VLOOKUP(E77,Grup!$N$5:$AF$1000,3,0)","v":{"$error":"#N/A"}},null,null,70,null,{"$f":"INDEX(Grup!$M$6:$M$1000,MATCH(Ana_Tablo_Kura!L77,Grup!$P$6:$P$1000,0),1)","v":{"$error":"#N/A"}},{"$f":"IF(H77=0,VLOOKUP(I77,$B$8:$F$267,5,0),VLOOKUP(H77,Kura!$A$4:$Z$350,26,0))","v":{"$error":"#N/A"}},"G64.2",{"$f":"IFERROR(VLOOKUP(K77,Kura!$A$4:$F$1000,6,0),0)","v":0}]
["33-128",60,null,null,"G71.1",{"$f":"VLOOKUP(E78,Grup!$N$5:$AF$1000,3,0)","v":{"$error":"#N/A"}},null,null,71,null,{"$f":"INDEX(Grup!$M$6:$M$1000,MATCH(Ana_Tablo_Kura!L78,Grup!$P$6:$P$1000,0),1)","v":{"$error":"#N/A"}},{"$f":"IF(H78=0,VLOOKUP(I78,$B$8:$F$267,5,0),VLOOKUP(H78,Kura!$A$4:$Z$350,26,0))","v":{"$error":"#N/A"}},"G64.2",{"$f":"IFERROR(VLOOKUP(K78,Kura!$A$4:$F$1000,6,0),0)","v":0}]
["33-128",197,null,null,"G72.1",{"$f":"VLOOKUP(E79,Grup!$N$5:$AF$1000,3,0)","v":{"$error":"#N/A"}},null,null,72,"33/128",{"$f":"INDEX(Grup!$M$6:$M$1000,MATCH(Ana_Tablo_Kura!L79,Grup!$P$6:$P$1000,0),1)","v":{"$error":"#N/A"}},{"$f":"IF(H79=0,VLOOKUP(I79,$B$8:$F$267,5,0),VLOOKUP(H79,Kura!$A$4:$Z$350,26,0))","v":{"$error":"#N/A"}},"G59.1",{"$f":"IFERROR(VLOOKUP(K79,Kura!$A$4:$F$1000,6,0),0)","v":0}]
["33-128",37,null,null,"G73.1",{"$f":"VLOOKUP(E80,Grup!$N$5:$AF$1000,3,0)","v":{"$error":"#N/A"}},null,null,73,"33/128",{"$f":"INDEX(Grup!$M$6:$M$1000,MATCH(Ana_Tablo_Kura!L80,Grup!$P$6:$P$1000,0),1)","v":{"$error":"#N/A"}},{"$f":"IF(H80=0,VLOOKUP(I80,$B$8:$F$267,5,0),VLOOKUP(H80,Kura!$A$4:$Z$350,26,0))","v":{"$error":"#N/A"}},"G37.1",{"$f":"IFERROR(VLOOKUP(K80,Kura!$A$4:$F$1000,6,0),0)","v":0}]
["33-128",220,null,null,"G74.1",{"$f":"VLOOKUP(E81,Grup!$N$5:$AF$1000,3,0)","v":{"$error":"#N/A"}},null,null,74,null,{"$f":"INDEX(Grup!$M$6:$M$1000,MATCH(Ana_Tablo_Kura!L81,Grup!$P$6:$P$1000,0),1)","v":{"$error":"#N/A"}},{"$f":"IF(H81=0,VLOOKUP(I81,$B$8:$F$267,5,0),VLOOKUP(H81,Kura!$A$4:$Z$350,26,0))","v":{"$error":"#N/A"}},"G64.2",{"$f":"IFERROR(VLOOKUP(K81,Kura!$A$4:$F$1000,6,0),0)","v":0}]
["33-128",92,null,null,"G75.1",{"$f":"VLOOKUP(E82,Grup!$N$5:$AF$1000,3,0)","v":{"$error":"#N/A"}},null,null,75,null,{"$f":"INDEX(Grup!$M$6:$M$1000,MATCH(Ana_Tablo_Kura!L82,Grup!$P$6:$P$1000,0),1)","v":{"$error":"#N/A"}},{"$f":"IF(H82=0,VLOOKUP(I82,$B$8:$F$267,5,0),VLOOKUP(H82,Kura!$A$4:$Z$350,26,0))","v":{"$error":"#N/A"}},"G64.2",{"$f":"IFERROR(VLOOKUP(K82,Kura!$A$4:$F$1000,6,0),0)","v":0}]
["33-128",165,null,null,"G76.1",{"$f":"VLOOKUP(E83,Grup!$N$5:$AF$1000,3,0)","v":{"$error":"#N/A"}},null,null,76,"33/128",{"$f":"INDEX(Grup!$M$6:$M$1000,MATCH(Ana_Tablo_Kura!L83,Grup!$P$6:$P$1000,0),1)","v":{"$error":"#N/A"}},{"$f":"IF(H83=0,VLOOKUP(I83,$B$8:$F$267,5,0),VLOOKUP(H83,Kura!$A$4:$Z$350,26,0))","v":{"$error":"#N/A"}},"G91.1",{"$f":"IFERROR(VLOOKUP(K83,Kura!$A$4:$F$1000,6,0),0)","v":0}]
["33-128",101,null,null,"G77.1",{"$f":"VLOOKUP(E84,Grup!$N$5:$AF$1000,3,0)","v":{"$error":"#N/A"}},null,null,77,"33/128",{"$f":"INDEX(Grup!$M$6:$M$1000,MATCH(Ana_Tablo_Kura!L84,Grup!$P$6:$P$1000,0),1)","v":{"$error":"#N/A"}},{"$f":"IF(H84=0,VLOOKUP(I84,$B$8:$F$267,5,0),VLOOKUP(H84,Kura!$A$4:$Z$350,26,0))","v":{"$error":"#N/A"}},"G101.1",{"$f":"IFERROR(VLOOKUP(K84,Kura!$A$4:$F$1000,6,0),0)","v":0}]
["33-128",156,null,null,"G78.1",{"$f":"VLOOKUP(E85,Grup!$N$5:$AF$1000,3,0)","v":{"$error":"#N/A"}},null,null,78,null,{"$f":"INDEX(Grup!$M$6:$M$1000,MATCH(Ana_Tablo_Kura!L85,Grup!$P$6:$P$1000,0),1)","v":{"$error":"#N/A"}},{"$f":"IF(H85=0,VLOOKUP(I85,$B$8:$F$267,5,0),VLOOKUP(H85,Kura!$A$4:$Z$350,26,0))","v":{"$error":"#N/A"}},"G64.2",{"$f":"IFERROR(VLOOKUP(K85,Kura!$A$4:$F$1000,6,0),0)","v":0}]
["33-128",28,null,null,"G79.1",{"$f":"VLOOKUP(E86,Grup!$N$5:$AF$1000,3,0)","v":{"$error":"#N/A"}},null,null,79,null,{"$f":"INDEX(Grup!$M$6:$M$1000,MATCH(Ana_Tablo_Kura!L86,Grup!$P$6:$P$1000,0),1)","v":{"$error":"#N/A"}},{"$f":"IF(H86=0,VLOOKUP(I86,$B$8:$F$267,5,0),VLOOKUP(H86,Kura!$A$4:$Z$350,26,0))","v":{"$error":"#N/A"}},"G64.2",{"$f":"IFERROR(VLOOKUP(K86,Kura!$A$4:$F$1000,6,0),0)","v":0}]
["33-128",229,null,null,"G80.1",{"$f":"VLOOKUP(E87,Grup!$N$5:$AF$1000,3,0)","v":{"$error":"#N/A"}},null,null,80,"17/32.1",{"$f":"INDEX(Grup!$M$6:$M$1000,MATCH(Ana_Tablo_Kura!L87,Grup!$P$6:$P$1000,0),1)","v":{"$error":"#N/A"}},{"$f":"IF(H87=0,VLOOKUP(I87,$B$8:$F$267,5,0),VLOOKUP(H87,Kura!$A$4:$Z$350,26,0))","v":{"$error":"#N/A"}},"G27.1",{"$f":"IFERROR(VLOOKUP(K87,Kura!$A$4:$F$1000,6,0),0)","v":0}]
["33-128",21,null,null,"G81.1",{"$f":"VLOOKUP(E88,Grup!$N$5:$AF$1000,3,0)","v":{"$error":"#N/A"}},null,null,81,"17/32.1",{"$f":"INDEX(Grup!$M$6:$M$1000,MATCH(Ana_Tablo_Kura!L88,Grup!$P$6:$P$1000,0),1)","v":{"$error":"#N/A"}},{"$f":"IF(H88=0,VLOOKUP(I88,$B$8:$F$267,5,0),VLOOKUP(H88,Kura!$A$4:$Z$350,26,0))","v":{"$error":"#N/A"}},"G21.1",{"$f":"IFERROR(VLOOKUP(K88,Kura!$A$4:$F$1000,6,0),0)","v":0}]
["33-128",236,null,null,"G82.1",{"$f":"VLOOKUP(E89,Grup!$N$5:$AF$1000,3,0)","v":{"$error":"#N/A"}},null,null,82,null,{"$f":"INDEX(Grup!$M$6:$M$1000,MATCH(Ana_Tablo_Kura!L89,Grup!$P$6:$P$1000,0),1)","v":{"$error":"#N/A"}},{"$f":"IF(H89=0,VLOOKUP(I89,$B$8:$F$267,5,0),VLOOKUP(H89,Kura!$A$4:$Z$350,26,0))","v":{"$error":"#N/A"}},"G64.2",{"$f":"IFERROR(VLOOKUP(K89,Kura!$A$4:$F$1000,6,0),0)","v":0}]
["33-128",108,null,null,"G83.1",{"$f":"VLOOKUP(E90,Grup!$N$5:$AF$1000,3,0)","v":{"$error":"#N/A"}},null,null,83,null,{"$f":"INDEX(Grup!$M$6:$M$1000,MATCH(Ana_Tablo_Kura!L90,Grup!$P$6:$P$1000,0),1)","v":{"$error":"#N/A"}},{"$f":"IF(H90=0,VLOOKUP(I90,$B$8:$F$267,5,0),VLOOKUP(H90,Kura!$A$4:$Z$350,26,0))","v":{"$error":"#N/A"}},"G64.2",{"$f":"IFERROR(VLOOKUP(K90,Kura!$A$4:$F$1000,6,0),0)","v":0}]
["33-128",149,null,null,"G84.1",{"$f":"VLOOKUP(E91,Grup!$N$5:$AF$1000,3,0)","v":{"$error":"#N/A"}},null,null,84,"33/128",{"$f":"INDEX(Grup!$M$6:$M$1000,MATCH(Ana_Tablo_Kura!L91,Grup!$P$6:$P$1000,0),1)","v":{"$error":"#N/A"}},{"$f":"IF(H91=0,VLOOKUP(I91,$B$8:$F$267,5,0),VLOOKUP(H91,Kura!$A$4:$Z$350,26,0))","v":{"$error":"#N/A"}},"G107.1",{"$f":"IFERROR(VLOOKUP(K91,Kura!$A$4:$F$1000,6,0),0)","v":0}]
["33-128",85,null,null,"G85.1",{"$f":"VLOOKUP(E92,Grup!$N$5:$AF$1000,3,0)","v":{"$error":"#N/A"}},null,null,85,"33/128",{"$f":"INDEX(Grup!$M$6:$M$1000,MATCH(Ana_Tablo_Kura!L92,Grup!$P$6:$P$1000,0),1)","v":{"$error":"#N/A"}},{"$f":"IF(H92=0,VLOOKUP(I92,$B$8:$F$267,5,0),VLOOKUP(H92,Kura!$A$4:$Z$350,26,0))","v":{"$error":"#N/A"}},"G85.1",{"$f":"IFERROR(VLOOKUP(K92,Kura!$A$4:$F$1000,6,0),0)","v":0}]
["33-128",172,null,null,"G86.1",{"$f":"VLOOKUP(E93,Grup!$N$5:$AF$1000,3,0)","v":{"$error":"#N/A"}},null,null,86,null,{"$f":"INDEX(Grup!$M$6:$M$1000,MATCH(Ana_Tablo_Kura!L93,Grup!$P$6:$P$1000,0),1)","v":{"$error":"#N/A"}},{"$f":"IF(H93=0,VLOOKUP(I93,$B$8:$F$267,5,0),VLOOKUP(H93,Kura!$A$4:$Z$350,26,0))","v":{"$error":"#N/A"}},"G64.2",{"$f":"IFERROR(VLOOKUP(K93,Kura!$A$4:$F$1000,6,0),0)","v":0}]
["33-128",44,null,null,"G87.1",{"$f":"VLOOKUP(E94,Grup!$N$5:$AF$1000,3,0)","v":{"$error":"#N/A"}},null,null,87,null,{"$f":"INDEX(Grup!$M$6:$M$1000,MATCH(Ana_Tablo_Kura!L94,Grup!$P$6:$P$1000,0),1)","v":{"$error":"#N/A"}},{"$f":"IF(H94=0,VLOOKUP(I94,$B$8:$F$267,5,0),VLOOKUP(H94,Kura!$A$4:$Z$350,26,0))","v":{"$error":"#N/A"}},"G64.2",{"$f":"IFERROR(VLOOKUP(K94,Kura!$A$4:$F$1000,6,0),0)","v":0}]
["33-128",213,null,null,"G88.1",{"$f":"VLOOKUP(E95,Grup!$N$5:$AF$1000,3,0)","v":{"$error":"#N/A"}},null,null,88,"33/128",{"$f":"INDEX(Grup!$M$6:$M$1000,MATCH(Ana_Tablo_Kura!L95,Grup!$P$6:$P$1000,0),1)","v":{"$error":"#N/A"}},{"$f":"IF(H95=0,VLOOKUP(I95,$B$8:$F$267,5,0),VLOOKUP(H95,Kura!$A$4:$Z$350,26,0))","v":{"$error":"#N/A"}},"G43.1",{"$f":"IFERROR(VLOOKUP(K95,Kura!$A$4:$F$1000,6,0),0)","v":0}]
["33-128",53,null,null,"G89.1",{"$f":"VLOOKUP(E96,Grup!$N$5:$AF$1000,3,0)","v":{"$error":"#N/A"}},null,null,89,"33/128",{"$f":"INDEX(Grup!$M$6:$M$1000,MATCH(Ana_Tablo_Kura!L96,Grup!$P$6:$P$1000,0),1)","v":{"$error":"#N/A"}},{"$f":"IF(H96=0,VLOOKUP(I96,$B$8:$F$267,5,0),VLOOKUP(H96,Kura!$A$4:$Z$350,26,0))","v":{"$error":"#N/A"}},"G53.1",{"$f":"IFERROR(VLOOKUP(K96,Kura!$A$4:$F$1000,6,0),0)","v":0}]
["33-128",204,null,null,"G90.1",{"$f":"VLOOKUP(E97,Grup!$N$5:$AF$1000,3,0)","v":{"$error":"#N/A"}},null,null,90,null,{"$f":"INDEX(Grup!$M$6:$M$1000,MATCH(Ana_Tablo_Kura!L97,Grup!$P$6:$P$1000,0),1)","v":{"$error":"#N/A"}},{"$f":"IF(H97=0,VLOOKUP(I97,$B$8:$F$267,5,0),VLOOKUP(H97,Kura!$A$4:$Z$350,26,0))","v":{"$error":"#N/A"}},"G64.2",{"$f":"IFERROR(VLOOKUP(K97,Kura!$A$4:$F$1000,6,0),0)","v":0}]
["33-128",76,null,null,"G91.1",{"$f":"VLOOKUP(E98,Grup!$N$5:$AF$1000,3,0)","v":{"$error":"#N/A"}},null,null,91,null,{"$f":"INDEX(Grup!$M$6:$M$1000,MATCH(Ana_Tablo_Kura!L98,Grup!$P$6:$P$1000,0),1)","v":{"$error":"#N/A"}},{"$f":"IF(H98=0,VLOOKUP(I98,$B$8:$F$267,5,0),VLOOKUP(H98,Kura!$A$4:$Z$350,26,0))","v":{"$error":"#N/A"}},"G64.2",{"$f":"IFERROR(VLOOKUP(K98,Kura!$A$4:$F$1000,6,0),0)","v":0}]
["33-128",181,null,null,"G92.1",{"$f":"VLOOKUP(E99,Grup!$N$5:$AF$1000,3,0)","v":{"$error":"#N/A"}},null,null,92,"33/128",{"$f":"INDEX(Grup!$M$6:$M$1000,MATCH(Ana_Tablo_Kura!L99,Grup!$P$6:$P$1000,0),1)","v":{"$error":"#N/A"}},{"$f":"IF(H99=0,VLOOKUP(I99,$B$8:$F$267,5,0),VLOOKUP(H99,Kura!$A$4:$Z$350,26,0))","v":{"$error":"#N/A"}},"G75.1",{"$f":"IFERROR(VLOOKUP(K99,Kura!$A$4:$F$1000,6,0),0)","v":0}]
["33-128",117,null,null,"G93.1",{"$f":"VLOOKUP(E100,Grup!$N$5:$AF$1000,3,0)","v":{"$error":"#N/A"}},null,null,93,"33/128",{"$f":"INDEX(Grup!$M$6:$M$1000,MATCH(Ana_Tablo_Kura!L100,Grup!$P$6:$P$1000,0),1)","v":{"$error":"#N/A"}},{"$f":"IF(H100=0,VLOOKUP(I100,$B$8:$F$267,5,0),VLOOKUP(H100,Kura!$A$4:$Z$350,26,0))","v":{"$error":"#N/A"}},"G117.1",{"$f":"IFERROR(VLOOKUP(K100,Kura!$A$4:$F$1000,6,0),0)","v":0}]
["33-128",140,null,null,"G94.1",{"$f":"VLOOKUP(E101,Grup!$N$5:$AF$1000,3,0)","v":{"$error":"#N/A"}},null,null,94,null,{"$f":"INDEX(Grup!$M$6:$M$1000,MATCH(Ana_Tablo_Kura!L101,Grup!$P$6:$P$1000,0),1)","v":{"$error":"#N/A"}},{"$f":"IF(H101=0,VLOOKUP(I101,$B$8:$F$267,5,0),VLOOKUP(H101,Kura!$A$4:$Z$350,26,0))","v":{"$error":"#N/A"}},"G64.2",{"$f":"IFERROR(VLOOKUP(K101,Kura!$A$4:$F$1000,6,0),0)","v":0}]
["33-128",12,null,null,"G95.1",{"$f":"VLOOKUP(E102,Grup!$N$5:$AF$1000,3,0)","v":{"$error":"#N/A"}},null,null,95,null,{"$f":"INDEX(Grup!$M$6:$M$1000,MATCH(Ana_Tablo_Kura!L102,Grup!$P$6:$P$1000,0),1)","v":{"$error":"#N/A"}},{"$f":"IF(H102=0,VLOOKUP(I102,$B$8:$F$267,5,0),VLOOKUP(H102,Kura!$A$4:$Z$350,26,0))","v":{"$error":"#N/A"}},"G64.2",{"$f":"IFERROR(VLOOKUP(K102,Kura!$A$4:$F$1000,6,0),0)","v":0}]
["33-128",245,null,null,"G96.1",{"$f":"VLOOKUP(E103,Grup!$N$5:$AF$1000,3,0)","v":{"$error":"#N/A"}},null,null,96,"9/12.1",{"$f":"INDEX(Grup!$M$6:$M$1000,MATCH(Ana_Tablo_Kura!L103,Grup!$P$6:$P$1000,0),1)","v":{"$error":"#N/A"}},{"$f":"IF(H103=0,VLOOKUP(I103,$B$8:$F$267,5,0),VLOOKUP(H103,Kura!$A$4:$Z$350,26,0))","v":{"$error":"#N/A"}},"G11.1",{"$f":"IFERROR(VLOOKUP(K103,Kura!$A$4:$F$1000,6,0),0)","v":0}]
["33-128",13,null,null,"G97.1",{"$f":"VLOOKUP(E104,Grup!$N$5:$AF$1000,3,0)","v":{"$error":"#N/A"}},null,null,97,"13/16.1",{"$f":"INDEX(Grup!$M$6:$M$1000,MATCH(Ana_Tablo_Kura!L104,Grup!$P$6:$P$1000,0),1)","v":{"$error":"#N/A"}},{"$f":"IF(H104=0,VLOOKUP(I104,$B$8:$F$267,5,0),VLOOKUP(H104,Kura!$A$4:$Z$350,26,0))","v":{"$error":"#N/A"}},"G13.1",{"$f":"IFERROR(VLOOKUP(K104,Kura!$A$4:$F$1000,6,0),0)","v":0}]
["33-128",244,null,null,"G98.1",{"$f":"VLOOKUP(E105,Grup!$N$5:$AF$1000,3,0)","v":{"$error":"#N/A"}},null,null,98,null,{"$f":"INDEX(Grup!$M$6:$M$1000,MATCH(Ana_Tablo_Kura!L105,Grup!$P$6:$P$1000,0),1)","v":{"$error":"#N/A"}},{"$f":"IF(H105=0,VLOOKUP(I105,$B$8:$F$267,5,0),VLOOKUP(H105,Kura!$A$4:$Z$350,26,0))","v":{"$error":"#N/A"}},"G64.2",{"$f":"IFERROR(VLOOKUP(K105,Kura!$A$4:$F$1000,6,0),0)","v":0}]
["33-128",116,null,null,"G99.1",{"$f":"VLOOKUP(E106,Grup!$N$5:$AF$1000,3,0)","v":{"$error":"#N/A"}},null,null,99,null,{"$f":"INDEX(Grup!$M$6:$M$1000,MATCH(Ana_Tablo_Kura!L106,Grup!$P$6:$P$1000,0),1)","v":{"$error":"#N/A"}},{"$f":"IF(H106=0,VLOOKUP(I106,$B$8:$F$267,5,0),VLOOKUP(H106,Kura!$A$4:$Z$350,26,0))","v":{"$error":"#N/A"}},"G64.2",{"$f":"IFERROR(VLOOKUP(K106,Kura!$A$4:$F$1000,6,0),0)","v":0}]
["33-128",141,null,null,"G100.1",{"$f":"VLOOKUP(E107,Grup!$N$5:$AF$1000,3,0)","v":{"$error":"#N/A"}},null,null,100,"33/128",{"$f":"INDEX(Grup!$M$6:$M$1000,MATCH(Ana_Tablo_Kura!L107,Grup!$P$6:$P$1000,0),1)","v":{"$error":"#N/A"}},{"$f":"IF(H107=0,VLOOKUP(I107,$B$8:$F$267,5,0),VLOOKUP(H107,Kura!$A$4:$Z$350,26,0))","v":{"$error":"#N/A"}},"G115.1",{"$f":"IFERROR(VLOOKUP(K107,Kura!$A$4:$F$1000,6,0),0)","v":0}]
["33-128",77,null,null,"G101.1",{"$f":"VLOOKUP(E108,Grup!$N$5:$AF$1000,3,0)","v":{"$error":"#N/A"}},null,null,101,"33/128",{"$f":"INDEX(Grup!$M$6:$M$1000,MATCH(Ana_Tablo_Kura!L108,Grup!$P$6:$P$1000,0),1)","v":{"$error":"#N/A"}},{"$f":"IF(H108=0,VLOOKUP(I108,$B$8:$F$267,5,0),VLOOKUP(H108,Kura!$A$4:$Z$350,26,0))","v":{"$error":"#N/A"}},"G77.1",{"$f":"IFERROR(VLOOKUP(K108,Kura!$A$4:$F$1000,6,0),0)","v":0}]
["33-128",180,null,null,"G102.1",{"$f":"VLOOKUP(E109,Grup!$N$5:$AF$1000,3,0)","v":{"$error":"#N/A"}},null,null,102,null,{"$f":"INDEX(Grup!$M$6:$M$1000,MATCH(Ana_Tablo_Kura!L109,Grup!$P$6:$P$1000,0),1)","v":{"$error":"#N/A"}},{"$f":"IF(H109=0,VLOOKUP(I109,$B$8:$F$267,5,0),VLOOKUP(H109,Kura!$A$4:$Z$350,26,0))","v":{"$error":"#N/A"}},"G64.2",{"$f":"IFERROR(VLOOKUP(K109,Kura!$A$4:$F$1000,6,0),0)","v":0}]
["33-128",52,null,null,"G103.1",{"$f":"VLOOKUP(E110,Grup!$N$5:$AF$1000,3,0)","v":{"$error":"#N/A"}},null,null,103,null,{"$f":"INDEX(Grup!$M$6:$M$1000,MATCH(Ana_Tablo_Kura!L110,Grup!$P$6:$P$1000,0),1)","v":{"$error":"#N/A"}},{"$f":"IF(H110=0,VLOOKUP(I110,$B$8:$F$267,5,0),VLOOKUP(H110,Kura!$A$4:$Z$350,26,0))","v":{"$error":"#N/A"}},"G64.2",{"$f":"IFERROR(VLOOKUP(K110,Kura!$A$4:$F$1000,6,0),0)","v":0}]
["33-128",205,null,null,"G104.1",{"$f":"VLOOKUP(E111,Grup!$N$5:$AF$1000,3,0)","v":{"$error":"#N/A"}},null,null,104,"33/128",{"$f":"INDEX(Grup!$M$6:$M$1000,MATCH(Ana_Tablo_Kura!L111,Grup!$P$6:$P$1000,0),1)","v":{"$error":"#N/A"}},{"$f":"IF(H111=0,VLOOKUP(I111,$B$8:$F$267,5,0),VLOOKUP(H111,Kura!$A$4:$Z$350,26,0))","v":{"$error":"#N/A"}},"G51.1",{"$f":"IFERROR(VLOOKUP(K111,Kura!$A$4:$F$1000,6,0),0)","v":0}]
["33-128",45,null,null,"G105.1",{"$f":"VLOOKUP(E112,Grup!$N$5:$AF$1000,3,0)","v":{"$error":"#N/A"}},null,null,105,"33/128",{"$f":"INDEX(Grup!$M$6:$M$1000,MATCH(Ana_Tablo_Kura!L112,Grup!$P$6:$P$1000,0),1)","v":{"$error":"#N/A"}},{"$f":"IF(H112=0,VLOOKUP(I112,$B$8:$F$267,5,0),VLOOKUP(H112,Kura!$A$4:$Z$350,26,0))","v":{"$error":"#N/A"}},"G45.1",{"$f":"IFERROR(VLOOKUP(K112,Kura!$A$4:$F$1000,6,0),0)","v":0}]
["33-128",212,null,null,"G106.1",{"$f":"VLOOKUP(E113,Grup!$N$5:$AF$1000,3,0)","v":{"$error":"#N/A"}},null,null,106,null,{"$f":"INDEX(Grup!$M$6:$M$1000,MATCH(Ana_Tablo_Kura!L113,Grup!$P$6:$P$1000,0),1)","v":{"$error":"#N/A"}},{"$f":"IF(H113=0,VLOOKUP(I113,$B$8:$F$267,5,0),VLOOKUP(H113,Kura!$A$4:$Z$350,26,0))","v":{"$error":"#N/A"}},"G64.2",{"$f":"IFERROR(VLOOKUP(K113,Kura!$A$4:$F$1000,6,0),0)","v":0}]
["33-128",84,null,null,"G107.1",{"$f":"VLOOKUP(E114,Grup!$N$5:$AF$1000,3,0)","v":{"$error":"#N/A"}},null,null,107,null,{"$f":"INDEX(Grup!$M$6:$M$1000,MATCH(Ana_Tablo_Kura!L114,Grup!$P$6:$P$1000,0),1)","v":{"$error":"#N/A"}},{"$f":"IF(H114=0,VLOOKUP(I114,$B$8:$F$267,5,0),VLOOKUP(H114,Kura!$A$4:$Z$350,26,0))","v":{"$error":"#N/A"}},"G64.2",{"$f":"IFERROR(VLOOKUP(K114,Kura!$A$4:$F$1000,6,0),0)","v":0}]
["33-128",173,null,null,"G108.1",{"$f":"VLOOKUP(E115,Grup!$N$5:$AF$1000,3,0)","v":{"$error":"#N/A"}},null,null,108,"33/128",{"$f":"INDEX(Grup!$M$6:$M$1000,MATCH(Ana_Tablo_Kura!L115,Grup!$P$6:$P$1000,0),1)","v":{"$error":"#N/A"}},{"$f":"IF(H115=0,VLOOKUP(I115,$B$8:$F$267,5,0),VLOOKUP(H115,Kura!$A$4:$Z$350,26,0))","v":{"$error":"#N/A"}},"G83.1",{"$f":"IFERROR(VLOOKUP(K115,Kura!$A$4:$F$1000,6,0),0)","v":0}]
["33-128",109,null,null,"G109.1",{"$f":"VLOOKUP(E116,Grup!$N$5:$AF$1000,3,0)","v":{"$error":"#N/A"}},null,null,109,"33/128",{"$f":"INDEX(Grup!$M$6:$M$1000,MATCH(Ana_Tablo_Kura!L116,Grup!$P$6:$P$1000,0),1)","v":{"$error":"#N/A"}},{"$f":"IF(H116=0,VLOOKUP(I116,$B$8:$F$267,5,0),VLOOKUP(H116,Kura!$A$4:$Z$350,26,0))","v":{"$error":"#N/A"}},"G109.1",{"$f":"IFERROR(VLOOKUP(K116,Kura!$A$4:$F$1000,6,0),0)","v":0}]
["33-128",148,null,null,"G110.1",{"$f":"VLOOKUP(E117,Grup!$N$5:$AF$1000,3,0)","v":{"$error":"#N/A"}},null,null,110,null,{"$f":"INDEX(Grup!$M$6:$M$1000,MATCH(Ana_Tablo_Kura!L117,Grup!$P$6:$P$1000,0),1)","v":{"$error":"#N/A"}},{"$f":"IF(H117=0,VLOOKUP(I117,$B$8:$F$267,5,0),VLOOKUP(H117,Kura!$A$4:$Z$350,26,0))","v":{"$error":"#N/A"}},"G64.2",{"$f":"IFERROR(VLOOKUP(K117,Kura!$A$4:$F$1000,6,0),0)","v":0}]
["33-128",20,null,null,"G111.1",{"$f":"VLOOKUP(E118,Grup!$N$5:$AF$1000,3,0)","v":{"$error":"#N/A"}},null,null,111,null,{"$f":"INDEX(Grup!$M$6:$M$1000,MATCH(Ana_Tablo_Kura!L118,Grup!$P$6:$P$1000,0),1)","v":{"$error":"#N/A"}},{"$f":"IF(H118=0,VLOOKUP(I118,$B$8:$F$267,5,0),VLOOKUP(H118,Kura!$A$4:$Z$350,26,0))","v":{"$error":"#N/A"}},"G64.2",{"$f":"IFERROR(VLOOKUP(K118,Kura!$A$4:$F$1000,6,0),0)","v":0}]
["33-128",237,null,null,"G112.1",{"$f":"VLOOKUP(E119,Grup!$N$5:$AF$1000,3,0)","v":{"$error":"#N/A"}},null,null,112,"17/32.1",{"$f":"INDEX(Grup!$M$6:$M$1000,MATCH(Ana_Tablo_Kura!L119,Grup!$P$6:$P$1000,0),1)","v":{"$error":"#N/A"}},{"$f":"IF(H119=0,VLOOKUP(I119,$B$8:$F$267,5,0),VLOOKUP(H119,Kura!$A$4:$Z$350,26,0))","v":{"$error":"#N/A"}},"G19.1",{"$f":"IFERROR(VLOOKUP(K119,Kura!$A$4:$F$1000,6,0),0)","v":0}]
["33-128",29,null,null,"G113.1",{"$f":"VLOOKUP(E120,Grup!$N$5:$AF$1000,3,0)","v":{"$error":"#N/A"}},null,null,113,"17/32.1",{"$f":"INDEX(Grup!$M$6:$M$1000,MATCH(Ana_Tablo_Kura!L120,Grup!$P$6:$P$1000,0),1)","v":{"$error":"#N/A"}},{"$f":"IF(H120=0,VLOOKUP(I120,$B$8:$F$267,5,0),VLOOKUP(H120,Kura!$A$4:$Z$350,26,0))","v":{"$error":"#N/A"}},"G29.1",{"$f":"IFERROR(VLOOKUP(K120,Kura!$A$4:$F$1000,6,0),0)","v":0}]
["33-128",228,null,null,"G114.1",{"$f":"VLOOKUP(E121,Grup!$N$5:$AF$1000,3,0)","v":{"$error":"#N/A"}},null,null,114,null,{"$f":"INDEX(Grup!$M$6:$M$1000,MATCH(Ana_Tablo_Kura!L121,Grup!$P$6:$P$1000,0),1)","v":{"$error":"#N/A"}},{"$f":"IF(H121=0,VLOOKUP(I121,$B$8:$F$267,5,0),VLOOKUP(H121,Kura!$A$4:$Z$350,26,0))","v":{"$error":"#N/A"}},"G64.2",{"$f":"IFERROR(VLOOKUP(K121,Kura!$A$4:$F$1000,6,0),0)","v":0}]
["33-128",100,null,null,"G115.1",{"$f":"VLOOKUP(E122,Grup!$N$5:$AF$1000,3,0)","v":{"$error":"#N/A"}},null,null,115,null,{"$f":"INDEX(Grup!$M$6:$M$1000,MATCH(Ana_Tablo_Kura!L122,Grup!$P$6:$P$1000,0),1)","v":{"$error":"#N/A"}},{"$f":"IF(H122=0,VLOOKUP(I122,$B$8:$F$267,5,0),VLOOKUP(H122,Kura!$A$4:$Z$350,26,0))","v":{"$error":"#N/A"}},"G64.2",{"$f":"IFERROR(VLOOKUP(K122,Kura!$A$4:$F$1000,6,0),0)","v":0}]
["33-128",157,null,null,"G116.1",{"$f":"VLOOKUP(E123,Grup!$N$5:$AF$1000,3,0)","v":{"$error":"#N/A"}},null,null,116,"33/128",{"$f":"INDEX(Grup!$M$6:$M$1000,MATCH(Ana_Tablo_Kura!L123,Grup!$P$6:$P$1000,0),1)","v":{"$error":"#N/A"}},{"$f":"IF(H123=0,VLOOKUP(I123,$B$8:$F$267,5,0),VLOOKUP(H123,Kura!$A$4:$Z$350,26,0))","v":{"$error":"#N/A"}},"G99.1",{"$f":"IFERROR(VLOOKUP(K123,Kura!$A$4:$F$1000,6,0),0)","v":0}]
["33-128",93,null,null,"G117.1",{"$f":"VLOOKUP(E124,Grup!$N$5:$AF$1000,3,0)","v":{"$error":"#N/A"}},null,null,117,"33/128",{"$f":"INDEX(Grup!$M$6:$M$1000,MATCH(Ana_Tablo_Kura!L124,Grup!$P$6:$P$1000,0),1)","v":{"$error":"#N/A"}},{"$f":"IF(H124=0,VLOOKUP(I124,$B$8:$F$267,5,0),VLOOKUP(H124,Kura!$A$4:$Z$350,26,0))","v":{"$error":"#N/A"}},"G93.1",{"$f":"IFERROR(VLOOKUP(K124,Kura!$A$4:$F$1000,6,0),0)","v":0}]
["33-128",164,null,null,"G118.1",{"$f":"VLOOKUP(E125,Grup!$N$5:$AF$1000,3,0)","v":{"$error":"#N/A"}},null,null,118,null,{"$f":"INDEX(Grup!$M$6:$M$1000,MATCH(Ana_Tablo_Kura!L125,Grup!$P$6:$P$1000,0),1)","v":{"$error":"#N/A"}},{"$f":"IF(H125=0,VLOOKUP(I125,$B$8:$F$267,5,0),VLOOKUP(H125,Kura!$A$4:$Z$350,26,0))","v":{"$error":"#N/A"}},"G64.2",{"$f":"IFERROR(VLOOKUP(K125,Kura!$A$4:$F$1000,6,0),0)","v":0}]
["33-128",36,null,null,"G119.1",{"$f":"VLOOKUP(E126,Grup!$N$5:$AF$1000,3,0)","v":{"$error":"#N/A"}},null,null,119,null,{"$f":"INDEX(Grup!$M$6:$M$1000,MATCH(Ana_Tablo_Kura!L126,Grup!$P$6:$P$1000,0),1)","v":{"$error":"#N/A"}},{"$f":"IF(H126=0,VLOOKUP(I126,$B$8:$F$267,5,0),VLOOKUP(H126,Kura!$A$4:$Z$350,26,0))","v":{"$error":"#N/A"}},"G64.2",{"$f":"IFERROR(VLOOKUP(K126,Kura!$A$4:$F$1000,6,0),0)","v":0}]
["33-128",221,null,null,"G120.1",{"$f":"VLOOKUP(E127,Grup!$N$5:$AF$1000,3,0)","v":{"$error":"#N/A"}},null,null,120,"33/128",{"$f":"INDEX(Grup!$M$6:$M$1000,MATCH(Ana_Tablo_Kura!L127,Grup!$P$6:$P$1000,0),1)","v":{"$error":"#N/A"}},{"$f":"IF(H127=0,VLOOKUP(I127,$B$8:$F$267,5,0),VLOOKUP(H127,Kura!$A$4:$Z$350,26,0))","v":{"$error":"#N/A"}},"G35.1",{"$f":"IFERROR(VLOOKUP(K127,Kura!$A$4:$F$1000,6,0),0)","v":0}]
["33-128",61,null,null,"G121.1",{"$f":"VLOOKUP(E128,Grup!$N$5:$AF$1000,3,0)","v":{"$error":"#N/A"}},null,null,121,"33/128",{"$f":"INDEX(Grup!$M$6:$M$1000,MATCH(Ana_Tablo_Kura!L128,Grup!$P$6:$P$1000,0),1)","v":{"$error":"#N/A"}},{"$f":"IF(H128=0,VLOOKUP(I128,$B$8:$F$267,5,0),VLOOKUP(H128,Kura!$A$4:$Z$350,26,0))","v":{"$error":"#N/A"}},"G61.1",{"$f":"IFERROR(VLOOKUP(K128,Kura!$A$4:$F$1000,6,0),0)","v":0}]
["33-128",196,null,null,"G122.1",{"$f":"VLOOKUP(E129,Grup!$N$5:$AF$1000,3,0)","v":{"$error":"#N/A"}},null,null,122,null,{"$f":"INDEX(Grup!$M$6:$M$1000,MATCH(Ana_Tablo_Kura!L129,Grup!$P$6:$P$1000,0),1)","v":{"$error":"#N/A"}},{"$f":"IF(H129=0,VLOOKUP(I129,$B$8:$F$267,5,0),VLOOKUP(H129,Kura!$A$4:$Z$350,26,0))","v":{"$error":"#N/A"}},"G64.2",{"$f":"IFERROR(VLOOKUP(K129,Kura!$A$4:$F$1000,6,0),0)","v":0}]
["33-128",68,null,null,"G123.1",{"$f":"VLOOKUP(E130,Grup!$N$5:$AF$1000,3,0)","v":{"$error":"#N/A"}},null,null,123,null,{"$f":"INDEX(Grup!$M$6:$M$1000,MATCH(Ana_Tablo_Kura!L130,Grup!$P$6:$P$1000,0),1)","v":{"$error":"#N/A"}},{"$f":"IF(H130=0,VLOOKUP(I130,$B$8:$F$267,5,0),VLOOKUP(H130,Kura!$A$4:$Z$350,26,0))","v":{"$error":"#N/A"}},"G64.2",{"$f":"IFERROR(VLOOKUP(K130,Kura!$A$4:$F$1000,6,0),0)","v":0}]
["33-128",189,null,null,"G124.1",{"$f":"VLOOKUP(E131,Grup!$N$5:$AF$1000,3,0)","v":{"$error":"#N/A"}},null,null,124,"33/128",{"$f":"INDEX(Grup!$M$6:$M$1000,MATCH(Ana_Tablo_Kura!L131,Grup!$P$6:$P$1000,0),1)","v":{"$error":"#N/A"}},{"$f":"IF(H131=0,VLOOKUP(I131,$B$8:$F$267,5,0),VLOOKUP(H131,Kura!$A$4:$Z$350,26,0))","v":{"$error":"#N/A"}},"G67.1",{"$f":"IFERROR(VLOOKUP(K131,Kura!$A$4:$F$1000,6,0),0)","v":0}]
["33-128",125,null,null,"G125.1",{"$f":"VLOOKUP(E132,Grup!$N$5:$AF$1000,3,0)","v":{"$error":"#N/A"}},null,null,125,"33/128",{"$f":"INDEX(Grup!$M$6:$M$1000,MATCH(Ana_Tablo_Kura!L132,Grup!$P$6:$P$1000,0),1)","v":{"$error":"#N/A"}},{"$f":"IF(H132=0,VLOOKUP(I132,$B$8:$F$267,5,0),VLOOKUP(H132,Kura!$A$4:$Z$350,26,0))","v":{"$error":"#N/A"}},"G125.1",{"$f":"IFERROR(VLOOKUP(K132,Kura!$A$4:$F$1000,6,0),0)","v":0}]
["33-128",132,null,null,"G126.1",{"$f":"VLOOKUP(E133,Grup!$N$5:$AF$1000,3,0)","v":{"$error":"#N/A"}},null,null,126,null,{"$f":"INDEX(Grup!$M$6:$M$1000,MATCH(Ana_Tablo_Kura!L133,Grup!$P$6:$P$1000,0),1)","v":{"$error":"#N/A"}},{"$f":"IF(H133=0,VLOOKUP(I133,$B$8:$F$267,5,0),VLOOKUP(H133,Kura!$A$4:$Z$350,26,0))","v":{"$error":"#N/A"}},"G64.2",{"$f":"IFERROR(VLOOKUP(K133,Kura!$A$4:$F$1000,6,0),0)","v":0}]
["33-128",253,null,null,"G127.1",{"$f":"VLOOKUP(E134,Grup!$N$5:$AF$1000,3,0)","v":{"$error":"#N/A"}},null,null,127,null,{"$f":"INDEX(Grup!$M$6:$M$1000,MATCH(Ana_Tablo_Kura!L134,Grup!$P$6:$P$1000,0),1)","v":{"$error":"#N/A"}},{"$f":"IF(H134=0,VLOOKUP(I134,$B$8:$F$267,5,0),VLOOKUP(H134,Kura!$A$4:$Z$350,26,0))","v":{"$error":"#N/A"}},"G64.2",{"$f":"IFERROR(VLOOKUP(K134,Kura!$A$4:$F$1000,6,0),0)","v":0}]
["33-128",4,null,null,"G128.1",{"$f":"VLOOKUP(E135,Grup!$N$5:$AF$1000,3,0)","v":{"$error":"#N/A"}},null,null,128,"3/4.1",{"$f":"INDEX(Grup!$M$6:$M$1000,MATCH(Ana_Tablo_Kura!L135,Grup!$P$6:$P$1000,0),1)","v":3},{"$f":"IF(H135=0,VLOOKUP(I135,$B$8:$F$267,5,0),VLOOKUP(H135,Kura!$A$4:$Z$350,26,0))","v":"ŞAFAKTEPE SK (A) (ANK)"},"G3.1",{"$f":"IFERROR(VLOOKUP(K135,Kura!$A$4:$F$1000,6,0),0)","v":"ANKARA"}]
[]
[null,"Lower Group Runners-down (↓)",null,null,null,null,null,null,129,"3/4.1",{"$f":"INDEX(Grup!$M$6:$M$1000,MATCH(Ana_Tablo_Kura!L137,Grup!$P$6:$P$1000,0),1)","v":5},{"$f":"IF(H137=0,VLOOKUP(I137,$B$8:$F$267,5,0),VLOOKUP(H137,Kura!$A$4:$Z$350,26,0))","v":"KUTLUBEY OKULLARI (A) (AMS)"},{"$f":"VLOOKUP(I137,$B$8:$F$267,4,0)","v":"G4.1"},{"$f":"IFERROR(VLOOKUP(K137,Kura!$A$4:$F$1000,6,0),0)","v":"AMASYA"}]
[null,130,null,null,{"$f":"IF($E$273=\"G1.1\",\"G1.2\",\"G2.2\")","v":"G1.2"},{"$f":"VLOOKUP(E138,Grup!$N$5:$AF$1000,3,0)","v":"BEŞİKDÜZÜ AYYILDIZ SPOR (A) (TRB)"},null,null,130,null,{"$f":"INDEX(Grup!$M$6:$M$1000,MATCH(Ana_Tablo_Kura!L138,Grup!$P$6:$P$1000,0),1)","v":8},{"$f":"IF(H138=0,VLOOKUP(I138,$B$8:$F$267,5,0),VLOOKUP(H138,Kura!$A$4:$Z$350,26,0))","v":"BEŞİKDÜZÜ AYYILDIZ SPOR (A) (TRB)"},"G1.2",{"$f":"IFERROR(VLOOKUP(K138,Kura!$A$4:$F$1000,6,0),0)","v":"TRABZON"}]
[null,131,null,null,{"$f":"IF($E$276=\"G4.1\",\"G4.2\",\"G3.2\")","v":"G4.2"},{"$f":"VLOOKUP(E139,Grup!$N$5:$AF$1000,3,0)","v":"YALIKÖY ŞBÇ OO (A) (GRS)"},null,null,131,null,{"$f":"INDEX(Grup!$M$6:$M$1000,MATCH(Ana_Tablo_Kura!L139,Grup!$P$6:$P$1000,0),1)","v":4},{"$f":"IF(H139=0,VLOOKUP(I139,$B$8:$F$267,5,0),VLOOKUP(H139,Kura!$A$4:$Z$350,26,0))","v":"YALIKÖY ŞBÇ OO (A) (GRS)"},"G4.2",{"$f":"IFERROR(VLOOKUP(K139,Kura!$A$4:$F$1000,6,0),0)","v":"GİRESUN"}]
[null,134,null,null,{"$f":"IF($E$277=\"G5.1\",\"G5.2\",\"G6.2\")","v":"G5.2"},{"$f":"VLOOKUP(E140,Grup!$N$5:$AF$1000,3,0)","v":{"$error":"#N/A"}},null,null,132,"33/128",{"$f":"INDEX(Grup!$M$6:$M$1000,MATCH(Ana_Tablo_Kura!L140,Grup!$P$6:$P$1000,0),1)","v":{"$error":"#N/A"}},{"$f":"IF(H140=0,VLOOKUP(I140,$B$8:$F$267,5,0),VLOOKUP(H140,Kura!$A$4:$Z$350,26,0))","v":{"$error":"#N/A"}},"G126.1",{"$f":"IFERROR(VLOOKUP(K140,Kura!$A$4:$F$1000,6,0),0)","v":0}]
[null,135,null,null,{"$f":"IF($E$280=\"G7.1\",\"G7.2\",\"G8.2\")","v":"G7.2"},{"$f":"VLOOKUP(E141,Grup!$N$5:$AF$1000,3,0)","v":{"$error":"#N/A"}},null,null,133,"33/128",{"$f":"INDEX(Grup!$M$6:$M$1000,MATCH(Ana_Tablo_Kura!L141,Grup!$P$6:$P$1000,0),1)","v":{"$error":"#N/A"}},{"$f":"IF(H141=0,VLOOKUP(I141,$B$8:$F$267,5,0),VLOOKUP(H141,Kura!$A$4:$Z$350,26,0))","v":{"$error":"#N/A"}},"G68.1",{"$f":"IFERROR(VLOOKUP(K141,Kura!$A$4:$F$1000,6,0),0)","v":0}]
[null,138,null,null,{"$f":"IF($E$281=\"G9.1\",\"G9.2\",IF($E$281=\"G10.1\",\"G10.2\",IF($E$281=\"G11.1\",\"G11.2\",IF($E$281=\"G12.1\",\"G12.2\"))))","v":"G9.2"},{"$f":"VLOOKUP(E142,Grup!$N$5:$AF$1000,3,0)","v":{"$error":"#N/A"}},null,null,134,null,{"$f":"INDEX(Grup!$M$6:$M$1000,MATCH(Ana_Tablo_Kura!L142,Grup!$P$6:$P$1000,0),1)","v":{"$error":"#N/A"}},{"$f":"IF(H142=0,VLOOKUP(I142,$B$8:$F$267,5,0),VLOOKUP(H142,Kura!$A$4:$Z$350,26,0))","v":{"$error":"#N/A"}},"G5.2",{"$f":"IFERROR(VLOOKUP(K142,Kura!$A$4:$F$1000,6,0),0)","v":0}]
[null,139,null,null,{"$f":"IF($E$284=\"G9.1\",\"G9.2\",IF($E$284=\"G10.1\",\"G10.2\",IF($E$284=\"G11.1\",\"G11.2\",IF($E$284=\"G12.1\",\"G12.2\"))))","v":"G12.2"},{"$f":"VLOOKUP(E143,Grup!$N$5:$AF$1000,3,0)","v":{"$error":"#N/A"}},null,null,135,null,{"$f":"INDEX(Grup!$M$6:$M$1000,MATCH(Ana_Tablo_Kura!L143,Grup!$P$6:$P$1000,0),1)","v":{"$error":"#N/A"}},{"$f":"IF(H143=0,VLOOKUP(I143,$B$8:$F$267,5,0),VLOOKUP(H143,Kura!$A$4:$Z$350,26,0))","v":{"$error":"#N/A"}},"G7.2",{"$f":"IFERROR(VLOOKUP(K143,Kura!$A$4:$F$1000,6,0),0)","v":0}]
[null,142,null,null,{"$f":"IF($E$285=\"G13.1\",\"G13.2\",IF($E$285=\"G14.1\",\"G14.2\",IF($E$285=\"G15.1\",\"G15.2\",IF($E$285=\"G16.1\",\"G16.2\"))))","v":"G13.2"},{"$f":"VLOOKUP(E144,Grup!$N$5:$AF$1000,3,0)","v":{"$error":"#N/A"}},null,null,136,"33/128",{"$f":"INDEX(Grup!$M$6:$M$1000,MATCH(Ana_Tablo_Kura!L144,Grup!$P$6:$P$1000,0),1)","v":{"$error":"#N/A"}},{"$f":"IF(H144=0,VLOOKUP(I144,$B$8:$F$267,5,0),VLOOKUP(H144,Kura!$A$4:$Z$350,26,0))","v":{"$error":"#N/A"}},"G62.1",{"$f":"IFERROR(VLOOKUP(K144,Kura!$A$4:$F$1000,6,0),0)","v":0}]
[null,143,null,null,{"$f":"IF($E$288=\"G13.1\",\"G13.2\",IF($E$288=\"G14.1\",\"G14.2\",IF($E$288=\"G15.1\",\"G15.2\",IF($E$288=\"G16.1\",\"G16.2\"))))","v":"G16.2"},{"$f":"VLOOKUP(E145,Grup!$N$5:$AF$1000,3,0)","v":{"$error":"#N/A"}},null,null,137,"33/128",{"$f":"INDEX(Grup!$M$6:$M$1000,MATCH(Ana_Tablo_Kura!L145,Grup!$P$6:$P$1000,0),1)","v":{"$error":"#N/A"}},{"$f":"IF(H145=0,VLOOKUP(I145,$B$8:$F$267,5,0),VLOOKUP(H145,Kura!$A$4:$Z$350,26,0))","v":{"$error":"#N/A"}},"G36.1",{"$f":"IFERROR(VLOOKUP(K145,Kura!$A$4:$F$1000,6,0),0)","v":0}]
[null,146,null,null,{"$f":"IF($E$289=\"G17.1\",\"G17.2\",IF($E$289=\"G18.1\",\"G18.2\",IF($E$289=\"G19.1\",\"G19.2\",IF($E$289=\"G20.1\",\"G20.2\",IF($E$289=\"G21.1\",\"G21.2\",IF($E$289=\"G22.1\",\"G22.2\",IF($E$289=\"G23.1\",\"G23.2\",IF($E$289=\"G24.1\",\"G24.2\",IF($E$289=\"G25.1\",\"G25.2\",IF($E$289=\"G26.1\",\"G26.2\",IF($E$289=\"G27.1\",\"G27.2\",IF($E$289=\"G28.1\",\"G28.2\",IF($E$289=\"G29.1\",\"G29.2\",IF($E$289=\"G30.1\",\"G30.2\",IF($E$289=\"G31.1\",\"G31.2\",IF($E$289=\"G32.1\",\"G32.2\"))))))))))))))))","v":"G17.2"},{"$f":"VLOOKUP(E146,Grup!$N$5:$AF$1000,3,0)","v":{"$error":"#N/A"}},null,null,138,null,{"$f":"INDEX(Grup!$M$6:$M$1000,MATCH(Ana_Tablo_Kura!L146,Grup!$P$6:$P$1000,0),1)","v":{"$error":"#N/A"}},{"$f":"IF(H146=0,VLOOKUP(I146,$B$8:$F$267,5,0),VLOOKUP(H146,Kura!$A$4:$Z$350,26,0))","v":{"$error":"#N/A"}},"G9.2",{"$f":"IFERROR(VLOOKUP(K146,Kura!$A$4:$F$1000,6,0),0)","v":0}]
[null,147,null,null,{"$f":"IF($E$292=\"G17.1\",\"G17.2\",IF($E$292=\"G18.1\",\"G18.2\",IF($E$292=\"G19.1\",\"G19.2\",IF($E$292=\"G20.1\",\"G20.2\",IF($E$292=\"G21.1\",\"G21.2\",IF($E$292=\"G22.1\",\"G22.2\",IF($E$292=\"G23.1\",\"G23.2\",IF($E$292=\"G24.1\",\"G24.2\",IF($E$292=\"G25.1\",\"G25.2\",IF($E$292=\"G26.1\",\"G26.2\",IF($E$292=\"G27.1\",\"G27.2\",IF($E$292=\"G28.1\",\"G28.2\",IF($E$292=\"G29.1\",\"G29.2\",IF($E$292=\"G30.1\",\"G30.2\",IF($E$292=\"G31.1\",\"G31.2\",IF($E$292=\"G32.1\",\"G32.2\"))))))))))))))))","v":"G20.2"},{"$f":"VLOOKUP(E147,Grup!$N$5:$AF$1000,3,0)","v":{"$error":"#N/A"}},null,null,139,null,{"$f":"INDEX(Grup!$M$6:$M$1000,MATCH(Ana_Tablo_Kura!L147,Grup!$P$6:$P$1000,0),1)","v":{"$error":"#N/A"}},{"$f":"IF(H147=0,VLOOKUP(I147,$B$8:$F$267,5,0),VLOOKUP(H147,Kura!$A$4:$Z$350,26,0))","v":{"$error":"#N/A"}},"G12.2",{"$f":"IFERROR(VLOOKUP(K147,Kura!$A$4:$F$1000,6,0),0)","v":0}]
[null,150,null,null,{"$f":"IF($E$293=\"G17.1\",\"G17.2\",IF($E$293=\"G18.1\",\"G18.2\",IF($E$293=\"G19.1\",\"G19.2\",IF($E$293=\"G20.1\",\"G20.2\",IF($E$293=\"G21.1\",\"G21.2\",IF($E$293=\"G22.1\",\"G22.2\",IF($E$293=\"G23.1\",\"G23.2\",IF($E$293=\"G24.1\",\"G24.2\",IF($E$293=\"G25.1\",\"G25.2\",IF($E$293=\"G26.1\",\"G26.2\",IF($E$293=\"G27.1\",\"G27.2\",IF($E$293=\"G28.1\",\"G28.2\",IF($E$293=\"G29.1\",\"G29.2\",IF($E$293=\"G30.1\",\"G30.2\",IF($E$293=\"G31.1\",\"G31.2\",IF($E$293=\"G32.1\",\"G32.2\"))))))))))))))))","v":"G21.2"},{"$f":"VLOOKUP(E148,Grup!$N$5:$AF$1000,3,0)","v":{"$error":"#N/A"}},null,null,140,"33/128",{"$f":"INDEX(Grup!$M$6:$M$1000,MATCH(Ana_Tablo_Kura!L148,Grup!$P$6:$P$1000,0),1)","v":{"$error":"#N/A"}},{"$f":"IF(H148=0,VLOOKUP(I148,$B$8:$F$267,5,0),VLOOKUP(H148,Kura!$A$4:$Z$350,26,0))","v":{"$error":"#N/A"}},"G94.1",{"$f":"IFERROR(VLOOKUP(K148,Kura!$A$4:$F$1000,6,0),0)","v":0}]
[null,151,null,null,{"$f":"IF($E$296=\"G17.1\",\"G17.2\",IF($E$296=\"G18.1\",\"G18.2\",IF($E$296=\"G19.1\",\"G19.2\",IF($E$296=\"G20.1\",\"G20.2\",IF($E$296=\"G21.1\",\"G21.2\",IF($E$296=\"G22.1\",\"G22.2\",IF($E$296=\"G23.1\",\"G23.2\",IF($E$296=\"G24.1\",\"G24.2\",IF($E$296=\"G25.1\",\"G25.2\",IF($E$296=\"G26.1\",\"G26.2\",IF($E$296=\"G27.1\",\"G27.2\",IF($E$296=\"G28.1\",\"G28.2\",IF($E$296=\"G29.1\",\"G29.2\",IF($E$296=\"G30.1\",\"G30.2\",IF($E$296=\"G31.1\",\"G31.2\",IF($E$296=\"G32.1\",\"G32.2\"))))))))))))))))","v":"G24.2"},{"$f":"VLOOKUP(E149,Grup!$N$5:$AF$1000,3,0)","v":{"$error":"#N/A"}},null,null,141,"33/128",{"$f":"INDEX(Grup!$M$6:$M$1000,MATCH(Ana_Tablo_Kura!L149,Grup!$P$6:$P$1000,0),1)","v":{"$error":"#N/A"}},{"$f":"IF(H149=0,VLOOKUP(I149,$B$8:$F$267,5,0),VLOOKUP(H149,Kura!$A$4:$Z$350,26,0))","v":{"$error":"#N/A"}},"G100.1",{"$f":"IFERROR(VLOOKUP(K149,Kura!$A$4:$F$1000,6,0),0)","v":0}]
[null,154,null,null,{"$f":"IF($E$297=\"G17.1\",\"G17.2\",IF($E$297=\"G18.1\",\"G18.2\",IF($E$297=\"G19.1\",\"G19.2\",IF($E$297=\"G20.1\",\"G20.2\",IF($E$297=\"G21.1\",\"G21.2\",IF($E$297=\"G22.1\",\"G22.2\",IF($E$297=\"G23.1\",\"G23.2\",IF($E$297=\"G24.1\",\"G24.2\",IF($E$297=\"G25.1\",\"G25.2\",IF($E$297=\"G26.1\",\"G26.2\",IF($E$297=\"G27.1\",\"G27.2\",IF($E$297=\"G28.1\",\"G28.2\",IF($E$297=\"G29.1\",\"G29.2\",IF($E$297=\"G30.1\",\"G30.2\",IF($E$297=\"G31.1\",\"G31.2\",IF($E$297=\"G32.1\",\"G32.2\"))))))))))))))))","v":"G25.2"},{"$f":"VLOOKUP(E150,Grup!$N$5:$AF$1000,3,0)","v":{"$error":"#N/A"}},null,null,142,null,{"$f":"INDEX(Grup!$M$6:$M$1000,MATCH(Ana_Tablo_Kura!L150,Grup!$P$6:$P$1000,0),1)","v":{"$error":"#N/A"}},{"$f":"IF(H150=0,VLOOKUP(I150,$B$8:$F$267,5,0),VLOOKUP(H150,Kura!$A$4:$Z$350,26,0))","v":{"$error":"#N/A"}},"G13.2",{"$f":"IFERROR(VLOOKUP(K150,Kura!$A$4:$F$1000,6,0),0)","v":0}]
[null,155,null,null,{"$f":"IF($E$300=\"G17.1\",\"G17.2\",IF($E$300=\"G18.1\",\"G18.2\",IF($E$300=\"G19.1\",\"G19.2\",IF($E$300=\"G20.1\",\"G20.2\",IF($E$300=\"G21.1\",\"G21.2\",IF($E$300=\"G22.1\",\"G22.2\",IF($E$300=\"G23.1\",\"G23.2\",IF($E$300=\"G24.1\",\"G24.2\",IF($E$300=\"G25.1\",\"G25.2\",IF($E$300=\"G26.1\",\"G26.2\",IF($E$300=\"G27.1\",\"G27.2\",IF($E$300=\"G28.1\",\"G28.2\",IF($E$300=\"G29.1\",\"G29.2\",IF($E$300=\"G30.1\",\"G30.2\",IF($E$300=\"G31.1\",\"G31.2\",IF($E$300=\"G32.1\",\"G32.2\"))))))))))))))))","v":"G28.2"},{"$f":"VLOOKUP(E151,Grup!$N$5:$AF$1000,3,0)","v":{"$error":"#N/A"}},null,null,143,null,{"$f":"INDEX(Grup!$M$6:$M$1000,MATCH(Ana_Tablo_Kura!L151,Grup!$P$6:$P$1000,0),1)","v":{"$error":"#N/A"}},{"$f":"IF(H151=0,VLOOKUP(I151,$B$8:$F$267,5,0),VLOOKUP(H151,Kura!$A$4:$Z$350,26,0))","v":{"$error":"#N/A"}},"G16.2",{"$f":"IFERROR(VLOOKUP(K151,Kura!$A$4:$F$1000,6,0),0)","v":0}]
[null,158,null,null,{"$f":"IF($E$301=\"G17.1\",\"G17.2\",IF($E$301=\"G18.1\",\"G18.2\",IF($E$301=\"G19.1\",\"G19.2\",IF($E$301=\"G20.1\",\"G20.2\",IF($E$301=\"G21.1\",\"G21.2\",IF($E$301=\"G22.1\",\"G22.2\",IF($E$301=\"G23.1\",\"G23.2\",IF($E$301=\"G24.1\",\"G24.2\",IF($E$301=\"G25.1\",\"G25.2\",IF($E$301=\"G26.1\",\"G26.2\",IF($E$301=\"G27.1\",\"G27.2\",IF($E$301=\"G28.1\",\"G28.2\",IF($E$301=\"G29.1\",\"G29.2\",IF($E$301=\"G30.1\",\"G30.2\",IF($E$301=\"G31.1\",\"G31.2\",IF($E$301=\"G32.1\",\"G32.2\"))))))))))))))))","v":"G29.2"},{"$f":"VLOOKUP(E152,Grup!$N$5:$AF$1000,3,0)","v":{"$error":"#N/A"}},null,null,144,"17/32.1",{"$f":"INDEX(Grup!$M$6:$M$1000,MATCH(Ana_Tablo_Kura!L152,Grup!$P$6:$P$1000,0),1)","v":{"$error":"#N/A"}},{"$f":"IF(H152=0,VLOOKUP(I152,$B$8:$F$267,5,0),VLOOKUP(H152,Kura!$A$4:$Z$350,26,0))","v":{"$error":"#N/A"}},"G30.1",{"$f":"IFERROR(VLOOKUP(K152,Kura!$A$4:$F$1000,6,0),0)","v":0}]
[null,159,null,null,{"$f":"IF($E$304=\"G17.1\",\"G17.2\",IF($E$304=\"G18.1\",\"G18.2\",IF($E$304=\"G19.1\",\"G19.2\",IF($E$304=\"G20.1\",\"G20.2\",IF($E$304=\"G21.1\",\"G21.2\",IF($E$304=\"G22.1\",\"G22.2\",IF($E$304=\"G23.1\",\"G23.2\",IF($E$304=\"G24.1\",\"G24.2\",IF($E$304=\"G25.1\",\"G25.2\",IF($E$304=\"G26.1\",\"G26.2\",IF($E$304=\"G27.1\",\"G27.2\",IF($E$304=\"G28.1\",\"G28.2\",IF($E$304=\"G29.1\",\"G29.2\",IF($E$304=\"G30.1\",\"G30.2\",IF($E$304=\"G31.1\",\"G31.2\",IF($E$304=\"G32.1\",\"G32.2\"))))))))))))))))","v":"G32.2"},{"$f":"VLOOKUP(E153,Grup!$N$5:$AF$1000,3,0)","v":{"$error":"#N/A"}},null,null,145,"17/32.1",{"$f":"INDEX(Grup!$M$6:$M$1000,MATCH(Ana_Tablo_Kura!L153,Grup!$P$6:$P$1000,0),1)","v":{"$error":"#N/A"}},{"$f":"IF(H153=0,VLOOKUP(I153,$B$8:$F$267,5,0),VLOOKUP(H153,Kura!$A$4:$Z$350,26,0))","v":{"$error":"#N/A"}},"G20.1",{"$f":"IFERROR(VLOOKUP(K153,Kura!$A$4:$F$1000,6,0),0)","v":0}]
[null,162,null,null,{"$f":"IF($E$305=\"G33.1\",\"G33.2\",IF($E$305=\"G34.1\",\"G34.2\",IF($E$305=\"G35.1\",\"G35.2\",IF($E$305=\"G36.1\",\"G36.2\",IF($E$305=\"G37.1\",\"G37.2\",IF($E$305=\"G38.1\",\"G38.2\",IF($E$305=\"G39.1\",\"G39.2\",IF($E$305=\"G40.1\",\"G40.2\",IF($E$305=\"G41.1\",\"G41.2\",IF($E$305=\"G42.1\",\"G42.2\",IF($E$305=\"G43.1\",\"G43.2\",IF($E$305=\"G44.1\",\"G44.2\",IF($E$305=\"G45.1\",\"G45.2\",IF($E$305=\"G46.1\",\"G46.2\",IF($E$305=\"G47.1\",\"G47.2\",IF($E$305=\"G48.1\",\"G48.2\",IF($E$305=\"G49.1\",\"G49.2\",IF($E$305=\"G50.1\",\"G50.2\",IF($E$305=\"G51.1\",\"G51.2\",IF($E$305=\"G52.1\",\"G52.2\",IF($E$305=\"G53.1\",\"G53.2\",IF($E$305=\"G54.1\",\"G54.2\",IF($E$305=\"G55.1\",\"G55.2\",IF($E$305=\"G56.1\",\"G56.2\",IF($E$305=\"G57.1\",\"G57.2\",IF($E$305=\"G58.1\",\"G58.2\",IF($E$305=\"G59.1\",\"G59.2\",IF($E$305=\"G60.1\",\"G60.2\",IF($E$305=\"G61.1\",\"G61.2\",IF($E$305=\"G62.1\",\"G62.2\",IF($E$305=\"G63.1\",\"G63.2\",IF($E$305=\"G64.1\",\"G64.2\"))))))))))))))))))))))))))))))))","v":"G33.2"},{"$f":"VLOOKUP(E154,Grup!$N$5:$AF$1000,3,0)","v":{"$error":"#N/A"}},null,null,146,null,{"$f":"INDEX(Grup!$M$6:$M$1000,MATCH(Ana_Tablo_Kura!L154,Grup!$P$6:$P$1000,0),1)","v":{"$error":"#N/A"}},{"$f":"IF(H154=0,VLOOKUP(I154,$B$8:$F$267,5,0),VLOOKUP(H154,Kura!$A$4:$Z$350,26,0))","v":{"$error":"#N/A"}},"G17.2",{"$f":"IFERROR(VLOOKUP(K154,Kura!$A$4:$F$1000,6,0),0)","v":0}]
[null,163,null,null,{"$f":"IF($E$308=\"G33.1\",\"G33.2\",\nIF($E$308=\"G34.1\",\"G34.2\",\nIF($E$308=\"G35.1\",\"G35.2\",\nIF($E$308=\"G36.1\",\"G36.2\",\nIF($E$308=\"G37.1\",\"G37.2\",\nIF($E$308=\"G38.1\",\"G38.2\",\nIF($E$308=\"G39.1\",\"G39.2\",\nIF($E$308=\"G40.1\",\"G40.2\",\nIF($E$308=\"G41.1\",\"G41.2\",\nIF($E$308=\"G42.1\",\"G42.2\",\nIF($E$308=\"G43.1\",\"G43.2\",\nIF($E$308=\"G44.1\",\"G44.2\",\nIF($E$308=\"G45.1\",\"G45.2\",\nIF($E$308=\"G46.1\",\"G46.2\",\nIF($E$308=\"G47.1\",\"G47.2\",\nIF($E$308=\"G48.1\",\"G48.2\",\nIF($E$308=\"G49.1\",\"G49.2\",\nIF($E$308=\"G50.1\",\"G50.2\",\nIF($E$308=\"G51.1\",\"G51.2\",\nIF($E$308=\"G52.1\",\"G52.2\",\nIF($E$308=\"G53.1\",\"G53.2\",\nIF($E$308=\"G54.1\",\"G54.2\",\nIF($E$308=\"G55.1\",\"G55.2\",\nIF($E$308=\"G56.1\",\"G56.2\",\nIF($E$308=\"G57.1\",\"G57.2\",\nIF($E$308=\"G58.1\",\"G58.2\",\nIF($E$308=\"G59.1\",\"G59.2\",\nIF($E$308=\"G60.1\",\"G60.2\",\nIF($E$308=\"G61.1\",\"G61.2\",\nIF($E$308=\"G62.1\",\"G62.2\",\nIF($E$308=\"G63.1\",\"G63.2\",\nIF($E$308=\"G64.1\",\"G64.2\"))))))))))))))))))))))))))))))))","v":"G36.2"},{"$f":"VLOOKUP(E155,Grup!$N$5:$AF$1000,3,0)","v":{"$error":"#N/A"}},null,null,147,null,{"$f":"INDEX(Grup!$M$6:$M$1000,MATCH(Ana_Tablo_Kura!L155,Grup!$P$6:$P$1000,0),1)","v":{"$error":"#N/A"}},{"$f":"IF(H155=0,VLOOKUP(I155,$B$8:$F$267,5,0),VLOOKUP(H155,Kura!$A$4:$Z$350,26,0))","v":{"$error":"#N/A"}},"G20.2",{"$f":"IFERROR(VLOOKUP(K155,Kura!$A$4:$F$1000,6,0),0)","v":0}]
[null,166,null,null,{"$f":"IF($E$309=\"G33.1\",\"G33.2\",\nIF($E$309=\"G34.1\",\"G34.2\",\nIF($E$309=\"G35.1\",\"G35.2\",\nIF($E$309=\"G36.1\",\"G36.2\",\nIF($E$309=\"G37.1\",\"G37.2\",\nIF($E$309=\"G38.1\",\"G38.2\",\nIF($E$309=\"G39.1\",\"G39.2\",\nIF($E$309=\"G40.1\",\"G40.2\",\nIF($E$309=\"G41.1\",\"G41.2\",\nIF($E$309=\"G42.1\",\"G42.2\",\nIF($E$309=\"G43.1\",\"G43.2\",\nIF($E$309=\"G44.1\",\"G44.2\",\nIF($E$309=\"G45.1\",\"G45.2\",\nIF($E$309=\"G46.1\",\"G46.2\",\nIF($E$309=\"G47.1\",\"G47.2\",\nIF($E$309=\"G48.1\",\"G48.2\",\nIF($E$309=\"G49.1\",\"G49.2\",\nIF($E$309=\"G50.1\",\"G50.2\",\nIF($E$309=\"G51.1\",\"G51.2\",\nIF($E$309=\"G52.1\",\"G52.2\",\nIF($E$309=\"G53.1\",\"G53.2\",\nIF($E$309=\"G54.1\",\"G54.2\",\nIF($E$309=\"G55.1\",\"G55.2\",\nIF($E$309=\"G56.1\",\"G56.2\",\nIF($E$309=\"G57.1\",\"G57.2\",\nIF($E$309=\"G58.1\",\"G58.2\",\nIF($E$309=\"G59.1\",\"G59.2\",\nIF($E$309=\"G60.1\",\"G60.2\",\nIF($E$309=\"G61.1\",\"G61.2\",\nIF($E$309=\"G62.1\",\"G62.2\",\nIF($E$309=\"G63.1\",\"G63.2\",\nIF($E$309=\"G64.1\",\"G64.2\"))))))))))))))))))))))))))))))))","v":"G37.2"},{"$f":"VLOOKUP(E156,Grup!$N$5:$AF$1000,3,0)","v":{"$error":"#N/A"}},null,null,148,"33/128",{"$f":"INDEX(Grup!$M$6:$M$1000,MATCH(Ana_Tablo_Kura!L156,Grup!$P$6:$P$1000,0),1)","v":{"$error":"#N/A"}},{"$f":"IF(H156=0,VLOOKUP(I156,$B$8:$F$267,5,0),VLOOKUP(H156,Kura!$A$4:$Z$350,26,0))","v":{"$error":"#N/A"}},"G110.1",{"$f":"IFERROR(VLOOKUP(K156,Kura!$A$4:$F$1000,6,0),0)","v":0}]
[null,167,null,null,{"$f":"IF($E$312=\"G33.1\",\"G33.2\",\nIF($E$312=\"G34.1\",\"G34.2\",\nIF($E$312=\"G35.1\",\"G35.2\",\nIF($E$312=\"G36.1\",\"G36.2\",\nIF($E$312=\"G37.1\",\"G37.2\",\nIF($E$312=\"G38.1\",\"G38.2\",\nIF($E$312=\"G39.1\",\"G39.2\",\nIF($E$312=\"G40.1\",\"G40.2\",\nIF($E$312=\"G41.1\",\"G41.2\",\nIF($E$312=\"G42.1\",\"G42.2\",\nIF($E$312=\"G43.1\",\"G43.2\",\nIF($E$312=\"G44.1\",\"G44.2\",\nIF($E$312=\"G45.1\",\"G45.2\",\nIF($E$312=\"G46.1\",\"G46.2\",\nIF($E$312=\"G47.1\",\"G47.2\",\nIF($E$312=\"G48.1\",\"G48.2\",\nIF($E$312=\"G49.1\",\"G49.2\",\nIF($E$312=\"G50.1\",\"G50.2\",\nIF($E$312=\"G51.1\",\"G51.2\",\nIF($E$312=\"G52.1\",\"G52.2\",\nIF($E$312=\"G53.1\",\"G53.2\",\nIF($E$312=\"G54.1\",\"G54.2\",\nIF($E$312=\"G55.1\",\"G55.2\",\nIF($E$312=\"G56.1\",\"G56.2\",\nIF($E$312=\"G57.1\",\"G57.2\",\nIF($E$312=\"G58.1\",\"G58.2\",\nIF($E$312=\"G59.1\",\"G59.2\",\nIF($E$312=\"G60.1\",\"G60.2\",\nIF($E$312=\"G61.1\",\"G61.2\",\nIF($E$312=\"G62.1\",\"G62.2\",\nIF($E$312=\"G63.1\",\"G63.2\",\nIF($E$312=\"G64.1\",\"G64.2\"))))))))))))))))))))))))))))))))","v":"G40.2"},{"$f":"VLOOKUP(E157,Grup!$N$5:$AF$1000,3,0)","v":{"$error":"#N/A"}},null,null,149,"33/128",{"$f":"INDEX(Grup!$M$6:$M$1000,MATCH(Ana_Tablo_Kura!L157,Grup!$P$6:$P$1000,0),1)","v":{"$error":"#N/A"}},{"$f":"IF(H157=0,VLOOKUP(I157,$B$8:$F$267,5,0),VLOOKUP(H157,Kura!$A$4:$Z$350,26,0))","v":{"$error":"#N/A"}},"G84.1",{"$f":"IFERROR(VLOOKUP(K157,Kura!$A$4:$F$1000,6,0),0)","v":0}]
[null,170,null,null,{"$f":"IF($E$313=\"G33.1\",\"G33.2\",\nIF($E$313=\"G34.1\",\"G34.2\",\nIF($E$313=\"G35.1\",\"G35.2\",\nIF($E$313=\"G36.1\",\"G36.2\",\nIF($E$313=\"G37.1\",\"G37.2\",\nIF($E$313=\"G38.1\",\"G38.2\",\nIF($E$313=\"G39.1\",\"G39.2\",\nIF($E$313=\"G40.1\",\"G40.2\",\nIF($E$313=\"G41.1\",\"G41.2\",\nIF($E$313=\"G42.1\",\"G42.2\",\nIF($E$313=\"G43.1\",\"G43.2\",\nIF($E$313=\"G44.1\",\"G44.2\",\nIF($E$313=\"G45.1\",\"G45.2\",\nIF($E$313=\"G46.1\",\"G46.2\",\nIF($E$313=\"G47.1\",\"G47.2\",\nIF($E$313=\"G48.1\",\"G48.2\",\nIF($E$313=\"G49.1\",\"G49.2\",\nIF($E$313=\"G50.1\",\"G50.2\",\nIF($E$313=\"G51.1\",\"G51.2\",\nIF($E$313=\"G52.1\",\"G52.2\",\nIF($E$313=\"G53.1\",\"G53.2\",\nIF($E$313=\"G54.1\",\"G54.2\",\nIF($E$313=\"G55.1\",\"G55.2\",\nIF($E$313=\"G56.1\",\"G56.2\",\nIF($E$313=\"G57.1\",\"G57.2\",\nIF($E$313=\"G58.1\",\"G58.2\",\nIF($E$313=\"G59.1\",\"G59.2\",\nIF($E$313=\"G60.1\",\"G60.2\",\nIF($E$313=\"G61.1\",\"G61.2\",\nIF($E$313=\"G62.1\",\"G62.2\",\nIF($E$313=\"G63.1\",\"G63.2\",\nIF($E$313=\"G64.1\",\"G64.2\"))))))))))))))))))))))))))))))))","v":"G41.2"},{"$f":"VLOOKUP(E158,Grup!$N$5:$AF$1000,3,0)","v":{"$error":"#N/A"}},null,null,150,null,{"$f":"INDEX(Grup!$M$6:$M$1000,MATCH(Ana_Tablo_Kura!L158,Grup!$P$6:$P$1000,0),1)","v":{"$error":"#N/A"}},{"$f":"IF(H158=0,VLOOKUP(I158,$B$8:$F$267,5,0),VLOOKUP(H158,Kura!$A$4:$Z$350,26,0))","v":{"$error":"#N/A"}},"G21.2",{"$f":"IFERROR(VLOOKUP(K158,Kura!$A$4:$F$1000,6,0),0)","v":0}]
[null,171,null,null,{"$f":"IF($E$316=\"G33.1\",\"G33.2\",\nIF($E$316=\"G34.1\",\"G34.2\",\nIF($E$316=\"G35.1\",\"G35.2\",\nIF($E$316=\"G36.1\",\"G36.2\",\nIF($E$316=\"G37.1\",\"G37.2\",\nIF($E$316=\"G38.1\",\"G38.2\",\nIF($E$316=\"G39.1\",\"G39.2\",\nIF($E$316=\"G40.1\",\"G40.2\",\nIF($E$316=\"G41.1\",\"G41.2\",\nIF($E$316=\"G42.1\",\"G42.2\",\nIF($E$316=\"G43.1\",\"G43.2\",\nIF($E$316=\"G44.1\",\"G44.2\",\nIF($E$316=\"G45.1\",\"G45.2\",\nIF($E$316=\"G46.1\",\"G46.2\",\nIF($E$316=\"G47.1\",\"G47.2\",\nIF($E$316=\"G48.1\",\"G48.2\",\nIF($E$316=\"G49.1\",\"G49.2\",\nIF($E$316=\"G50.1\",\"G50.2\",\nIF($E$316=\"G51.1\",\"G51.2\",\nIF($E$316=\"G52.1\",\"G52.2\",\nIF($E$316=\"G53.1\",\"G53.2\",\nIF($E$316=\"G54.1\",\"G54.2\",\nIF($E$316=\"G55.1\",\"G55.2\",\nIF($E$316=\"G56.1\",\"G56.2\",\nIF($E$316=\"G57.1\",\"G57.2\",\nIF($E$316=\"G58.1\",\"G58.2\",\nIF($E$316=\"G59.1\",\"G59.2\",\nIF($E$316=\"G60.1\",\"G60.2\",\nIF($E$316=\"G61.1\",\"G61.2\",\nIF($E$316=\"G62.1\",\"G62.2\",\nIF($E$316=\"G63.1\",\"G63.2\",\nIF($E$316=\"G64.1\",\"G64.2\"))))))))))))))))))))))))))))))))","v":"G44.2"},{"$f":"VLOOKUP(E159,Grup!$N$5:$AF$1000,3,0)","v":{"$error":"#N/A"}},null,null,151,null,{"$f":"INDEX(Grup!$M$6:$M$1000,MATCH(Ana_Tablo_Kura!L159,Grup!$P$6:$P$1000,0),1)","v":{"$error":"#N/A"}},{"$f":"IF(H159=0,VLOOKUP(I159,$B$8:$F$267,5,0),VLOOKUP(H159,Kura!$A$4:$Z$350,26,0))","v":{"$error":"#N/A"}},"G24.2",{"$f":"IFERROR(VLOOKUP(K159,Kura!$A$4:$F$1000,6,0),0)","v":0}]
[null,174,null,null,{"$f":"IF($E$317=\"G33.1\",\"G33.2\",\nIF($E$317=\"G34.1\",\"G34.2\",\nIF($E$317=\"G35.1\",\"G35.2\",\nIF($E$317=\"G36.1\",\"G36.2\",\nIF($E$317=\"G37.1\",\"G37.2\",\nIF($E$317=\"G38.1\",\"G38.2\",\nIF($E$317=\"G39.1\",\"G39.2\",\nIF($E$317=\"G40.1\",\"G40.2\",\nIF($E$317=\"G41.1\",\"G41.2\",\nIF($E$317=\"G42.1\",\"G42.2\",\nIF($E$317=\"G43.1\",\"G43.2\",\nIF($E$317=\"G44.1\",\"G44.2\",\nIF($E$317=\"G45.1\",\"G45.2\",\nIF($E$317=\"G46.1\",\"G46.2\",\nIF($E$317=\"G47.1\",\"G47.2\",\nIF($E$317=\"G48.1\",\"G48.2\",\nIF($E$317=\"G49.1\",\"G49.2\",\nIF($E$317=\"G50.1\",\"G50.2\",\nIF($E$317=\"G51.1\",\"G51.2\",\nIF($E$317=\"G52.1\",\"G52.2\",\nIF($E$317=\"G53.1\",\"G53.2\",\nIF($E$317=\"G54.1\",\"G54.2\",\nIF($E$317=\"G55.1\",\"G55.2\",\nIF($E$317=\"G56.1\",\"G56.2\",\nIF($E$317=\"G57.1\",\"G57.2\",\nIF($E$317=\"G58.1\",\"G58.2\",\nIF($E$317=\"G59.1\",\"G59.2\",\nIF($E$317=\"G60.1\",\"G60.2\",\nIF($E$317=\"G61.1\",\"G61.2\",\nIF($E$317=\"G62.1\",\"G62.2\",\nIF($E$317=\"G63.1\",\"G63.2\",\nIF($E$317=\"G64.1\",\"G64.2\"))))))))))))))))))))))))))))))))","v":"G45.2"},{"$f":"VLOOKUP(E160,Grup!$N$5:$AF$1000,3,0)","v":{"$error":"#N/A"}},null,null,152,"33/128",{"$f":"INDEX(Grup!$M$6:$M$1000,MATCH(Ana_Tablo_Kura!L160,Grup!$P$6:$P$1000,0),1)","v":{"$error":"#N/A"}},{"$f":"IF(H160=0,VLOOKUP(I160,$B$8:$F$267,5,0),VLOOKUP(H160,Kura!$A$4:$Z$350,26,0))","v":{"$error":"#N/A"}},"G46.1",{"$f":"IFERROR(VLOOKUP(K160,Kura!$A$4:$F$1000,6,0),0)","v":0}]
[null,175,null,null,{"$f":"IF($E$320=\"G33.1\",\"G33.2\",\nIF($E$320=\"G34.1\",\"G34.2\",\nIF($E$320=\"G35.1\",\"G35.2\",\nIF($E$320=\"G36.1\",\"G36.2\",\nIF($E$320=\"G37.1\",\"G37.2\",\nIF($E$320=\"G38.1\",\"G38.2\",\nIF($E$320=\"G39.1\",\"G39.2\",\nIF($E$320=\"G40.1\",\"G40.2\",\nIF($E$320=\"G41.1\",\"G41.2\",\nIF($E$320=\"G42.1\",\"G42.2\",\nIF($E$320=\"G43.1\",\"G43.2\",\nIF($E$320=\"G44.1\",\"G44.2\",\nIF($E$320=\"G45.1\",\"G45.2\",\nIF($E$320=\"G46.1\",\"G46.2\",\nIF($E$320=\"G47.1\",\"G47.2\",\nIF($E$320=\"G48.1\",\"G48.2\",\nIF($E$320=\"G49.1\",\"G49.2\",\nIF($E$320=\"G50.1\",\"G50.2\",\nIF($E$320=\"G51.1\",\"G51.2\",\nIF($E$320=\"G52.1\",\"G52.2\",\nIF($E$320=\"G53.1\",\"G53.2\",\nIF($E$320=\"G54.1\",\"G54.2\",\nIF($E$320=\"G55.1\",\"G55.2\",\nIF($E$320=\"G56.1\",\"G56.2\",\nIF($E$320=\"G57.1\",\"G57.2\",\nIF($E$320=\"G58.1\",\"G58.2\",\nIF($E$320=\"G59.1\",\"G59.2\",\nIF($E$320=\"G60.1\",\"G60.2\",\nIF($E$320=\"G61.1\",\"G61.2\",\nIF($E$320=\"G62.1\",\"G62.2\",\nIF($E$320=\"G63.1\",\"G63.2\",\nIF($E$320=\"G64.1\",\"G64.2\"))))))))))))))))))))))))))))))))","v":"G48.2"},{"$f":"VLOOKUP(E161,Grup!$N$5:$AF$1000,3,0)","v":{"$error":"#N/A"}},null,null,153,"33/128",{"$f":"INDEX(Grup!$M$6:$M$1000,MATCH(Ana_Tablo_Kura!L161,Grup!$P$6:$P$1000,0),1)","v":{"$error":"#N/A"}},{"$f":"IF(H161=0,VLOOKUP(I161,$B$8:$F$267,5,0),VLOOKUP(H161,Kura!$A$4:$Z$350,26,0))","v":{"$error":"#N/A"}},"G52.1",{"$f":"IFERROR(VLOOKUP(K161,Kura!$A$4:$F$1000,6,0),0)","v":0}]
[null,178,null,null,{"$f":"IF($E$321=\"G33.1\",\"G33.2\",\nIF($E$321=\"G34.1\",\"G34.2\",\nIF($E$321=\"G35.1\",\"G35.2\",\nIF($E$321=\"G36.1\",\"G36.2\",\nIF($E$321=\"G37.1\",\"G37.2\",\nIF($E$321=\"G38.1\",\"G38.2\",\nIF($E$321=\"G39.1\",\"G39.2\",\nIF($E$321=\"G40.1\",\"G40.2\",\nIF($E$321=\"G41.1\",\"G41.2\",\nIF($E$321=\"G42.1\",\"G42.2\",\nIF($E$321=\"G43.1\",\"G43.2\",\nIF($E$321=\"G44.1\",\"G44.2\",\nIF($E$321=\"G45.1\",\"G45.2\",\nIF($E$321=\"G46.1\",\"G46.2\",\nIF($E$321=\"G47.1\",\"G47.2\",\nIF($E$321=\"G48.1\",\"G48.2\",\nIF($E$321=\"G49.1\",\"G49.2\",\nIF($E$321=\"G50.1\",\"G50.2\",\nIF($E$321=\"G51.1\",\"G51.2\",\nIF($E$321=\"G52.1\",\"G52.2\",\nIF($E$321=\"G53.1\",\"G53.2\",\nIF($E$321=\"G54.1\",\"G54.2\",\nIF($E$321=\"G55.1\",\"G55.2\",\nIF($E$321=\"G56.1\",\"G56.2\",\nIF($E$321=\"G57.1\",\"G57.2\",\nIF($E$321=\"G58.1\",\"G58.2\",\nIF($E$321=\"G59.1\",\"G59.2\",\nIF($E$321=\"G60.1\",\"G60.2\",\nIF($E$321=\"G61.1\",\"G61.2\",\nIF($E$321=\"G62.1\",\"G62.2\",\nIF($E$321=\"G63.1\",\"G63.2\",\nIF($E$321=\"G64.1\",\"G64.2\"))))))))))))))))))))))))))))))))","v":"G49.2"},{"$f":"VLOOKUP(E162,Grup!$N$5:$AF$1000,3,0)","v":{"$error":"#N/A"}},null,null,154,null,{"$f":"INDEX(Grup!$M$6:$M$1000,MATCH(Ana_Tablo_Kura!L162,Grup!$P$6:$P$1000,0),1)","v":{"$error":"#N/A"}},{"$f":"IF(H162=0,VLOOKUP(I162,$B$8:$F$267,5,0),VLOOKUP(H162,Kura!$A$4:$Z$350,26,0))","v":{"$error":"#N/A"}},"G25.2",{"$f":"IFERROR(VLOOKUP(K162,Kura!$A$4:$F$1000,6,0),0)","v":0}]
[null,179,null,null,{"$f":"IF($E$324=\"G33.1\",\"G33.2\",\nIF($E$324=\"G34.1\",\"G34.2\",\nIF($E$324=\"G35.1\",\"G35.2\",\nIF($E$324=\"G36.1\",\"G36.2\",\nIF($E$324=\"G37.1\",\"G37.2\",\nIF($E$324=\"G38.1\",\"G38.2\",\nIF($E$324=\"G39.1\",\"G39.2\",\nIF($E$324=\"G40.1\",\"G40.2\",\nIF($E$324=\"G41.1\",\"G41.2\",\nIF($E$324=\"G42.1\",\"G42.2\",\nIF($E$324=\"G43.1\",\"G43.2\",\nIF($E$324=\"G44.1\",\"G44.2\",\nIF($E$324=\"G45.1\",\"G45.2\",\nIF($E$324=\"G46.1\",\"G46.2\",\nIF($E$324=\"G47.1\",\"G47.2\",\nIF($E$324=\"G48.1\",\"G48.2\",\nIF($E$324=\"G49.1\",\"G49.2\",\nIF($E$324=\"G50.1\",\"G50.2\",\nIF($E$324=\"G51.1\",\"G51.2\",\nIF($E$324=\"G52.1\",\"G52.2\",\nIF($E$324=\"G53.1\",\"G53.2\",\nIF($E$324=\"G54.1\",\"G54.2\",\nIF($E$324=\"G55.1\",\"G55.2\",\nIF($E$324=\"G56.1\",\"G56.2\",\nIF($E$324=\"G57.1\",\"G57.2\",\nIF($E$324=\"G58.1\",\"G58.2\",\nIF($E$324=\"G59.1\",\"G59.2\",\nIF($E$324=\"G60.1\",\"G60.2\",\nIF($E$324=\"G61.1\",\"G61.2\",\nIF($E$324=\"G62.1\",\"G62.2\",\nIF($E$324=\"G63.1\",\"G63.2\",\nIF($E$324=\"G64.1\",\"G64.2\"))))))))))))))))))))))))))))))))","v":"G52.2"},{"$f":"VLOOKUP(E163,Grup!$N$5:$AF$1000,3,0)","v":{"$error":"#N/A"}},null,null,155,null,{"$f":"INDEX(Grup!$M$6:$M$1000,MATCH(Ana_Tablo_Kura!L163,Grup!$P$6:$P$1000,0),1)","v":{"$error":"#N/A"}},{"$f":"IF(H163=0,VLOOKUP(I163,$B$8:$F$267,5,0),VLOOKUP(H163,Kura!$A$4:$Z$350,26,0))","v":{"$error":"#N/A"}},"G28.2",{"$f":"IFERROR(VLOOKUP(K163,Kura!$A$4:$F$1000,6,0),0)","v":0}]
[null,182,null,null,{"$f":"IF($E$325=\"G33.1\",\"G33.2\",\nIF($E$325=\"G34.1\",\"G34.2\",\nIF($E$325=\"G35.1\",\"G35.2\",\nIF($E$325=\"G36.1\",\"G36.2\",\nIF($E$325=\"G37.1\",\"G37.2\",\nIF($E$325=\"G38.1\",\"G38.2\",\nIF($E$325=\"G39.1\",\"G39.2\",\nIF($E$325=\"G40.1\",\"G40.2\",\nIF($E$325=\"G41.1\",\"G41.2\",\nIF($E$325=\"G42.1\",\"G42.2\",\nIF($E$325=\"G43.1\",\"G43.2\",\nIF($E$325=\"G44.1\",\"G44.2\",\nIF($E$325=\"G45.1\",\"G45.2\",\nIF($E$325=\"G46.1\",\"G46.2\",\nIF($E$325=\"G47.1\",\"G47.2\",\nIF($E$325=\"G48.1\",\"G48.2\",\nIF($E$325=\"G49.1\",\"G49.2\",\nIF($E$325=\"G50.1\",\"G50.2\",\nIF($E$325=\"G51.1\",\"G51.2\",\nIF($E$325=\"G52.1\",\"G52.2\",\nIF($E$325=\"G53.1\",\"G53.2\",\nIF($E$325=\"G54.1\",\"G54.2\",\nIF($E$325=\"G55.1\",\"G55.2\",\nIF($E$325=\"G56.1\",\"G56.2\",\nIF($E$325=\"G57.1\",\"G57.2\",\nIF($E$325=\"G58.1\",\"G58.2\",\nIF($E$325=\"G59.1\",\"G59.2\",\nIF($E$325=\"G60.1\",\"G60.2\",\nIF($E$325=\"G61.1\",\"G61.2\",\nIF($E$325=\"G62.1\",\"G62.2\",\nIF($E$325=\"G63.1\",\"G63.2\",\nIF($E$325=\"G64.1\",\"G64.2\"))))))))))))))))))))))))))))))))","v":"G53.2"},{"$f":"VLOOKUP(E164,Grup!$N$5:$AF$1000,3,0)","v":{"$error":"#N/A"}},null,null,156,"33/128",{"$f":"INDEX(Grup!$M$6:$M$1000,MATCH(Ana_Tablo_Kura!L164,Grup!$P$6:$P$1000,0),1)","v":{"$error":"#N/A"}},{"$f":"IF(H164=0,VLOOKUP(I164,$B$8:$F$267,5,0),VLOOKUP(H164,Kura!$A$4:$Z$350,26,0))","v":{"$error":"#N/A"}},"G78.1",{"$f":"IFERROR(VLOOKUP(K164,Kura!$A$4:$F$1000,6,0),0)","v":0}]
[null,183,null,null,{"$f":"IF($E$328=\"G33.1\",\"G33.2\",\nIF($E$328=\"G34.1\",\"G34.2\",\nIF($E$328=\"G35.1\",\"G35.2\",\nIF($E$328=\"G36.1\",\"G36.2\",\nIF($E$328=\"G37.1\",\"G37.2\",\nIF($E$328=\"G38.1\",\"G38.2\",\nIF($E$328=\"G39.1\",\"G39.2\",\nIF($E$328=\"G40.1\",\"G40.2\",\nIF($E$328=\"G41.1\",\"G41.2\",\nIF($E$328=\"G42.1\",\"G42.2\",\nIF($E$328=\"G43.1\",\"G43.2\",\nIF($E$328=\"G44.1\",\"G44.2\",\nIF($E$328=\"G45.1\",\"G45.2\",\nIF($E$328=\"G46.1\",\"G46.2\",\nIF($E$328=\"G47.1\",\"G47.2\",\nIF($E$328=\"G48.1\",\"G48.2\",\nIF($E$328=\"G49.1\",\"G49.2\",\nIF($E$328=\"G50.1\",\"G50.2\",\nIF($E$328=\"G51.1\",\"G51.2\",\nIF($E$328=\"G52.1\",\"G52.2\",\nIF($E$328=\"G53.1\",\"G53.2\",\nIF($E$328=\"G54.1\",\"G54.2\",\nIF($E$328=\"G55.1\",\"G55.2\",\nIF($E$328=\"G56.1\",\"G56.2\",\nIF($E$328=\"G57.1\",\"G57.2\",\nIF($E$328=\"G58.1\",\"G58.2\",\nIF($E$328=\"G59.1\",\"G59.2\",\nIF($E$328=\"G60.1\",\"G60.2\",\nIF($E$328=\"G61.1\",\"G61.2\",\nIF($E$328=\"G62.1\",\"G62.2\",\nIF($E$328=\"G63.1\",\"G63.2\",\nIF($E$328=\"G64.1\",\"G64.2\"))))))))))))))))))))))))))))))))","v":"G56.2"},{"$f":"VLOOKUP(E165,Grup!$N$5:$AF$1000,3,0)","v":{"$error":"#N/A"}},null,null,157,"33/128",{"$f":"INDEX(Grup!$M$6:$M$1000,MATCH(Ana_Tablo_Kura!L165,Grup!$P$6:$P$1000,0),1)","v":{"$error":"#N/A"}},{"$f":"IF(H165=0,VLOOKUP(I165,$B$8:$F$267,5,0),VLOOKUP(H165,Kura!$A$4:$Z$350,26,0))","v":{"$error":"#N/A"}},"G116.1",{"$f":"IFERROR(VLOOKUP(K165,Kura!$A$4:$F$1000,6,0),0)","v":0}]
[null,186,null,null,{"$f":"IF($E$329=\"G33.1\",\"G33.2\",\nIF($E$329=\"G34.1\",\"G34.2\",\nIF($E$329=\"G35.1\",\"G35.2\",\nIF($E$329=\"G36.1\",\"G36.2\",\nIF($E$329=\"G37.1\",\"G37.2\",\nIF($E$329=\"G38.1\",\"G38.2\",\nIF($E$329=\"G39.1\",\"G39.2\",\nIF($E$329=\"G40.1\",\"G40.2\",\nIF($E$329=\"G41.1\",\"G41.2\",\nIF($E$329=\"G42.1\",\"G42.2\",\nIF($E$329=\"G43.1\",\"G43.2\",\nIF($E$329=\"G44.1\",\"G44.2\",\nIF($E$329=\"G45.1\",\"G45.2\",\nIF($E$329=\"G46.1\",\"G46.2\",\nIF($E$329=\"G47.1\",\"G47.2\",\nIF($E$329=\"G48.1\",\"G48.2\",\nIF($E$329=\"G49.1\",\"G49.2\",\nIF($E$329=\"G50.1\",\"G50.2\",\nIF($E$329=\"G51.1\",\"G51.2\",\nIF($E$329=\"G52.1\",\"G52.2\",\nIF($E$329=\"G53.1\",\"G53.2\",\nIF($E$329=\"G54.1\",\"G54.2\",\nIF($E$329=\"G55.1\",\"G55.2\",\nIF($E$329=\"G56.1\",\"G56.2\",\nIF($E$329=\"G57.1\",\"G57.2\",\nIF($E$329=\"G58.1\",\"G58.2\",\nIF($E$329=\"G59.1\",\"G59.2\",\nIF($E$329=\"G60.1\",\"G60.2\",\nIF($E$329=\"G61.1\",\"G61.2\",\nIF($E$329=\"G62.1\",\"G62.2\",\nIF($E$329=\"G63.1\",\"G63.2\",\nIF($E$329=\"G64.1\",\"G64.2\"))))))))))))))))))))))))))))))))","v":"G57.2"},{"$f":"VLOOKUP(E166,Grup!$N$5:$AF$1000,3,0)","v":{"$error":"#N/A"}},null,null,158,null,{"$f":"INDEX(Grup!$M$6:$M$1000,MATCH(Ana_Tablo_Kura!L166,Grup!$P$6:$P$1000,0),1)","v":{"$error":"#N/A"}},{"$f":"IF(H166=0,VLOOKUP(I166,$B$8:$F$267,5,0),VLOOKUP(H166,Kura!$A$4:$Z$350,26,0))","v":{"$error":"#N/A"}},"G29.2",{"$f":"IFERROR(VLOOKUP(K166,Kura!$A$4:$F$1000,6,0),0)","v":0}]
[null,187,null,null,{"$f":"IF($E$332=\"G33.1\",\"G33.2\",\nIF($E$332=\"G34.1\",\"G34.2\",\nIF($E$332=\"G35.1\",\"G35.2\",\nIF($E$332=\"G36.1\",\"G36.2\",\nIF($E$332=\"G37.1\",\"G37.2\",\nIF($E$332=\"G38.1\",\"G38.2\",\nIF($E$332=\"G39.1\",\"G39.2\",\nIF($E$332=\"G40.1\",\"G40.2\",\nIF($E$332=\"G41.1\",\"G41.2\",\nIF($E$332=\"G42.1\",\"G42.2\",\nIF($E$332=\"G43.1\",\"G43.2\",\nIF($E$332=\"G44.1\",\"G44.2\",\nIF($E$332=\"G45.1\",\"G45.2\",\nIF($E$332=\"G46.1\",\"G46.2\",\nIF($E$332=\"G47.1\",\"G47.2\",\nIF($E$332=\"G48.1\",\"G48.2\",\nIF($E$332=\"G49.1\",\"G49.2\",\nIF($E$332=\"G50.1\",\"G50.2\",\nIF($E$332=\"G51.1\",\"G51.2\",\nIF($E$332=\"G52.1\",\"G52.2\",\nIF($E$332=\"G53.1\",\"G53.2\",\nIF($E$332=\"G54.1\",\"G54.2\",\nIF($E$332=\"G55.1\",\"G55.2\",\nIF($E$332=\"G56.1\",\"G56.2\",\nIF($E$332=\"G57.1\",\"G57.2\",\nIF($E$332=\"G58.1\",\"G58.2\",\nIF($E$332=\"G59.1\",\"G59.2\",\nIF($E$332=\"G60.1\",\"G60.2\",\nIF($E$332=\"G61.1\",\"G61.2\",\nIF($E$332=\"G62.1\",\"G62.2\",\nIF($E$332=\"G63.1\",\"G63.2\",\nIF($E$332=\"G64.1\",\"G64.2\"))))))))))))))))))))))))))))))))","v":"G60.2"},{"$f":"VLOOKUP(E167,Grup!$N$5:$AF$1000,3,0)","v":{"$error":"#N/A"}},null,null,159,null,{"$f":"INDEX(Grup!$M$6:$M$1000,MATCH(Ana_Tablo_Kura!L167,Grup!$P$6:$P$1000,0),1)","v":{"$error":"#N/A"}},{"$f":"IF(H167=0,VLOOKUP(I167,$B$8:$F$267,5,0),VLOOKUP(H167,Kura!$A$4:$Z$350,26,0))","v":{"$error":"#N/A"}},"G32.2",{"$f":"IFERROR(VLOOKUP(K167,Kura!$A$4:$F$1000,6,0),0)","v":0}]
[null,190,null,null,{"$f":"IF($E$333=\"G33.1\",\"G33.2\",\nIF($E$333=\"G34.1\",\"G34.2\",\nIF($E$333=\"G35.1\",\"G35.2\",\nIF($E$333=\"G36.1\",\"G36.2\",\nIF($E$333=\"G37.1\",\"G37.2\",\nIF($E$333=\"G38.1\",\"G38.2\",\nIF($E$333=\"G39.1\",\"G39.2\",\nIF($E$333=\"G40.1\",\"G40.2\",\nIF($E$333=\"G41.1\",\"G41.2\",\nIF($E$333=\"G42.1\",\"G42.2\",\nIF($E$333=\"G43.1\",\"G43.2\",\nIF($E$333=\"G44.1\",\"G44.2\",\nIF($E$333=\"G45.1\",\"G45.2\",\nIF($E$333=\"G46.1\",\"G46.2\",\nIF($E$333=\"G47.1\",\"G47.2\",\nIF($E$333=\"G48.1\",\"G48.2\",\nIF($E$333=\"G49.1\",\"G49.2\",\nIF($E$333=\"G50.1\",\"G50.2\",\nIF($E$333=\"G51.1\",\"G51.2\",\nIF($E$333=\"G52.1\",\"G52.2\",\nIF($E$333=\"G53.1\",\"G53.2\",\nIF($E$333=\"G54.1\",\"G54.2\",\nIF($E$333=\"G55.1\",\"G55.2\",\nIF($E$333=\"G56.1\",\"G56.2\",\nIF($E$333=\"G57.1\",\"G57.2\",\nIF($E$333=\"G58.1\",\"G58.2\",\nIF($E$333=\"G59.1\",\"G59.2\",\nIF($E$333=\"G60.1\",\"G60.2\",\nIF($E$333=\"G61.1\",\"G61.2\",\nIF($E$333=\"G62.1\",\"G62.2\",\nIF($E$333=\"G63.1\",\"G63.2\",\nIF($E$333=\"G64.1\",\"G64.2\"))))))))))))))))))))))))))))))))","v":"G61.2"},{"$f":"VLOOKUP(E168,Grup!$N$5:$AF$1000,3,0)","v":{"$error":"#N/A"}},null,null,160,"13/16.1",{"$f":"INDEX(Grup!$M$6:$M$1000,MATCH(Ana_Tablo_Kura!L168,Grup!$P$6:$P$1000,0),1)","v":{"$error":"#N/A"}},{"$f":"IF(H168=0,VLOOKUP(I168,$B$8:$F$267,5,0),VLOOKUP(H168,Kura!$A$4:$Z$350,26,0))","v":{"$error":"#N/A"}},"G14.1",{"$f":"IFERROR(VLOOKUP(K168,Kura!$A$4:$F$1000,6,0),0)","v":0}]
[null,191,null,null,{"$f":"IF($E$336=\"G33.1\",\"G33.2\",\nIF($E$336=\"G34.1\",\"G34.2\",\nIF($E$336=\"G35.1\",\"G35.2\",\nIF($E$336=\"G36.1\",\"G36.2\",\nIF($E$336=\"G37.1\",\"G37.2\",\nIF($E$336=\"G38.1\",\"G38.2\",\nIF($E$336=\"G39.1\",\"G39.2\",\nIF($E$336=\"G40.1\",\"G40.2\",\nIF($E$336=\"G41.1\",\"G41.2\",\nIF($E$336=\"G42.1\",\"G42.2\",\nIF($E$336=\"G43.1\",\"G43.2\",\nIF($E$336=\"G44.1\",\"G44.2\",\nIF($E$336=\"G45.1\",\"G45.2\",\nIF($E$336=\"G46.1\",\"G46.2\",\nIF($E$336=\"G47.1\",\"G47.2\",\nIF($E$336=\"G48.1\",\"G48.2\",\nIF($E$336=\"G49.1\",\"G49.2\",\nIF($E$336=\"G50.1\",\"G50.2\",\nIF($E$336=\"G51.1\",\"G51.2\",\nIF($E$336=\"G52.1\",\"G52.2\",\nIF($E$336=\"G53.1\",\"G53.2\",\nIF($E$336=\"G54.1\",\"G54.2\",\nIF($E$336=\"G55.1\",\"G55.2\",\nIF($E$336=\"G56.1\",\"G56.2\",\nIF($E$336=\"G57.1\",\"G57.2\",\nIF($E$336=\"G58.1\",\"G58.2\",\nIF($E$336=\"G59.1\",\"G59.2\",\nIF($E$336=\"G60.1\",\"G60.2\",\nIF($E$336=\"G61.1\",\"G61.2\",\nIF($E$336=\"G62.1\",\"G62.2\",\nIF($E$336=\"G63.1\",\"G63.2\",\nIF($E$336=\"G64.1\",\"G64.2\"))))))))))))))))))))))))))))))))","v":"G64.2"},{"$f":"VLOOKUP(E169,Grup!$N$5:$AF$1000,3,0)","v":{"$error":"#N/A"}},null,null,161,"9/12.1",{"$f":"INDEX(Grup!$M$6:$M$1000,MATCH(Ana_Tablo_Kura!L169,Grup!$P$6:$P$1000,0),1)","v":{"$error":"#N/A"}},{"$f":"IF(H169=0,VLOOKUP(I169,$B$8:$F$267,5,0),VLOOKUP(H169,Kura!$A$4:$Z$350,26,0))","v":{"$error":"#N/A"}},"G12.1",{"$f":"IFERROR(VLOOKUP(K169,Kura!$A$4:$F$1000,6,0),0)","v":0}]
[null,194,null,null,"G64.2",{"$f":"VLOOKUP(E170,Grup!$N$5:$AF$1000,3,0)","v":{"$error":"#N/A"}},null,null,162,null,{"$f":"INDEX(Grup!$M$6:$M$1000,MATCH(Ana_Tablo_Kura!L170,Grup!$P$6:$P$1000,0),1)","v":{"$error":"#N/A"}},{"$f":"IF(H170=0,VLOOKUP(I170,$B$8:$F$267,5,0),VLOOKUP(H170,Kura!$A$4:$Z$350,26,0))","v":{"$error":"#N/A"}},"G33.2",{"$f":"IFERROR(VLOOKUP(K170,Kura!$A$4:$F$1000,6,0),0)","v":0}]
[null,195,null,null,"G64.2",{"$f":"VLOOKUP(E171,Grup!$N$5:$AF$1000,3,0)","v":{"$error":"#N/A"}},null,null,163,null,{"$f":"INDEX(Grup!$M$6:$M$1000,MATCH(Ana_Tablo_Kura!L171,Grup!$P$6:$P$1000,0),1)","v":{"$error":"#N/A"}},{"$f":"IF(H171=0,VLOOKUP(I171,$B$8:$F$267,5,0),VLOOKUP(H171,Kura!$A$4:$Z$350,26,0))","v":{"$error":"#N/A"}},"G36.2",{"$f":"IFERROR(VLOOKUP(K171,Kura!$A$4:$F$1000,6,0),0)","v":0}]
[null,198,null,null,"G64.2",{"$f":"VLOOKUP(E172,Grup!$N$5:$AF$1000,3,0)","v":{"$error":"#N/A"}},null,null,164,"33/128",{"$f":"INDEX(Grup!$M$6:$M$1000,MATCH(Ana_Tablo_Kura!L172,Grup!$P$6:$P$1000,0),1)","v":{"$error":"#N/A"}},{"$f":"IF(H172=0,VLOOKUP(I172,$B$8:$F$267,5,0),VLOOKUP(H172,Kura!$A$4:$Z$350,26,0))","v":{"$error":"#N/A"}},"G118.1",{"$f":"IFERROR(VLOOKUP(K172,Kura!$A$4:$F$1000,6,0),0)","v":0}]
[null,199,null,null,"G64.2",{"$f":"VLOOKUP(E173,Grup!$N$5:$AF$1000,3,0)","v":{"$error":"#N/A"}},null,null,165,"33/128",{"$f":"INDEX(Grup!$M$6:$M$1000,MATCH(Ana_Tablo_Kura!L173,Grup!$P$6:$P$1000,0),1)","v":{"$error":"#N/A"}},{"$f":"IF(H173=0,VLOOKUP(I173,$B$8:$F$267,5,0),VLOOKUP(H173,Kura!$A$4:$Z$350,26,0))","v":{"$error":"#N/A"}},"G76.1",{"$f":"IFERROR(VLOOKUP(K173,Kura!$A$4:$F$1000,6,0),0)","v":0}]
[null,202,null,null,"G64.2",{"$f":"VLOOKUP(E174,Grup!$N$5:$AF$1000,3,0)","v":{"$error":"#N/A"}},null,null,166,null,{"$f":"INDEX(Grup!$M$6:$M$1000,MATCH(Ana_Tablo_Kura!L174,Grup!$P$6:$P$1000,0),1)","v":{"$error":"#N/A"}},{"$f":"IF(H174=0,VLOOKUP(I174,$B$8:$F$267,5,0),VLOOKUP(H174,Kura!$A$4:$Z$350,26,0))","v":{"$error":"#N/A"}},"G37.2",{"$f":"IFERROR(VLOOKUP(K174,Kura!$A$4:$F$1000,6,0),0)","v":0}]
[null,203,null,null,"G64.2",{"$f":"VLOOKUP(E175,Grup!$N$5:$AF$1000,3,0)","v":{"$error":"#N/A"}},null,null,167,null,{"$f":"INDEX(Grup!$M$6:$M$1000,MATCH(Ana_Tablo_Kura!L175,Grup!$P$6:$P$1000,0),1)","v":{"$error":"#N/A"}},{"$f":"IF(H175=0,VLOOKUP(I175,$B$8:$F$267,5,0),VLOOKUP(H175,Kura!$A$4:$Z$350,26,0))","v":{"$error":"#N/A"}},"G40.2",{"$f":"IFERROR(VLOOKUP(K175,Kura!$A$4:$F$1000,6,0),0)","v":0}]
[null,206,null,null,"G64.2",{"$f":"VLOOKUP(E176,Grup!$N$5:$AF$1000,3,0)","v":{"$error":"#N/A"}},null,null,168,"33/128",{"$f":"INDEX(Grup!$M$6:$M$1000,MATCH(Ana_Tablo_Kura!L176,Grup!$P$6:$P$1000,0),1)","v":{"$error":"#N/A"}},{"$f":"IF(H176=0,VLOOKUP(I176,$B$8:$F$267,5,0),VLOOKUP(H176,Kura!$A$4:$Z$350,26,0))","v":{"$error":"#N/A"}},"G54.1",{"$f":"IFERROR(VLOOKUP(K176,Kura!$A$4:$F$1000,6,0),0)","v":0}]
[null,207,null,null,"G64.2",{"$f":"VLOOKUP(E177,Grup!$N$5:$AF$1000,3,0)","v":{"$error":"#N/A"}},null,null,169,"33/128",{"$f":"INDEX(Grup!$M$6:$M$1000,MATCH(Ana_Tablo_Kura!L177,Grup!$P$6:$P$1000,0),1)","v":{"$error":"#N/A"}},{"$f":"IF(H177=0,VLOOKUP(I177,$B$8:$F$267,5,0),VLOOKUP(H177,Kura!$A$4:$Z$350,26,0))","v":{"$error":"#N/A"}},"G44.1",{"$f":"IFERROR(VLOOKUP(K177,Kura!$A$4:$F$1000,6,0),0)","v":0}]
[null,210,null,null,"G64.2",{"$f":"VLOOKUP(E178,Grup!$N$5:$AF$1000,3,0)","v":{"$error":"#N/A"}},null,null,170,null,{"$f":"INDEX(Grup!$M$6:$M$1000,MATCH(Ana_Tablo_Kura!L178,Grup!$P$6:$P$1000,0),1)","v":{"$error":"#N/A"}},{"$f":"IF(H178=0,VLOOKUP(I178,$B$8:$F$267,5,0),VLOOKUP(H178,Kura!$A$4:$Z$350,26,0))","v":{"$error":"#N/A"}},"G41.2",{"$f":"IFERROR(VLOOKUP(K178,Kura!$A$4:$F$1000,6,0),0)","v":0}]
[null,211,null,null,"G64.2",{"$f":"VLOOKUP(E179,Grup!$N$5:$AF$1000,3,0)","v":{"$error":"#N/A"}},null,null,171,null,{"$f":"INDEX(Grup!$M$6:$M$1000,MATCH(Ana_Tablo_Kura!L179,Grup!$P$6:$P$1000,0),1)","v":{"$error":"#N/A"}},{"$f":"IF(H179=0,VLOOKUP(I179,$B$8:$F$267,5,0),VLOOKUP(H179,Kura!$A$4:$Z$350,26,0))","v":{"$error":"#N/A"}},"G44.2",{"$f":"IFERROR(VLOOKUP(K179,Kura!$A$4:$F$1000,6,0),0)","v":0}]
[null,214,null,null,"G64.2",{"$f":"VLOOKUP(E180,Grup!$N$5:$AF$1000,3,0)","v":{"$error":"#N/A"}},null,null,172,"33/128",{"$f":"INDEX(Grup!$M$6:$M$1000,MATCH(Ana_Tablo_Kura!L180,Grup!$P$6:$P$1000,0),1)","v":{"$error":"#N/A"}},{"$f":"IF(H180=0,VLOOKUP(I180,$B$8:$F$267,5,0),VLOOKUP(H180,Kura!$A$4:$Z$350,26,0))","v":{"$error":"#N/A"}},"G86.1",{"$f":"IFERROR(VLOOKUP(K180,Kura!$A$4:$F$1000,6,0),0)","v":0}]
[null,215,null,null,"G64.2",{"$f":"VLOOKUP(E181,Grup!$N$5:$AF$1000,3,0)","v":{"$error":"#N/A"}},null,null,173,"33/128",{"$f":"INDEX(Grup!$M$6:$M$1000,MATCH(Ana_Tablo_Kura!L181,Grup!$P$6:$P$1000,0),1)","v":{"$error":"#N/A"}},{"$f":"IF(H181=0,VLOOKUP(I181,$B$8:$F$267,5,0),VLOOKUP(H181,Kura!$A$4:$Z$350,26,0))","v":{"$error":"#N/A"}},"G108.1",{"$f":"IFERROR(VLOOKUP(K181,Kura!$A$4:$F$1000,6,0),0)","v":0}]
[null,218,null,null,"G64.2",{"$f":"VLOOKUP(E182,Grup!$N$5:$AF$1000,3,0)","v":{"$error":"#N/A"}},null,null,174,null,{"$f":"INDEX(Grup!$M$6:$M$1000,MATCH(Ana_Tablo_Kura!L182,Grup!$P$6:$P$1000,0),1)","v":{"$error":"#N/A"}},{"$f":"IF(H182=0,VLOOKUP(I182,$B$8:$F$267,5,0),VLOOKUP(H182,Kura!$A$4:$Z$350,26,0))","v":{"$error":"#N/A"}},"G45.2",{"$f":"IFERROR(VLOOKUP(K182,Kura!$A$4:$F$1000,6,0),0)","v":0}]
[null,219,null,null,"G64.2",{"$f":"VLOOKUP(E183,Grup!$N$5:$AF$1000,3,0)","v":{"$error":"#N/A"}},null,null,175,null,{"$f":"INDEX(Grup!$M$6:$M$1000,MATCH(Ana_Tablo_Kura!L183,Grup!$P$6:$P$1000,0),1)","v":{"$error":"#N/A"}},{"$f":"IF(H183=0,VLOOKUP(I183,$B$8:$F$267,5,0),VLOOKUP(H183,Kura!$A$4:$Z$350,26,0))","v":{"$error":"#N/A"}},"G48.2",{"$f":"IFERROR(VLOOKUP(K183,Kura!$A$4:$F$1000,6,0),0)","v":0}]
[null,222,null,null,"G64.2",{"$f":"VLOOKUP(E184,Grup!$N$5:$AF$1000,3,0)","v":{"$error":"#N/A"}},null,null,176,"17/32.1",{"$f":"INDEX(Grup!$M$6:$M$1000,MATCH(Ana_Tablo_Kura!L184,Grup!$P$6:$P$1000,0),1)","v":{"$error":"#N/A"}},{"$f":"IF(H184=0,VLOOKUP(I184,$B$8:$F$267,5,0),VLOOKUP(H184,Kura!$A$4:$Z$350,26,0))","v":{"$error":"#N/A"}},"G22.1",{"$f":"IFERROR(VLOOKUP(K184,Kura!$A$4:$F$1000,6,0),0)","v":0}]
[null,223,null,null,"G64.2",{"$f":"VLOOKUP(E185,Grup!$N$5:$AF$1000,3,0)","v":{"$error":"#N/A"}},null,null,177,"17/32.1",{"$f":"INDEX(Grup!$M$6:$M$1000,MATCH(Ana_Tablo_Kura!L185,Grup!$P$6:$P$1000,0),1)","v":{"$error":"#N/A"}},{"$f":"IF(H185=0,VLOOKUP(I185,$B$8:$F$267,5,0),VLOOKUP(H185,Kura!$A$4:$Z$350,26,0))","v":{"$error":"#N/A"}},"G28.1",{"$f":"IFERROR(VLOOKUP(K185,Kura!$A$4:$F$1000,6,0),0)","v":0}]
[null,226,null,null,"G64.2",{"$f":"VLOOKUP(E186,Grup!$N$5:$AF$1000,3,0)","v":{"$error":"#N/A"}},null,null,178,null,{"$f":"INDEX(Grup!$M$6:$M$1000,MATCH(Ana_Tablo_Kura!L186,Grup!$P$6:$P$1000,0),1)","v":{"$error":"#N/A"}},{"$f":"IF(H186=0,VLOOKUP(I186,$B$8:$F$267,5,0),VLOOKUP(H186,Kura!$A$4:$Z$350,26,0))","v":{"$error":"#N/A"}},"G49.2",{"$f":"IFERROR(VLOOKUP(K186,Kura!$A$4:$F$1000,6,0),0)","v":0}]
[null,227,null,null,"G64.2",{"$f":"VLOOKUP(E187,Grup!$N$5:$AF$1000,3,0)","v":{"$error":"#N/A"}},null,null,179,null,{"$f":"INDEX(Grup!$M$6:$M$1000,MATCH(Ana_Tablo_Kura!L187,Grup!$P$6:$P$1000,0),1)","v":{"$error":"#N/A"}},{"$f":"IF(H187=0,VLOOKUP(I187,$B$8:$F$267,5,0),VLOOKUP(H187,Kura!$A$4:$Z$350,26,0))","v":{"$error":"#N/A"}},"G52.2",{"$f":"IFERROR(VLOOKUP(K187,Kura!$A$4:$F$1000,6,0),0)","v":0}]
[null,230,null,null,"G64.2",{"$f":"VLOOKUP(E188,Grup!$N$5:$AF$1000,3,0)","v":{"$error":"#N/A"}},null,null,180,"33/128",{"$f":"INDEX(Grup!$M$6:$M$1000,MATCH(Ana_Tablo_Kura!L188,Grup!$P$6:$P$1000,0),1)","v":{"$error":"#N/A"}},{"$f":"IF(H188=0,VLOOKUP(I188,$B$8:$F$267,5,0),VLOOKUP(H188,Kura!$A$4:$Z$350,26,0))","v":{"$error":"#N/A"}},"G102.1",{"$f":"IFERROR(VLOOKUP(K188,Kura!$A$4:$F$1000,6,0),0)","v":0}]
[null,231,null,null,"G64.2",{"$f":"VLOOKUP(E189,Grup!$N$5:$AF$1000,3,0)","v":{"$error":"#N/A"}},null,null,181,"33/128",{"$f":"INDEX(Grup!$M$6:$M$1000,MATCH(Ana_Tablo_Kura!L189,Grup!$P$6:$P$1000,0),1)","v":{"$error":"#N/A"}},{"$f":"IF(H189=0,VLOOKUP(I189,$B$8:$F$267,5,0),VLOOKUP(H189,Kura!$A$4:$Z$350,26,0))","v":{"$error":"#N/A"}},"G92.1",{"$f":"IFERROR(VLOOKUP(K189,Kura!$A$4:$F$1000,6,0),0)","v":0}]
[null,234,null,null,"G64.2",{"$f":"VLOOKUP(E190,Grup!$N$5:$AF$1000,3,0)","v":{"$error":"#N/A"}},null,null,182,null,{"$f":"INDEX(Grup!$M$6:$M$1000,MATCH(Ana_Tablo_Kura!L190,Grup!$P$6:$P$1000,0),1)","v":{"$error":"#N/A"}},{"$f":"IF(H190=0,VLOOKUP(I190,$B$8:$F$267,5,0),VLOOKUP(H190,Kura!$A$4:$Z$350,26,0))","v":{"$error":"#N/A"}},"G53.2",{"$f":"IFERROR(VLOOKUP(K190,Kura!$A$4:$F$1000,6,0),0)","v":0}]
[null,235,null,null,"G64.2",{"$f":"VLOOKUP(E191,Grup!$N$5:$AF$1000,3,0)","v":{"$error":"#N/A"}},null,null,183,null,{"$f":"INDEX(Grup!$M$6:$M$1000,MATCH(Ana_Tablo_Kura!L191,Grup!$P$6:$P$1000,0),1)","v":{"$error":"#N/A"}},{"$f":"IF(H191=0,VLOOKUP(I191,$B$8:$F$267,5,0),VLOOKUP(H191,Kura!$A$4:$Z$350,26,0))","v":{"$error":"#N/A"}},"G56.2",{"$f":"IFERROR(VLOOKUP(K191,Kura!$A$4:$F$1000,6,0),0)","v":0}]
[null,238,null,null,"G64.2",{"$f":"VLOOKUP(E192,Grup!$N$5:$AF$1000,3,0)","v":{"$error":"#N/A"}},null,null,184,"33/128",{"$f":"INDEX(Grup!$M$6:$M$1000,MATCH(Ana_Tablo_Kura!L192,Grup!$P$6:$P$1000,0),1)","v":{"$error":"#N/A"}},{"$f":"IF(H192=0,VLOOKUP(I192,$B$8:$F$267,5,0),VLOOKUP(H192,Kura!$A$4:$Z$350,26,0))","v":{"$error":"#N/A"}},"G38.1",{"$f":"IFERROR(VLOOKUP(K192,Kura!$A$4:$F$1000,6,0),0)","v":0}]
[null,239,null,null,"G64.2",{"$f":"VLOOKUP(E193,Grup!$N$5:$AF$1000,3,0)","v":{"$error":"#N/A"}},null,null,185,"33/128",{"$f":"INDEX(Grup!$M$6:$M$1000,MATCH(Ana_Tablo_Kura!L193,Grup!$P$6:$P$1000,0),1)","v":{"$error":"#N/A"}},{"$f":"IF(H193=0,VLOOKUP(I193,$B$8:$F$267,5,0),VLOOKUP(H193,Kura!$A$4:$Z$350,26,0))","v":{"$error":"#N/A"}},"G60.1",{"$f":"IFERROR(VLOOKUP(K193,Kura!$A$4:$F$1000,6,0),0)","v":0}]
[null,242,null,null,"G64.2",{"$f":"VLOOKUP(E194,Grup!$N$5:$AF$1000,3,0)","v":{"$error":"#N/A"}},null,null,186,null,{"$f":"INDEX(Grup!$M$6:$M$1000,MATCH(Ana_Tablo_Kura!L194,Grup!$P$6:$P$1000,0),1)","v":{"$error":"#N/A"}},{"$f":"IF(H194=0,VLOOKUP(I194,$B$8:$F$267,5,0),VLOOKUP(H194,Kura!$A$4:$Z$350,26,0))","v":{"$error":"#N/A"}},"G57.2",{"$f":"IFERROR(VLOOKUP(K194,Kura!$A$4:$F$1000,6,0),0)","v":0}]
[null,243,null,null,"G64.2",{"$f":"VLOOKUP(E195,Grup!$N$5:$AF$1000,3,0)","v":{"$error":"#N/A"}},null,null,187,null,{"$f":"INDEX(Grup!$M$6:$M$1000,MATCH(Ana_Tablo_Kura!L195,Grup!$P$6:$P$1000,0),1)","v":{"$error":"#N/A"}},{"$f":"IF(H195=0,VLOOKUP(I195,$B$8:$F$267,5,0),VLOOKUP(H195,Kura!$A$4:$Z$350,26,0))","v":{"$error":"#N/A"}},"G60.2",{"$f":"IFERROR(VLOOKUP(K195,Kura!$A$4:$F$1000,6,0),0)","v":0}]
[null,246,null,null,"G64.2",{"$f":"VLOOKUP(E196,Grup!$N$5:$AF$1000,3,0)","v":{"$error":"#N/A"}},null,null,188,"33/128",{"$f":"INDEX(Grup!$M$6:$M$1000,MATCH(Ana_Tablo_Kura!L196,Grup!$P$6:$P$1000,0),1)","v":{"$error":"#N/A"}},{"$f":"IF(H196=0,VLOOKUP(I196,$B$8:$F$267,5,0),VLOOKUP(H196,Kura!$A$4:$Z$350,26,0))","v":{"$error":"#N/A"}},"G70.1",{"$f":"IFERROR(VLOOKUP(K196,Kura!$A$4:$F$1000,6,0),0)","v":0}]
[null,247,null,null,"G64.2",{"$f":"VLOOKUP(E197,Grup!$N$5:$AF$1000,3,0)","v":{"$error":"#N/A"}},null,null,189,"33/128",{"$f":"INDEX(Grup!$M$6:$M$1000,MATCH(Ana_Tablo_Kura!L197,Grup!$P$6:$P$1000,0),1)","v":{"$error":"#N/A"}},{"$f":"IF(H197=0,VLOOKUP(I197,$B$8:$F$267,5,0),VLOOKUP(H197,Kura!$A$4:$Z$350,26,0))","v":{"$error":"#N/A"}},"G124.1",{"$f":"IFERROR(VLOOKUP(K197,Kura!$A$4:$F$1000,6,0),0)","v":0}]
[null,250,null,null,"G64.2",{"$f":"VLOOKUP(E198,Grup!$N$5:$AF$1000,3,0)","v":{"$error":"#N/A"}},null,null,190,null,{"$f":"INDEX(Grup!$M$6:$M$1000,MATCH(Ana_Tablo_Kura!L198,Grup!$P$6:$P$1000,0),1)","v":{"$error":"#N/A"}},{"$f":"IF(H198=0,VLOOKUP(I198,$B$8:$F$267,5,0),VLOOKUP(H198,Kura!$A$4:$Z$350,26,0))","v":{"$error":"#N/A"}},"G61.2",{"$f":"IFERROR(VLOOKUP(K198,Kura!$A$4:$F$1000,6,0),0)","v":0}]
[null,251,null,null,"G64.2",{"$f":"VLOOKUP(E199,Grup!$N$5:$AF$1000,3,0)","v":{"$error":"#N/A"}},null,null,191,null,{"$f":"INDEX(Grup!$M$6:$M$1000,MATCH(Ana_Tablo_Kura!L199,Grup!$P$6:$P$1000,0),1)","v":{"$error":"#N/A"}},{"$f":"IF(H199=0,VLOOKUP(I199,$B$8:$F$267,5,0),VLOOKUP(H199,Kura!$A$4:$Z$350,26,0))","v":{"$error":"#N/A"}},"G64.2",{"$f":"IFERROR(VLOOKUP(K199,Kura!$A$4:$F$1000,6,0),0)","v":0}]
[null,254,null,null,"G64.2",{"$f":"VLOOKUP(E200,Grup!$N$5:$AF$1000,3,0)","v":{"$error":"#N/A"}},null,null,192,"5/6.1",{"$f":"INDEX(Grup!$M$6:$M$1000,MATCH(Ana_Tablo_Kura!L200,Grup!$P$6:$P$1000,0),1)","v":{"$error":"#N/A"}},{"$f":"IF(H200=0,VLOOKUP(I200,$B$8:$F$267,5,0),VLOOKUP(H200,Kura!$A$4:$Z$350,26,0))","v":{"$error":"#N/A"}},"G6.1",{"$f":"IFERROR(VLOOKUP(K200,Kura!$A$4:$F$1000,6,0),0)","v":0}]
[null,255,null,null,"G64.2",{"$f":"VLOOKUP(E201,Grup!$N$5:$AF$1000,3,0)","v":{"$error":"#N/A"}},null,null,193,"7/8.1",{"$f":"INDEX(Grup!$M$6:$M$1000,MATCH(Ana_Tablo_Kura!L201,Grup!$P$6:$P$1000,0),1)","v":{"$error":"#N/A"}},{"$f":"IF(H201=0,VLOOKUP(I201,$B$8:$F$267,5,0),VLOOKUP(H201,Kura!$A$4:$Z$350,26,0))","v":{"$error":"#N/A"}},{"$f":"VLOOKUP(I201,$B$8:$F$267,4,0)","v":"G7.1"},{"$f":"IFERROR(VLOOKUP(K201,Kura!$A$4:$F$1000,6,0),0)","v":0}]
[null,null,null,null,null,null,null,null,194,null,{"$f":"INDEX(Grup!$M$6:$M$1000,MATCH(Ana_Tablo_Kura!L202,Grup!$P$6:$P$1000,0),1)","v":{"$error":"#N/A"}},{"$f":"IF(H202=0,VLOOKUP(I202,$B$8:$F$267,5,0),VLOOKUP(H202,Kura!$A$4:$Z$350,26,0))","v":{"$error":"#N/A"}},"G64.2",{"$f":"IFERROR(VLOOKUP(K202,Kura!$A$4:$F$1000,6,0),0)","v":0}]
[null,"Upper Group Runners-up (↑)",null,null,null,null,null,null,195,null,{"$f":"INDEX(Grup!$M$6:$M$1000,MATCH(Ana_Tablo_Kura!L203,Grup!$P$6:$P$1000,0),1)","v":{"$error":"#N/A"}},{"$f":"IF(H203=0,VLOOKUP(I203,$B$8:$F$267,5,0),VLOOKUP(H203,Kura!$A$4:$Z$350,26,0))","v":{"$error":"#N/A"}},"G64.2",{"$f":"IFERROR(VLOOKUP(K203,Kura!$A$4:$F$1000,6,0),0)","v":0}]
[null,2,null,null,{"$f":"IF($E$273=\"G1.1\",\"G1.2\",\"G2.2\")","v":"G1.2"},{"$f":"VLOOKUP(E204,Grup!$N$5:$AF$1000,3,0)","v":"BEŞİKDÜZÜ AYYILDIZ SPOR (A) (TRB)"},null,null,196,"33/128",{"$f":"INDEX(Grup!$M$6:$M$1000,MATCH(Ana_Tablo_Kura!L204,Grup!$P$6:$P$1000,0),1)","v":{"$error":"#N/A"}},{"$f":"IF(H204=0,VLOOKUP(I204,$B$8:$F$267,5,0),VLOOKUP(H204,Kura!$A$4:$Z$350,26,0))","v":{"$error":"#N/A"}},"G122.1",{"$f":"IFERROR(VLOOKUP(K204,Kura!$A$4:$F$1000,6,0),0)","v":0}]
[null,3,null,null,{"$f":"IF($E$276=\"G4.1\",\"G4.2\",\"G3.2\")","v":"G4.2"},{"$f":"VLOOKUP(E205,Grup!$N$5:$AF$1000,3,0)","v":"YALIKÖY ŞBÇ OO (A) (GRS)"},null,null,197,"33/128",{"$f":"INDEX(Grup!$M$6:$M$1000,MATCH(Ana_Tablo_Kura!L205,Grup!$P$6:$P$1000,0),1)","v":{"$error":"#N/A"}},{"$f":"IF(H205=0,VLOOKUP(I205,$B$8:$F$267,5,0),VLOOKUP(H205,Kura!$A$4:$Z$350,26,0))","v":{"$error":"#N/A"}},"G72.1",{"$f":"IFERROR(VLOOKUP(K205,Kura!$A$4:$F$1000,6,0),0)","v":0}]
[null,6,null,null,{"$f":"IF($E$277=\"G5.1\",\"G5.2\",\"G6.2\")","v":"G5.2"},{"$f":"VLOOKUP(E206,Grup!$N$5:$AF$1000,3,0)","v":{"$error":"#N/A"}},null,null,198,null,{"$f":"INDEX(Grup!$M$6:$M$1000,MATCH(Ana_Tablo_Kura!L206,Grup!$P$6:$P$1000,0),1)","v":{"$error":"#N/A"}},{"$f":"IF(H206=0,VLOOKUP(I206,$B$8:$F$267,5,0),VLOOKUP(H206,Kura!$A$4:$Z$350,26,0))","v":{"$error":"#N/A"}},"G64.2",{"$f":"IFERROR(VLOOKUP(K206,Kura!$A$4:$F$1000,6,0),0)","v":0}]
[null,7,null,null,{"$f":"IF($E$280=\"G7.1\",\"G7.2\",\"G8.2\")","v":"G7.2"},{"$f":"VLOOKUP(E207,Grup!$N$5:$AF$1000,3,0)","v":{"$error":"#N/A"}},null,null,199,null,{"$f":"INDEX(Grup!$M$6:$M$1000,MATCH(Ana_Tablo_Kura!L207,Grup!$P$6:$P$1000,0),1)","v":{"$error":"#N/A"}},{"$f":"IF(H207=0,VLOOKUP(I207,$B$8:$F$267,5,0),VLOOKUP(H207,Kura!$A$4:$Z$350,26,0))","v":{"$error":"#N/A"}},"G64.2",{"$f":"IFERROR(VLOOKUP(K207,Kura!$A$4:$F$1000,6,0),0)","v":0}]
[null,10,null,null,{"$f":"IF($E$281=\"G9.1\",\"G9.2\",IF($E$281=\"G10.1\",\"G10.2\",IF($E$281=\"G11.1\",\"G11.2\",IF($E$281=\"G12.1\",\"G12.2\"))))","v":"G9.2"},{"$f":"VLOOKUP(E208,Grup!$N$5:$AF$1000,3,0)","v":{"$error":"#N/A"}},null,null,200,"33/128",{"$f":"INDEX(Grup!$M$6:$M$1000,MATCH(Ana_Tablo_Kura!L208,Grup!$P$6:$P$1000,0),1)","v":{"$error":"#N/A"}},{"$f":"IF(H208=0,VLOOKUP(I208,$B$8:$F$267,5,0),VLOOKUP(H208,Kura!$A$4:$Z$350,26,0))","v":{"$error":"#N/A"}},"G58.1",{"$f":"IFERROR(VLOOKUP(K208,Kura!$A$4:$F$1000,6,0),0)","v":0}]
[null,11,null,null,{"$f":"IF($E$284=\"G9.1\",\"G9.2\",IF($E$284=\"G10.1\",\"G10.2\",IF($E$284=\"G11.1\",\"G11.2\",IF($E$284=\"G12.1\",\"G12.2\"))))","v":"G12.2"},{"$f":"VLOOKUP(E209,Grup!$N$5:$AF$1000,3,0)","v":{"$error":"#N/A"}},null,null,201,"33/128",{"$f":"INDEX(Grup!$M$6:$M$1000,MATCH(Ana_Tablo_Kura!L209,Grup!$P$6:$P$1000,0),1)","v":{"$error":"#N/A"}},{"$f":"IF(H209=0,VLOOKUP(I209,$B$8:$F$267,5,0),VLOOKUP(H209,Kura!$A$4:$Z$350,26,0))","v":{"$error":"#N/A"}},"G40.1",{"$f":"IFERROR(VLOOKUP(K209,Kura!$A$4:$F$1000,6,0),0)","v":0}]
[null,14,null,null,{"$f":"IF($E$285=\"G13.1\",\"G13.2\",IF($E$285=\"G14.1\",\"G14.2\",IF($E$285=\"G15.1\",\"G15.2\",IF($E$285=\"G16.1\",\"G16.2\"))))","v":"G13.2"},{"$f":"VLOOKUP(E210,Grup!$N$5:$AF$1000,3,0)","v":{"$error":"#N/A"}},null,null,202,null,{"$f":"INDEX(Grup!$M$6:$M$1000,MATCH(Ana_Tablo_Kura!L210,Grup!$P$6:$P$1000,0),1)","v":{"$error":"#N/A"}},{"$f":"IF(H210=0,VLOOKUP(I210,$B$8:$F$267,5,0),VLOOKUP(H210,Kura!$A$4:$Z$350,26,0))","v":{"$error":"#N/A"}},"G64.2",{"$f":"IFERROR(VLOOKUP(K210,Kura!$A$4:$F$1000,6,0),0)","v":0}]
[null,15,null,null,{"$f":"IF($E$288=\"G13.1\",\"G13.2\",IF($E$288=\"G14.1\",\"G14.2\",IF($E$288=\"G15.1\",\"G15.2\",IF($E$288=\"G16.1\",\"G16.2\"))))","v":"G16.2"},{"$f":"VLOOKUP(E211,Grup!$N$5:$AF$1000,3,0)","v":{"$error":"#N/A"}},null,null,203,null,{"$f":"INDEX(Grup!$M$6:$M$1000,MATCH(Ana_Tablo_Kura!L211,Grup!$P$6:$P$1000,0),1)","v":{"$error":"#N/A"}},{"$f":"IF(H211=0,VLOOKUP(I211,$B$8:$F$267,5,0),VLOOKUP(H211,Kura!$A$4:$Z$350,26,0))","v":{"$error":"#N/A"}},"G64.2",{"$f":"IFERROR(VLOOKUP(K211,Kura!$A$4:$F$1000,6,0),0)","v":0}]
[null,18,null,null,{"$f":"IF($E$289=\"G17.1\",\"G17.2\",IF($E$289=\"G18.1\",\"G18.2\",IF($E$289=\"G19.1\",\"G19.2\",IF($E$289=\"G20.1\",\"G20.2\",IF($E$289=\"G21.1\",\"G21.2\",IF($E$289=\"G22.1\",\"G22.2\",IF($E$289=\"G23.1\",\"G23.2\",IF($E$289=\"G24.1\",\"G24.2\",IF($E$289=\"G25.1\",\"G25.2\",IF($E$289=\"G26.1\",\"G26.2\",IF($E$289=\"G27.1\",\"G27.2\",IF($E$289=\"G28.1\",\"G28.2\",IF($E$289=\"G29.1\",\"G29.2\",IF($E$289=\"G30.1\",\"G30.2\",IF($E$289=\"G31.1\",\"G31.2\",IF($E$289=\"G32.1\",\"G32.2\"))))))))))))))))","v":"G17.2"},{"$f":"VLOOKUP(E212,Grup!$N$5:$AF$1000,3,0)","v":{"$error":"#N/A"}},null,null,204,"33/128",{"$f":"INDEX(Grup!$M$6:$M$1000,MATCH(Ana_Tablo_Kura!L212,Grup!$P$6:$P$1000,0),1)","v":{"$error":"#N/A"}},{"$f":"IF(H212=0,VLOOKUP(I212,$B$8:$F$267,5,0),VLOOKUP(H212,Kura!$A$4:$Z$350,26,0))","v":{"$error":"#N/A"}},"G90.1",{"$f":"IFERROR(VLOOKUP(K212,Kura!$A$4:$F$1000,6,0),0)","v":0}]
[null,19,null,null,{"$f":"IF($E$292=\"G17.1\",\"G17.2\",IF($E$292=\"G18.1\",\"G18.2\",IF($E$292=\"G19.1\",\"G19.2\",IF($E$292=\"G20.1\",\"G20.2\",IF($E$292=\"G21.1\",\"G21.2\",IF($E$292=\"G22.1\",\"G22.2\",IF($E$292=\"G23.1\",\"G23.2\",IF($E$292=\"G24.1\",\"G24.2\",IF($E$292=\"G25.1\",\"G25.2\",IF($E$292=\"G26.1\",\"G26.2\",IF($E$292=\"G27.1\",\"G27.2\",IF($E$292=\"G28.1\",\"G28.2\",IF($E$292=\"G29.1\",\"G29.2\",IF($E$292=\"G30.1\",\"G30.2\",IF($E$292=\"G31.1\",\"G31.2\",IF($E$292=\"G32.1\",\"G32.2\"))))))))))))))))","v":"G20.2"},{"$f":"VLOOKUP(E213,Grup!$N$5:$AF$1000,3,0)","v":{"$error":"#N/A"}},null,null,205,"33/128",{"$f":"INDEX(Grup!$M$6:$M$1000,MATCH(Ana_Tablo_Kura!L213,Grup!$P$6:$P$1000,0),1)","v":{"$error":"#N/A"}},{"$f":"IF(H213=0,VLOOKUP(I213,$B$8:$F$267,5,0),VLOOKUP(H213,Kura!$A$4:$Z$350,26,0))","v":{"$error":"#N/A"}},"G104.1",{"$f":"IFERROR(VLOOKUP(K213,Kura!$A$4:$F$1000,6,0),0)","v":0}]
[null,22,null,null,{"$f":"IF($E$293=\"G17.1\",\"G17.2\",IF($E$293=\"G18.1\",\"G18.2\",IF($E$293=\"G19.1\",\"G19.2\",IF($E$293=\"G20.1\",\"G20.2\",IF($E$293=\"G21.1\",\"G21.2\",IF($E$293=\"G22.1\",\"G22.2\",IF($E$293=\"G23.1\",\"G23.2\",IF($E$293=\"G24.1\",\"G24.2\",IF($E$293=\"G25.1\",\"G25.2\",IF($E$293=\"G26.1\",\"G26.2\",IF($E$293=\"G27.1\",\"G27.2\",IF($E$293=\"G28.1\",\"G28.2\",IF($E$293=\"G29.1\",\"G29.2\",IF($E$293=\"G30.1\",\"G30.2\",IF($E$293=\"G31.1\",\"G31.2\",IF($E$293=\"G32.1\",\"G32.2\"))))))))))))))))","v":"G21.2"},{"$f":"VLOOKUP(E214,Grup!$N$5:$AF$1000,3,0)","v":{"$error":"#N/A"}},null,null,206,null,{"$f":"INDEX(Grup!$M$6:$M$1000,MATCH(Ana_Tablo_Kura!L214,Grup!$P$6:$P$1000,0),1)","v":{"$error":"#N/A"}},{"$f":"IF(H214=0,VLOOKUP(I214,$B$8:$F$267,5,0),VLOOKUP(H214,Kura!$A$4:$Z$350,26,0))","v":{"$error":"#N/A"}},"G64.2",{"$f":"IFERROR(VLOOKUP(K214,Kura!$A$4:$F$1000,6,0),0)","v":0}]
[null,23,null,null,{"$f":"IF($E$296=\"G17.1\",\"G17.2\",IF($E$296=\"G18.1\",\"G18.2\",IF($E$296=\"G19.1\",\"G19.2\",IF($E$296=\"G20.1\",\"G20.2\",IF($E$296=\"G21.1\",\"G21.2\",IF($E$296=\"G22.1\",\"G22.2\",IF($E$296=\"G23.1\",\"G23.2\",IF($E$296=\"G24.1\",\"G24.2\",IF($E$296=\"G25.1\",\"G25.2\",IF($E$296=\"G26.1\",\"G26.2\",IF($E$296=\"G27.1\",\"G27.2\",IF($E$296=\"G28.1\",\"G28.2\",IF($E$296=\"G29.1\",\"G29.2\",IF($E$296=\"G30.1\",\"G30.2\",IF($E$296=\"G31.1\",\"G31.2\",IF($E$296=\"G32.1\",\"G32.2\"))))))))))))))))","v":"G24.2"},{"$f":"VLOOKUP(E215,Grup!$N$5:$AF$1000,3,0)","v":{"$error":"#N/A"}},null,null,207,null,{"$f":"INDEX(Grup!$M$6:$M$1000,MATCH(Ana_Tablo_Kura!L215,Grup!$P$6:$P$1000,0),1)","v":{"$error":"#N/A"}},{"$f":"IF(H215=0,VLOOKUP(I215,$B$8:$F$267,5,0),VLOOKUP(H215,Kura!$A$4:$Z$350,26,0))","v":{"$error":"#N/A"}},"G64.2",{"$f":"IFERROR(VLOOKUP(K215,Kura!$A$4:$F$1000,6,0),0)","v":0}]
[null,26,null,null,{"$f":"IF($E$297=\"G17.1\",\"G17.2\",IF($E$297=\"G18.1\",\"G18.2\",IF($E$297=\"G19.1\",\"G19.2\",IF($E$297=\"G20.1\",\"G20.2\",IF($E$297=\"G21.1\",\"G21.2\",IF($E$297=\"G22.1\",\"G22.2\",IF($E$297=\"G23.1\",\"G23.2\",IF($E$297=\"G24.1\",\"G24.2\",IF($E$297=\"G25.1\",\"G25.2\",IF($E$297=\"G26.1\",\"G26.2\",IF($E$297=\"G27.1\",\"G27.2\",IF($E$297=\"G28.1\",\"G28.2\",IF($E$297=\"G29.1\",\"G29.2\",IF($E$297=\"G30.1\",\"G30.2\",IF($E$297=\"G31.1\",\"G31.2\",IF($E$297=\"G32.1\",\"G32.2\"))))))))))))))))","v":"G25.2"},{"$f":"VLOOKUP(E216,Grup!$N$5:$AF$1000,3,0)","v":{"$error":"#N/A"}},null,null,208,"17/32.1",{"$f":"INDEX(Grup!$M$6:$M$1000,MATCH(Ana_Tablo_Kura!L216,Grup!$P$6:$P$1000,0),1)","v":{"$error":"#N/A"}},{"$f":"IF(H216=0,VLOOKUP(I216,$B$8:$F$267,5,0),VLOOKUP(H216,Kura!$A$4:$Z$350,26,0))","v":{"$error":"#N/A"}},"G26.1",{"$f":"IFERROR(VLOOKUP(K216,Kura!$A$4:$F$1000,6,0),0)","v":0}]
[null,27,null,null,{"$f":"IF($E$300=\"G17.1\",\"G17.2\",IF($E$300=\"G18.1\",\"G18.2\",IF($E$300=\"G19.1\",\"G19.2\",IF($E$300=\"G20.1\",\"G20.2\",IF($E$300=\"G21.1\",\"G21.2\",IF($E$300=\"G22.1\",\"G22.2\",IF($E$300=\"G23.1\",\"G23.2\",IF($E$300=\"G24.1\",\"G24.2\",IF($E$300=\"G25.1\",\"G25.2\",IF($E$300=\"G26.1\",\"G26.2\",IF($E$300=\"G27.1\",\"G27.2\",IF($E$300=\"G28.1\",\"G28.2\",IF($E$300=\"G29.1\",\"G29.2\",IF($E$300=\"G30.1\",\"G30.2\",IF($E$300=\"G31.1\",\"G31.2\",IF($E$300=\"G32.1\",\"G32.2\"))))))))))))))))","v":"G28.2"},{"$f":"VLOOKUP(E217,Grup!$N$5:$AF$1000,3,0)","v":{"$error":"#N/A"}},null,null,209,"17/32.1",{"$f":"INDEX(Grup!$M$6:$M$1000,MATCH(Ana_Tablo_Kura!L217,Grup!$P$6:$P$1000,0),1)","v":{"$error":"#N/A"}},{"$f":"IF(H217=0,VLOOKUP(I217,$B$8:$F$267,5,0),VLOOKUP(H217,Kura!$A$4:$Z$350,26,0))","v":{"$error":"#N/A"}},"G24.1",{"$f":"IFERROR(VLOOKUP(K217,Kura!$A$4:$F$1000,6,0),0)","v":0}]
[null,30,null,null,{"$f":"IF($E$301=\"G17.1\",\"G17.2\",IF($E$301=\"G18.1\",\"G18.2\",IF($E$301=\"G19.1\",\"G19.2\",IF($E$301=\"G20.1\",\"G20.2\",IF($E$301=\"G21.1\",\"G21.2\",IF($E$301=\"G22.1\",\"G22.2\",IF($E$301=\"G23.1\",\"G23.2\",IF($E$301=\"G24.1\",\"G24.2\",IF($E$301=\"G25.1\",\"G25.2\",IF($E$301=\"G26.1\",\"G26.2\",IF($E$301=\"G27.1\",\"G27.2\",IF($E$301=\"G28.1\",\"G28.2\",IF($E$301=\"G29.1\",\"G29.2\",IF($E$301=\"G30.1\",\"G30.2\",IF($E$301=\"G31.1\",\"G31.2\",IF($E$301=\"G32.1\",\"G32.2\"))))))))))))))))","v":"G29.2"},{"$f":"VLOOKUP(E218,Grup!$N$5:$AF$1000,3,0)","v":{"$error":"#N/A"}},null,null,210,null,{"$f":"INDEX(Grup!$M$6:$M$1000,MATCH(Ana_Tablo_Kura!L218,Grup!$P$6:$P$1000,0),1)","v":{"$error":"#N/A"}},{"$f":"IF(H218=0,VLOOKUP(I218,$B$8:$F$267,5,0),VLOOKUP(H218,Kura!$A$4:$Z$350,26,0))","v":{"$error":"#N/A"}},"G64.2",{"$f":"IFERROR(VLOOKUP(K218,Kura!$A$4:$F$1000,6,0),0)","v":0}]
[null,31,null,null,{"$f":"IF($E$304=\"G17.1\",\"G17.2\",IF($E$304=\"G18.1\",\"G18.2\",IF($E$304=\"G19.1\",\"G19.2\",IF($E$304=\"G20.1\",\"G20.2\",IF($E$304=\"G21.1\",\"G21.2\",IF($E$304=\"G22.1\",\"G22.2\",IF($E$304=\"G23.1\",\"G23.2\",IF($E$304=\"G24.1\",\"G24.2\",IF($E$304=\"G25.1\",\"G25.2\",IF($E$304=\"G26.1\",\"G26.2\",IF($E$304=\"G27.1\",\"G27.2\",IF($E$304=\"G28.1\",\"G28.2\",IF($E$304=\"G29.1\",\"G29.2\",IF($E$304=\"G30.1\",\"G30.2\",IF($E$304=\"G31.1\",\"G31.2\",IF($E$304=\"G32.1\",\"G32.2\"))))))))))))))))","v":"G32.2"},{"$f":"VLOOKUP(E219,Grup!$N$5:$AF$1000,3,0)","v":{"$error":"#N/A"}},null,null,211,null,{"$f":"INDEX(Grup!$M$6:$M$1000,MATCH(Ana_Tablo_Kura!L219,Grup!$P$6:$P$1000,0),1)","v":{"$error":"#N/A"}},{"$f":"IF(H219=0,VLOOKUP(I219,$B$8:$F$267,5,0),VLOOKUP(H219,Kura!$A$4:$Z$350,26,0))","v":{"$error":"#N/A"}},"G64.2",{"$f":"IFERROR(VLOOKUP(K219,Kura!$A$4:$F$1000,6,0),0)","v":0}]
[null,34,null,null,{"$f":"IF($E$305=\"G33.1\",\"G33.2\",IF($E$305=\"G34.1\",\"G34.2\",IF($E$305=\"G35.1\",\"G35.2\",IF($E$305=\"G36.1\",\"G36.2\",IF($E$305=\"G37.1\",\"G37.2\",IF($E$305=\"G38.1\",\"G38.2\",IF($E$305=\"G39.1\",\"G39.2\",IF($E$305=\"G40.1\",\"G40.2\",IF($E$305=\"G41.1\",\"G41.2\",IF($E$305=\"G42.1\",\"G42.2\",IF($E$305=\"G43.1\",\"G43.2\",IF($E$305=\"G44.1\",\"G44.2\",IF($E$305=\"G45.1\",\"G45.2\",IF($E$305=\"G46.1\",\"G46.2\",IF($E$305=\"G47.1\",\"G47.2\",IF($E$305=\"G48.1\",\"G48.2\",IF($E$305=\"G49.1\",\"G49.2\",IF($E$305=\"G50.1\",\"G50.2\",IF($E$305=\"G51.1\",\"G51.2\",IF($E$305=\"G52.1\",\"G52.2\",IF($E$305=\"G53.1\",\"G53.2\",IF($E$305=\"G54.1\",\"G54.2\",IF($E$305=\"G55.1\",\"G55.2\",IF($E$305=\"G56.1\",\"G56.2\",IF($E$305=\"G57.1\",\"G57.2\",IF($E$305=\"G58.1\",\"G58.2\",IF($E$305=\"G59.1\",\"G59.2\",IF($E$305=\"G60.1\",\"G60.2\",IF($E$305=\"G61.1\",\"G61.2\",IF($E$305=\"G62.1\",\"G62.2\",IF($E$305=\"G63.1\",\"G63.2\",IF($E$305=\"G64.1\",\"G64.2\"))))))))))))))))))))))))))))))))","v":"G33.2"},{"$f":"VLOOKUP(E220,Grup!$N$5:$AF$1000,3,0)","v":{"$error":"#N/A"}},null,null,212,"33/128",{"$f":"INDEX(Grup!$M$6:$M$1000,MATCH(Ana_Tablo_Kura!L220,Grup!$P$6:$P$1000,0),1)","v":{"$error":"#N/A"}},{"$f":"IF(H220=0,VLOOKUP(I220,$B$8:$F$267,5,0),VLOOKUP(H220,Kura!$A$4:$Z$350,26,0))","v":{"$error":"#N/A"}},"G106.1",{"$f":"IFERROR(VLOOKUP(K220,Kura!$A$4:$F$1000,6,0),0)","v":0}]
[null,35,null,null,{"$f":"IF($E$308=\"G33.1\",\"G33.2\",\nIF($E$308=\"G34.1\",\"G34.2\",\nIF($E$308=\"G35.1\",\"G35.2\",\nIF($E$308=\"G36.1\",\"G36.2\",\nIF($E$308=\"G37.1\",\"G37.2\",\nIF($E$308=\"G38.1\",\"G38.2\",\nIF($E$308=\"G39.1\",\"G39.2\",\nIF($E$308=\"G40.1\",\"G40.2\",\nIF($E$308=\"G41.1\",\"G41.2\",\nIF($E$308=\"G42.1\",\"G42.2\",\nIF($E$308=\"G43.1\",\"G43.2\",\nIF($E$308=\"G44.1\",\"G44.2\",\nIF($E$308=\"G45.1\",\"G45.2\",\nIF($E$308=\"G46.1\",\"G46.2\",\nIF($E$308=\"G47.1\",\"G47.2\",\nIF($E$308=\"G48.1\",\"G48.2\",\nIF($E$308=\"G49.1\",\"G49.2\",\nIF($E$308=\"G50.1\",\"G50.2\",\nIF($E$308=\"G51.1\",\"G51.2\",\nIF($E$308=\"G52.1\",\"G52.2\",\nIF($E$308=\"G53.1\",\"G53.2\",\nIF($E$308=\"G54.1\",\"G54.2\",\nIF($E$308=\"G55.1\",\"G55.2\",\nIF($E$308=\"G56.1\",\"G56.2\",\nIF($E$308=\"G57.1\",\"G57.2\",\nIF($E$308=\"G58.1\",\"G58.2\",\nIF($E$308=\"G59.1\",\"G59.2\",\nIF($E$308=\"G60.1\",\"G60.2\",\nIF($E$308=\"G61.1\",\"G61.2\",\nIF($E$308=\"G62.1\",\"G62.2\",\nIF($E$308=\"G63.1\",\"G63.2\",\nIF($E$308=\"G64.1\",\"G64.2\"))))))))))))))))))))))))))))))))","v":"G36.2"},{"$f":"VLOOKUP(E221,Grup!$N$5:$AF$1000,3,0)","v":{"$error":"#N/A"}},null,null,213,"33/128",{"$f":"INDEX(Grup!$M$6:$M$1000,MATCH(Ana_Tablo_Kura!L221,Grup!$P$6:$P$1000,0),1)","v":{"$error":"#N/A"}},{"$f":"IF(H221=0,VLOOKUP(I221,$B$8:$F$267,5,0),VLOOKUP(H221,Kura!$A$4:$Z$350,26,0))","v":{"$error":"#N/A"}},"G88.1",{"$f":"IFERROR(VLOOKUP(K221,Kura!$A$4:$F$1000,6,0),0)","v":0}]
[null,38,null,null,{"$f":"IF($E$309=\"G33.1\",\"G33.2\",\nIF($E$309=\"G34.1\",\"G34.2\",\nIF($E$309=\"G35.1\",\"G35.2\",\nIF($E$309=\"G36.1\",\"G36.2\",\nIF($E$309=\"G37.1\",\"G37.2\",\nIF($E$309=\"G38.1\",\"G38.2\",\nIF($E$309=\"G39.1\",\"G39.2\",\nIF($E$309=\"G40.1\",\"G40.2\",\nIF($E$309=\"G41.1\",\"G41.2\",\nIF($E$309=\"G42.1\",\"G42.2\",\nIF($E$309=\"G43.1\",\"G43.2\",\nIF($E$309=\"G44.1\",\"G44.2\",\nIF($E$309=\"G45.1\",\"G45.2\",\nIF($E$309=\"G46.1\",\"G46.2\",\nIF($E$309=\"G47.1\",\"G47.2\",\nIF($E$309=\"G48.1\",\"G48.2\",\nIF($E$309=\"G49.1\",\"G49.2\",\nIF($E$309=\"G50.1\",\"G50.2\",\nIF($E$309=\"G51.1\",\"G51.2\",\nIF($E$309=\"G52.1\",\"G52.2\",\nIF($E$309=\"G53.1\",\"G53.2\",\nIF($E$309=\"G54.1\",\"G54.2\",\nIF($E$309=\"G55.1\",\"G55.2\",\nIF($E$309=\"G56.1\",\"G56.2\",\nIF($E$309=\"G57.1\",\"G57.2\",\nIF($E$309=\"G58.1\",\"G58.2\",\nIF($E$309=\"G59.1\",\"G59.2\",\nIF($E$309=\"G60.1\",\"G60.2\",\nIF($E$309=\"G61.1\",\"G61.2\",\nIF($E$309=\"G62.1\",\"G62.2\",\nIF($E$309=\"G63.1\",\"G63.2\",\nIF($E$309=\"G64.1\",\"G64.2\"))))))))))))))))))))))))))))))))","v":"G37.2"},{"$f":"VLOOKUP(E222,Grup!$N$5:$AF$1000,3,0)","v":{"$error":"#N/A"}},null,null,214,null,{"$f":"INDEX(Grup!$M$6:$M$1000,MATCH(Ana_Tablo_Kura!L222,Grup!$P$6:$P$1000,0),1)","v":{"$error":"#N/A"}},{"$f":"IF(H222=0,VLOOKUP(I222,$B$8:$F$267,5,0),VLOOKUP(H222,Kura!$A$4:$Z$350,26,0))","v":{"$error":"#N/A"}},"G64.2",{"$f":"IFERROR(VLOOKUP(K222,Kura!$A$4:$F$1000,6,0),0)","v":0}]
[null,39,null,null,{"$f":"IF($E$312=\"G33.1\",\"G33.2\",\nIF($E$312=\"G34.1\",\"G34.2\",\nIF($E$312=\"G35.1\",\"G35.2\",\nIF($E$312=\"G36.1\",\"G36.2\",\nIF($E$312=\"G37.1\",\"G37.2\",\nIF($E$312=\"G38.1\",\"G38.2\",\nIF($E$312=\"G39.1\",\"G39.2\",\nIF($E$312=\"G40.1\",\"G40.2\",\nIF($E$312=\"G41.1\",\"G41.2\",\nIF($E$312=\"G42.1\",\"G42.2\",\nIF($E$312=\"G43.1\",\"G43.2\",\nIF($E$312=\"G44.1\",\"G44.2\",\nIF($E$312=\"G45.1\",\"G45.2\",\nIF($E$312=\"G46.1\",\"G46.2\",\nIF($E$312=\"G47.1\",\"G47.2\",\nIF($E$312=\"G48.1\",\"G48.2\",\nIF($E$312=\"G49.1\",\"G49.2\",\nIF($E$312=\"G50.1\",\"G50.2\",\nIF($E$312=\"G51.1\",\"G51.2\",\nIF($E$312=\"G52.1\",\"G52.2\",\nIF($E$312=\"G53.1\",\"G53.2\",\nIF($E$312=\"G54.1\",\"G54.2\",\nIF($E$312=\"G55.1\",\"G55.2\",\nIF($E$312=\"G56.1\",\"G56.2\",\nIF($E$312=\"G57.1\",\"G57.2\",\nIF($E$312=\"G58.1\",\"G58.2\",\nIF($E$312=\"G59.1\",\"G59.2\",\nIF($E$312=\"G60.1\",\"G60.2\",\nIF($E$312=\"G61.1\",\"G61.2\",\nIF($E$312=\"G62.1\",\"G62.2\",\nIF($E$312=\"G63.1\",\"G63.2\",\nIF($E$312=\"G64.1\",\"G64.2\"))))))))))))))))))))))))))))))))","v":"G40.2"},{"$f":"VLOOKUP(E223,Grup!$N$5:$AF$1000,3,0)","v":{"$error":"#N/A"}},null,null,215,null,{"$f":"INDEX(Grup!$M$6:$M$1000,MATCH(Ana_Tablo_Kura!L223,Grup!$P$6:$P$1000,0),1)","v":{"$error":"#N/A"}},{"$f":"IF(H223=0,VLOOKUP(I223,$B$8:$F$267,5,0),VLOOKUP(H223,Kura!$A$4:$Z$350,26,0))","v":{"$error":"#N/A"}},"G64.2",{"$f":"IFERROR(VLOOKUP(K223,Kura!$A$4:$F$1000,6,0),0)","v":0}]
[null,42,null,null,{"$f":"IF($E$313=\"G33.1\",\"G33.2\",\nIF($E$313=\"G34.1\",\"G34.2\",\nIF($E$313=\"G35.1\",\"G35.2\",\nIF($E$313=\"G36.1\",\"G36.2\",\nIF($E$313=\"G37.1\",\"G37.2\",\nIF($E$313=\"G38.1\",\"G38.2\",\nIF($E$313=\"G39.1\",\"G39.2\",\nIF($E$313=\"G40.1\",\"G40.2\",\nIF($E$313=\"G41.1\",\"G41.2\",\nIF($E$313=\"G42.1\",\"G42.2\",\nIF($E$313=\"G43.1\",\"G43.2\",\nIF($E$313=\"G44.1\",\"G44.2\",\nIF($E$313=\"G45.1\",\"G45.2\",\nIF($E$313=\"G46.1\",\"G46.2\",\nIF($E$313=\"G47.1\",\"G47.2\",\nIF($E$313=\"G48.1\",\"G48.2\",\nIF($E$313=\"G49.1\",\"G49.2\",\nIF($E$313=\"G50.1\",\"G50.2\",\nIF($E$313=\"G51.1\",\"G51.2\",\nIF($E$313=\"G52.1\",\"G52.2\",\nIF($E$313=\"G53.1\",\"G53.2\",\nIF($E$313=\"G54.1\",\"G54.2\",\nIF($E$313=\"G55.1\",\"G55.2\",\nIF($E$313=\"G56.1\",\"G56.2\",\nIF($E$313=\"G57.1\",\"G57.2\",\nIF($E$313=\"G58.1\",\"G58.2\",\nIF($E$313=\"G59.1\",\"G59.2\",\nIF($E$313=\"G60.1\",\"G60.2\",\nIF($E$313=\"G61.1\",\"G61.2\",\nIF($E$313=\"G62.1\",\"G62.2\",\nIF($E$313=\"G63.1\",\"G63.2\",\nIF($E$313=\"G64.1\",\"G64.2\"))))))))))))))))))))))))))))))))","v":"G41.2"},{"$f":"VLOOKUP(E224,Grup!$N$5:$AF$1000,3,0)","v":{"$error":"#N/A"}},null,null,216,"33/128",{"$f":"INDEX(Grup!$M$6:$M$1000,MATCH(Ana_Tablo_Kura!L224,Grup!$P$6:$P$1000,0),1)","v":{"$error":"#N/A"}},{"$f":"IF(H224=0,VLOOKUP(I224,$B$8:$F$267,5,0),VLOOKUP(H224,Kura!$A$4:$Z$350,26,0))","v":{"$error":"#N/A"}},"G42.1",{"$f":"IFERROR(VLOOKUP(K224,Kura!$A$4:$F$1000,6,0),0)","v":0}]
[null,43,null,null,{"$f":"IF($E$316=\"G33.1\",\"G33.2\",\nIF($E$316=\"G34.1\",\"G34.2\",\nIF($E$316=\"G35.1\",\"G35.2\",\nIF($E$316=\"G36.1\",\"G36.2\",\nIF($E$316=\"G37.1\",\"G37.2\",\nIF($E$316=\"G38.1\",\"G38.2\",\nIF($E$316=\"G39.1\",\"G39.2\",\nIF($E$316=\"G40.1\",\"G40.2\",\nIF($E$316=\"G41.1\",\"G41.2\",\nIF($E$316=\"G42.1\",\"G42.2\",\nIF($E$316=\"G43.1\",\"G43.2\",\nIF($E$316=\"G44.1\",\"G44.2\",\nIF($E$316=\"G45.1\",\"G45.2\",\nIF($E$316=\"G46.1\",\"G46.2\",\nIF($E$316=\"G47.1\",\"G47.2\",\nIF($E$316=\"G48.1\",\"G48.2\",\nIF($E$316=\"G49.1\",\"G49.2\",\nIF($E$316=\"G50.1\",\"G50.2\",\nIF($E$316=\"G51.1\",\"G51.2\",\nIF($E$316=\"G52.1\",\"G52.2\",\nIF($E$316=\"G53.1\",\"G53.2\",\nIF($E$316=\"G54.1\",\"G54.2\",\nIF($E$316=\"G55.1\",\"G55.2\",\nIF($E$316=\"G56.1\",\"G56.2\",\nIF($E$316=\"G57.1\",\"G57.2\",\nIF($E$316=\"G58.1\",\"G58.2\",\nIF($E$316=\"G59.1\",\"G59.2\",\nIF($E$316=\"G60.1\",\"G60.2\",\nIF($E$316=\"G61.1\",\"G61.2\",\nIF($E$316=\"G62.1\",\"G62.2\",\nIF($E$316=\"G63.1\",\"G63.2\",\nIF($E$316=\"G64.1\",\"G64.2\"))))))))))))))))))))))))))))))))","v":"G44.2"},{"$f":"VLOOKUP(E225,Grup!$N$5:$AF$1000,3,0)","v":{"$error":"#N/A"}},null,null,217,"33/128",{"$f":"INDEX(Grup!$M$6:$M$1000,MATCH(Ana_Tablo_Kura!L225,Grup!$P$6:$P$1000,0),1)","v":{"$error":"#N/A"}},{"$f":"IF(H225=0,VLOOKUP(I225,$B$8:$F$267,5,0),VLOOKUP(H225,Kura!$A$4:$Z$350,26,0))","v":{"$error":"#N/A"}},"G56.1",{"$f":"IFERROR(VLOOKUP(K225,Kura!$A$4:$F$1000,6,0),0)","v":0}]
[null,46,null,null,{"$f":"IF($E$317=\"G33.1\",\"G33.2\",\nIF($E$317=\"G34.1\",\"G34.2\",\nIF($E$317=\"G35.1\",\"G35.2\",\nIF($E$317=\"G36.1\",\"G36.2\",\nIF($E$317=\"G37.1\",\"G37.2\",\nIF($E$317=\"G38.1\",\"G38.2\",\nIF($E$317=\"G39.1\",\"G39.2\",\nIF($E$317=\"G40.1\",\"G40.2\",\nIF($E$317=\"G41.1\",\"G41.2\",\nIF($E$317=\"G42.1\",\"G42.2\",\nIF($E$317=\"G43.1\",\"G43.2\",\nIF($E$317=\"G44.1\",\"G44.2\",\nIF($E$317=\"G45.1\",\"G45.2\",\nIF($E$317=\"G46.1\",\"G46.2\",\nIF($E$317=\"G47.1\",\"G47.2\",\nIF($E$317=\"G48.1\",\"G48.2\",\nIF($E$317=\"G49.1\",\"G49.2\",\nIF($E$317=\"G50.1\",\"G50.2\",\nIF($E$317=\"G51.1\",\"G51.2\",\nIF($E$317=\"G52.1\",\"G52.2\",\nIF($E$317=\"G53.1\",\"G53.2\",\nIF($E$317=\"G54.1\",\"G54.2\",\nIF($E$317=\"G55.1\",\"G55.2\",\nIF($E$317=\"G56.1\",\"G56.2\",\nIF($E$317=\"G57.1\",\"G57.2\",\nIF($E$317=\"G58.1\",\"G58.2\",\nIF($E$317=\"G59.1\",\"G59.2\",\nIF($E$317=\"G60.1\",\"G60.2\",\nIF($E$317=\"G61.1\",\"G61.2\",\nIF($E$317=\"G62.1\",\"G62.2\",\nIF($E$317=\"G63.1\",\"G63.2\",\nIF($E$317=\"G64.1\",\"G64.2\"))))))))))))))))))))))))))))))))","v":"G45.2"},{"$f":"VLOOKUP(E226,Grup!$N$5:$AF$1000,3,0)","v":{"$error":"#N/A"}},null,null,218,null,{"$f":"INDEX(Grup!$M$6:$M$1000,MATCH(Ana_Tablo_Kura!L226,Grup!$P$6:$P$1000,0),1)","v":{"$error":"#N/A"}},{"$f":"IF(H226=0,VLOOKUP(I226,$B$8:$F$267,5,0),VLOOKUP(H226,Kura!$A$4:$Z$350,26,0))","v":{"$error":"#N/A"}},"G64.2",{"$f":"IFERROR(VLOOKUP(K226,Kura!$A$4:$F$1000,6,0),0)","v":0}]
[null,47,null,null,{"$f":"IF($E$320=\"G33.1\",\"G33.2\",\nIF($E$320=\"G34.1\",\"G34.2\",\nIF($E$320=\"G35.1\",\"G35.2\",\nIF($E$320=\"G36.1\",\"G36.2\",\nIF($E$320=\"G37.1\",\"G37.2\",\nIF($E$320=\"G38.1\",\"G38.2\",\nIF($E$320=\"G39.1\",\"G39.2\",\nIF($E$320=\"G40.1\",\"G40.2\",\nIF($E$320=\"G41.1\",\"G41.2\",\nIF($E$320=\"G42.1\",\"G42.2\",\nIF($E$320=\"G43.1\",\"G43.2\",\nIF($E$320=\"G44.1\",\"G44.2\",\nIF($E$320=\"G45.1\",\"G45.2\",\nIF($E$320=\"G46.1\",\"G46.2\",\nIF($E$320=\"G47.1\",\"G47.2\",\nIF($E$320=\"G48.1\",\"G48.2\",\nIF($E$320=\"G49.1\",\"G49.2\",\nIF($E$320=\"G50.1\",\"G50.2\",\nIF($E$320=\"G51.1\",\"G51.2\",\nIF($E$320=\"G52.1\",\"G52.2\",\nIF($E$320=\"G53.1\",\"G53.2\",\nIF($E$320=\"G54.1\",\"G54.2\",\nIF($E$320=\"G55.1\",\"G55.2\",\nIF($E$320=\"G56.1\",\"G56.2\",\nIF($E$320=\"G57.1\",\"G57.2\",\nIF($E$320=\"G58.1\",\"G58.2\",\nIF($E$320=\"G59.1\",\"G59.2\",\nIF($E$320=\"G60.1\",\"G60.2\",\nIF($E$320=\"G61.1\",\"G61.2\",\nIF($E$320=\"G62.1\",\"G62.2\",\nIF($E$320=\"G63.1\",\"G63.2\",\nIF($E$320=\"G64.1\",\"G64.2\"))))))))))))))))))))))))))))))))","v":"G48.2"},{"$f":"VLOOKUP(E227,Grup!$N$5:$AF$1000,3,0)","v":{"$error":"#N/A"}},null,null,219,null,{"$f":"INDEX(Grup!$M$6:$M$1000,MATCH(Ana_Tablo_Kura!L227,Grup!$P$6:$P$1000,0),1)","v":{"$error":"#N/A"}},{"$f":"IF(H227=0,VLOOKUP(I227,$B$8:$F$267,5,0),VLOOKUP(H227,Kura!$A$4:$Z$350,26,0))","v":{"$error":"#N/A"}},"G64.2",{"$f":"IFERROR(VLOOKUP(K227,Kura!$A$4:$F$1000,6,0),0)","v":0}]
[null,50,null,null,{"$f":"IF($E$321=\"G33.1\",\"G33.2\",\nIF($E$321=\"G34.1\",\"G34.2\",\nIF($E$321=\"G35.1\",\"G35.2\",\nIF($E$321=\"G36.1\",\"G36.2\",\nIF($E$321=\"G37.1\",\"G37.2\",\nIF($E$321=\"G38.1\",\"G38.2\",\nIF($E$321=\"G39.1\",\"G39.2\",\nIF($E$321=\"G40.1\",\"G40.2\",\nIF($E$321=\"G41.1\",\"G41.2\",\nIF($E$321=\"G42.1\",\"G42.2\",\nIF($E$321=\"G43.1\",\"G43.2\",\nIF($E$321=\"G44.1\",\"G44.2\",\nIF($E$321=\"G45.1\",\"G45.2\",\nIF($E$321=\"G46.1\",\"G46.2\",\nIF($E$321=\"G47.1\",\"G47.2\",\nIF($E$321=\"G48.1\",\"G48.2\",\nIF($E$321=\"G49.1\",\"G49.2\",\nIF($E$321=\"G50.1\",\"G50.2\",\nIF($E$321=\"G51.1\",\"G51.2\",\nIF($E$321=\"G52.1\",\"G52.2\",\nIF($E$321=\"G53.1\",\"G53.2\",\nIF($E$321=\"G54.1\",\"G54.2\",\nIF($E$321=\"G55.1\",\"G55.2\",\nIF($E$321=\"G56.1\",\"G56.2\",\nIF($E$321=\"G57.1\",\"G57.2\",\nIF($E$321=\"G58.1\",\"G58.2\",\nIF($E$321=\"G59.1\",\"G59.2\",\nIF($E$321=\"G60.1\",\"G60.2\",\nIF($E$321=\"G61.1\",\"G61.2\",\nIF($E$321=\"G62.1\",\"G62.2\",\nIF($E$321=\"G63.1\",\"G63.2\",\nIF($E$321=\"G64.1\",\"G64.2\"))))))))))))))))))))))))))))))))","v":"G49.2"},{"$f":"VLOOKUP(E228,Grup!$N$5:$AF$1000,3,0)","v":{"$error":"#N/A"}},null,null,220,"33/128",{"$f":"INDEX(Grup!$M$6:$M$1000,MATCH(Ana_Tablo_Kura!L228,Grup!$P$6:$P$1000,0),1)","v":{"$error":"#N/A"}},{"$f":"IF(H228=0,VLOOKUP(I228,$B$8:$F$267,5,0),VLOOKUP(H228,Kura!$A$4:$Z$350,26,0))","v":{"$error":"#N/A"}},"G74.1",{"$f":"IFERROR(VLOOKUP(K228,Kura!$A$4:$F$1000,6,0),0)","v":0}]
[null,51,null,null,{"$f":"IF($E$324=\"G33.1\",\"G33.2\",\nIF($E$324=\"G34.1\",\"G34.2\",\nIF($E$324=\"G35.1\",\"G35.2\",\nIF($E$324=\"G36.1\",\"G36.2\",\nIF($E$324=\"G37.1\",\"G37.2\",\nIF($E$324=\"G38.1\",\"G38.2\",\nIF($E$324=\"G39.1\",\"G39.2\",\nIF($E$324=\"G40.1\",\"G40.2\",\nIF($E$324=\"G41.1\",\"G41.2\",\nIF($E$324=\"G42.1\",\"G42.2\",\nIF($E$324=\"G43.1\",\"G43.2\",\nIF($E$324=\"G44.1\",\"G44.2\",\nIF($E$324=\"G45.1\",\"G45.2\",\nIF($E$324=\"G46.1\",\"G46.2\",\nIF($E$324=\"G47.1\",\"G47.2\",\nIF($E$324=\"G48.1\",\"G48.2\",\nIF($E$324=\"G49.1\",\"G49.2\",\nIF($E$324=\"G50.1\",\"G50.2\",\nIF($E$324=\"G51.1\",\"G51.2\",\nIF($E$324=\"G52.1\",\"G52.2\",\nIF($E$324=\"G53.1\",\"G53.2\",\nIF($E$324=\"G54.1\",\"G54.2\",\nIF($E$324=\"G55.1\",\"G55.2\",\nIF($E$324=\"G56.1\",\"G56.2\",\nIF($E$324=\"G57.1\",\"G57.2\",\nIF($E$324=\"G58.1\",\"G58.2\",\nIF($E$324=\"G59.1\",\"G59.2\",\nIF($E$324=\"G60.1\",\"G60.2\",\nIF($E$324=\"G61.1\",\"G61.2\",\nIF($E$324=\"G62.1\",\"G62.2\",\nIF($E$324=\"G63.1\",\"G63.2\",\nIF($E$324=\"G64.1\",\"G64.2\"))))))))))))))))))))))))))))))))","v":"G52.2"},{"$f":"VLOOKUP(E229,Grup!$N$5:$AF$1000,3,0)","v":{"$error":"#N/A"}},null,null,221,"33/128",{"$f":"INDEX(Grup!$M$6:$M$1000,MATCH(Ana_Tablo_Kura!L229,Grup!$P$6:$P$1000,0),1)","v":{"$error":"#N/A"}},{"$f":"IF(H229=0,VLOOKUP(I229,$B$8:$F$267,5,0),VLOOKUP(H229,Kura!$A$4:$Z$350,26,0))","v":{"$error":"#N/A"}},"G120.1",{"$f":"IFERROR(VLOOKUP(K229,Kura!$A$4:$F$1000,6,0),0)","v":0}]
[null,54,null,null,{"$f":"IF($E$325=\"G33.1\",\"G33.2\",\nIF($E$325=\"G34.1\",\"G34.2\",\nIF($E$325=\"G35.1\",\"G35.2\",\nIF($E$325=\"G36.1\",\"G36.2\",\nIF($E$325=\"G37.1\",\"G37.2\",\nIF($E$325=\"G38.1\",\"G38.2\",\nIF($E$325=\"G39.1\",\"G39.2\",\nIF($E$325=\"G40.1\",\"G40.2\",\nIF($E$325=\"G41.1\",\"G41.2\",\nIF($E$325=\"G42.1\",\"G42.2\",\nIF($E$325=\"G43.1\",\"G43.2\",\nIF($E$325=\"G44.1\",\"G44.2\",\nIF($E$325=\"G45.1\",\"G45.2\",\nIF($E$325=\"G46.1\",\"G46.2\",\nIF($E$325=\"G47.1\",\"G47.2\",\nIF($E$325=\"G48.1\",\"G48.2\",\nIF($E$325=\"G49.1\",\"G49.2\",\nIF($E$325=\"G50.1\",\"G50.2\",\nIF($E$325=\"G51.1\",\"G51.2\",\nIF($E$325=\"G52.1\",\"G52.2\",\nIF($E$325=\"G53.1\",\"G53.2\",\nIF($E$325=\"G54.1\",\"G54.2\",\nIF($E$325=\"G55.1\",\"G55.2\",\nIF($E$325=\"G56.1\",\"G56.2\",\nIF($E$325=\"G57.1\",\"G57.2\",\nIF($E$325=\"G58.1\",\"G58.2\",\nIF($E$325=\"G59.1\",\"G59.2\",\nIF($E$325=\"G60.1\",\"G60.2\",\nIF($E$325=\"G61.1\",\"G61.2\",\nIF($E$325=\"G62.1\",\"G62.2\",\nIF($E$325=\"G63.1\",\"G63.2\",\nIF($E$325=\"G64.1\",\"G64.2\"))))))))))))))))))))))))))))))))","v":"G53.2"},{"$f":"VLOOKUP(E230,Grup!$N$5:$AF$1000,3,0)","v":{"$error":"#N/A"}},null,null,222,null,{"$f":"INDEX(Grup!$M$6:$M$1000,MATCH(Ana_Tablo_Kura!L230,Grup!$P$6:$P$1000,0),1)","v":{"$error":"#N/A"}},{"$f":"IF(H230=0,VLOOKUP(I230,$B$8:$F$267,5,0),VLOOKUP(H230,Kura!$A$4:$Z$350,26,0))","v":{"$error":"#N/A"}},"G64.2",{"$f":"IFERROR(VLOOKUP(K230,Kura!$A$4:$F$1000,6,0),0)","v":0}]
[null,55,null,null,{"$f":"IF($E$328=\"G33.1\",\"G33.2\",\nIF($E$328=\"G34.1\",\"G34.2\",\nIF($E$328=\"G35.1\",\"G35.2\",\nIF($E$328=\"G36.1\",\"G36.2\",\nIF($E$328=\"G37.1\",\"G37.2\",\nIF($E$328=\"G38.1\",\"G38.2\",\nIF($E$328=\"G39.1\",\"G39.2\",\nIF($E$328=\"G40.1\",\"G40.2\",\nIF($E$328=\"G41.1\",\"G41.2\",\nIF($E$328=\"G42.1\",\"G42.2\",\nIF($E$328=\"G43.1\",\"G43.2\",\nIF($E$328=\"G44.1\",\"G44.2\",\nIF($E$328=\"G45.1\",\"G45.2\",\nIF($E$328=\"G46.1\",\"G46.2\",\nIF($E$328=\"G47.1\",\"G47.2\",\nIF($E$328=\"G48.1\",\"G48.2\",\nIF($E$328=\"G49.1\",\"G49.2\",\nIF($E$328=\"G50.1\",\"G50.2\",\nIF($E$328=\"G51.1\",\"G51.2\",\nIF($E$328=\"G52.1\",\"G52.2\",\nIF($E$328=\"G53.1\",\"G53.2\",\nIF($E$328=\"G54.1\",\"G54.2\",\nIF($E$328=\"G55.1\",\"G55.2\",\nIF($E$328=\"G56.1\",\"G56.2\",\nIF($E$328=\"G57.1\",\"G57.2\",\nIF($E$328=\"G58.1\",\"G58.2\",\nIF($E$328=\"G59.1\",\"G59.2\",\nIF($E$328=\"G60.1\",\"G60.2\",\nIF($E$328=\"G61.1\",\"G61.2\",\nIF($E$328=\"G62.1\",\"G62.2\",\nIF($E$328=\"G63.1\",\"G63.2\",\nIF($E$328=\"G64.1\",\"G64.2\"))))))))))))))))))))))))))))))))","v":"G56.2"},{"$f":"VLOOKUP(E231,Grup!$N$5:$AF$1000,3,0)","v":{"$error":"#N/A"}},null,null,223,null,{"$f":"INDEX(Grup!$M$6:$M$1000,MATCH(Ana_Tablo_Kura!L231,Grup!$P$6:$P$1000,0),1)","v":{"$error":"#N/A"}},{"$f":"IF(H231=0,VLOOKUP(I231,$B$8:$F$267,5,0),VLOOKUP(H231,Kura!$A$4:$Z$350,26,0))","v":{"$error":"#N/A"}},"G64.2",{"$f":"IFERROR(VLOOKUP(K231,Kura!$A$4:$F$1000,6,0),0)","v":0}]
[null,58,null,null,{"$f":"IF($E$329=\"G33.1\",\"G33.2\",\nIF($E$329=\"G34.1\",\"G34.2\",\nIF($E$329=\"G35.1\",\"G35.2\",\nIF($E$329=\"G36.1\",\"G36.2\",\nIF($E$329=\"G37.1\",\"G37.2\",\nIF($E$329=\"G38.1\",\"G38.2\",\nIF($E$329=\"G39.1\",\"G39.2\",\nIF($E$329=\"G40.1\",\"G40.2\",\nIF($E$329=\"G41.1\",\"G41.2\",\nIF($E$329=\"G42.1\",\"G42.2\",\nIF($E$329=\"G43.1\",\"G43.2\",\nIF($E$329=\"G44.1\",\"G44.2\",\nIF($E$329=\"G45.1\",\"G45.2\",\nIF($E$329=\"G46.1\",\"G46.2\",\nIF($E$329=\"G47.1\",\"G47.2\",\nIF($E$329=\"G48.1\",\"G48.2\",\nIF($E$329=\"G49.1\",\"G49.2\",\nIF($E$329=\"G50.1\",\"G50.2\",\nIF($E$329=\"G51.1\",\"G51.2\",\nIF($E$329=\"G52.1\",\"G52.2\",\nIF($E$329=\"G53.1\",\"G53.2\",\nIF($E$329=\"G54.1\",\"G54.2\",\nIF($E$329=\"G55.1\",\"G55.2\",\nIF($E$329=\"G56.1\",\"G56.2\",\nIF($E$329=\"G57.1\",\"G57.2\",\nIF($E$329=\"G58.1\",\"G58.2\",\nIF($E$329=\"G59.1\",\"G59.2\",\nIF($E$329=\"G60.1\",\"G60.2\",\nIF($E$329=\"G61.1\",\"G61.2\",\nIF($E$329=\"G62.1\",\"G62.2\",\nIF($E$329=\"G63.1\",\"G63.2\",\nIF($E$329=\"G64.1\",\"G64.2\"))))))))))))))))))))))))))))))))","v":"G57.2"},{"$f":"VLOOKUP(E232,Grup!$N$5:$AF$1000,3,0)","v":{"$error":"#N/A"}},null,null,224,"9/12.1",{"$f":"INDEX(Grup!$M$6:$M$1000,MATCH(Ana_Tablo_Kura!L232,Grup!$P$6:$P$1000,0),1)","v":{"$error":"#N/A"}},{"$f":"IF(H232=0,VLOOKUP(I232,$B$8:$F$267,5,0),VLOOKUP(H232,Kura!$A$4:$Z$350,26,0))","v":{"$error":"#N/A"}},"G10.1",{"$f":"IFERROR(VLOOKUP(K232,Kura!$A$4:$F$1000,6,0),0)","v":0}]
[null,59,null,null,{"$f":"IF($E$332=\"G33.1\",\"G33.2\",\nIF($E$332=\"G34.1\",\"G34.2\",\nIF($E$332=\"G35.1\",\"G35.2\",\nIF($E$332=\"G36.1\",\"G36.2\",\nIF($E$332=\"G37.1\",\"G37.2\",\nIF($E$332=\"G38.1\",\"G38.2\",\nIF($E$332=\"G39.1\",\"G39.2\",\nIF($E$332=\"G40.1\",\"G40.2\",\nIF($E$332=\"G41.1\",\"G41.2\",\nIF($E$332=\"G42.1\",\"G42.2\",\nIF($E$332=\"G43.1\",\"G43.2\",\nIF($E$332=\"G44.1\",\"G44.2\",\nIF($E$332=\"G45.1\",\"G45.2\",\nIF($E$332=\"G46.1\",\"G46.2\",\nIF($E$332=\"G47.1\",\"G47.2\",\nIF($E$332=\"G48.1\",\"G48.2\",\nIF($E$332=\"G49.1\",\"G49.2\",\nIF($E$332=\"G50.1\",\"G50.2\",\nIF($E$332=\"G51.1\",\"G51.2\",\nIF($E$332=\"G52.1\",\"G52.2\",\nIF($E$332=\"G53.1\",\"G53.2\",\nIF($E$332=\"G54.1\",\"G54.2\",\nIF($E$332=\"G55.1\",\"G55.2\",\nIF($E$332=\"G56.1\",\"G56.2\",\nIF($E$332=\"G57.1\",\"G57.2\",\nIF($E$332=\"G58.1\",\"G58.2\",\nIF($E$332=\"G59.1\",\"G59.2\",\nIF($E$332=\"G60.1\",\"G60.2\",\nIF($E$332=\"G61.1\",\"G61.2\",\nIF($E$332=\"G62.1\",\"G62.2\",\nIF($E$332=\"G63.1\",\"G63.2\",\nIF($E$332=\"G64.1\",\"G64.2\"))))))))))))))))))))))))))))))))","v":"G60.2"},{"$f":"VLOOKUP(E233,Grup!$N$5:$AF$1000,3,0)","v":{"$error":"#N/A"}},null,null,225,"13/16.1",{"$f":"INDEX(Grup!$M$6:$M$1000,MATCH(Ana_Tablo_Kura!L233,Grup!$P$6:$P$1000,0),1)","v":{"$error":"#N/A"}},{"$f":"IF(H233=0,VLOOKUP(I233,$B$8:$F$267,5,0),VLOOKUP(H233,Kura!$A$4:$Z$350,26,0))","v":{"$error":"#N/A"}},"G16.1",{"$f":"IFERROR(VLOOKUP(K233,Kura!$A$4:$F$1000,6,0),0)","v":0}]
[null,62,null,null,{"$f":"IF($E$333=\"G33.1\",\"G33.2\",\nIF($E$333=\"G34.1\",\"G34.2\",\nIF($E$333=\"G35.1\",\"G35.2\",\nIF($E$333=\"G36.1\",\"G36.2\",\nIF($E$333=\"G37.1\",\"G37.2\",\nIF($E$333=\"G38.1\",\"G38.2\",\nIF($E$333=\"G39.1\",\"G39.2\",\nIF($E$333=\"G40.1\",\"G40.2\",\nIF($E$333=\"G41.1\",\"G41.2\",\nIF($E$333=\"G42.1\",\"G42.2\",\nIF($E$333=\"G43.1\",\"G43.2\",\nIF($E$333=\"G44.1\",\"G44.2\",\nIF($E$333=\"G45.1\",\"G45.2\",\nIF($E$333=\"G46.1\",\"G46.2\",\nIF($E$333=\"G47.1\",\"G47.2\",\nIF($E$333=\"G48.1\",\"G48.2\",\nIF($E$333=\"G49.1\",\"G49.2\",\nIF($E$333=\"G50.1\",\"G50.2\",\nIF($E$333=\"G51.1\",\"G51.2\",\nIF($E$333=\"G52.1\",\"G52.2\",\nIF($E$333=\"G53.1\",\"G53.2\",\nIF($E$333=\"G54.1\",\"G54.2\",\nIF($E$333=\"G55.1\",\"G55.2\",\nIF($E$333=\"G56.1\",\"G56.2\",\nIF($E$333=\"G57.1\",\"G57.2\",\nIF($E$333=\"G58.1\",\"G58.2\",\nIF($E$333=\"G59.1\",\"G59.2\",\nIF($E$333=\"G60.1\",\"G60.2\",\nIF($E$333=\"G61.1\",\"G61.2\",\nIF($E$333=\"G62.1\",\"G62.2\",\nIF($E$333=\"G63.1\",\"G63.2\",\nIF($E$333=\"G64.1\",\"G64.2\"))))))))))))))))))))))))))))))))","v":"G61.2"},{"$f":"VLOOKUP(E234,Grup!$N$5:$AF$1000,3,0)","v":{"$error":"#N/A"}},null,null,226,null,{"$f":"INDEX(Grup!$M$6:$M$1000,MATCH(Ana_Tablo_Kura!L234,Grup!$P$6:$P$1000,0),1)","v":{"$error":"#N/A"}},{"$f":"IF(H234=0,VLOOKUP(I234,$B$8:$F$267,5,0),VLOOKUP(H234,Kura!$A$4:$Z$350,26,0))","v":{"$error":"#N/A"}},"G64.2",{"$f":"IFERROR(VLOOKUP(K234,Kura!$A$4:$F$1000,6,0),0)","v":0}]
[null,63,null,null,{"$f":"IF($E$336=\"G33.1\",\"G33.2\",\nIF($E$336=\"G34.1\",\"G34.2\",\nIF($E$336=\"G35.1\",\"G35.2\",\nIF($E$336=\"G36.1\",\"G36.2\",\nIF($E$336=\"G37.1\",\"G37.2\",\nIF($E$336=\"G38.1\",\"G38.2\",\nIF($E$336=\"G39.1\",\"G39.2\",\nIF($E$336=\"G40.1\",\"G40.2\",\nIF($E$336=\"G41.1\",\"G41.2\",\nIF($E$336=\"G42.1\",\"G42.2\",\nIF($E$336=\"G43.1\",\"G43.2\",\nIF($E$336=\"G44.1\",\"G44.2\",\nIF($E$336=\"G45.1\",\"G45.2\",\nIF($E$336=\"G46.1\",\"G46.2\",\nIF($E$336=\"G47.1\",\"G47.2\",\nIF($E$336=\"G48.1\",\"G48.2\",\nIF($E$336=\"G49.1\",\"G49.2\",\nIF($E$336=\"G50.1\",\"G50.2\",\nIF($E$336=\"G51.1\",\"G51.2\",\nIF($E$336=\"G52.1\",\"G52.2\",\nIF($E$336=\"G53.1\",\"G53.2\",\nIF($E$336=\"G54.1\",\"G54.2\",\nIF($E$336=\"G55.1\",\"G55.2\",\nIF($E$336=\"G56.1\",\"G56.2\",\nIF($E$336=\"G57.1\",\"G57.2\",\nIF($E$336=\"G58.1\",\"G58.2\",\nIF($E$336=\"G59.1\",\"G59.2\",\nIF($E$336=\"G60.1\",\"G60.2\",\nIF($E$336=\"G61.1\",\"G61.2\",\nIF($E$336=\"G62.1\",\"G62.2\",\nIF($E$336=\"G63.1\",\"G63.2\",\nIF($E$336=\"G64.1\",\"G64.2\"))))))))))))))))))))))))))))))))","v":"G64.2"},{"$f":"VLOOKUP(E235,Grup!$N$5:$AF$1000,3,0)","v":{"$error":"#N/A"}},null,null,227,null,{"$f":"INDEX(Grup!$M$6:$M$1000,MATCH(Ana_Tablo_Kura!L235,Grup!$P$6:$P$1000,0),1)","v":{"$error":"#N/A"}},{"$f":"IF(H235=0,VLOOKUP(I235,$B$8:$F$267,5,0),VLOOKUP(H235,Kura!$A$4:$Z$350,26,0))","v":{"$error":"#N/A"}},"G64.2",{"$f":"IFERROR(VLOOKUP(K235,Kura!$A$4:$F$1000,6,0),0)","v":0}]
[null,66,null,null,"G64.2",{"$f":"VLOOKUP(E236,Grup!$N$5:$AF$1000,3,0)","v":{"$error":"#N/A"}},null,null,228,"33/128",{"$f":"INDEX(Grup!$M$6:$M$1000,MATCH(Ana_Tablo_Kura!L236,Grup!$P$6:$P$1000,0),1)","v":{"$error":"#N/A"}},{"$f":"IF(H236=0,VLOOKUP(I236,$B$8:$F$267,5,0),VLOOKUP(H236,Kura!$A$4:$Z$350,26,0))","v":{"$error":"#N/A"}},"G114.1",{"$f":"IFERROR(VLOOKUP(K236,Kura!$A$4:$F$1000,6,0),0)","v":0}]
[null,67,null,null,"G64.2",{"$f":"VLOOKUP(E237,Grup!$N$5:$AF$1000,3,0)","v":{"$error":"#N/A"}},null,null,229,"33/128",{"$f":"INDEX(Grup!$M$6:$M$1000,MATCH(Ana_Tablo_Kura!L237,Grup!$P$6:$P$1000,0),1)","v":{"$error":"#N/A"}},{"$f":"IF(H237=0,VLOOKUP(I237,$B$8:$F$267,5,0),VLOOKUP(H237,Kura!$A$4:$Z$350,26,0))","v":{"$error":"#N/A"}},"G80.1",{"$f":"IFERROR(VLOOKUP(K237,Kura!$A$4:$F$1000,6,0),0)","v":0}]
[null,70,null,null,"G64.2",{"$f":"VLOOKUP(E238,Grup!$N$5:$AF$1000,3,0)","v":{"$error":"#N/A"}},null,null,230,null,{"$f":"INDEX(Grup!$M$6:$M$1000,MATCH(Ana_Tablo_Kura!L238,Grup!$P$6:$P$1000,0),1)","v":{"$error":"#N/A"}},{"$f":"IF(H238=0,VLOOKUP(I238,$B$8:$F$267,5,0),VLOOKUP(H238,Kura!$A$4:$Z$350,26,0))","v":{"$error":"#N/A"}},"G64.2",{"$f":"IFERROR(VLOOKUP(K238,Kura!$A$4:$F$1000,6,0),0)","v":0}]
[null,71,null,null,"G64.2",{"$f":"VLOOKUP(E239,Grup!$N$5:$AF$1000,3,0)","v":{"$error":"#N/A"}},null,null,231,null,{"$f":"INDEX(Grup!$M$6:$M$1000,MATCH(Ana_Tablo_Kura!L239,Grup!$P$6:$P$1000,0),1)","v":{"$error":"#N/A"}},{"$f":"IF(H239=0,VLOOKUP(I239,$B$8:$F$267,5,0),VLOOKUP(H239,Kura!$A$4:$Z$350,26,0))","v":{"$error":"#N/A"}},"G64.2",{"$f":"IFERROR(VLOOKUP(K239,Kura!$A$4:$F$1000,6,0),0)","v":0}]
[null,74,null,null,"G64.2",{"$f":"VLOOKUP(E240,Grup!$N$5:$AF$1000,3,0)","v":{"$error":"#N/A"}},null,null,232,"33/128",{"$f":"INDEX(Grup!$M$6:$M$1000,MATCH(Ana_Tablo_Kura!L240,Grup!$P$6:$P$1000,0),1)","v":{"$error":"#N/A"}},{"$f":"IF(H240=0,VLOOKUP(I240,$B$8:$F$267,5,0),VLOOKUP(H240,Kura!$A$4:$Z$350,26,0))","v":{"$error":"#N/A"}},"G50.1",{"$f":"IFERROR(VLOOKUP(K240,Kura!$A$4:$F$1000,6,0),0)","v":0}]
[null,75,null,null,"G64.2",{"$f":"VLOOKUP(E241,Grup!$N$5:$AF$1000,3,0)","v":{"$error":"#N/A"}},null,null,233,"33/128",{"$f":"INDEX(Grup!$M$6:$M$1000,MATCH(Ana_Tablo_Kura!L241,Grup!$P$6:$P$1000,0),1)","v":{"$error":"#N/A"}},{"$f":"IF(H241=0,VLOOKUP(I241,$B$8:$F$267,5,0),VLOOKUP(H241,Kura!$A$4:$Z$350,26,0))","v":{"$error":"#N/A"}},"G48.1",{"$f":"IFERROR(VLOOKUP(K241,Kura!$A$4:$F$1000,6,0),0)","v":0}]
[null,78,null,null,"G64.2",{"$f":"VLOOKUP(E242,Grup!$N$5:$AF$1000,3,0)","v":{"$error":"#N/A"}},null,null,234,null,{"$f":"INDEX(Grup!$M$6:$M$1000,MATCH(Ana_Tablo_Kura!L242,Grup!$P$6:$P$1000,0),1)","v":{"$error":"#N/A"}},{"$f":"IF(H242=0,VLOOKUP(I242,$B$8:$F$267,5,0),VLOOKUP(H242,Kura!$A$4:$Z$350,26,0))","v":{"$error":"#N/A"}},"G64.2",{"$f":"IFERROR(VLOOKUP(K242,Kura!$A$4:$F$1000,6,0),0)","v":0}]
[null,79,null,null,"G64.2",{"$f":"VLOOKUP(E243,Grup!$N$5:$AF$1000,3,0)","v":{"$error":"#N/A"}},null,null,235,null,{"$f":"INDEX(Grup!$M$6:$M$1000,MATCH(Ana_Tablo_Kura!L243,Grup!$P$6:$P$1000,0),1)","v":{"$error":"#N/A"}},{"$f":"IF(H243=0,VLOOKUP(I243,$B$8:$F$267,5,0),VLOOKUP(H243,Kura!$A$4:$Z$350,26,0))","v":{"$error":"#N/A"}},"G64.2",{"$f":"IFERROR(VLOOKUP(K243,Kura!$A$4:$F$1000,6,0),0)","v":0}]
[null,82,null,null,"G64.2",{"$f":"VLOOKUP(E244,Grup!$N$5:$AF$1000,3,0)","v":{"$error":"#N/A"}},null,null,236,"33/128",{"$f":"INDEX(Grup!$M$6:$M$1000,MATCH(Ana_Tablo_Kura!L244,Grup!$P$6:$P$1000,0),1)","v":{"$error":"#N/A"}},{"$f":"IF(H244=0,VLOOKUP(I244,$B$8:$F$267,5,0),VLOOKUP(H244,Kura!$A$4:$Z$350,26,0))","v":{"$error":"#N/A"}},"G82.1",{"$f":"IFERROR(VLOOKUP(K244,Kura!$A$4:$F$1000,6,0),0)","v":0}]
[null,83,null,null,"G64.2",{"$f":"VLOOKUP(E245,Grup!$N$5:$AF$1000,3,0)","v":{"$error":"#N/A"}},null,null,237,"33/128",{"$f":"INDEX(Grup!$M$6:$M$1000,MATCH(Ana_Tablo_Kura!L245,Grup!$P$6:$P$1000,0),1)","v":{"$error":"#N/A"}},{"$f":"IF(H245=0,VLOOKUP(I245,$B$8:$F$267,5,0),VLOOKUP(H245,Kura!$A$4:$Z$350,26,0))","v":{"$error":"#N/A"}},"G112.1",{"$f":"IFERROR(VLOOKUP(K245,Kura!$A$4:$F$1000,6,0),0)","v":0}]
[null,86,null,null,"G64.2",{"$f":"VLOOKUP(E246,Grup!$N$5:$AF$1000,3,0)","v":{"$error":"#N/A"}},null,null,238,null,{"$f":"INDEX(Grup!$M$6:$M$1000,MATCH(Ana_Tablo_Kura!L246,Grup!$P$6:$P$1000,0),1)","v":{"$error":"#N/A"}},{"$f":"IF(H246=0,VLOOKUP(I246,$B$8:$F$267,5,0),VLOOKUP(H246,Kura!$A$4:$Z$350,26,0))","v":{"$error":"#N/A"}},"G64.2",{"$f":"IFERROR(VLOOKUP(K246,Kura!$A$4:$F$1000,6,0),0)","v":0}]
[null,87,null,null,"G64.2",{"$f":"VLOOKUP(E247,Grup!$N$5:$AF$1000,3,0)","v":{"$error":"#N/A"}},null,null,239,null,{"$f":"INDEX(Grup!$M$6:$M$1000,MATCH(Ana_Tablo_Kura!L247,Grup!$P$6:$P$1000,0),1)","v":{"$error":"#N/A"}},{"$f":"IF(H247=0,VLOOKUP(I247,$B$8:$F$267,5,0),VLOOKUP(H247,Kura!$A$4:$Z$350,26,0))","v":{"$error":"#N/A"}},"G64.2",{"$f":"IFERROR(VLOOKUP(K247,Kura!$A$4:$F$1000,6,0),0)","v":0}]
[null,90,null,null,"G64.2",{"$f":"VLOOKUP(E248,Grup!$N$5:$AF$1000,3,0)","v":{"$error":"#N/A"}},null,null,240,"17/32.1",{"$f":"INDEX(Grup!$M$6:$M$1000,MATCH(Ana_Tablo_Kura!L248,Grup!$P$6:$P$1000,0),1)","v":{"$error":"#N/A"}},{"$f":"IF(H248=0,VLOOKUP(I248,$B$8:$F$267,5,0),VLOOKUP(H248,Kura!$A$4:$Z$350,26,0))","v":{"$error":"#N/A"}},"G18.1",{"$f":"IFERROR(VLOOKUP(K248,Kura!$A$4:$F$1000,6,0),0)","v":0}]
[null,91,null,null,"G64.2",{"$f":"VLOOKUP(E249,Grup!$N$5:$AF$1000,3,0)","v":{"$error":"#N/A"}},null,null,241,"17/32.1",{"$f":"INDEX(Grup!$M$6:$M$1000,MATCH(Ana_Tablo_Kura!L249,Grup!$P$6:$P$1000,0),1)","v":{"$error":"#N/A"}},{"$f":"IF(H249=0,VLOOKUP(I249,$B$8:$F$267,5,0),VLOOKUP(H249,Kura!$A$4:$Z$350,26,0))","v":{"$error":"#N/A"}},"G32.1",{"$f":"IFERROR(VLOOKUP(K249,Kura!$A$4:$F$1000,6,0),0)","v":0}]
[null,94,null,null,"G64.2",{"$f":"VLOOKUP(E250,Grup!$N$5:$AF$1000,3,0)","v":{"$error":"#N/A"}},null,null,242,null,{"$f":"INDEX(Grup!$M$6:$M$1000,MATCH(Ana_Tablo_Kura!L250,Grup!$P$6:$P$1000,0),1)","v":{"$error":"#N/A"}},{"$f":"IF(H250=0,VLOOKUP(I250,$B$8:$F$267,5,0),VLOOKUP(H250,Kura!$A$4:$Z$350,26,0))","v":{"$error":"#N/A"}},"G64.2",{"$f":"IFERROR(VLOOKUP(K250,Kura!$A$4:$F$1000,6,0),0)","v":0}]
[null,95,null,null,"G64.2",{"$f":"VLOOKUP(E251,Grup!$N$5:$AF$1000,3,0)","v":{"$error":"#N/A"}},null,null,243,null,{"$f":"INDEX(Grup!$M$6:$M$1000,MATCH(Ana_Tablo_Kura!L251,Grup!$P$6:$P$1000,0),1)","v":{"$error":"#N/A"}},{"$f":"IF(H251=0,VLOOKUP(I251,$B$8:$F$267,5,0),VLOOKUP(H251,Kura!$A$4:$Z$350,26,0))","v":{"$error":"#N/A"}},"G64.2",{"$f":"IFERROR(VLOOKUP(K251,Kura!$A$4:$F$1000,6,0),0)","v":0}]
[null,98,null,null,"G64.2",{"$f":"VLOOKUP(E252,Grup!$N$5:$AF$1000,3,0)","v":{"$error":"#N/A"}},null,null,244,"33/128",{"$f":"INDEX(Grup!$M$6:$M$1000,MATCH(Ana_Tablo_Kura!L252,Grup!$P$6:$P$1000,0),1)","v":{"$error":"#N/A"}},{"$f":"IF(H252=0,VLOOKUP(I252,$B$8:$F$267,5,0),VLOOKUP(H252,Kura!$A$4:$Z$350,26,0))","v":{"$error":"#N/A"}},"G98.1",{"$f":"IFERROR(VLOOKUP(K252,Kura!$A$4:$F$1000,6,0),0)","v":0}]
[null,99,null,null,"G64.2",{"$f":"VLOOKUP(E253,Grup!$N$5:$AF$1000,3,0)","v":{"$error":"#N/A"}},null,null,245,"33/128",{"$f":"INDEX(Grup!$M$6:$M$1000,MATCH(Ana_Tablo_Kura!L253,Grup!$P$6:$P$1000,0),1)","v":{"$error":"#N/A"}},{"$f":"IF(H253=0,VLOOKUP(I253,$B$8:$F$267,5,0),VLOOKUP(H253,Kura!$A$4:$Z$350,26,0))","v":{"$error":"#N/A"}},"G96.1",{"$f":"IFERROR(VLOOKUP(K253,Kura!$A$4:$F$1000,6,0),0)","v":0}]
[null,102,null,null,"G64.2",{"$f":"VLOOKUP(E254,Grup!$N$5:$AF$1000,3,0)","v":{"$error":"#N/A"}},null,null,246,null,{"$f":"INDEX(Grup!$M$6:$M$1000,MATCH(Ana_Tablo_Kura!L254,Grup!$P$6:$P$1000,0),1)","v":{"$error":"#N/A"}},{"$f":"IF(H254=0,VLOOKUP(I254,$B$8:$F$267,5,0),VLOOKUP(H254,Kura!$A$4:$Z$350,26,0))","v":{"$error":"#N/A"}},"G64.2",{"$f":"IFERROR(VLOOKUP(K254,Kura!$A$4:$F$1000,6,0),0)","v":0}]
[null,103,null,null,"G64.2",{"$f":"VLOOKUP(E255,Grup!$N$5:$AF$1000,3,0)","v":{"$error":"#N/A"}},null,null,247,null,{"$f":"INDEX(Grup!$M$6:$M$1000,MATCH(Ana_Tablo_Kura!L255,Grup!$P$6:$P$1000,0),1)","v":{"$error":"#N/A"}},{"$f":"IF(H255=0,VLOOKUP(I255,$B$8:$F$267,5,0),VLOOKUP(H255,Kura!$A$4:$Z$350,26,0))","v":{"$error":"#N/A"}},"G64.2",{"$f":"IFERROR(VLOOKUP(K255,Kura!$A$4:$F$1000,6,0),0)","v":0}]
[null,106,null,null,"G64.2",{"$f":"VLOOKUP(E256,Grup!$N$5:$AF$1000,3,0)","v":{"$error":"#N/A"}},null,null,248,"33/128",{"$f":"INDEX(Grup!$M$6:$M$1000,MATCH(Ana_Tablo_Kura!L256,Grup!$P$6:$P$1000,0),1)","v":{"$error":"#N/A"}},{"$f":"IF(H256=0,VLOOKUP(I256,$B$8:$F$267,5,0),VLOOKUP(H256,Kura!$A$4:$Z$350,26,0))","v":{"$error":"#N/A"}},"G34.1",{"$f":"IFERROR(VLOOKUP(K256,Kura!$A$4:$F$1000,6,0),0)","v":0}]
[null,107,null,null,"G64.2",{"$f":"VLOOKUP(E257,Grup!$N$5:$AF$1000,3,0)","v":{"$error":"#N/A"}},null,null,249,"33/128",{"$f":"INDEX(Grup!$M$6:$M$1000,MATCH(Ana_Tablo_Kura!L257,Grup!$P$6:$P$1000,0),1)","v":{"$error":"#N/A"}},{"$f":"IF(H257=0,VLOOKUP(I257,$B$8:$F$267,5,0),VLOOKUP(H257,Kura!$A$4:$Z$350,26,0))","v":{"$error":"#N/A"}},"G63.1",{"$f":"IFERROR(VLOOKUP(K257,Kura!$A$4:$F$1000,6,0),0)","v":0}]
[null,110,null,null,"G64.2",{"$f":"VLOOKUP(E258,Grup!$N$5:$AF$1000,3,0)","v":{"$error":"#N/A"}},null,null,250,null,{"$f":"INDEX(Grup!$M$6:$M$1000,MATCH(Ana_Tablo_Kura!L258,Grup!$P$6:$P$1000,0),1)","v":{"$error":"#N/A"}},{"$f":"IF(H258=0,VLOOKUP(I258,$B$8:$F$267,5,0),VLOOKUP(H258,Kura!$A$4:$Z$350,26,0))","v":{"$error":"#N/A"}},"G64.2",{"$f":"IFERROR(VLOOKUP(K258,Kura!$A$4:$F$1000,6,0),0)","v":0}]
[null,111,null,null,"G64.2",{"$f":"VLOOKUP(E259,Grup!$N$5:$AF$1000,3,0)","v":{"$error":"#N/A"}},null,null,251,null,{"$f":"INDEX(Grup!$M$6:$M$1000,MATCH(Ana_Tablo_Kura!L259,Grup!$P$6:$P$1000,0),1)","v":{"$error":"#N/A"}},{"$f":"IF(H259=0,VLOOKUP(I259,$B$8:$F$267,5,0),VLOOKUP(H259,Kura!$A$4:$Z$350,26,0))","v":{"$error":"#N/A"}},"G64.2",{"$f":"IFERROR(VLOOKUP(K259,Kura!$A$4:$F$1000,6,0),0)","v":0}]
[null,114,null,null,"G64.2",{"$f":"VLOOKUP(E260,Grup!$N$5:$AF$1000,3,0)","v":{"$error":"#N/A"}},null,null,252,"33/128",{"$f":"INDEX(Grup!$M$6:$M$1000,MATCH(Ana_Tablo_Kura!L260,Grup!$P$6:$P$1000,0),1)","v":{"$error":"#N/A"}},{"$f":"IF(H260=0,VLOOKUP(I260,$B$8:$F$267,5,0),VLOOKUP(H260,Kura!$A$4:$Z$350,26,0))","v":{"$error":"#N/A"}},"G66.1",{"$f":"IFERROR(VLOOKUP(K260,Kura!$A$4:$F$1000,6,0),0)","v":0}]
[null,115,null,null,"G64.2",{"$f":"VLOOKUP(E261,Grup!$N$5:$AF$1000,3,0)","v":{"$error":"#N/A"}},null,null,253,"33/128",{"$f":"INDEX(Grup!$M$6:$M$1000,MATCH(Ana_Tablo_Kura!L261,Grup!$P$6:$P$1000,0),1)","v":{"$error":"#N/A"}},{"$f":"IF(H261=0,VLOOKUP(I261,$B$8:$F$267,5,0),VLOOKUP(H261,Kura!$A$4:$Z$350,26,0))","v":{"$error":"#N/A"}},"G127.1",{"$f":"IFERROR(VLOOKUP(K261,Kura!$A$4:$F$1000,6,0),0)","v":0}]
[null,118,null,null,"G64.2",{"$f":"VLOOKUP(E262,Grup!$N$5:$AF$1000,3,0)","v":{"$error":"#N/A"}},null,null,254,null,{"$f":"INDEX(Grup!$M$6:$M$1000,MATCH(Ana_Tablo_Kura!L262,Grup!$P$6:$P$1000,0),1)","v":{"$error":"#N/A"}},{"$f":"IF(H262=0,VLOOKUP(I262,$B$8:$F$267,5,0),VLOOKUP(H262,Kura!$A$4:$Z$350,26,0))","v":{"$error":"#N/A"}},"G64.2",{"$f":"IFERROR(VLOOKUP(K262,Kura!$A$4:$F$1000,6,0),0)","v":0}]
[null,119,null,null,"G64.2",{"$f":"VLOOKUP(E263,Grup!$N$5:$AF$1000,3,0)","v":{"$error":"#N/A"}},null,null,255,null,{"$f":"INDEX(Grup!$M$6:$M$1000,MATCH(Ana_Tablo_Kura!L263,Grup!$P$6:$P$1000,0),1)","v":{"$error":"#N/A"}},{"$f":"IF(H263=0,VLOOKUP(I263,$B$8:$F$267,5,0),VLOOKUP(H263,Kura!$A$4:$Z$350,26,0))","v":{"$error":"#N/A"}},"G64.2",{"$f":"IFERROR(VLOOKUP(K263,Kura!$A$4:$F$1000,6,0),0)","v":0}]
[null,122,null,null,"G64.2",{"$f":"VLOOKUP(E264,Grup!$N$5:$AF$1000,3,0)","v":{"$error":"#N/A"}},null,null,256,"2.1",{"$f":"INDEX(Grup!$M$6:$M$1000,MATCH(Ana_Tablo_Kura!L264,Grup!$P$6:$P$1000,0),1)","v":2},{"$f":"IF(H264=0,VLOOKUP(I264,$B$8:$F$267,5,0),VLOOKUP(H264,Kura!$A$4:$Z$350,26,0))","v":"ÇORUM GENÇLİK SPOR (A) (ÇRM)"},"G2.1",{"$f":"IFERROR(VLOOKUP(K264,Kura!$A$4:$F$1000,6,0),0)","v":"ÇORUM"}]
[null,123,null,null,"G64.2",{"$f":"VLOOKUP(E265,Grup!$N$5:$AF$1000,3,0)","v":{"$error":"#N/A"}}]
[null,126,null,null,"G64.2",{"$f":"VLOOKUP(E266,Grup!$N$5:$AF$1000,3,0)","v":{"$error":"#N/A"}}]
[null,127,null,null,"G64.2",{"$f":"VLOOKUP(E267,Grup!$N$5:$AF$1000,3,0)","v":{"$error":"#N/A"}}]
[]
[]
[null,128]
[]
[null,"Place",null,"#","Group","Player",null,"Manuel",null,null,"S.No","Main table"]
[1,1,null,null,"G1.1",{"$f":"VLOOKUP(E273,Grup!$N$5:$AF$1000,3,0)","v":"ÇORUM BLD. SPOR (A) (ÇRM)"},null,null,1,"1.1",{"$f":"INDEX(Grup!$M$6:$M$1000,MATCH(Ana_Tablo_Kura!L273,Grup!$P$6:$P$1000,0),1)","v":1},{"$f":"IF(H273=0,VLOOKUP(I273,$B$273:$F$404,5,0),VLOOKUP(H273,Kura!$A$4:$Z$350,26,0))","v":"ÇORUM BLD. SPOR (A) (ÇRM)"},{"$f":"VLOOKUP(I273,$B$273:$F$404,4,0)","v":"G1.1"},{"$f":"IFERROR(VLOOKUP(K273,Kura!$A$4:$F$1000,6,0),0)","v":"ÇORUM"}]
[2,128,null,null,"G2.1",{"$f":"VLOOKUP(E274,Grup!$N$5:$AF$1000,3,0)","v":"ÇORUM GENÇLİK SPOR (A) (ÇRM)"},null,null,2,null,{"$f":"INDEX(Grup!$M$6:$M$1000,MATCH(Ana_Tablo_Kura!L274,Grup!$P$6:$P$1000,0),1)","v":7},{"$f":"IF(H274=0,VLOOKUP(I274,$B$273:$F$404,5,0),VLOOKUP(H274,Kura!$A$4:$Z$350,26,0))","v":"BAYBURT GMSK (A) (BYB)"},"G2.2",{"$f":"IFERROR(VLOOKUP(K274,Kura!$A$4:$F$1000,6,0),0)","v":"BAYBURT"}]
["3-4",65,null,null,"G3.1",{"$f":"VLOOKUP(E275,Grup!$N$5:$AF$1000,3,0)","v":"ŞAFAKTEPE SK (A) (ANK)"},null,null,3,null,{"$f":"INDEX(Grup!$M$6:$M$1000,MATCH(Ana_Tablo_Kura!L275,Grup!$P$6:$P$1000,0),1)","v":9},{"$f":"IF(H275=0,VLOOKUP(I275,$B$273:$F$404,5,0),VLOOKUP(H275,Kura!$A$4:$Z$350,26,0))","v":"FINDIKLI 1974 SPOR (A) (RİZ)"},"G3.2",{"$f":"IFERROR(VLOOKUP(K275,Kura!$A$4:$F$1000,6,0),0)","v":"RİZE"}]
["3-4",64,null,null,"G4.1",{"$f":"VLOOKUP(E276,Grup!$N$5:$AF$1000,3,0)","v":"KUTLUBEY OKULLARI (A) (AMS)"},null,null,4,"33/64.1",{"$f":"INDEX(Grup!$M$6:$M$1000,MATCH(Ana_Tablo_Kura!L276,Grup!$P$6:$P$1000,0),1)","v":{"$error":"#N/A"}},{"$f":"IF(H276=0,VLOOKUP(I276,$B$273:$F$404,5,0),VLOOKUP(H276,Kura!$A$4:$Z$350,26,0))","v":{"$error":"#N/A"}},"G64.1",{"$f":"IFERROR(VLOOKUP(K276,Kura!$A$4:$F$1000,6,0),0)","v":0}]
["5-6",33,null,null,"G5.1",{"$f":"VLOOKUP(E277,Grup!$N$5:$AF$1000,3,0)","v":{"$error":"#N/A"}},null,null,5,"33/64.1",{"$f":"INDEX(Grup!$M$6:$M$1000,MATCH(Ana_Tablo_Kura!L277,Grup!$P$6:$P$1000,0),1)","v":{"$error":"#N/A"}},{"$f":"IF(H277=0,VLOOKUP(I277,$B$273:$F$404,5,0),VLOOKUP(H277,Kura!$A$4:$Z$350,26,0))","v":{"$error":"#N/A"}},"G61.1",{"$f":"IFERROR(VLOOKUP(K277,Kura!$A$4:$F$1000,6,0),0)","v":0}]
["5-6",96,null,null,"G6.1",{"$f":"VLOOKUP(E278,Grup!$N$5:$AF$1000,3,0)","v":{"$error":"#N/A"}},null,null,6,null,{"$f":"INDEX(Grup!$M$6:$M$1000,MATCH(Ana_Tablo_Kura!L278,Grup!$P$6:$P$1000,0),1)","v":{"$error":"#N/A"}},{"$f":"IF(H278=0,VLOOKUP(I278,$B$273:$F$404,5,0),VLOOKUP(H278,Kura!$A$4:$Z$350,26,0))","v":{"$error":"#N/A"}},"G6.2",{"$f":"IFERROR(VLOOKUP(K278,Kura!$A$4:$F$1000,6,0),0)","v":0}]
["7-8",97,null,null,"G8.1",{"$f":"VLOOKUP(E279,Grup!$N$5:$AF$1000,3,0)","v":{"$error":"#N/A"}},null,null,7,null,{"$f":"INDEX(Grup!$M$6:$M$1000,MATCH(Ana_Tablo_Kura!L279,Grup!$P$6:$P$1000,0),1)","v":{"$error":"#N/A"}},{"$f":"IF(H279=0,VLOOKUP(I279,$B$273:$F$404,5,0),VLOOKUP(H279,Kura!$A$4:$Z$350,26,0))","v":{"$error":"#N/A"}},"G8.2",{"$f":"IFERROR(VLOOKUP(K279,Kura!$A$4:$F$1000,6,0),0)","v":0}]
["7-8",32,null,null,"G7.1",{"$f":"VLOOKUP(E280,Grup!$N$5:$AF$1000,3,0)","v":{"$error":"#N/A"}},null,null,8,"17/32.1",{"$f":"INDEX(Grup!$M$6:$M$1000,MATCH(Ana_Tablo_Kura!L280,Grup!$P$6:$P$1000,0),1)","v":{"$error":"#N/A"}},{"$f":"IF(H280=0,VLOOKUP(I280,$B$273:$F$404,5,0),VLOOKUP(H280,Kura!$A$4:$Z$350,26,0))","v":{"$error":"#N/A"}},"G28.1",{"$f":"IFERROR(VLOOKUP(K280,Kura!$A$4:$F$1000,6,0),0)","v":0}]
["9-12",17,null,null,"G9.1",{"$f":"VLOOKUP(E281,Grup!$N$5:$AF$1000,3,0)","v":{"$error":"#N/A"}},null,null,9,"17/32.1",{"$f":"INDEX(Grup!$M$6:$M$1000,MATCH(Ana_Tablo_Kura!L281,Grup!$P$6:$P$1000,0),1)","v":{"$error":"#N/A"}},{"$f":"IF(H281=0,VLOOKUP(I281,$B$273:$F$404,5,0),VLOOKUP(H281,Kura!$A$4:$Z$350,26,0))","v":{"$error":"#N/A"}},"G25.1",{"$f":"IFERROR(VLOOKUP(K281,Kura!$A$4:$F$1000,6,0),0)","v":0}]
["9-12",112,null,null,"G10.1",{"$f":"VLOOKUP(E282,Grup!$N$5:$AF$1000,3,0)","v":{"$error":"#N/A"}},null,null,10,null,{"$f":"INDEX(Grup!$M$6:$M$1000,MATCH(Ana_Tablo_Kura!L282,Grup!$P$6:$P$1000,0),1)","v":{"$error":"#N/A"}},{"$f":"IF(H282=0,VLOOKUP(I282,$B$273:$F$404,5,0),VLOOKUP(H282,Kura!$A$4:$Z$350,26,0))","v":{"$error":"#N/A"}},"G10.2",{"$f":"IFERROR(VLOOKUP(K282,Kura!$A$4:$F$1000,6,0),0)","v":0}]
["9-12",81,null,null,"G11.1",{"$f":"VLOOKUP(E283,Grup!$N$5:$AF$1000,3,0)","v":{"$error":"#N/A"}},null,null,11,null,{"$f":"INDEX(Grup!$M$6:$M$1000,MATCH(Ana_Tablo_Kura!L283,Grup!$P$6:$P$1000,0),1)","v":{"$error":"#N/A"}},{"$f":"IF(H283=0,VLOOKUP(I283,$B$273:$F$404,5,0),VLOOKUP(H283,Kura!$A$4:$Z$350,26,0))","v":{"$error":"#N/A"}},"G11.2",{"$f":"IFERROR(VLOOKUP(K283,Kura!$A$4:$F$1000,6,0),0)","v":0}]
["9-12",48,null,null,"G12.1",{"$f":"VLOOKUP(E284,Grup!$N$5:$AF$1000,3,0)","v":{"$error":"#N/A"}},null,null,12,"33/64.1",{"$f":"INDEX(Grup!$M$6:$M$1000,MATCH(Ana_Tablo_Kura!L284,Grup!$P$6:$P$1000,0),1)","v":{"$error":"#N/A"}},{"$f":"IF(H284=0,VLOOKUP(I284,$B$273:$F$404,5,0),VLOOKUP(H284,Kura!$A$4:$Z$350,26,0))","v":{"$error":"#N/A"}},"G56.1",{"$f":"IFERROR(VLOOKUP(K284,Kura!$A$4:$F$1000,6,0),0)","v":0}]
["13-16",16,null,null,"G13.1",{"$f":"VLOOKUP(E285,Grup!$N$5:$AF$1000,3,0)","v":{"$error":"#N/A"}},null,null,13,"33/64.1",{"$f":"INDEX(Grup!$M$6:$M$1000,MATCH(Ana_Tablo_Kura!L285,Grup!$P$6:$P$1000,0),1)","v":{"$error":"#N/A"}},{"$f":"IF(H285=0,VLOOKUP(I285,$B$273:$F$404,5,0),VLOOKUP(H285,Kura!$A$4:$Z$350,26,0))","v":{"$error":"#N/A"}},"G53.1",{"$f":"IFERROR(VLOOKUP(K285,Kura!$A$4:$F$1000,6,0),0)","v":0}]
["13-16",113,null,null,"G14.1",{"$f":"VLOOKUP(E286,Grup!$N$5:$AF$1000,3,0)","v":{"$error":"#N/A"}},null,null,14,null,{"$f":"INDEX(Grup!$M$6:$M$1000,MATCH(Ana_Tablo_Kura!L286,Grup!$P$6:$P$1000,0),1)","v":{"$error":"#N/A"}},{"$f":"IF(H286=0,VLOOKUP(I286,$B$273:$F$404,5,0),VLOOKUP(H286,Kura!$A$4:$Z$350,26,0))","v":{"$error":"#N/A"}},"G14.2",{"$f":"IFERROR(VLOOKUP(K286,Kura!$A$4:$F$1000,6,0),0)","v":0}]
["13-16",80,null,null,"G15.1",{"$f":"VLOOKUP(E287,Grup!$N$5:$AF$1000,3,0)","v":{"$error":"#N/A"}},null,null,15,null,{"$f":"INDEX(Grup!$M$6:$M$1000,MATCH(Ana_Tablo_Kura!L287,Grup!$P$6:$P$1000,0),1)","v":{"$error":"#N/A"}},{"$f":"IF(H287=0,VLOOKUP(I287,$B$273:$F$404,5,0),VLOOKUP(H287,Kura!$A$4:$Z$350,26,0))","v":{"$error":"#N/A"}},"G15.2",{"$f":"IFERROR(VLOOKUP(K287,Kura!$A$4:$F$1000,6,0),0)","v":0}]
["13-16",49,null,null,"G16.1",{"$f":"VLOOKUP(E288,Grup!$N$5:$AF$1000,3,0)","v":{"$error":"#N/A"}},null,null,16,"13/16.1",{"$f":"INDEX(Grup!$M$6:$M$1000,MATCH(Ana_Tablo_Kura!L288,Grup!$P$6:$P$1000,0),1)","v":{"$error":"#N/A"}},{"$f":"IF(H288=0,VLOOKUP(I288,$B$273:$F$404,5,0),VLOOKUP(H288,Kura!$A$4:$Z$350,26,0))","v":{"$error":"#N/A"}},"G13.1",{"$f":"IFERROR(VLOOKUP(K288,Kura!$A$4:$F$1000,6,0),0)","v":0}]
["17-32",25,null,null,"G17.1",{"$f":"VLOOKUP(E289,Grup!$N$5:$AF$1000,3,0)","v":{"$error":"#N/A"}},null,null,17,"9/12.1",{"$f":"INDEX(Grup!$M$6:$M$1000,MATCH(Ana_Tablo_Kura!L289,Grup!$P$6:$P$1000,0),1)","v":{"$error":"#N/A"}},{"$f":"IF(H289=0,VLOOKUP(I289,$B$273:$F$404,5,0),VLOOKUP(H289,Kura!$A$4:$Z$350,26,0))","v":{"$error":"#N/A"}},"G9.1",{"$f":"IFERROR(VLOOKUP(K289,Kura!$A$4:$F$1000,6,0),0)","v":0}]
["17-32",104,null,null,"G18.1",{"$f":"VLOOKUP(E290,Grup!$N$5:$AF$1000,3,0)","v":{"$error":"#N/A"}},null,null,18,null,{"$f":"INDEX(Grup!$M$6:$M$1000,MATCH(Ana_Tablo_Kura!L290,Grup!$P$6:$P$1000,0),1)","v":{"$error":"#N/A"}},{"$f":"IF(H290=0,VLOOKUP(I290,$B$273:$F$404,5,0),VLOOKUP(H290,Kura!$A$4:$Z$350,26,0))","v":{"$error":"#N/A"}},"G18.2",{"$f":"IFERROR(VLOOKUP(K290,Kura!$A$4:$F$1000,6,0),0)","v":0}]
["17-32",105,null,null,"G19.1",{"$f":"VLOOKUP(E291,Grup!$N$5:$AF$1000,3,0)","v":{"$error":"#N/A"}},null,null,19,null,{"$f":"INDEX(Grup!$M$6:$M$1000,MATCH(Ana_Tablo_Kura!L291,Grup!$P$6:$P$1000,0),1)","v":{"$error":"#N/A"}},{"$f":"IF(H291=0,VLOOKUP(I291,$B$273:$F$404,5,0),VLOOKUP(H291,Kura!$A$4:$Z$350,26,0))","v":{"$error":"#N/A"}},"G19.2",{"$f":"IFERROR(VLOOKUP(K291,Kura!$A$4:$F$1000,6,0),0)","v":0}]
["17-32",24,null,null,"G20.1",{"$f":"VLOOKUP(E292,Grup!$N$5:$AF$1000,3,0)","v":{"$error":"#N/A"}},null,null,20,"33/64.1",{"$f":"INDEX(Grup!$M$6:$M$1000,MATCH(Ana_Tablo_Kura!L292,Grup!$P$6:$P$1000,0),1)","v":{"$error":"#N/A"}},{"$f":"IF(H292=0,VLOOKUP(I292,$B$273:$F$404,5,0),VLOOKUP(H292,Kura!$A$4:$Z$350,26,0))","v":{"$error":"#N/A"}},"G48.1",{"$f":"IFERROR(VLOOKUP(K292,Kura!$A$4:$F$1000,6,0),0)","v":0}]
["17-32",40,null,null,"G21.1",{"$f":"VLOOKUP(E293,Grup!$N$5:$AF$1000,3,0)","v":{"$error":"#N/A"}},null,null,21,"33/64.1",{"$f":"INDEX(Grup!$M$6:$M$1000,MATCH(Ana_Tablo_Kura!L293,Grup!$P$6:$P$1000,0),1)","v":{"$error":"#N/A"}},{"$f":"IF(H293=0,VLOOKUP(I293,$B$273:$F$404,5,0),VLOOKUP(H293,Kura!$A$4:$Z$350,26,0))","v":{"$error":"#N/A"}},"G45.1",{"$f":"IFERROR(VLOOKUP(K293,Kura!$A$4:$F$1000,6,0),0)","v":0}]
["17-32",89,null,null,"G22.1",{"$f":"VLOOKUP(E294,Grup!$N$5:$AF$1000,3,0)","v":{"$error":"#N/A"}},null,null,22,null,{"$f":"INDEX(Grup!$M$6:$M$1000,MATCH(Ana_Tablo_Kura!L294,Grup!$P$6:$P$1000,0),1)","v":{"$error":"#N/A"}},{"$f":"IF(H294=0,VLOOKUP(I294,$B$273:$F$404,5,0),VLOOKUP(H294,Kura!$A$4:$Z$350,26,0))","v":{"$error":"#N/A"}},"G22.2",{"$f":"IFERROR(VLOOKUP(K294,Kura!$A$4:$F$1000,6,0),0)","v":0}]
["17-32",88,null,null,"G23.1",{"$f":"VLOOKUP(E295,Grup!$N$5:$AF$1000,3,0)","v":{"$error":"#N/A"}},null,null,23,null,{"$f":"INDEX(Grup!$M$6:$M$1000,MATCH(Ana_Tablo_Kura!L295,Grup!$P$6:$P$1000,0),1)","v":{"$error":"#N/A"}},{"$f":"IF(H295=0,VLOOKUP(I295,$B$273:$F$404,5,0),VLOOKUP(H295,Kura!$A$4:$Z$350,26,0))","v":{"$error":"#N/A"}},"G23.2",{"$f":"IFERROR(VLOOKUP(K295,Kura!$A$4:$F$1000,6,0),0)","v":0}]
["17-32",41,null,null,"G24.1",{"$f":"VLOOKUP(E296,Grup!$N$5:$AF$1000,3,0)","v":{"$error":"#N/A"}},null,null,24,"17/32.1",{"$f":"INDEX(Grup!$M$6:$M$1000,MATCH(Ana_Tablo_Kura!L296,Grup!$P$6:$P$1000,0),1)","v":{"$error":"#N/A"}},{"$f":"IF(H296=0,VLOOKUP(I296,$B$273:$F$404,5,0),VLOOKUP(H296,Kura!$A$4:$Z$350,26,0))","v":{"$error":"#N/A"}},"G20.1",{"$f":"IFERROR(VLOOKUP(K296,Kura!$A$4:$F$1000,6,0),0)","v":0}]
["17-32",9,null,null,"G25.1",{"$f":"VLOOKUP(E297,Grup!$N$5:$AF$1000,3,0)","v":{"$error":"#N/A"}},null,null,25,"17/32.1",{"$f":"INDEX(Grup!$M$6:$M$1000,MATCH(Ana_Tablo_Kura!L297,Grup!$P$6:$P$1000,0),1)","v":{"$error":"#N/A"}},{"$f":"IF(H297=0,VLOOKUP(I297,$B$273:$F$404,5,0),VLOOKUP(H297,Kura!$A$4:$Z$350,26,0))","v":{"$error":"#N/A"}},"G17.1",{"$f":"IFERROR(VLOOKUP(K297,Kura!$A$4:$F$1000,6,0),0)","v":0}]
["17-32",120,null,null,"G26.1",{"$f":"VLOOKUP(E298,Grup!$N$5:$AF$1000,3,0)","v":{"$error":"#N/A"}},null,null,26,null,{"$f":"INDEX(Grup!$M$6:$M$1000,MATCH(Ana_Tablo_Kura!L298,Grup!$P$6:$P$1000,0),1)","v":{"$error":"#N/A"}},{"$f":"IF(H298=0,VLOOKUP(I298,$B$273:$F$404,5,0),VLOOKUP(H298,Kura!$A$4:$Z$350,26,0))","v":{"$error":"#N/A"}},"G26.2",{"$f":"IFERROR(VLOOKUP(K298,Kura!$A$4:$F$1000,6,0),0)","v":0}]
["17-32",121,null,null,"G27.1",{"$f":"VLOOKUP(E299,Grup!$N$5:$AF$1000,3,0)","v":{"$error":"#N/A"}},null,null,27,null,{"$f":"INDEX(Grup!$M$6:$M$1000,MATCH(Ana_Tablo_Kura!L299,Grup!$P$6:$P$1000,0),1)","v":{"$error":"#N/A"}},{"$f":"IF(H299=0,VLOOKUP(I299,$B$273:$F$404,5,0),VLOOKUP(H299,Kura!$A$4:$Z$350,26,0))","v":{"$error":"#N/A"}},"G27.2",{"$f":"IFERROR(VLOOKUP(K299,Kura!$A$4:$F$1000,6,0),0)","v":0}]
["17-32",8,null,null,"G28.1",{"$f":"VLOOKUP(E300,Grup!$N$5:$AF$1000,3,0)","v":{"$error":"#N/A"}},null,null,28,"33/64.1",{"$f":"INDEX(Grup!$M$6:$M$1000,MATCH(Ana_Tablo_Kura!L300,Grup!$P$6:$P$1000,0),1)","v":{"$error":"#N/A"}},{"$f":"IF(H300=0,VLOOKUP(I300,$B$273:$F$404,5,0),VLOOKUP(H300,Kura!$A$4:$Z$350,26,0))","v":{"$error":"#N/A"}},"G40.1",{"$f":"IFERROR(VLOOKUP(K300,Kura!$A$4:$F$1000,6,0),0)","v":0}]
["17-32",56,null,null,"G29.1",{"$f":"VLOOKUP(E301,Grup!$N$5:$AF$1000,3,0)","v":{"$error":"#N/A"}},null,null,29,"33/64.1",{"$f":"INDEX(Grup!$M$6:$M$1000,MATCH(Ana_Tablo_Kura!L301,Grup!$P$6:$P$1000,0),1)","v":{"$error":"#N/A"}},{"$f":"IF(H301=0,VLOOKUP(I301,$B$273:$F$404,5,0),VLOOKUP(H301,Kura!$A$4:$Z$350,26,0))","v":{"$error":"#N/A"}},"G37.1",{"$f":"IFERROR(VLOOKUP(K301,Kura!$A$4:$F$1000,6,0),0)","v":0}]
["17-32",73,null,null,"G30.1",{"$f":"VLOOKUP(E302,Grup!$N$5:$AF$1000,3,0)","v":{"$error":"#N/A"}},null,null,30,null,{"$f":"INDEX(Grup!$M$6:$M$1000,MATCH(Ana_Tablo_Kura!L302,Grup!$P$6:$P$1000,0),1)","v":{"$error":"#N/A"}},{"$f":"IF(H302=0,VLOOKUP(I302,$B$273:$F$404,5,0),VLOOKUP(H302,Kura!$A$4:$Z$350,26,0))","v":{"$error":"#N/A"}},"G30.2",{"$f":"IFERROR(VLOOKUP(K302,Kura!$A$4:$F$1000,6,0),0)","v":0}]
["17-32",72,null,null,"G31.1",{"$f":"VLOOKUP(E303,Grup!$N$5:$AF$1000,3,0)","v":{"$error":"#N/A"}},null,null,31,null,{"$f":"INDEX(Grup!$M$6:$M$1000,MATCH(Ana_Tablo_Kura!L303,Grup!$P$6:$P$1000,0),1)","v":{"$error":"#N/A"}},{"$f":"IF(H303=0,VLOOKUP(I303,$B$273:$F$404,5,0),VLOOKUP(H303,Kura!$A$4:$Z$350,26,0))","v":{"$error":"#N/A"}},"G31.2",{"$f":"IFERROR(VLOOKUP(K303,Kura!$A$4:$F$1000,6,0),0)","v":0}]
["17-32",57,null,null,"G32.1",{"$f":"VLOOKUP(E304,Grup!$N$5:$AF$1000,3,0)","v":{"$error":"#N/A"}},null,null,32,"7/8.1",{"$f":"INDEX(Grup!$M$6:$M$1000,MATCH(Ana_Tablo_Kura!L304,Grup!$P$6:$P$1000,0),1)","v":{"$error":"#N/A"}},{"$f":"IF(H304=0,VLOOKUP(I304,$B$273:$F$404,5,0),VLOOKUP(H304,Kura!$A$4:$Z$350,26,0))","v":{"$error":"#N/A"}},"G7.1",{"$f":"IFERROR(VLOOKUP(K304,Kura!$A$4:$F$1000,6,0),0)","v":0}]
["33-64",36,null,null,"G33.1",{"$f":"VLOOKUP(E305,Grup!$N$5:$AF$1000,3,0)","v":{"$error":"#N/A"}},null,null,33,"5/6.1",{"$f":"INDEX(Grup!$M$6:$M$1000,MATCH(Ana_Tablo_Kura!L305,Grup!$P$6:$P$1000,0),1)","v":{"$error":"#N/A"}},{"$f":"IF(H305=0,VLOOKUP(I305,$B$273:$F$404,5,0),VLOOKUP(H305,Kura!$A$4:$Z$350,26,0))","v":{"$error":"#N/A"}},{"$f":"VLOOKUP(I305,$B$273:$F$404,4,0)","v":"G5.1"},{"$f":"IFERROR(VLOOKUP(K305,Kura!$A$4:$F$1000,6,0),0)","v":0}]
["33-64",100,null,null,"G34.1",{"$f":"VLOOKUP(E306,Grup!$N$5:$AF$1000,3,0)","v":{"$error":"#N/A"}},null,null,34,null,{"$f":"INDEX(Grup!$M$6:$M$1000,MATCH(Ana_Tablo_Kura!L306,Grup!$P$6:$P$1000,0),1)","v":{"$error":"#N/A"}},{"$f":"IF(H306=0,VLOOKUP(I306,$B$273:$F$404,5,0),VLOOKUP(H306,Kura!$A$4:$Z$350,26,0))","v":{"$error":"#N/A"}},"G34.2",{"$f":"IFERROR(VLOOKUP(K306,Kura!$A$4:$F$1000,6,0),0)","v":0}]
["33-64",101,null,null,"G35.1",{"$f":"VLOOKUP(E307,Grup!$N$5:$AF$1000,3,0)","v":{"$error":"#N/A"}},null,null,35,null,{"$f":"INDEX(Grup!$M$6:$M$1000,MATCH(Ana_Tablo_Kura!L307,Grup!$P$6:$P$1000,0),1)","v":{"$error":"#N/A"}},{"$f":"IF(H307=0,VLOOKUP(I307,$B$273:$F$404,5,0),VLOOKUP(H307,Kura!$A$4:$Z$350,26,0))","v":{"$error":"#N/A"}},"G35.2",{"$f":"IFERROR(VLOOKUP(K307,Kura!$A$4:$F$1000,6,0),0)","v":0}]
["33-64",37,null,null,"G36.1",{"$f":"VLOOKUP(E308,Grup!$N$5:$AF$1000,3,0)","v":{"$error":"#N/A"}},null,null,36,"33/64.1",{"$f":"INDEX(Grup!$M$6:$M$1000,MATCH(Ana_Tablo_Kura!L308,Grup!$P$6:$P$1000,0),1)","v":{"$error":"#N/A"}},{"$f":"IF(H308=0,VLOOKUP(I308,$B$273:$F$404,5,0),VLOOKUP(H308,Kura!$A$4:$Z$350,26,0))","v":{"$error":"#N/A"}},"G33.1",{"$f":"IFERROR(VLOOKUP(K308,Kura!$A$4:$F$1000,6,0),0)","v":0}]
["33-64",29,null,null,"G37.1",{"$f":"VLOOKUP(E309,Grup!$N$5:$AF$1000,3,0)","v":{"$error":"#N/A"}},null,null,37,"33/64.1",{"$f":"INDEX(Grup!$M$6:$M$1000,MATCH(Ana_Tablo_Kura!L309,Grup!$P$6:$P$1000,0),1)","v":{"$error":"#N/A"}},{"$f":"IF(H309=0,VLOOKUP(I309,$B$273:$F$404,5,0),VLOOKUP(H309,Kura!$A$4:$Z$350,26,0))","v":{"$error":"#N/A"}},"G36.1",{"$f":"IFERROR(VLOOKUP(K309,Kura!$A$4:$F$1000,6,0),0)","v":0}]
["33-64",93,null,null,"G38.1",{"$f":"VLOOKUP(E310,Grup!$N$5:$AF$1000,3,0)","v":{"$error":"#N/A"}},null,null,38,null,{"$f":"INDEX(Grup!$M$6:$M$1000,MATCH(Ana_Tablo_Kura!L310,Grup!$P$6:$P$1000,0),1)","v":{"$error":"#N/A"}},{"$f":"IF(H310=0,VLOOKUP(I310,$B$273:$F$404,5,0),VLOOKUP(H310,Kura!$A$4:$Z$350,26,0))","v":{"$error":"#N/A"}},"G38.2",{"$f":"IFERROR(VLOOKUP(K310,Kura!$A$4:$F$1000,6,0),0)","v":0}]
["33-64",92,null,null,"G39.1",{"$f":"VLOOKUP(E311,Grup!$N$5:$AF$1000,3,0)","v":{"$error":"#N/A"}},null,null,39,null,{"$f":"INDEX(Grup!$M$6:$M$1000,MATCH(Ana_Tablo_Kura!L311,Grup!$P$6:$P$1000,0),1)","v":{"$error":"#N/A"}},{"$f":"IF(H311=0,VLOOKUP(I311,$B$273:$F$404,5,0),VLOOKUP(H311,Kura!$A$4:$Z$350,26,0))","v":{"$error":"#N/A"}},"G39.2",{"$f":"IFERROR(VLOOKUP(K311,Kura!$A$4:$F$1000,6,0),0)","v":0}]
["33-64",28,null,null,"G40.1",{"$f":"VLOOKUP(E312,Grup!$N$5:$AF$1000,3,0)","v":{"$error":"#N/A"}},null,null,40,"17/32.1",{"$f":"INDEX(Grup!$M$6:$M$1000,MATCH(Ana_Tablo_Kura!L312,Grup!$P$6:$P$1000,0),1)","v":{"$error":"#N/A"}},{"$f":"IF(H312=0,VLOOKUP(I312,$B$273:$F$404,5,0),VLOOKUP(H312,Kura!$A$4:$Z$350,26,0))","v":{"$error":"#N/A"}},"G21.1",{"$f":"IFERROR(VLOOKUP(K312,Kura!$A$4:$F$1000,6,0),0)","v":0}]
["33-64",44,null,null,"G41.1",{"$f":"VLOOKUP(E313,Grup!$N$5:$AF$1000,3,0)","v":{"$error":"#N/A"}},null,null,41,"17/32.1",{"$f":"INDEX(Grup!$M$6:$M$1000,MATCH(Ana_Tablo_Kura!L313,Grup!$P$6:$P$1000,0),1)","v":{"$error":"#N/A"}},{"$f":"IF(H313=0,VLOOKUP(I313,$B$273:$F$404,5,0),VLOOKUP(H313,Kura!$A$4:$Z$350,26,0))","v":{"$error":"#N/A"}},"G24.1",{"$f":"IFERROR(VLOOKUP(K313,Kura!$A$4:$F$1000,6,0),0)","v":0}]
["33-64",108,null,null,"G42.1",{"$f":"VLOOKUP(E314,Grup!$N$5:$AF$1000,3,0)","v":{"$error":"#N/A"}},null,null,42,null,{"$f":"INDEX(Grup!$M$6:$M$1000,MATCH(Ana_Tablo_Kura!L314,Grup!$P$6:$P$1000,0),1)","v":{"$error":"#N/A"}},{"$f":"IF(H314=0,VLOOKUP(I314,$B$273:$F$404,5,0),VLOOKUP(H314,Kura!$A$4:$Z$350,26,0))","v":{"$error":"#N/A"}},"G42.2",{"$f":"IFERROR(VLOOKUP(K314,Kura!$A$4:$F$1000,6,0),0)","v":0}]
["33-64",109,null,null,"G43.1",{"$f":"VLOOKUP(E315,Grup!$N$5:$AF$1000,3,0)","v":{"$error":"#N/A"}},null,null,43,null,{"$f":"INDEX(Grup!$M$6:$M$1000,MATCH(Ana_Tablo_Kura!L315,Grup!$P$6:$P$1000,0),1)","v":{"$error":"#N/A"}},{"$f":"IF(H315=0,VLOOKUP(I315,$B$273:$F$404,5,0),VLOOKUP(H315,Kura!$A$4:$Z$350,26,0))","v":{"$error":"#N/A"}},"G43.2",{"$f":"IFERROR(VLOOKUP(K315,Kura!$A$4:$F$1000,6,0),0)","v":0}]
["33-64",45,null,null,"G44.1",{"$f":"VLOOKUP(E316,Grup!$N$5:$AF$1000,3,0)","v":{"$error":"#N/A"}},null,null,44,"33/64.1",{"$f":"INDEX(Grup!$M$6:$M$1000,MATCH(Ana_Tablo_Kura!L316,Grup!$P$6:$P$1000,0),1)","v":{"$error":"#N/A"}},{"$f":"IF(H316=0,VLOOKUP(I316,$B$273:$F$404,5,0),VLOOKUP(H316,Kura!$A$4:$Z$350,26,0))","v":{"$error":"#N/A"}},"G41.1",{"$f":"IFERROR(VLOOKUP(K316,Kura!$A$4:$F$1000,6,0),0)","v":0}]
["33-64",21,null,null,"G45.1",{"$f":"VLOOKUP(E317,Grup!$N$5:$AF$1000,3,0)","v":{"$error":"#N/A"}},null,null,45,"33/64.1",{"$f":"INDEX(Grup!$M$6:$M$1000,MATCH(Ana_Tablo_Kura!L317,Grup!$P$6:$P$1000,0),1)","v":{"$error":"#N/A"}},{"$f":"IF(H317=0,VLOOKUP(I317,$B$273:$F$404,5,0),VLOOKUP(H317,Kura!$A$4:$Z$350,26,0))","v":{"$error":"#N/A"}},"G44.1",{"$f":"IFERROR(VLOOKUP(K317,Kura!$A$4:$F$1000,6,0),0)","v":0}]
["33-64",85,null,null,"G46.1",{"$f":"VLOOKUP(E318,Grup!$N$5:$AF$1000,3,0)","v":{"$error":"#N/A"}},null,null,46,null,{"$f":"INDEX(Grup!$M$6:$M$1000,MATCH(Ana_Tablo_Kura!L318,Grup!$P$6:$P$1000,0),1)","v":{"$error":"#N/A"}},{"$f":"IF(H318=0,VLOOKUP(I318,$B$273:$F$404,5,0),VLOOKUP(H318,Kura!$A$4:$Z$350,26,0))","v":{"$error":"#N/A"}},"G46.2",{"$f":"IFERROR(VLOOKUP(K318,Kura!$A$4:$F$1000,6,0),0)","v":0}]
["33-64",84,null,null,"G47.1",{"$f":"VLOOKUP(E319,Grup!$N$5:$AF$1000,3,0)","v":{"$error":"#N/A"}},null,null,47,null,{"$f":"INDEX(Grup!$M$6:$M$1000,MATCH(Ana_Tablo_Kura!L319,Grup!$P$6:$P$1000,0),1)","v":{"$error":"#N/A"}},{"$f":"IF(H319=0,VLOOKUP(I319,$B$273:$F$404,5,0),VLOOKUP(H319,Kura!$A$4:$Z$350,26,0))","v":{"$error":"#N/A"}},"G47.2",{"$f":"IFERROR(VLOOKUP(K319,Kura!$A$4:$F$1000,6,0),0)","v":0}]
["33-64",20,null,null,"G48.1",{"$f":"VLOOKUP(E320,Grup!$N$5:$AF$1000,3,0)","v":{"$error":"#N/A"}},null,null,48,"9/12.1",{"$f":"INDEX(Grup!$M$6:$M$1000,MATCH(Ana_Tablo_Kura!L320,Grup!$P$6:$P$1000,0),1)","v":{"$error":"#N/A"}},{"$f":"IF(H320=0,VLOOKUP(I320,$B$273:$F$404,5,0),VLOOKUP(H320,Kura!$A$4:$Z$350,26,0))","v":{"$error":"#N/A"}},"G12.1",{"$f":"IFERROR(VLOOKUP(K320,Kura!$A$4:$F$1000,6,0),0)","v":0}]
["33-64",52,null,null,"G49.1",{"$f":"VLOOKUP(E321,Grup!$N$5:$AF$1000,3,0)","v":{"$error":"#N/A"}},null,null,49,"13/16.1",{"$f":"INDEX(Grup!$M$6:$M$1000,MATCH(Ana_Tablo_Kura!L321,Grup!$P$6:$P$1000,0),1)","v":{"$error":"#N/A"}},{"$f":"IF(H321=0,VLOOKUP(I321,$B$273:$F$404,5,0),VLOOKUP(H321,Kura!$A$4:$Z$350,26,0))","v":{"$error":"#N/A"}},"G16.1",{"$f":"IFERROR(VLOOKUP(K321,Kura!$A$4:$F$1000,6,0),0)","v":0}]
["33-64",116,null,null,"G50.1",{"$f":"VLOOKUP(E322,Grup!$N$5:$AF$1000,3,0)","v":{"$error":"#N/A"}},null,null,50,null,{"$f":"INDEX(Grup!$M$6:$M$1000,MATCH(Ana_Tablo_Kura!L322,Grup!$P$6:$P$1000,0),1)","v":{"$error":"#N/A"}},{"$f":"IF(H322=0,VLOOKUP(I322,$B$273:$F$404,5,0),VLOOKUP(H322,Kura!$A$4:$Z$350,26,0))","v":{"$error":"#N/A"}},"G50.2",{"$f":"IFERROR(VLOOKUP(K322,Kura!$A$4:$F$1000,6,0),0)","v":0}]
["33-64",117,null,null,"G51.1",{"$f":"VLOOKUP(E323,Grup!$N$5:$AF$1000,3,0)","v":{"$error":"#N/A"}},null,null,51,null,{"$f":"INDEX(Grup!$M$6:$M$1000,MATCH(Ana_Tablo_Kura!L323,Grup!$P$6:$P$1000,0),1)","v":{"$error":"#N/A"}},{"$f":"IF(H323=0,VLOOKUP(I323,$B$273:$F$404,5,0),VLOOKUP(H323,Kura!$A$4:$Z$350,26,0))","v":{"$error":"#N/A"}},"G51.2",{"$f":"IFERROR(VLOOKUP(K323,Kura!$A$4:$F$1000,6,0),0)","v":0}]
["33-64",53,null,null,"G52.1",{"$f":"VLOOKUP(E324,Grup!$N$5:$AF$1000,3,0)","v":{"$error":"#N/A"}},null,null,52,"33/64.1",{"$f":"INDEX(Grup!$M$6:$M$1000,MATCH(Ana_Tablo_Kura!L324,Grup!$P$6:$P$1000,0),1)","v":{"$error":"#N/A"}},{"$f":"IF(H324=0,VLOOKUP(I324,$B$273:$F$404,5,0),VLOOKUP(H324,Kura!$A$4:$Z$350,26,0))","v":{"$error":"#N/A"}},"G49.1",{"$f":"IFERROR(VLOOKUP(K324,Kura!$A$4:$F$1000,6,0),0)","v":0}]
["33-64",13,null,null,"G53.1",{"$f":"VLOOKUP(E325,Grup!$N$5:$AF$1000,3,0)","v":{"$error":"#N/A"}},null,null,53,"33/64.1",{"$f":"INDEX(Grup!$M$6:$M$1000,MATCH(Ana_Tablo_Kura!L325,Grup!$P$6:$P$1000,0),1)","v":{"$error":"#N/A"}},{"$f":"IF(H325=0,VLOOKUP(I325,$B$273:$F$404,5,0),VLOOKUP(H325,Kura!$A$4:$Z$350,26,0))","v":{"$error":"#N/A"}},"G52.1",{"$f":"IFERROR(VLOOKUP(K325,Kura!$A$4:$F$1000,6,0),0)","v":0}]
["33-64",77,null,null,"G54.1",{"$f":"VLOOKUP(E326,Grup!$N$5:$AF$1000,3,0)","v":{"$error":"#N/A"}},null,null,54,null,{"$f":"INDEX(Grup!$M$6:$M$1000,MATCH(Ana_Tablo_Kura!L326,Grup!$P$6:$P$1000,0),1)","v":{"$error":"#N/A"}},{"$f":"IF(H326=0,VLOOKUP(I326,$B$273:$F$404,5,0),VLOOKUP(H326,Kura!$A$4:$Z$350,26,0))","v":{"$error":"#N/A"}},"G54.2",{"$f":"IFERROR(VLOOKUP(K326,Kura!$A$4:$F$1000,6,0),0)","v":0}]
["33-64",76,null,null,"G55.1",{"$f":"VLOOKUP(E327,Grup!$N$5:$AF$1000,3,0)","v":{"$error":"#N/A"}},null,null,55,null,{"$f":"INDEX(Grup!$M$6:$M$1000,MATCH(Ana_Tablo_Kura!L327,Grup!$P$6:$P$1000,0),1)","v":{"$error":"#N/A"}},{"$f":"IF(H327=0,VLOOKUP(I327,$B$273:$F$404,5,0),VLOOKUP(H327,Kura!$A$4:$Z$350,26,0))","v":{"$error":"#N/A"}},"G55.2",{"$f":"IFERROR(VLOOKUP(K327,Kura!$A$4:$F$1000,6,0),0)","v":0}]
["33-64",12,null,null,"G56.1",{"$f":"VLOOKUP(E328,Grup!$N$5:$AF$1000,3,0)","v":{"$error":"#N/A"}},null,null,56,"17/32.1",{"$f":"INDEX(Grup!$M$6:$M$1000,MATCH(Ana_Tablo_Kura!L328,Grup!$P$6:$P$1000,0),1)","v":{"$error":"#N/A"}},{"$f":"IF(H328=0,VLOOKUP(I328,$B$273:$F$404,5,0),VLOOKUP(H328,Kura!$A$4:$Z$350,26,0))","v":{"$error":"#N/A"}},"G29.1",{"$f":"IFERROR(VLOOKUP(K328,Kura!$A$4:$F$1000,6,0),0)","v":0}]
["33-64",60,null,null,"G57.1",{"$f":"VLOOKUP(E329,Grup!$N$5:$AF$1000,3,0)","v":{"$error":"#N/A"}},null,null,57,"17/32.1",{"$f":"INDEX(Grup!$M$6:$M$1000,MATCH(Ana_Tablo_Kura!L329,Grup!$P$6:$P$1000,0),1)","v":{"$error":"#N/A"}},{"$f":"IF(H329=0,VLOOKUP(I329,$B$273:$F$404,5,0),VLOOKUP(H329,Kura!$A$4:$Z$350,26,0))","v":{"$error":"#N/A"}},"G32.1",{"$f":"IFERROR(VLOOKUP(K329,Kura!$A$4:$F$1000,6,0),0)","v":0}]
["33-64",124,null,null,"G58.1",{"$f":"VLOOKUP(E330,Grup!$N$5:$AF$1000,3,0)","v":{"$error":"#N/A"}},null,null,58,null,{"$f":"INDEX(Grup!$M$6:$M$1000,MATCH(Ana_Tablo_Kura!L330,Grup!$P$6:$P$1000,0),1)","v":{"$error":"#N/A"}},{"$f":"IF(H330=0,VLOOKUP(I330,$B$273:$F$404,5,0),VLOOKUP(H330,Kura!$A$4:$Z$350,26,0))","v":{"$error":"#N/A"}},"G58.2",{"$f":"IFERROR(VLOOKUP(K330,Kura!$A$4:$F$1000,6,0),0)","v":0}]
["33-64",125,null,null,"G59.1",{"$f":"VLOOKUP(E331,Grup!$N$5:$AF$1000,3,0)","v":{"$error":"#N/A"}},null,null,59,null,{"$f":"INDEX(Grup!$M$6:$M$1000,MATCH(Ana_Tablo_Kura!L331,Grup!$P$6:$P$1000,0),1)","v":{"$error":"#N/A"}},{"$f":"IF(H331=0,VLOOKUP(I331,$B$273:$F$404,5,0),VLOOKUP(H331,Kura!$A$4:$Z$350,26,0))","v":{"$error":"#N/A"}},"G59.2",{"$f":"IFERROR(VLOOKUP(K331,Kura!$A$4:$F$1000,6,0),0)","v":0}]
["33-64",61,null,null,"G60.1",{"$f":"VLOOKUP(E332,Grup!$N$5:$AF$1000,3,0)","v":{"$error":"#N/A"}},null,null,60,"33/64.1",{"$f":"INDEX(Grup!$M$6:$M$1000,MATCH(Ana_Tablo_Kura!L332,Grup!$P$6:$P$1000,0),1)","v":{"$error":"#N/A"}},{"$f":"IF(H332=0,VLOOKUP(I332,$B$273:$F$404,5,0),VLOOKUP(H332,Kura!$A$4:$Z$350,26,0))","v":{"$error":"#N/A"}},"G57.1",{"$f":"IFERROR(VLOOKUP(K332,Kura!$A$4:$F$1000,6,0),0)","v":0}]
["33-64",5,null,null,"G61.1",{"$f":"VLOOKUP(E333,Grup!$N$5:$AF$1000,3,0)","v":{"$error":"#N/A"}},null,null,61,"33/64.1",{"$f":"INDEX(Grup!$M$6:$M$1000,MATCH(Ana_Tablo_Kura!L333,Grup!$P$6:$P$1000,0),1)","v":{"$error":"#N/A"}},{"$f":"IF(H333=0,VLOOKUP(I333,$B$273:$F$404,5,0),VLOOKUP(H333,Kura!$A$4:$Z$350,26,0))","v":{"$error":"#N/A"}},"G60.1",{"$f":"IFERROR(VLOOKUP(K333,Kura!$A$4:$F$1000,6,0),0)","v":0}]
["33-64",69,null,null,"G62.1",{"$f":"VLOOKUP(E334,Grup!$N$5:$AF$1000,3,0)","v":{"$error":"#N/A"}},null,null,62,null,{"$f":"INDEX(Grup!$M$6:$M$1000,MATCH(Ana_Tablo_Kura!L334,Grup!$P$6:$P$1000,0),1)","v":{"$error":"#N/A"}},{"$f":"IF(H334=0,VLOOKUP(I334,$B$273:$F$404,5,0),VLOOKUP(H334,Kura!$A$4:$Z$350,26,0))","v":{"$error":"#N/A"}},"G62.2",{"$f":"IFERROR(VLOOKUP(K334,Kura!$A$4:$F$1000,6,0),0)","v":0}]
["33-64",68,null,null,"G63.1",{"$f":"VLOOKUP(E335,Grup!$N$5:$AF$1000,3,0)","v":{"$error":"#N/A"}},null,null,63,null,{"$f":"INDEX(Grup!$M$6:$M$1000,MATCH(Ana_Tablo_Kura!L335,Grup!$P$6:$P$1000,0),1)","v":{"$error":"#N/A"}},{"$f":"IF(H335=0,VLOOKUP(I335,$B$273:$F$404,5,0),VLOOKUP(H335,Kura!$A$4:$Z$350,26,0))","v":{"$error":"#N/A"}},"G63.2",{"$f":"IFERROR(VLOOKUP(K335,Kura!$A$4:$F$1000,6,0),0)","v":0}]
["33-64",4,null,null,"G64.1",{"$f":"VLOOKUP(E336,Grup!$N$5:$AF$1000,3,0)","v":{"$error":"#N/A"}},null,null,64,"3/4.1",{"$f":"INDEX(Grup!$M$6:$M$1000,MATCH(Ana_Tablo_Kura!L336,Grup!$P$6:$P$1000,0),1)","v":5},{"$f":"IF(H336=0,VLOOKUP(I336,$B$273:$F$404,5,0),VLOOKUP(H336,Kura!$A$4:$Z$350,26,0))","v":"KUTLUBEY OKULLARI (A) (AMS)"},"G4.1",{"$f":"IFERROR(VLOOKUP(K336,Kura!$A$4:$F$1000,6,0),0)","v":"AMASYA"}]
[]
[null,"Lower Group Runners-down (↓)",null,null,null,null,null,null,65,"3/4.1",{"$f":"INDEX(Grup!$M$6:$M$1000,MATCH(Ana_Tablo_Kura!L338,Grup!$P$6:$P$1000,0),1)","v":3},{"$f":"IF(H338=0,VLOOKUP(I338,$B$273:$F$404,5,0),VLOOKUP(H338,Kura!$A$4:$Z$350,26,0))","v":"ŞAFAKTEPE SK (A) (ANK)"},{"$f":"VLOOKUP(I338,$B$273:$F$404,4,0)","v":"G3.1"},{"$f":"IFERROR(VLOOKUP(K338,Kura!$A$4:$F$1000,6,0),0)","v":"ANKARA"}]
[null,66,null,null,{"$f":"IF($E$273=\"G1.1\",\"G1.2\",\"G2.2\")","v":"G1.2"},{"$f":"VLOOKUP(E339,Grup!$N$5:$AF$1000,3,0)","v":"BEŞİKDÜZÜ AYYILDIZ SPOR (A) (TRB)"},null,null,66,null,{"$f":"INDEX(Grup!$M$6:$M$1000,MATCH(Ana_Tablo_Kura!L339,Grup!$P$6:$P$1000,0),1)","v":8},{"$f":"IF(H339=0,VLOOKUP(I339,$B$273:$F$404,5,0),VLOOKUP(H339,Kura!$A$4:$Z$350,26,0))","v":"BEŞİKDÜZÜ AYYILDIZ SPOR (A) (TRB)"},"G1.2",{"$f":"IFERROR(VLOOKUP(K339,Kura!$A$4:$F$1000,6,0),0)","v":"TRABZON"}]
[null,67,null,null,{"$f":"IF($E$276=\"G4.1\",\"G4.2\",\"G3.2\")","v":"G4.2"},{"$f":"VLOOKUP(E340,Grup!$N$5:$AF$1000,3,0)","v":"YALIKÖY ŞBÇ OO (A) (GRS)"},null,null,67,null,{"$f":"INDEX(Grup!$M$6:$M$1000,MATCH(Ana_Tablo_Kura!L340,Grup!$P$6:$P$1000,0),1)","v":4},{"$f":"IF(H340=0,VLOOKUP(I340,$B$273:$F$404,5,0),VLOOKUP(H340,Kura!$A$4:$Z$350,26,0))","v":"YALIKÖY ŞBÇ OO (A) (GRS)"},"G4.2",{"$f":"IFERROR(VLOOKUP(K340,Kura!$A$4:$F$1000,6,0),0)","v":"GİRESUN"}]
[null,70,null,null,{"$f":"IF($E$277=\"G5.1\",\"G5.2\",\"G6.2\")","v":"G5.2"},{"$f":"VLOOKUP(E341,Grup!$N$5:$AF$1000,3,0)","v":{"$error":"#N/A"}},null,null,68,"33/64.1",{"$f":"INDEX(Grup!$M$6:$M$1000,MATCH(Ana_Tablo_Kura!L341,Grup!$P$6:$P$1000,0),1)","v":{"$error":"#N/A"}},{"$f":"IF(H341=0,VLOOKUP(I341,$B$273:$F$404,5,0),VLOOKUP(H341,Kura!$A$4:$Z$350,26,0))","v":{"$error":"#N/A"}},"G63.1",{"$f":"IFERROR(VLOOKUP(K341,Kura!$A$4:$F$1000,6,0),0)","v":0}]
[null,71,null,null,{"$f":"IF($E$280=\"G7.1\",\"G7.2\",\"G8.2\")","v":"G7.2"},{"$f":"VLOOKUP(E342,Grup!$N$5:$AF$1000,3,0)","v":{"$error":"#N/A"}},null,null,69,"33/64.1",{"$f":"INDEX(Grup!$M$6:$M$1000,MATCH(Ana_Tablo_Kura!L342,Grup!$P$6:$P$1000,0),1)","v":{"$error":"#N/A"}},{"$f":"IF(H342=0,VLOOKUP(I342,$B$273:$F$404,5,0),VLOOKUP(H342,Kura!$A$4:$Z$350,26,0))","v":{"$error":"#N/A"}},"G62.1",{"$f":"IFERROR(VLOOKUP(K342,Kura!$A$4:$F$1000,6,0),0)","v":0}]
[null,74,null,null,{"$f":"IF($E$281=\"G9.1\",\"G9.2\",IF($E$281=\"G10.1\",\"G10.2\",IF($E$281=\"G11.1\",\"G11.2\",IF($E$281=\"G12.1\",\"G12.2\"))))","v":"G9.2"},{"$f":"VLOOKUP(E343,Grup!$N$5:$AF$1000,3,0)","v":{"$error":"#N/A"}},null,null,70,null,{"$f":"INDEX(Grup!$M$6:$M$1000,MATCH(Ana_Tablo_Kura!L343,Grup!$P$6:$P$1000,0),1)","v":{"$error":"#N/A"}},{"$f":"IF(H343=0,VLOOKUP(I343,$B$273:$F$404,5,0),VLOOKUP(H343,Kura!$A$4:$Z$350,26,0))","v":{"$error":"#N/A"}},"G5.2",{"$f":"IFERROR(VLOOKUP(K343,Kura!$A$4:$F$1000,6,0),0)","v":0}]
[null,75,null,null,{"$f":"IF($E$284=\"G9.1\",\"G9.2\",IF($E$284=\"G10.1\",\"G10.2\",IF($E$284=\"G11.1\",\"G11.2\",IF($E$284=\"G12.1\",\"G12.2\"))))","v":"G12.2"},{"$f":"VLOOKUP(E344,Grup!$N$5:$AF$1000,3,0)","v":{"$error":"#N/A"}},null,null,71,null,{"$f":"INDEX(Grup!$M$6:$M$1000,MATCH(Ana_Tablo_Kura!L344,Grup!$P$6:$P$1000,0),1)","v":{"$error":"#N/A"}},{"$f":"IF(H344=0,VLOOKUP(I344,$B$273:$F$404,5,0),VLOOKUP(H344,Kura!$A$4:$Z$350,26,0))","v":{"$error":"#N/A"}},"G7.2",{"$f":"IFERROR(VLOOKUP(K344,Kura!$A$4:$F$1000,6,0),0)","v":0}]
[null,78,null,null,{"$f":"IF($E$285=\"G13.1\",\"G13.2\",IF($E$285=\"G14.1\",\"G14.2\",IF($E$285=\"G15.1\",\"G15.2\",IF($E$285=\"G16.1\",\"G16.2\"))))","v":"G13.2"},{"$f":"VLOOKUP(E345,Grup!$N$5:$AF$1000,3,0)","v":{"$error":"#N/A"}},null,null,72,"17/32.1",{"$f":"INDEX(Grup!$M$6:$M$1000,MATCH(Ana_Tablo_Kura!L345,Grup!$P$6:$P$1000,0),1)","v":{"$error":"#N/A"}},{"$f":"IF(H345=0,VLOOKUP(I345,$B$273:$F$404,5,0),VLOOKUP(H345,Kura!$A$4:$Z$350,26,0))","v":{"$error":"#N/A"}},"G31.1",{"$f":"IFERROR(VLOOKUP(K345,Kura!$A$4:$F$1000,6,0),0)","v":0}]
[null,79,null,null,{"$f":"IF($E$288=\"G13.1\",\"G13.2\",IF($E$288=\"G14.1\",\"G14.2\",IF($E$288=\"G15.1\",\"G15.2\",IF($E$288=\"G16.1\",\"G16.2\"))))","v":"G16.2"},{"$f":"VLOOKUP(E346,Grup!$N$5:$AF$1000,3,0)","v":{"$error":"#N/A"}},null,null,73,"17/32.1",{"$f":"INDEX(Grup!$M$6:$M$1000,MATCH(Ana_Tablo_Kura!L346,Grup!$P$6:$P$1000,0),1)","v":{"$error":"#N/A"}},{"$f":"IF(H346=0,VLOOKUP(I346,$B$273:$F$404,5,0),VLOOKUP(H346,Kura!$A$4:$Z$350,26,0))","v":{"$error":"#N/A"}},"G30.1",{"$f":"IFERROR(VLOOKUP(K346,Kura!$A$4:$F$1000,6,0),0)","v":0}]
[null,82,null,null,{"$f":"IF($E$289=\"G17.1\",\"G17.2\",IF($E$289=\"G18.1\",\"G18.2\",IF($E$289=\"G19.1\",\"G19.2\",IF($E$289=\"G20.1\",\"G20.2\",IF($E$289=\"G21.1\",\"G21.2\",IF($E$289=\"G22.1\",\"G22.2\",IF($E$289=\"G23.1\",\"G23.2\",IF($E$289=\"G24.1\",\"G24.2\",IF($E$289=\"G25.1\",\"G25.2\",IF($E$289=\"G26.1\",\"G26.2\",IF($E$289=\"G27.1\",\"G27.2\",IF($E$289=\"G28.1\",\"G28.2\",IF($E$289=\"G29.1\",\"G29.2\",IF($E$289=\"G30.1\",\"G30.2\",IF($E$289=\"G31.1\",\"G31.2\",IF($E$289=\"G32.1\",\"G32.2\"))))))))))))))))","v":"G17.2"},{"$f":"VLOOKUP(E347,Grup!$N$5:$AF$1000,3,0)","v":{"$error":"#N/A"}},null,null,74,null,{"$f":"INDEX(Grup!$M$6:$M$1000,MATCH(Ana_Tablo_Kura!L347,Grup!$P$6:$P$1000,0),1)","v":{"$error":"#N/A"}},{"$f":"IF(H347=0,VLOOKUP(I347,$B$273:$F$404,5,0),VLOOKUP(H347,Kura!$A$4:$Z$350,26,0))","v":{"$error":"#N/A"}},"G9.2",{"$f":"IFERROR(VLOOKUP(K347,Kura!$A$4:$F$1000,6,0),0)","v":0}]
[null,83,null,null,{"$f":"IF($E$292=\"G17.1\",\"G17.2\",IF($E$292=\"G18.1\",\"G18.2\",IF($E$292=\"G19.1\",\"G19.2\",IF($E$292=\"G20.1\",\"G20.2\",IF($E$292=\"G21.1\",\"G21.2\",IF($E$292=\"G22.1\",\"G22.2\",IF($E$292=\"G23.1\",\"G23.2\",IF($E$292=\"G24.1\",\"G24.2\",IF($E$292=\"G25.1\",\"G25.2\",IF($E$292=\"G26.1\",\"G26.2\",IF($E$292=\"G27.1\",\"G27.2\",IF($E$292=\"G28.1\",\"G28.2\",IF($E$292=\"G29.1\",\"G29.2\",IF($E$292=\"G30.1\",\"G30.2\",IF($E$292=\"G31.1\",\"G31.2\",IF($E$292=\"G32.1\",\"G32.2\"))))))))))))))))","v":"G20.2"},{"$f":"VLOOKUP(E348,Grup!$N$5:$AF$1000,3,0)","v":{"$error":"#N/A"}},null,null,75,null,{"$f":"INDEX(Grup!$M$6:$M$1000,MATCH(Ana_Tablo_Kura!L348,Grup!$P$6:$P$1000,0),1)","v":{"$error":"#N/A"}},{"$f":"IF(H348=0,VLOOKUP(I348,$B$273:$F$404,5,0),VLOOKUP(H348,Kura!$A$4:$Z$350,26,0))","v":{"$error":"#N/A"}},"G12.2",{"$f":"IFERROR(VLOOKUP(K348,Kura!$A$4:$F$1000,6,0),0)","v":0}]
[null,86,null,null,{"$f":"IF($E$293=\"G17.1\",\"G17.2\",IF($E$293=\"G18.1\",\"G18.2\",IF($E$293=\"G19.1\",\"G19.2\",IF($E$293=\"G20.1\",\"G20.2\",IF($E$293=\"G21.1\",\"G21.2\",IF($E$293=\"G22.1\",\"G22.2\",IF($E$293=\"G23.1\",\"G23.2\",IF($E$293=\"G24.1\",\"G24.2\",IF($E$293=\"G25.1\",\"G25.2\",IF($E$293=\"G26.1\",\"G26.2\",IF($E$293=\"G27.1\",\"G27.2\",IF($E$293=\"G28.1\",\"G28.2\",IF($E$293=\"G29.1\",\"G29.2\",IF($E$293=\"G30.1\",\"G30.2\",IF($E$293=\"G31.1\",\"G31.2\",IF($E$293=\"G32.1\",\"G32.2\"))))))))))))))))","v":"G21.2"},{"$f":"VLOOKUP(E349,Grup!$N$5:$AF$1000,3,0)","v":{"$error":"#N/A"}},null,null,76,"33/64.1",{"$f":"INDEX(Grup!$M$6:$M$1000,MATCH(Ana_Tablo_Kura!L349,Grup!$P$6:$P$1000,0),1)","v":{"$error":"#N/A"}},{"$f":"IF(H349=0,VLOOKUP(I349,$B$273:$F$404,5,0),VLOOKUP(H349,Kura!$A$4:$Z$350,26,0))","v":{"$error":"#N/A"}},"G55.1",{"$f":"IFERROR(VLOOKUP(K349,Kura!$A$4:$F$1000,6,0),0)","v":0}]
[null,87,null,null,{"$f":"IF($E$296=\"G17.1\",\"G17.2\",IF($E$296=\"G18.1\",\"G18.2\",IF($E$296=\"G19.1\",\"G19.2\",IF($E$296=\"G20.1\",\"G20.2\",IF($E$296=\"G21.1\",\"G21.2\",IF($E$296=\"G22.1\",\"G22.2\",IF($E$296=\"G23.1\",\"G23.2\",IF($E$296=\"G24.1\",\"G24.2\",IF($E$296=\"G25.1\",\"G25.2\",IF($E$296=\"G26.1\",\"G26.2\",IF($E$296=\"G27.1\",\"G27.2\",IF($E$296=\"G28.1\",\"G28.2\",IF($E$296=\"G29.1\",\"G29.2\",IF($E$296=\"G30.1\",\"G30.2\",IF($E$296=\"G31.1\",\"G31.2\",IF($E$296=\"G32.1\",\"G32.2\"))))))))))))))))","v":"G24.2"},{"$f":"VLOOKUP(E350,Grup!$N$5:$AF$1000,3,0)","v":{"$error":"#N/A"}},null,null,77,"33/64.1",{"$f":"INDEX(Grup!$M$6:$M$1000,MATCH(Ana_Tablo_Kura!L350,Grup!$P$6:$P$1000,0),1)","v":{"$error":"#N/A"}},{"$f":"IF(H350=0,VLOOKUP(I350,$B$273:$F$404,5,0),VLOOKUP(H350,Kura!$A$4:$Z$350,26,0))","v":{"$error":"#N/A"}},"G54.1",{"$f":"IFERROR(VLOOKUP(K350,Kura!$A$4:$F$1000,6,0),0)","v":0}]
[null,90,null,null,{"$f":"IF($E$297=\"G17.1\",\"G17.2\",IF($E$297=\"G18.1\",\"G18.2\",IF($E$297=\"G19.1\",\"G19.2\",IF($E$297=\"G20.1\",\"G20.2\",IF($E$297=\"G21.1\",\"G21.2\",IF($E$297=\"G22.1\",\"G22.2\",IF($E$297=\"G23.1\",\"G23.2\",IF($E$297=\"G24.1\",\"G24.2\",IF($E$297=\"G25.1\",\"G25.2\",IF($E$297=\"G26.1\",\"G26.2\",IF($E$297=\"G27.1\",\"G27.2\",IF($E$297=\"G28.1\",\"G28.2\",IF($E$297=\"G29.1\",\"G29.2\",IF($E$297=\"G30.1\",\"G30.2\",IF($E$297=\"G31.1\",\"G31.2\",IF($E$297=\"G32.1\",\"G32.2\"))))))))))))))))","v":"G25.2"},{"$f":"VLOOKUP(E351,Grup!$N$5:$AF$1000,3,0)","v":{"$error":"#N/A"}},null,null,78,null,{"$f":"INDEX(Grup!$M$6:$M$1000,MATCH(Ana_Tablo_Kura!L351,Grup!$P$6:$P$1000,0),1)","v":{"$error":"#N/A"}},{"$f":"IF(H351=0,VLOOKUP(I351,$B$273:$F$404,5,0),VLOOKUP(H351,Kura!$A$4:$Z$350,26,0))","v":{"$error":"#N/A"}},"G13.2",{"$f":"IFERROR(VLOOKUP(K351,Kura!$A$4:$F$1000,6,0),0)","v":0}]
[null,91,null,null,{"$f":"IF($E$300=\"G17.1\",\"G17.2\",IF($E$300=\"G18.1\",\"G18.2\",IF($E$300=\"G19.1\",\"G19.2\",IF($E$300=\"G20.1\",\"G20.2\",IF($E$300=\"G21.1\",\"G21.2\",IF($E$300=\"G22.1\",\"G22.2\",IF($E$300=\"G23.1\",\"G23.2\",IF($E$300=\"G24.1\",\"G24.2\",IF($E$300=\"G25.1\",\"G25.2\",IF($E$300=\"G26.1\",\"G26.2\",IF($E$300=\"G27.1\",\"G27.2\",IF($E$300=\"G28.1\",\"G28.2\",IF($E$300=\"G29.1\",\"G29.2\",IF($E$300=\"G30.1\",\"G30.2\",IF($E$300=\"G31.1\",\"G31.2\",IF($E$300=\"G32.1\",\"G32.2\"))))))))))))))))","v":"G28.2"},{"$f":"VLOOKUP(E352,Grup!$N$5:$AF$1000,3,0)","v":{"$error":"#N/A"}},null,null,79,null,{"$f":"INDEX(Grup!$M$6:$M$1000,MATCH(Ana_Tablo_Kura!L352,Grup!$P$6:$P$1000,0),1)","v":{"$error":"#N/A"}},{"$f":"IF(H352=0,VLOOKUP(I352,$B$273:$F$404,5,0),VLOOKUP(H352,Kura!$A$4:$Z$350,26,0))","v":{"$error":"#N/A"}},"G16.2",{"$f":"IFERROR(VLOOKUP(K352,Kura!$A$4:$F$1000,6,0),0)","v":0}]
[null,94,null,null,{"$f":"IF($E$301=\"G17.1\",\"G17.2\",IF($E$301=\"G18.1\",\"G18.2\",IF($E$301=\"G19.1\",\"G19.2\",IF($E$301=\"G20.1\",\"G20.2\",IF($E$301=\"G21.1\",\"G21.2\",IF($E$301=\"G22.1\",\"G22.2\",IF($E$301=\"G23.1\",\"G23.2\",IF($E$301=\"G24.1\",\"G24.2\",IF($E$301=\"G25.1\",\"G25.2\",IF($E$301=\"G26.1\",\"G26.2\",IF($E$301=\"G27.1\",\"G27.2\",IF($E$301=\"G28.1\",\"G28.2\",IF($E$301=\"G29.1\",\"G29.2\",IF($E$301=\"G30.1\",\"G30.2\",IF($E$301=\"G31.1\",\"G31.2\",IF($E$301=\"G32.1\",\"G32.2\"))))))))))))))))","v":"G29.2"},{"$f":"VLOOKUP(E353,Grup!$N$5:$AF$1000,3,0)","v":{"$error":"#N/A"}},null,null,80,"13/16.1",{"$f":"INDEX(Grup!$M$6:$M$1000,MATCH(Ana_Tablo_Kura!L353,Grup!$P$6:$P$1000,0),1)","v":{"$error":"#N/A"}},{"$f":"IF(H353=0,VLOOKUP(I353,$B$273:$F$404,5,0),VLOOKUP(H353,Kura!$A$4:$Z$350,26,0))","v":{"$error":"#N/A"}},"G15.1",{"$f":"IFERROR(VLOOKUP(K353,Kura!$A$4:$F$1000,6,0),0)","v":0}]
[null,95,null,null,{"$f":"IF($E$304=\"G17.1\",\"G17.2\",IF($E$304=\"G18.1\",\"G18.2\",IF($E$304=\"G19.1\",\"G19.2\",IF($E$304=\"G20.1\",\"G20.2\",IF($E$304=\"G21.1\",\"G21.2\",IF($E$304=\"G22.1\",\"G22.2\",IF($E$304=\"G23.1\",\"G23.2\",IF($E$304=\"G24.1\",\"G24.2\",IF($E$304=\"G25.1\",\"G25.2\",IF($E$304=\"G26.1\",\"G26.2\",IF($E$304=\"G27.1\",\"G27.2\",IF($E$304=\"G28.1\",\"G28.2\",IF($E$304=\"G29.1\",\"G29.2\",IF($E$304=\"G30.1\",\"G30.2\",IF($E$304=\"G31.1\",\"G31.2\",IF($E$304=\"G32.1\",\"G32.2\"))))))))))))))))","v":"G32.2"},{"$f":"VLOOKUP(E354,Grup!$N$5:$AF$1000,3,0)","v":{"$error":"#N/A"}},null,null,81,"9/12.1",{"$f":"INDEX(Grup!$M$6:$M$1000,MATCH(Ana_Tablo_Kura!L354,Grup!$P$6:$P$1000,0),1)","v":{"$error":"#N/A"}},{"$f":"IF(H354=0,VLOOKUP(I354,$B$273:$F$404,5,0),VLOOKUP(H354,Kura!$A$4:$Z$350,26,0))","v":{"$error":"#N/A"}},"G11.1",{"$f":"IFERROR(VLOOKUP(K354,Kura!$A$4:$F$1000,6,0),0)","v":0}]
[null,98,null,null,{"$f":"IF($E$305=\"G33.1\",\"G33.2\",IF($E$305=\"G34.1\",\"G34.2\",IF($E$305=\"G35.1\",\"G35.2\",IF($E$305=\"G36.1\",\"G36.2\",IF($E$305=\"G37.1\",\"G37.2\",IF($E$305=\"G38.1\",\"G38.2\",IF($E$305=\"G39.1\",\"G39.2\",IF($E$305=\"G40.1\",\"G40.2\",IF($E$305=\"G41.1\",\"G41.2\",IF($E$305=\"G42.1\",\"G42.2\",IF($E$305=\"G43.1\",\"G43.2\",IF($E$305=\"G44.1\",\"G44.2\",IF($E$305=\"G45.1\",\"G45.2\",IF($E$305=\"G46.1\",\"G46.2\",IF($E$305=\"G47.1\",\"G47.2\",IF($E$305=\"G48.1\",\"G48.2\",IF($E$305=\"G49.1\",\"G49.2\",IF($E$305=\"G50.1\",\"G50.2\",IF($E$305=\"G51.1\",\"G51.2\",IF($E$305=\"G52.1\",\"G52.2\",IF($E$305=\"G53.1\",\"G53.2\",IF($E$305=\"G54.1\",\"G54.2\",IF($E$305=\"G55.1\",\"G55.2\",IF($E$305=\"G56.1\",\"G56.2\",IF($E$305=\"G57.1\",\"G57.2\",IF($E$305=\"G58.1\",\"G58.2\",IF($E$305=\"G59.1\",\"G59.2\",IF($E$305=\"G60.1\",\"G60.2\",IF($E$305=\"G61.1\",\"G61.2\",IF($E$305=\"G62.1\",\"G62.2\",IF($E$305=\"G63.1\",\"G63.2\",IF($E$305=\"G64.1\",\"G64.2\"))))))))))))))))))))))))))))))))","v":"G33.2"},{"$f":"VLOOKUP(E355,Grup!$N$5:$AF$1000,3,0)","v":{"$error":"#N/A"}},null,null,82,null,{"$f":"INDEX(Grup!$M$6:$M$1000,MATCH(Ana_Tablo_Kura!L355,Grup!$P$6:$P$1000,0),1)","v":{"$error":"#N/A"}},{"$f":"IF(H355=0,VLOOKUP(I355,$B$273:$F$404,5,0),VLOOKUP(H355,Kura!$A$4:$Z$350,26,0))","v":{"$error":"#N/A"}},"G17.2",{"$f":"IFERROR(VLOOKUP(K355,Kura!$A$4:$F$1000,6,0),0)","v":0}]
[null,99,null,null,{"$f":"IF($E$308=\"G33.1\",\"G33.2\",\nIF($E$308=\"G34.1\",\"G34.2\",\nIF($E$308=\"G35.1\",\"G35.2\",\nIF($E$308=\"G36.1\",\"G36.2\",\nIF($E$308=\"G37.1\",\"G37.2\",\nIF($E$308=\"G38.1\",\"G38.2\",\nIF($E$308=\"G39.1\",\"G39.2\",\nIF($E$308=\"G40.1\",\"G40.2\",\nIF($E$308=\"G41.1\",\"G41.2\",\nIF($E$308=\"G42.1\",\"G42.2\",\nIF($E$308=\"G43.1\",\"G43.2\",\nIF($E$308=\"G44.1\",\"G44.2\",\nIF($E$308=\"G45.1\",\"G45.2\",\nIF($E$308=\"G46.1\",\"G46.2\",\nIF($E$308=\"G47.1\",\"G47.2\",\nIF($E$308=\"G48.1\",\"G48.2\",\nIF($E$308=\"G49.1\",\"G49.2\",\nIF($E$308=\"G50.1\",\"G50.2\",\nIF($E$308=\"G51.1\",\"G51.2\",\nIF($E$308=\"G52.1\",\"G52.2\",\nIF($E$308=\"G53.1\",\"G53.2\",\nIF($E$308=\"G54.1\",\"G54.2\",\nIF($E$308=\"G55.1\",\"G55.2\",\nIF($E$308=\"G56.1\",\"G56.2\",\nIF($E$308=\"G57.1\",\"G57.2\",\nIF($E$308=\"G58.1\",\"G58.2\",\nIF($E$308=\"G59.1\",\"G59.2\",\nIF($E$308=\"G60.1\",\"G60.2\",\nIF($E$308=\"G61.1\",\"G61.2\",\nIF($E$308=\"G62.1\",\"G62.2\",\nIF($E$308=\"G63.1\",\"G63.2\",\nIF($E$308=\"G64.1\",\"G64.2\"))))))))))))))))))))))))))))))))","v":"G36.2"},{"$f":"VLOOKUP(E356,Grup!$N$5:$AF$1000,3,0)","v":{"$error":"#N/A"}},null,null,83,null,{"$f":"INDEX(Grup!$M$6:$M$1000,MATCH(Ana_Tablo_Kura!L356,Grup!$P$6:$P$1000,0),1)","v":{"$error":"#N/A"}},{"$f":"IF(H356=0,VLOOKUP(I356,$B$273:$F$404,5,0),VLOOKUP(H356,Kura!$A$4:$Z$350,26,0))","v":{"$error":"#N/A"}},"G20.2",{"$f":"IFERROR(VLOOKUP(K356,Kura!$A$4:$F$1000,6,0),0)","v":0}]
[null,102,null,null,{"$f":"IF($E$309=\"G33.1\",\"G33.2\",\nIF($E$309=\"G34.1\",\"G34.2\",\nIF($E$309=\"G35.1\",\"G35.2\",\nIF($E$309=\"G36.1\",\"G36.2\",\nIF($E$309=\"G37.1\",\"G37.2\",\nIF($E$309=\"G38.1\",\"G38.2\",\nIF($E$309=\"G39.1\",\"G39.2\",\nIF($E$309=\"G40.1\",\"G40.2\",\nIF($E$309=\"G41.1\",\"G41.2\",\nIF($E$309=\"G42.1\",\"G42.2\",\nIF($E$309=\"G43.1\",\"G43.2\",\nIF($E$309=\"G44.1\",\"G44.2\",\nIF($E$309=\"G45.1\",\"G45.2\",\nIF($E$309=\"G46.1\",\"G46.2\",\nIF($E$309=\"G47.1\",\"G47.2\",\nIF($E$309=\"G48.1\",\"G48.2\",\nIF($E$309=\"G49.1\",\"G49.2\",\nIF($E$309=\"G50.1\",\"G50.2\",\nIF($E$309=\"G51.1\",\"G51.2\",\nIF($E$309=\"G52.1\",\"G52.2\",\nIF($E$309=\"G53.1\",\"G53.2\",\nIF($E$309=\"G54.1\",\"G54.2\",\nIF($E$309=\"G55.1\",\"G55.2\",\nIF($E$309=\"G56.1\",\"G56.2\",\nIF($E$309=\"G57.1\",\"G57.2\",\nIF($E$309=\"G58.1\",\"G58.2\",\nIF($E$309=\"G59.1\",\"G59.2\",\nIF($E$309=\"G60.1\",\"G60.2\",\nIF($E$309=\"G61.1\",\"G61.2\",\nIF($E$309=\"G62.1\",\"G62.2\",\nIF($E$309=\"G63.1\",\"G63.2\",\nIF($E$309=\"G64.1\",\"G64.2\"))))))))))))))))))))))))))))))))","v":"G37.2"},{"$f":"VLOOKUP(E357,Grup!$N$5:$AF$1000,3,0)","v":{"$error":"#N/A"}},null,null,84,"33/64.1",{"$f":"INDEX(Grup!$M$6:$M$1000,MATCH(Ana_Tablo_Kura!L357,Grup!$P$6:$P$1000,0),1)","v":{"$error":"#N/A"}},{"$f":"IF(H357=0,VLOOKUP(I357,$B$273:$F$404,5,0),VLOOKUP(H357,Kura!$A$4:$Z$350,26,0))","v":{"$error":"#N/A"}},"G47.1",{"$f":"IFERROR(VLOOKUP(K357,Kura!$A$4:$F$1000,6,0),0)","v":0}]
[null,103,null,null,{"$f":"IF($E$312=\"G33.1\",\"G33.2\",\nIF($E$312=\"G34.1\",\"G34.2\",\nIF($E$312=\"G35.1\",\"G35.2\",\nIF($E$312=\"G36.1\",\"G36.2\",\nIF($E$312=\"G37.1\",\"G37.2\",\nIF($E$312=\"G38.1\",\"G38.2\",\nIF($E$312=\"G39.1\",\"G39.2\",\nIF($E$312=\"G40.1\",\"G40.2\",\nIF($E$312=\"G41.1\",\"G41.2\",\nIF($E$312=\"G42.1\",\"G42.2\",\nIF($E$312=\"G43.1\",\"G43.2\",\nIF($E$312=\"G44.1\",\"G44.2\",\nIF($E$312=\"G45.1\",\"G45.2\",\nIF($E$312=\"G46.1\",\"G46.2\",\nIF($E$312=\"G47.1\",\"G47.2\",\nIF($E$312=\"G48.1\",\"G48.2\",\nIF($E$312=\"G49.1\",\"G49.2\",\nIF($E$312=\"G50.1\",\"G50.2\",\nIF($E$312=\"G51.1\",\"G51.2\",\nIF($E$312=\"G52.1\",\"G52.2\",\nIF($E$312=\"G53.1\",\"G53.2\",\nIF($E$312=\"G54.1\",\"G54.2\",\nIF($E$312=\"G55.1\",\"G55.2\",\nIF($E$312=\"G56.1\",\"G56.2\",\nIF($E$312=\"G57.1\",\"G57.2\",\nIF($E$312=\"G58.1\",\"G58.2\",\nIF($E$312=\"G59.1\",\"G59.2\",\nIF($E$312=\"G60.1\",\"G60.2\",\nIF($E$312=\"G61.1\",\"G61.2\",\nIF($E$312=\"G62.1\",\"G62.2\",\nIF($E$312=\"G63.1\",\"G63.2\",\nIF($E$312=\"G64.1\",\"G64.2\"))))))))))))))))))))))))))))))))","v":"G40.2"},{"$f":"VLOOKUP(E358,Grup!$N$5:$AF$1000,3,0)","v":{"$error":"#N/A"}},null,null,85,"33/64.1",{"$f":"INDEX(Grup!$M$6:$M$1000,MATCH(Ana_Tablo_Kura!L358,Grup!$P$6:$P$1000,0),1)","v":{"$error":"#N/A"}},{"$f":"IF(H358=0,VLOOKUP(I358,$B$273:$F$404,5,0),VLOOKUP(H358,Kura!$A$4:$Z$350,26,0))","v":{"$error":"#N/A"}},"G46.1",{"$f":"IFERROR(VLOOKUP(K358,Kura!$A$4:$F$1000,6,0),0)","v":0}]
[null,106,null,null,{"$f":"IF($E$313=\"G33.1\",\"G33.2\",\nIF($E$313=\"G34.1\",\"G34.2\",\nIF($E$313=\"G35.1\",\"G35.2\",\nIF($E$313=\"G36.1\",\"G36.2\",\nIF($E$313=\"G37.1\",\"G37.2\",\nIF($E$313=\"G38.1\",\"G38.2\",\nIF($E$313=\"G39.1\",\"G39.2\",\nIF($E$313=\"G40.1\",\"G40.2\",\nIF($E$313=\"G41.1\",\"G41.2\",\nIF($E$313=\"G42.1\",\"G42.2\",\nIF($E$313=\"G43.1\",\"G43.2\",\nIF($E$313=\"G44.1\",\"G44.2\",\nIF($E$313=\"G45.1\",\"G45.2\",\nIF($E$313=\"G46.1\",\"G46.2\",\nIF($E$313=\"G47.1\",\"G47.2\",\nIF($E$313=\"G48.1\",\"G48.2\",\nIF($E$313=\"G49.1\",\"G49.2\",\nIF($E$313=\"G50.1\",\"G50.2\",\nIF($E$313=\"G51.1\",\"G51.2\",\nIF($E$313=\"G52.1\",\"G52.2\",\nIF($E$313=\"G53.1\",\"G53.2\",\nIF($E$313=\"G54.1\",\"G54.2\",\nIF($E$313=\"G55.1\",\"G55.2\",\nIF($E$313=\"G56.1\",\"G56.2\",\nIF($E$313=\"G57.1\",\"G57.2\",\nIF($E$313=\"G58.1\",\"G58.2\",\nIF($E$313=\"G59.1\",\"G59.2\",\nIF($E$313=\"G60.1\",\"G60.2\",\nIF($E$313=\"G61.1\",\"G61.2\",\nIF($E$313=\"G62.1\",\"G62.2\",\nIF($E$313=\"G63.1\",\"G63.2\",\nIF($E$313=\"G64.1\",\"G64.2\"))))))))))))))))))))))))))))))))","v":"G41.2"},{"$f":"VLOOKUP(E359,Grup!$N$5:$AF$1000,3,0)","v":{"$error":"#N/A"}},null,null,86,null,{"$f":"INDEX(Grup!$M$6:$M$1000,MATCH(Ana_Tablo_Kura!L359,Grup!$P$6:$P$1000,0),1)","v":{"$error":"#N/A"}},{"$f":"IF(H359=0,VLOOKUP(I359,$B$273:$F$404,5,0),VLOOKUP(H359,Kura!$A$4:$Z$350,26,0))","v":{"$error":"#N/A"}},"G21.2",{"$f":"IFERROR(VLOOKUP(K359,Kura!$A$4:$F$1000,6,0),0)","v":0}]
[null,107,null,null,{"$f":"IF($E$316=\"G33.1\",\"G33.2\",\nIF($E$316=\"G34.1\",\"G34.2\",\nIF($E$316=\"G35.1\",\"G35.2\",\nIF($E$316=\"G36.1\",\"G36.2\",\nIF($E$316=\"G37.1\",\"G37.2\",\nIF($E$316=\"G38.1\",\"G38.2\",\nIF($E$316=\"G39.1\",\"G39.2\",\nIF($E$316=\"G40.1\",\"G40.2\",\nIF($E$316=\"G41.1\",\"G41.2\",\nIF($E$316=\"G42.1\",\"G42.2\",\nIF($E$316=\"G43.1\",\"G43.2\",\nIF($E$316=\"G44.1\",\"G44.2\",\nIF($E$316=\"G45.1\",\"G45.2\",\nIF($E$316=\"G46.1\",\"G46.2\",\nIF($E$316=\"G47.1\",\"G47.2\",\nIF($E$316=\"G48.1\",\"G48.2\",\nIF($E$316=\"G49.1\",\"G49.2\",\nIF($E$316=\"G50.1\",\"G50.2\",\nIF($E$316=\"G51.1\",\"G51.2\",\nIF($E$316=\"G52.1\",\"G52.2\",\nIF($E$316=\"G53.1\",\"G53.2\",\nIF($E$316=\"G54.1\",\"G54.2\",\nIF($E$316=\"G55.1\",\"G55.2\",\nIF($E$316=\"G56.1\",\"G56.2\",\nIF($E$316=\"G57.1\",\"G57.2\",\nIF($E$316=\"G58.1\",\"G58.2\",\nIF($E$316=\"G59.1\",\"G59.2\",\nIF($E$316=\"G60.1\",\"G60.2\",\nIF($E$316=\"G61.1\",\"G61.2\",\nIF($E$316=\"G62.1\",\"G62.2\",\nIF($E$316=\"G63.1\",\"G63.2\",\nIF($E$316=\"G64.1\",\"G64.2\"))))))))))))))))))))))))))))))))","v":"G44.2"},{"$f":"VLOOKUP(E360,Grup!$N$5:$AF$1000,3,0)","v":{"$error":"#N/A"}},null,null,87,null,{"$f":"INDEX(Grup!$M$6:$M$1000,MATCH(Ana_Tablo_Kura!L360,Grup!$P$6:$P$1000,0),1)","v":{"$error":"#N/A"}},{"$f":"IF(H360=0,VLOOKUP(I360,$B$273:$F$404,5,0),VLOOKUP(H360,Kura!$A$4:$Z$350,26,0))","v":{"$error":"#N/A"}},"G24.2",{"$f":"IFERROR(VLOOKUP(K360,Kura!$A$4:$F$1000,6,0),0)","v":0}]
[null,110,null,null,{"$f":"IF($E$317=\"G33.1\",\"G33.2\",\nIF($E$317=\"G34.1\",\"G34.2\",\nIF($E$317=\"G35.1\",\"G35.2\",\nIF($E$317=\"G36.1\",\"G36.2\",\nIF($E$317=\"G37.1\",\"G37.2\",\nIF($E$317=\"G38.1\",\"G38.2\",\nIF($E$317=\"G39.1\",\"G39.2\",\nIF($E$317=\"G40.1\",\"G40.2\",\nIF($E$317=\"G41.1\",\"G41.2\",\nIF($E$317=\"G42.1\",\"G42.2\",\nIF($E$317=\"G43.1\",\"G43.2\",\nIF($E$317=\"G44.1\",\"G44.2\",\nIF($E$317=\"G45.1\",\"G45.2\",\nIF($E$317=\"G46.1\",\"G46.2\",\nIF($E$317=\"G47.1\",\"G47.2\",\nIF($E$317=\"G48.1\",\"G48.2\",\nIF($E$317=\"G49.1\",\"G49.2\",\nIF($E$317=\"G50.1\",\"G50.2\",\nIF($E$317=\"G51.1\",\"G51.2\",\nIF($E$317=\"G52.1\",\"G52.2\",\nIF($E$317=\"G53.1\",\"G53.2\",\nIF($E$317=\"G54.1\",\"G54.2\",\nIF($E$317=\"G55.1\",\"G55.2\",\nIF($E$317=\"G56.1\",\"G56.2\",\nIF($E$317=\"G57.1\",\"G57.2\",\nIF($E$317=\"G58.1\",\"G58.2\",\nIF($E$317=\"G59.1\",\"G59.2\",\nIF($E$317=\"G60.1\",\"G60.2\",\nIF($E$317=\"G61.1\",\"G61.2\",\nIF($E$317=\"G62.1\",\"G62.2\",\nIF($E$317=\"G63.1\",\"G63.2\",\nIF($E$317=\"G64.1\",\"G64.2\"))))))))))))))))))))))))))))))))","v":"G45.2"},{"$f":"VLOOKUP(E361,Grup!$N$5:$AF$1000,3,0)","v":{"$error":"#N/A"}},null,null,88,"17/32.1",{"$f":"INDEX(Grup!$M$6:$M$1000,MATCH(Ana_Tablo_Kura!L361,Grup!$P$6:$P$1000,0),1)","v":{"$error":"#N/A"}},{"$f":"IF(H361=0,VLOOKUP(I361,$B$273:$F$404,5,0),VLOOKUP(H361,Kura!$A$4:$Z$350,26,0))","v":{"$error":"#N/A"}},"G23.1",{"$f":"IFERROR(VLOOKUP(K361,Kura!$A$4:$F$1000,6,0),0)","v":0}]
[null,111,null,null,{"$f":"IF($E$320=\"G33.1\",\"G33.2\",\nIF($E$320=\"G34.1\",\"G34.2\",\nIF($E$320=\"G35.1\",\"G35.2\",\nIF($E$320=\"G36.1\",\"G36.2\",\nIF($E$320=\"G37.1\",\"G37.2\",\nIF($E$320=\"G38.1\",\"G38.2\",\nIF($E$320=\"G39.1\",\"G39.2\",\nIF($E$320=\"G40.1\",\"G40.2\",\nIF($E$320=\"G41.1\",\"G41.2\",\nIF($E$320=\"G42.1\",\"G42.2\",\nIF($E$320=\"G43.1\",\"G43.2\",\nIF($E$320=\"G44.1\",\"G44.2\",\nIF($E$320=\"G45.1\",\"G45.2\",\nIF($E$320=\"G46.1\",\"G46.2\",\nIF($E$320=\"G47.1\",\"G47.2\",\nIF($E$320=\"G48.1\",\"G48.2\",\nIF($E$320=\"G49.1\",\"G49.2\",\nIF($E$320=\"G50.1\",\"G50.2\",\nIF($E$320=\"G51.1\",\"G51.2\",\nIF($E$320=\"G52.1\",\"G52.2\",\nIF($E$320=\"G53.1\",\"G53.2\",\nIF($E$320=\"G54.1\",\"G54.2\",\nIF($E$320=\"G55.1\",\"G55.2\",\nIF($E$320=\"G56.1\",\"G56.2\",\nIF($E$320=\"G57.1\",\"G57.2\",\nIF($E$320=\"G58.1\",\"G58.2\",\nIF($E$320=\"G59.1\",\"G59.2\",\nIF($E$320=\"G60.1\",\"G60.2\",\nIF($E$320=\"G61.1\",\"G61.2\",\nIF($E$320=\"G62.1\",\"G62.2\",\nIF($E$320=\"G63.1\",\"G63.2\",\nIF($E$320=\"G64.1\",\"G64.2\"))))))))))))))))))))))))))))))))","v":"G48.2"},{"$f":"VLOOKUP(E362,Grup!$N$5:$AF$1000,3,0)","v":{"$error":"#N/A"}},null,null,89,"17/32.1",{"$f":"INDEX(Grup!$M$6:$M$1000,MATCH(Ana_Tablo_Kura!L362,Grup!$P$6:$P$1000,0),1)","v":{"$error":"#N/A"}},{"$f":"IF(H362=0,VLOOKUP(I362,$B$273:$F$404,5,0),VLOOKUP(H362,Kura!$A$4:$Z$350,26,0))","v":{"$error":"#N/A"}},"G22.1",{"$f":"IFERROR(VLOOKUP(K362,Kura!$A$4:$F$1000,6,0),0)","v":0}]
[null,114,null,null,{"$f":"IF($E$321=\"G33.1\",\"G33.2\",\nIF($E$321=\"G34.1\",\"G34.2\",\nIF($E$321=\"G35.1\",\"G35.2\",\nIF($E$321=\"G36.1\",\"G36.2\",\nIF($E$321=\"G37.1\",\"G37.2\",\nIF($E$321=\"G38.1\",\"G38.2\",\nIF($E$321=\"G39.1\",\"G39.2\",\nIF($E$321=\"G40.1\",\"G40.2\",\nIF($E$321=\"G41.1\",\"G41.2\",\nIF($E$321=\"G42.1\",\"G42.2\",\nIF($E$321=\"G43.1\",\"G43.2\",\nIF($E$321=\"G44.1\",\"G44.2\",\nIF($E$321=\"G45.1\",\"G45.2\",\nIF($E$321=\"G46.1\",\"G46.2\",\nIF($E$321=\"G47.1\",\"G47.2\",\nIF($E$321=\"G48.1\",\"G48.2\",\nIF($E$321=\"G49.1\",\"G49.2\",\nIF($E$321=\"G50.1\",\"G50.2\",\nIF($E$321=\"G51.1\",\"G51.2\",\nIF($E$321=\"G52.1\",\"G52.2\",\nIF($E$321=\"G53.1\",\"G53.2\",\nIF($E$321=\"G54.1\",\"G54.2\",\nIF($E$321=\"G55.1\",\"G55.2\",\nIF($E$321=\"G56.1\",\"G56.2\",\nIF($E$321=\"G57.1\",\"G57.2\",\nIF($E$321=\"G58.1\",\"G58.2\",\nIF($E$321=\"G59.1\",\"G59.2\",\nIF($E$321=\"G60.1\",\"G60.2\",\nIF($E$321=\"G61.1\",\"G61.2\",\nIF($E$321=\"G62.1\",\"G62.2\",\nIF($E$321=\"G63.1\",\"G63.2\",\nIF($E$321=\"G64.1\",\"G64.2\"))))))))))))))))))))))))))))))))","v":"G49.2"},{"$f":"VLOOKUP(E363,Grup!$N$5:$AF$1000,3,0)","v":{"$error":"#N/A"}},null,null,90,null,{"$f":"INDEX(Grup!$M$6:$M$1000,MATCH(Ana_Tablo_Kura!L363,Grup!$P$6:$P$1000,0),1)","v":{"$error":"#N/A"}},{"$f":"IF(H363=0,VLOOKUP(I363,$B$273:$F$404,5,0),VLOOKUP(H363,Kura!$A$4:$Z$350,26,0))","v":{"$error":"#N/A"}},"G25.2",{"$f":"IFERROR(VLOOKUP(K363,Kura!$A$4:$F$1000,6,0),0)","v":0}]
[null,115,null,null,{"$f":"IF($E$324=\"G33.1\",\"G33.2\",\nIF($E$324=\"G34.1\",\"G34.2\",\nIF($E$324=\"G35.1\",\"G35.2\",\nIF($E$324=\"G36.1\",\"G36.2\",\nIF($E$324=\"G37.1\",\"G37.2\",\nIF($E$324=\"G38.1\",\"G38.2\",\nIF($E$324=\"G39.1\",\"G39.2\",\nIF($E$324=\"G40.1\",\"G40.2\",\nIF($E$324=\"G41.1\",\"G41.2\",\nIF($E$324=\"G42.1\",\"G42.2\",\nIF($E$324=\"G43.1\",\"G43.2\",\nIF($E$324=\"G44.1\",\"G44.2\",\nIF($E$324=\"G45.1\",\"G45.2\",\nIF($E$324=\"G46.1\",\"G46.2\",\nIF($E$324=\"G47.1\",\"G47.2\",\nIF($E$324=\"G48.1\",\"G48.2\",\nIF($E$324=\"G49.1\",\"G49.2\",\nIF($E$324=\"G50.1\",\"G50.2\",\nIF($E$324=\"G51.1\",\"G51.2\",\nIF($E$324=\"G52.1\",\"G52.2\",\nIF($E$324=\"G53.1\",\"G53.2\",\nIF($E$324=\"G54.1\",\"G54.2\",\nIF($E$324=\"G55.1\",\"G55.2\",\nIF($E$324=\"G56.1\",\"G56.2\",\nIF($E$324=\"G57.1\",\"G57.2\",\nIF($E$324=\"G58.1\",\"G58.2\",\nIF($E$324=\"G59.1\",\"G59.2\",\nIF($E$324=\"G60.1\",\"G60.2\",\nIF($E$324=\"G61.1\",\"G61.2\",\nIF($E$324=\"G62.1\",\"G62.2\",\nIF($E$324=\"G63.1\",\"G63.2\",\nIF($E$324=\"G64.1\",\"G64.2\"))))))))))))))))))))))))))))))))","v":"G52.2"},{"$f":"VLOOKUP(E364,Grup!$N$5:$AF$1000,3,0)","v":{"$error":"#N/A"}},null,null,91,null,{"$f":"INDEX(Grup!$M$6:$M$1000,MATCH(Ana_Tablo_Kura!L364,Grup!$P$6:$P$1000,0),1)","v":{"$error":"#N/A"}},{"$f":"IF(H364=0,VLOOKUP(I364,$B$273:$F$404,5,0),VLOOKUP(H364,Kura!$A$4:$Z$350,26,0))","v":{"$error":"#N/A"}},"G28.2",{"$f":"IFERROR(VLOOKUP(K364,Kura!$A$4:$F$1000,6,0),0)","v":0}]
[null,118,null,null,{"$f":"IF($E$325=\"G33.1\",\"G33.2\",\nIF($E$325=\"G34.1\",\"G34.2\",\nIF($E$325=\"G35.1\",\"G35.2\",\nIF($E$325=\"G36.1\",\"G36.2\",\nIF($E$325=\"G37.1\",\"G37.2\",\nIF($E$325=\"G38.1\",\"G38.2\",\nIF($E$325=\"G39.1\",\"G39.2\",\nIF($E$325=\"G40.1\",\"G40.2\",\nIF($E$325=\"G41.1\",\"G41.2\",\nIF($E$325=\"G42.1\",\"G42.2\",\nIF($E$325=\"G43.1\",\"G43.2\",\nIF($E$325=\"G44.1\",\"G44.2\",\nIF($E$325=\"G45.1\",\"G45.2\",\nIF($E$325=\"G46.1\",\"G46.2\",\nIF($E$325=\"G47.1\",\"G47.2\",\nIF($E$325=\"G48.1\",\"G48.2\",\nIF($E$325=\"G49.1\",\"G49.2\",\nIF($E$325=\"G50.1\",\"G50.2\",\nIF($E$325=\"G51.1\",\"G51.2\",\nIF($E$325=\"G52.1\",\"G52.2\",\nIF($E$325=\"G53.1\",\"G53.2\",\nIF($E$325=\"G54.1\",\"G54.2\",\nIF($E$325=\"G55.1\",\"G55.2\",\nIF($E$325=\"G56.1\",\"G56.2\",\nIF($E$325=\"G57.1\",\"G57.2\",\nIF($E$325=\"G58.1\",\"G58.2\",\nIF($E$325=\"G59.1\",\"G59.2\",\nIF($E$325=\"G60.1\",\"G60.2\",\nIF($E$325=\"G61.1\",\"G61.2\",\nIF($E$325=\"G62.1\",\"G62.2\",\nIF($E$325=\"G63.1\",\"G63.2\",\nIF($E$325=\"G64.1\",\"G64.2\"))))))))))))))))))))))))))))))))","v":"G53.2"},{"$f":"VLOOKUP(E365,Grup!$N$5:$AF$1000,3,0)","v":{"$error":"#N/A"}},null,null,92,"33/64.1",{"$f":"INDEX(Grup!$M$6:$M$1000,MATCH(Ana_Tablo_Kura!L365,Grup!$P$6:$P$1000,0),1)","v":{"$error":"#N/A"}},{"$f":"IF(H365=0,VLOOKUP(I365,$B$273:$F$404,5,0),VLOOKUP(H365,Kura!$A$4:$Z$350,26,0))","v":{"$error":"#N/A"}},"G39.1",{"$f":"IFERROR(VLOOKUP(K365,Kura!$A$4:$F$1000,6,0),0)","v":0}]
[null,119,null,null,{"$f":"IF($E$328=\"G33.1\",\"G33.2\",\nIF($E$328=\"G34.1\",\"G34.2\",\nIF($E$328=\"G35.1\",\"G35.2\",\nIF($E$328=\"G36.1\",\"G36.2\",\nIF($E$328=\"G37.1\",\"G37.2\",\nIF($E$328=\"G38.1\",\"G38.2\",\nIF($E$328=\"G39.1\",\"G39.2\",\nIF($E$328=\"G40.1\",\"G40.2\",\nIF($E$328=\"G41.1\",\"G41.2\",\nIF($E$328=\"G42.1\",\"G42.2\",\nIF($E$328=\"G43.1\",\"G43.2\",\nIF($E$328=\"G44.1\",\"G44.2\",\nIF($E$328=\"G45.1\",\"G45.2\",\nIF($E$328=\"G46.1\",\"G46.2\",\nIF($E$328=\"G47.1\",\"G47.2\",\nIF($E$328=\"G48.1\",\"G48.2\",\nIF($E$328=\"G49.1\",\"G49.2\",\nIF($E$328=\"G50.1\",\"G50.2\",\nIF($E$328=\"G51.1\",\"G51.2\",\nIF($E$328=\"G52.1\",\"G52.2\",\nIF($E$328=\"G53.1\",\"G53.2\",\nIF($E$328=\"G54.1\",\"G54.2\",\nIF($E$328=\"G55.1\",\"G55.2\",\nIF($E$328=\"G56.1\",\"G56.2\",\nIF($E$328=\"G57.1\",\"G57.2\",\nIF($E$328=\"G58.1\",\"G58.2\",\nIF($E$328=\"G59.1\",\"G59.2\",\nIF($E$328=\"G60.1\",\"G60.2\",\nIF($E$328=\"G61.1\",\"G61.2\",\nIF($E$328=\"G62.1\",\"G62.2\",\nIF($E$328=\"G63.1\",\"G63.2\",\nIF($E$328=\"G64.1\",\"G64.2\"))))))))))))))))))))))))))))))))","v":"G56.2"},{"$f":"VLOOKUP(E366,Grup!$N$5:$AF$1000,3,0)","v":{"$error":"#N/A"}},null,null,93,"33/64.1",{"$f":"INDEX(Grup!$M$6:$M$1000,MATCH(Ana_Tablo_Kura!L366,Grup!$P$6:$P$1000,0),1)","v":{"$error":"#N/A"}},{"$f":"IF(H366=0,VLOOKUP(I366,$B$273:$F$404,5,0),VLOOKUP(H366,Kura!$A$4:$Z$350,26,0))","v":{"$error":"#N/A"}},"G38.1",{"$f":"IFERROR(VLOOKUP(K366,Kura!$A$4:$F$1000,6,0),0)","v":0}]
[null,122,null,null,{"$f":"IF($E$329=\"G33.1\",\"G33.2\",\nIF($E$329=\"G34.1\",\"G34.2\",\nIF($E$329=\"G35.1\",\"G35.2\",\nIF($E$329=\"G36.1\",\"G36.2\",\nIF($E$329=\"G37.1\",\"G37.2\",\nIF($E$329=\"G38.1\",\"G38.2\",\nIF($E$329=\"G39.1\",\"G39.2\",\nIF($E$329=\"G40.1\",\"G40.2\",\nIF($E$329=\"G41.1\",\"G41.2\",\nIF($E$329=\"G42.1\",\"G42.2\",\nIF($E$329=\"G43.1\",\"G43.2\",\nIF($E$329=\"G44.1\",\"G44.2\",\nIF($E$329=\"G45.1\",\"G45.2\",\nIF($E$329=\"G46.1\",\"G46.2\",\nIF($E$329=\"G47.1\",\"G47.2\",\nIF($E$329=\"G48.1\",\"G48.2\",\nIF($E$329=\"G49.1\",\"G49.2\",\nIF($E$329=\"G50.1\",\"G50.2\",\nIF($E$329=\"G51.1\",\"G51.2\",\nIF($E$329=\"G52.1\",\"G52.2\",\nIF($E$329=\"G53.1\",\"G53.2\",\nIF($E$329=\"G54.1\",\"G54.2\",\nIF($E$329=\"G55.1\",\"G55.2\",\nIF($E$329=\"G56.1\",\"G56.2\",\nIF($E$329=\"G57.1\",\"G57.2\",\nIF($E$329=\"G58.1\",\"G58.2\",\nIF($E$329=\"G59.1\",\"G59.2\",\nIF($E$329=\"G60.1\",\"G60.2\",\nIF($E$329=\"G61.1\",\"G61.2\",\nIF($E$329=\"G62.1\",\"G62.2\",\nIF($E$329=\"G63.1\",\"G63.2\",\nIF($E$329=\"G64.1\",\"G64.2\"))))))))))))))))))))))))))))))))","v":"G57.2"},{"$f":"VLOOKUP(E367,Grup!$N$5:$AF$1000,3,0)","v":{"$error":"#N/A"}},null,null,94,null,{"$f":"INDEX(Grup!$M$6:$M$1000,MATCH(Ana_Tablo_Kura!L367,Grup!$P$6:$P$1000,0),1)","v":{"$error":"#N/A"}},{"$f":"IF(H367=0,VLOOKUP(I367,$B$273:$F$404,5,0),VLOOKUP(H367,Kura!$A$4:$Z$350,26,0))","v":{"$error":"#N/A"}},"G29.2",{"$f":"IFERROR(VLOOKUP(K367,Kura!$A$4:$F$1000,6,0),0)","v":0}]
[null,123,null,null,{"$f":"IF($E$332=\"G33.1\",\"G33.2\",\nIF($E$332=\"G34.1\",\"G34.2\",\nIF($E$332=\"G35.1\",\"G35.2\",\nIF($E$332=\"G36.1\",\"G36.2\",\nIF($E$332=\"G37.1\",\"G37.2\",\nIF($E$332=\"G38.1\",\"G38.2\",\nIF($E$332=\"G39.1\",\"G39.2\",\nIF($E$332=\"G40.1\",\"G40.2\",\nIF($E$332=\"G41.1\",\"G41.2\",\nIF($E$332=\"G42.1\",\"G42.2\",\nIF($E$332=\"G43.1\",\"G43.2\",\nIF($E$332=\"G44.1\",\"G44.2\",\nIF($E$332=\"G45.1\",\"G45.2\",\nIF($E$332=\"G46.1\",\"G46.2\",\nIF($E$332=\"G47.1\",\"G47.2\",\nIF($E$332=\"G48.1\",\"G48.2\",\nIF($E$332=\"G49.1\",\"G49.2\",\nIF($E$332=\"G50.1\",\"G50.2\",\nIF($E$332=\"G51.1\",\"G51.2\",\nIF($E$332=\"G52.1\",\"G52.2\",\nIF($E$332=\"G53.1\",\"G53.2\",\nIF($E$332=\"G54.1\",\"G54.2\",\nIF($E$332=\"G55.1\",\"G55.2\",\nIF($E$332=\"G56.1\",\"G56.2\",\nIF($E$332=\"G57.1\",\"G57.2\",\nIF($E$332=\"G58.1\",\"G58.2\",\nIF($E$332=\"G59.1\",\"G59.2\",\nIF($E$332=\"G60.1\",\"G60.2\",\nIF($E$332=\"G61.1\",\"G61.2\",\nIF($E$332=\"G62.1\",\"G62.2\",\nIF($E$332=\"G63.1\",\"G63.2\",\nIF($E$332=\"G64.1\",\"G64.2\"))))))))))))))))))))))))))))))))","v":"G60.2"},{"$f":"VLOOKUP(E368,Grup!$N$5:$AF$1000,3,0)","v":{"$error":"#N/A"}},null,null,95,null,{"$f":"INDEX(Grup!$M$6:$M$1000,MATCH(Ana_Tablo_Kura!L368,Grup!$P$6:$P$1000,0),1)","v":{"$error":"#N/A"}},{"$f":"IF(H368=0,VLOOKUP(I368,$B$273:$F$404,5,0),VLOOKUP(H368,Kura!$A$4:$Z$350,26,0))","v":{"$error":"#N/A"}},"G32.2",{"$f":"IFERROR(VLOOKUP(K368,Kura!$A$4:$F$1000,6,0),0)","v":0}]
[null,126,null,null,{"$f":"IF($E$333=\"G33.1\",\"G33.2\",\nIF($E$333=\"G34.1\",\"G34.2\",\nIF($E$333=\"G35.1\",\"G35.2\",\nIF($E$333=\"G36.1\",\"G36.2\",\nIF($E$333=\"G37.1\",\"G37.2\",\nIF($E$333=\"G38.1\",\"G38.2\",\nIF($E$333=\"G39.1\",\"G39.2\",\nIF($E$333=\"G40.1\",\"G40.2\",\nIF($E$333=\"G41.1\",\"G41.2\",\nIF($E$333=\"G42.1\",\"G42.2\",\nIF($E$333=\"G43.1\",\"G43.2\",\nIF($E$333=\"G44.1\",\"G44.2\",\nIF($E$333=\"G45.1\",\"G45.2\",\nIF($E$333=\"G46.1\",\"G46.2\",\nIF($E$333=\"G47.1\",\"G47.2\",\nIF($E$333=\"G48.1\",\"G48.2\",\nIF($E$333=\"G49.1\",\"G49.2\",\nIF($E$333=\"G50.1\",\"G50.2\",\nIF($E$333=\"G51.1\",\"G51.2\",\nIF($E$333=\"G52.1\",\"G52.2\",\nIF($E$333=\"G53.1\",\"G53.2\",\nIF($E$333=\"G54.1\",\"G54.2\",\nIF($E$333=\"G55.1\",\"G55.2\",\nIF($E$333=\"G56.1\",\"G56.2\",\nIF($E$333=\"G57.1\",\"G57.2\",\nIF($E$333=\"G58.1\",\"G58.2\",\nIF($E$333=\"G59.1\",\"G59.2\",\nIF($E$333=\"G60.1\",\"G60.2\",\nIF($E$333=\"G61.1\",\"G61.2\",\nIF($E$333=\"G62.1\",\"G62.2\",\nIF($E$333=\"G63.1\",\"G63.2\",\nIF($E$333=\"G64.1\",\"G64.2\"))))))))))))))))))))))))))))))))","v":"G61.2"},{"$f":"VLOOKUP(E369,Grup!$N$5:$AF$1000,3,0)","v":{"$error":"#N/A"}},null,null,96,"5/6.1",{"$f":"INDEX(Grup!$M$6:$M$1000,MATCH(Ana_Tablo_Kura!L369,Grup!$P$6:$P$1000,0),1)","v":{"$error":"#N/A"}},{"$f":"IF(H369=0,VLOOKUP(I369,$B$273:$F$404,5,0),VLOOKUP(H369,Kura!$A$4:$Z$350,26,0))","v":{"$error":"#N/A"}},"G6.1",{"$f":"IFERROR(VLOOKUP(K369,Kura!$A$4:$F$1000,6,0),0)","v":0}]
[null,127,null,null,{"$f":"IF($E$336=\"G33.1\",\"G33.2\",\nIF($E$336=\"G34.1\",\"G34.2\",\nIF($E$336=\"G35.1\",\"G35.2\",\nIF($E$336=\"G36.1\",\"G36.2\",\nIF($E$336=\"G37.1\",\"G37.2\",\nIF($E$336=\"G38.1\",\"G38.2\",\nIF($E$336=\"G39.1\",\"G39.2\",\nIF($E$336=\"G40.1\",\"G40.2\",\nIF($E$336=\"G41.1\",\"G41.2\",\nIF($E$336=\"G42.1\",\"G42.2\",\nIF($E$336=\"G43.1\",\"G43.2\",\nIF($E$336=\"G44.1\",\"G44.2\",\nIF($E$336=\"G45.1\",\"G45.2\",\nIF($E$336=\"G46.1\",\"G46.2\",\nIF($E$336=\"G47.1\",\"G47.2\",\nIF($E$336=\"G48.1\",\"G48.2\",\nIF($E$336=\"G49.1\",\"G49.2\",\nIF($E$336=\"G50.1\",\"G50.2\",\nIF($E$336=\"G51.1\",\"G51.2\",\nIF($E$336=\"G52.1\",\"G52.2\",\nIF($E$336=\"G53.1\",\"G53.2\",\nIF($E$336=\"G54.1\",\"G54.2\",\nIF($E$336=\"G55.1\",\"G55.2\",\nIF($E$336=\"G56.1\",\"G56.2\",\nIF($E$336=\"G57.1\",\"G57.2\",\nIF($E$336=\"G58.1\",\"G58.2\",\nIF($E$336=\"G59.1\",\"G59.2\",\nIF($E$336=\"G60.1\",\"G60.2\",\nIF($E$336=\"G61.1\",\"G61.2\",\nIF($E$336=\"G62.1\",\"G62.2\",\nIF($E$336=\"G63.1\",\"G63.2\",\nIF($E$336=\"G64.1\",\"G64.2\"))))))))))))))))))))))))))))))))","v":"G64.2"},{"$f":"VLOOKUP(E370,Grup!$N$5:$AF$1000,3,0)","v":{"$error":"#N/A"}},null,null,97,"7/8.1",{"$f":"INDEX(Grup!$M$6:$M$1000,MATCH(Ana_Tablo_Kura!L370,Grup!$P$6:$P$1000,0),1)","v":{"$error":"#N/A"}},{"$f":"IF(H370=0,VLOOKUP(I370,$B$273:$F$404,5,0),VLOOKUP(H370,Kura!$A$4:$Z$350,26,0))","v":{"$error":"#N/A"}},{"$f":"VLOOKUP(I370,$B$273:$F$404,4,0)","v":"G8.1"},{"$f":"IFERROR(VLOOKUP(K370,Kura!$A$4:$F$1000,6,0),0)","v":0}]
[null,null,null,null,null,null,null,null,98,null,{"$f":"INDEX(Grup!$M$6:$M$1000,MATCH(Ana_Tablo_Kura!L371,Grup!$P$6:$P$1000,0),1)","v":{"$error":"#N/A"}},{"$f":"IF(H371=0,VLOOKUP(I371,$B$273:$F$404,5,0),VLOOKUP(H371,Kura!$A$4:$Z$350,26,0))","v":{"$error":"#N/A"}},"G33.2",{"$f":"IFERROR(VLOOKUP(K371,Kura!$A$4:$F$1000,6,0),0)","v":0}]
[null,"Upper Group Runners-up (↑)",null,null,null,null,null,null,99,null,{"$f":"INDEX(Grup!$M$6:$M$1000,MATCH(Ana_Tablo_Kura!L372,Grup!$P$6:$P$1000,0),1)","v":{"$error":"#N/A"}},{"$f":"IF(H372=0,VLOOKUP(I372,$B$273:$F$404,5,0),VLOOKUP(H372,Kura!$A$4:$Z$350,26,0))","v":{"$error":"#N/A"}},"G36.2",{"$f":"IFERROR(VLOOKUP(K372,Kura!$A$4:$F$1000,6,0),0)","v":0}]
[null,2,null,null,{"$f":"IF($E$274=\"G1.1\",\"G1.2\",\"G2.2\")","v":"G2.2"},{"$f":"VLOOKUP(E373,Grup!$N$5:$AF$1000,3,0)","v":"BAYBURT GMSK (A) (BYB)"},null,null,100,"33/64.1",{"$f":"INDEX(Grup!$M$6:$M$1000,MATCH(Ana_Tablo_Kura!L373,Grup!$P$6:$P$1000,0),1)","v":{"$error":"#N/A"}},{"$f":"IF(H373=0,VLOOKUP(I373,$B$273:$F$404,5,0),VLOOKUP(H373,Kura!$A$4:$Z$350,26,0))","v":{"$error":"#N/A"}},"G34.1",{"$f":"IFERROR(VLOOKUP(K373,Kura!$A$4:$F$1000,6,0),0)","v":0}]
[null,3,null,null,{"$f":"IF($E$275=\"G4.1\",\"G4.2\",\"G3.2\")","v":"G3.2"},{"$f":"VLOOKUP(E374,Grup!$N$5:$AF$1000,3,0)","v":"FINDIKLI 1974 SPOR (A) (RİZ)"},null,null,101,"33/64.1",{"$f":"INDEX(Grup!$M$6:$M$1000,MATCH(Ana_Tablo_Kura!L374,Grup!$P$6:$P$1000,0),1)","v":{"$error":"#N/A"}},{"$f":"IF(H374=0,VLOOKUP(I374,$B$273:$F$404,5,0),VLOOKUP(H374,Kura!$A$4:$Z$350,26,0))","v":{"$error":"#N/A"}},"G35.1",{"$f":"IFERROR(VLOOKUP(K374,Kura!$A$4:$F$1000,6,0),0)","v":0}]
[null,6,null,null,{"$f":"IF($E$278=\"G5.1\",\"G5.2\",\"G6.2\")","v":"G6.2"},{"$f":"VLOOKUP(E375,Grup!$N$5:$AF$1000,3,0)","v":{"$error":"#N/A"}},null,null,102,null,{"$f":"INDEX(Grup!$M$6:$M$1000,MATCH(Ana_Tablo_Kura!L375,Grup!$P$6:$P$1000,0),1)","v":{"$error":"#N/A"}},{"$f":"IF(H375=0,VLOOKUP(I375,$B$273:$F$404,5,0),VLOOKUP(H375,Kura!$A$4:$Z$350,26,0))","v":{"$error":"#N/A"}},"G37.2",{"$f":"IFERROR(VLOOKUP(K375,Kura!$A$4:$F$1000,6,0),0)","v":0}]
[null,7,null,null,{"$f":"IF($E$279=\"G7.1\",\"G7.2\",\"G8.2\")","v":"G8.2"},{"$f":"VLOOKUP(E376,Grup!$N$5:$AF$1000,3,0)","v":{"$error":"#N/A"}},null,null,103,null,{"$f":"INDEX(Grup!$M$6:$M$1000,MATCH(Ana_Tablo_Kura!L376,Grup!$P$6:$P$1000,0),1)","v":{"$error":"#N/A"}},{"$f":"IF(H376=0,VLOOKUP(I376,$B$273:$F$404,5,0),VLOOKUP(H376,Kura!$A$4:$Z$350,26,0))","v":{"$error":"#N/A"}},"G40.2",{"$f":"IFERROR(VLOOKUP(K376,Kura!$A$4:$F$1000,6,0),0)","v":0}]
[null,10,null,null,{"$f":"IF($E$282=\"G9.1\",\"G9.2\",IF($E$282=\"G10.1\",\"G10.2\",IF($E$282=\"G11.1\",\"G11.2\",IF($E$282=\"G12.1\",\"G12.2\"))))","v":"G10.2"},{"$f":"VLOOKUP(E377,Grup!$N$5:$AF$1000,3,0)","v":{"$error":"#N/A"}},null,null,104,"17/32.1",{"$f":"INDEX(Grup!$M$6:$M$1000,MATCH(Ana_Tablo_Kura!L377,Grup!$P$6:$P$1000,0),1)","v":{"$error":"#N/A"}},{"$f":"IF(H377=0,VLOOKUP(I377,$B$273:$F$404,5,0),VLOOKUP(H377,Kura!$A$4:$Z$350,26,0))","v":{"$error":"#N/A"}},"G18.1",{"$f":"IFERROR(VLOOKUP(K377,Kura!$A$4:$F$1000,6,0),0)","v":0}]
[null,11,null,null,{"$f":"IF($E$283=\"G9.1\",\"G9.2\",IF($E$283=\"G10.1\",\"G10.2\",IF($E$283=\"G11.1\",\"G11.2\",IF($E$283=\"G12.1\",\"G12.2\"))))","v":"G11.2"},{"$f":"VLOOKUP(E378,Grup!$N$5:$AF$1000,3,0)","v":{"$error":"#N/A"}},null,null,105,"17/32.1",{"$f":"INDEX(Grup!$M$6:$M$1000,MATCH(Ana_Tablo_Kura!L378,Grup!$P$6:$P$1000,0),1)","v":{"$error":"#N/A"}},{"$f":"IF(H378=0,VLOOKUP(I378,$B$273:$F$404,5,0),VLOOKUP(H378,Kura!$A$4:$Z$350,26,0))","v":{"$error":"#N/A"}},"G19.1",{"$f":"IFERROR(VLOOKUP(K378,Kura!$A$4:$F$1000,6,0),0)","v":0}]
[null,14,null,null,{"$f":"IF($E$286=\"G13.1\",\"G13.2\",IF($E$286=\"G14.1\",\"G14.2\",IF($E$286=\"G15.1\",\"G15.2\",IF($E$286=\"G16.1\",\"G16.2\"))))","v":"G14.2"},{"$f":"VLOOKUP(E379,Grup!$N$5:$AF$1000,3,0)","v":{"$error":"#N/A"}},null,null,106,null,{"$f":"INDEX(Grup!$M$6:$M$1000,MATCH(Ana_Tablo_Kura!L379,Grup!$P$6:$P$1000,0),1)","v":{"$error":"#N/A"}},{"$f":"IF(H379=0,VLOOKUP(I379,$B$273:$F$404,5,0),VLOOKUP(H379,Kura!$A$4:$Z$350,26,0))","v":{"$error":"#N/A"}},"G41.2",{"$f":"IFERROR(VLOOKUP(K379,Kura!$A$4:$F$1000,6,0),0)","v":0}]
[null,15,null,null,{"$f":"IF($E$287=\"G13.1\",\"G13.2\",IF($E$287=\"G14.1\",\"G14.2\",IF($E$287=\"G15.1\",\"G15.2\",IF($E$287=\"G16.1\",\"G16.2\"))))","v":"G15.2"},{"$f":"VLOOKUP(E380,Grup!$N$5:$AF$1000,3,0)","v":{"$error":"#N/A"}},null,null,107,null,{"$f":"INDEX(Grup!$M$6:$M$1000,MATCH(Ana_Tablo_Kura!L380,Grup!$P$6:$P$1000,0),1)","v":{"$error":"#N/A"}},{"$f":"IF(H380=0,VLOOKUP(I380,$B$273:$F$404,5,0),VLOOKUP(H380,Kura!$A$4:$Z$350,26,0))","v":{"$error":"#N/A"}},"G44.2",{"$f":"IFERROR(VLOOKUP(K380,Kura!$A$4:$F$1000,6,0),0)","v":0}]
[null,18,null,null,{"$f":"IF($E$290=\"G17.1\",\"G17.2\",IF($E$290=\"G18.1\",\"G18.2\",IF($E$290=\"G19.1\",\"G19.2\",IF($E$290=\"G20.1\",\"G20.2\",IF($E$290=\"G21.1\",\"G21.2\",IF($E$290=\"G22.1\",\"G22.2\",IF($E$290=\"G23.1\",\"G23.2\",IF($E$290=\"G24.1\",\"G24.2\",IF($E$290=\"G25.1\",\"G25.2\",IF($E$290=\"G26.1\",\"G26.2\",IF($E$290=\"G27.1\",\"G27.2\",IF($E$290=\"G28.1\",\"G28.2\",IF($E$290=\"G29.1\",\"G29.2\",IF($E$290=\"G30.1\",\"G30.2\",IF($E$290=\"G31.1\",\"G31.2\",IF($E$290=\"G32.1\",\"G32.2\"))))))))))))))))","v":"G18.2"},{"$f":"VLOOKUP(E381,Grup!$N$5:$AF$1000,3,0)","v":{"$error":"#N/A"}},null,null,108,"33/64.1",{"$f":"INDEX(Grup!$M$6:$M$1000,MATCH(Ana_Tablo_Kura!L381,Grup!$P$6:$P$1000,0),1)","v":{"$error":"#N/A"}},{"$f":"IF(H381=0,VLOOKUP(I381,$B$273:$F$404,5,0),VLOOKUP(H381,Kura!$A$4:$Z$350,26,0))","v":{"$error":"#N/A"}},"G42.1",{"$f":"IFERROR(VLOOKUP(K381,Kura!$A$4:$F$1000,6,0),0)","v":0}]
[null,19,null,null,{"$f":"IF($E$291=\"G17.1\",\"G17.2\",IF($E$291=\"G18.1\",\"G18.2\",IF($E$291=\"G19.1\",\"G19.2\",IF($E$291=\"G20.1\",\"G20.2\",IF($E$291=\"G21.1\",\"G21.2\",IF($E$291=\"G22.1\",\"G22.2\",IF($E$291=\"G23.1\",\"G23.2\",IF($E$291=\"G24.1\",\"G24.2\",IF($E$291=\"G25.1\",\"G25.2\",IF($E$291=\"G26.1\",\"G26.2\",IF($E$291=\"G27.1\",\"G27.2\",IF($E$291=\"G28.1\",\"G28.2\",IF($E$291=\"G29.1\",\"G29.2\",IF($E$291=\"G30.1\",\"G30.2\",IF($E$291=\"G31.1\",\"G31.2\",IF($E$291=\"G32.1\",\"G32.2\"))))))))))))))))","v":"G19.2"},{"$f":"VLOOKUP(E382,Grup!$N$5:$AF$1000,3,0)","v":{"$error":"#N/A"}},null,null,109,"33/64.1",{"$f":"INDEX(Grup!$M$6:$M$1000,MATCH(Ana_Tablo_Kura!L382,Grup!$P$6:$P$1000,0),1)","v":{"$error":"#N/A"}},{"$f":"IF(H382=0,VLOOKUP(I382,$B$273:$F$404,5,0),VLOOKUP(H382,Kura!$A$4:$Z$350,26,0))","v":{"$error":"#N/A"}},"G43.1",{"$f":"IFERROR(VLOOKUP(K382,Kura!$A$4:$F$1000,6,0),0)","v":0}]
[null,22,null,null,{"$f":"IF($E$294=\"G17.1\",\"G17.2\",IF($E$294=\"G18.1\",\"G18.2\",IF($E$294=\"G19.1\",\"G19.2\",IF($E$294=\"G20.1\",\"G20.2\",IF($E$294=\"G21.1\",\"G21.2\",IF($E$294=\"G22.1\",\"G22.2\",IF($E$294=\"G23.1\",\"G23.2\",IF($E$294=\"G24.1\",\"G24.2\",IF($E$294=\"G25.1\",\"G25.2\",IF($E$294=\"G26.1\",\"G26.2\",IF($E$294=\"G27.1\",\"G27.2\",IF($E$294=\"G28.1\",\"G28.2\",IF($E$294=\"G29.1\",\"G29.2\",IF($E$294=\"G30.1\",\"G30.2\",IF($E$294=\"G31.1\",\"G31.2\",IF($E$294=\"G32.1\",\"G32.2\"))))))))))))))))","v":"G22.2"},{"$f":"VLOOKUP(E383,Grup!$N$5:$AF$1000,3,0)","v":{"$error":"#N/A"}},null,null,110,null,{"$f":"INDEX(Grup!$M$6:$M$1000,MATCH(Ana_Tablo_Kura!L383,Grup!$P$6:$P$1000,0),1)","v":{"$error":"#N/A"}},{"$f":"IF(H383=0,VLOOKUP(I383,$B$273:$F$404,5,0),VLOOKUP(H383,Kura!$A$4:$Z$350,26,0))","v":{"$error":"#N/A"}},"G45.2",{"$f":"IFERROR(VLOOKUP(K383,Kura!$A$4:$F$1000,6,0),0)","v":0}]
[null,23,null,null,{"$f":"IF($E$295=\"G17.1\",\"G17.2\",IF($E$295=\"G18.1\",\"G18.2\",IF($E$295=\"G19.1\",\"G19.2\",IF($E$295=\"G20.1\",\"G20.2\",IF($E$295=\"G21.1\",\"G21.2\",IF($E$295=\"G22.1\",\"G22.2\",IF($E$295=\"G23.1\",\"G23.2\",IF($E$295=\"G24.1\",\"G24.2\",IF($E$295=\"G25.1\",\"G25.2\",IF($E$295=\"G26.1\",\"G26.2\",IF($E$295=\"G27.1\",\"G27.2\",IF($E$295=\"G28.1\",\"G28.2\",IF($E$295=\"G29.1\",\"G29.2\",IF($E$295=\"G30.1\",\"G30.2\",IF($E$295=\"G31.1\",\"G31.2\",IF($E$295=\"G32.1\",\"G32.2\"))))))))))))))))","v":"G23.2"},{"$f":"VLOOKUP(E384,Grup!$N$5:$AF$1000,3,0)","v":{"$error":"#N/A"}},null,null,111,null,{"$f":"INDEX(Grup!$M$6:$M$1000,MATCH(Ana_Tablo_Kura!L384,Grup!$P$6:$P$1000,0),1)","v":{"$error":"#N/A"}},{"$f":"IF(H384=0,VLOOKUP(I384,$B$273:$F$404,5,0),VLOOKUP(H384,Kura!$A$4:$Z$350,26,0))","v":{"$error":"#N/A"}},"G48.2",{"$f":"IFERROR(VLOOKUP(K384,Kura!$A$4:$F$1000,6,0),0)","v":0}]
[null,26,null,null,{"$f":"IF($E$298=\"G17.1\",\"G17.2\",IF($E$298=\"G18.1\",\"G18.2\",IF($E$298=\"G19.1\",\"G19.2\",IF($E$298=\"G20.1\",\"G20.2\",IF($E$298=\"G21.1\",\"G21.2\",IF($E$298=\"G22.1\",\"G22.2\",IF($E$298=\"G23.1\",\"G23.2\",IF($E$298=\"G24.1\",\"G24.2\",IF($E$298=\"G25.1\",\"G25.2\",IF($E$298=\"G26.1\",\"G26.2\",IF($E$298=\"G27.1\",\"G27.2\",IF($E$298=\"G28.1\",\"G28.2\",IF($E$298=\"G29.1\",\"G29.2\",IF($E$298=\"G30.1\",\"G30.2\",IF($E$298=\"G31.1\",\"G31.2\",IF($E$298=\"G32.1\",\"G32.2\"))))))))))))))))","v":"G26.2"},{"$f":"VLOOKUP(E385,Grup!$N$5:$AF$1000,3,0)","v":{"$error":"#N/A"}},null,null,112,"9/12.1",{"$f":"INDEX(Grup!$M$6:$M$1000,MATCH(Ana_Tablo_Kura!L385,Grup!$P$6:$P$1000,0),1)","v":{"$error":"#N/A"}},{"$f":"IF(H385=0,VLOOKUP(I385,$B$273:$F$404,5,0),VLOOKUP(H385,Kura!$A$4:$Z$350,26,0))","v":{"$error":"#N/A"}},"G10.1",{"$f":"IFERROR(VLOOKUP(K385,Kura!$A$4:$F$1000,6,0),0)","v":0}]
[null,27,null,null,{"$f":"IF($E$299=\"G17.1\",\"G17.2\",IF($E$299=\"G18.1\",\"G18.2\",IF($E$299=\"G19.1\",\"G19.2\",IF($E$299=\"G20.1\",\"G20.2\",IF($E$299=\"G21.1\",\"G21.2\",IF($E$299=\"G22.1\",\"G22.2\",IF($E$299=\"G23.1\",\"G23.2\",IF($E$299=\"G24.1\",\"G24.2\",IF($E$299=\"G25.1\",\"G25.2\",IF($E$299=\"G26.1\",\"G26.2\",IF($E$299=\"G27.1\",\"G27.2\",IF($E$299=\"G28.1\",\"G28.2\",IF($E$299=\"G29.1\",\"G29.2\",IF($E$299=\"G30.1\",\"G30.2\",IF($E$299=\"G31.1\",\"G31.2\",IF($E$299=\"G32.1\",\"G32.2\"))))))))))))))))","v":"G27.2"},{"$f":"VLOOKUP(E386,Grup!$N$5:$AF$1000,3,0)","v":{"$error":"#N/A"}},null,null,113,"13/16.1",{"$f":"INDEX(Grup!$M$6:$M$1000,MATCH(Ana_Tablo_Kura!L386,Grup!$P$6:$P$1000,0),1)","v":{"$error":"#N/A"}},{"$f":"IF(H386=0,VLOOKUP(I386,$B$273:$F$404,5,0),VLOOKUP(H386,Kura!$A$4:$Z$350,26,0))","v":{"$error":"#N/A"}},"G14.1",{"$f":"IFERROR(VLOOKUP(K386,Kura!$A$4:$F$1000,6,0),0)","v":0}]
[null,30,null,null,{"$f":"IF($E$302=\"G17.1\",\"G17.2\",IF($E$302=\"G18.1\",\"G18.2\",IF($E$302=\"G19.1\",\"G19.2\",IF($E$302=\"G20.1\",\"G20.2\",IF($E$302=\"G21.1\",\"G21.2\",IF($E$302=\"G22.1\",\"G22.2\",IF($E$302=\"G23.1\",\"G23.2\",IF($E$302=\"G24.1\",\"G24.2\",IF($E$302=\"G25.1\",\"G25.2\",IF($E$302=\"G26.1\",\"G26.2\",IF($E$302=\"G27.1\",\"G27.2\",IF($E$302=\"G28.1\",\"G28.2\",IF($E$302=\"G29.1\",\"G29.2\",IF($E$302=\"G30.1\",\"G30.2\",IF($E$302=\"G31.1\",\"G31.2\",IF($E$302=\"G32.1\",\"G32.2\"))))))))))))))))","v":"G30.2"},{"$f":"VLOOKUP(E387,Grup!$N$5:$AF$1000,3,0)","v":{"$error":"#N/A"}},null,null,114,null,{"$f":"INDEX(Grup!$M$6:$M$1000,MATCH(Ana_Tablo_Kura!L387,Grup!$P$6:$P$1000,0),1)","v":{"$error":"#N/A"}},{"$f":"IF(H387=0,VLOOKUP(I387,$B$273:$F$404,5,0),VLOOKUP(H387,Kura!$A$4:$Z$350,26,0))","v":{"$error":"#N/A"}},"G49.2",{"$f":"IFERROR(VLOOKUP(K387,Kura!$A$4:$F$1000,6,0),0)","v":0}]
[null,31,null,null,{"$f":"IF($E$303=\"G17.1\",\"G17.2\",IF($E$303=\"G18.1\",\"G18.2\",IF($E$303=\"G19.1\",\"G19.2\",IF($E$303=\"G20.1\",\"G20.2\",IF($E$303=\"G21.1\",\"G21.2\",IF($E$303=\"G22.1\",\"G22.2\",IF($E$303=\"G23.1\",\"G23.2\",IF($E$303=\"G24.1\",\"G24.2\",IF($E$303=\"G25.1\",\"G25.2\",IF($E$303=\"G26.1\",\"G26.2\",IF($E$303=\"G27.1\",\"G27.2\",IF($E$303=\"G28.1\",\"G28.2\",IF($E$303=\"G29.1\",\"G29.2\",IF($E$303=\"G30.1\",\"G30.2\",IF($E$303=\"G31.1\",\"G31.2\",IF($E$303=\"G32.1\",\"G32.2\"))))))))))))))))","v":"G31.2"},{"$f":"VLOOKUP(E388,Grup!$N$5:$AF$1000,3,0)","v":{"$error":"#N/A"}},null,null,115,null,{"$f":"INDEX(Grup!$M$6:$M$1000,MATCH(Ana_Tablo_Kura!L388,Grup!$P$6:$P$1000,0),1)","v":{"$error":"#N/A"}},{"$f":"IF(H388=0,VLOOKUP(I388,$B$273:$F$404,5,0),VLOOKUP(H388,Kura!$A$4:$Z$350,26,0))","v":{"$error":"#N/A"}},"G52.2",{"$f":"IFERROR(VLOOKUP(K388,Kura!$A$4:$F$1000,6,0),0)","v":0}]
[null,34,null,null,{"$f":"IF($E$306=\"G33.1\",\"G33.2\",IF($E$306=\"G34.1\",\"G34.2\",IF($E$306=\"G35.1\",\"G35.2\",IF($E$306=\"G36.1\",\"G36.2\",IF($E$306=\"G37.1\",\"G37.2\",IF($E$306=\"G38.1\",\"G38.2\",IF($E$306=\"G39.1\",\"G39.2\",IF($E$306=\"G40.1\",\"G40.2\",IF($E$306=\"G41.1\",\"G41.2\",IF($E$306=\"G42.1\",\"G42.2\",IF($E$306=\"G43.1\",\"G43.2\",IF($E$306=\"G44.1\",\"G44.2\",IF($E$306=\"G45.1\",\"G45.2\",IF($E$306=\"G46.1\",\"G46.2\",IF($E$306=\"G47.1\",\"G47.2\",IF($E$306=\"G48.1\",\"G48.2\",IF($E$306=\"G49.1\",\"G49.2\",IF($E$306=\"G50.1\",\"G50.2\",IF($E$306=\"G51.1\",\"G51.2\",IF($E$306=\"G52.1\",\"G52.2\",IF($E$306=\"G53.1\",\"G53.2\",IF($E$306=\"G54.1\",\"G54.2\",IF($E$306=\"G55.1\",\"G55.2\",IF($E$306=\"G56.1\",\"G56.2\",IF($E$306=\"G57.1\",\"G57.2\",IF($E$306=\"G58.1\",\"G58.2\",IF($E$306=\"G59.1\",\"G59.2\",IF($E$306=\"G60.1\",\"G60.2\",IF($E$306=\"G61.1\",\"G61.2\",IF($E$306=\"G62.1\",\"G62.2\",IF($E$306=\"G63.1\",\"G63.2\",IF($E$306=\"G64.1\",\"G64.2\"))))))))))))))))))))))))))))))))","v":"G34.2"},{"$f":"VLOOKUP(E389,Grup!$N$5:$AF$1000,3,0)","v":{"$error":"#N/A"}},null,null,116,"33/64.1",{"$f":"INDEX(Grup!$M$6:$M$1000,MATCH(Ana_Tablo_Kura!L389,Grup!$P$6:$P$1000,0),1)","v":{"$error":"#N/A"}},{"$f":"IF(H389=0,VLOOKUP(I389,$B$273:$F$404,5,0),VLOOKUP(H389,Kura!$A$4:$Z$350,26,0))","v":{"$error":"#N/A"}},"G50.1",{"$f":"IFERROR(VLOOKUP(K389,Kura!$A$4:$F$1000,6,0),0)","v":0}]
[null,35,null,null,{"$f":"IF($E$307=\"G33.1\",\"G33.2\",IF($E$307=\"G34.1\",\"G34.2\",IF($E$307=\"G35.1\",\"G35.2\",IF($E$307=\"G36.1\",\"G36.2\",IF($E$307=\"G37.1\",\"G37.2\",IF($E$307=\"G38.1\",\"G38.2\",IF($E$307=\"G39.1\",\"G39.2\",IF($E$307=\"G40.1\",\"G40.2\",IF($E$307=\"G41.1\",\"G41.2\",IF($E$307=\"G42.1\",\"G42.2\",IF($E$307=\"G43.1\",\"G43.2\",IF($E$307=\"G44.1\",\"G44.2\",IF($E$307=\"G45.1\",\"G45.2\",IF($E$307=\"G46.1\",\"G46.2\",IF($E$307=\"G47.1\",\"G47.2\",IF($E$307=\"G48.1\",\"G48.2\",IF($E$307=\"G49.1\",\"G49.2\",IF($E$307=\"G50.1\",\"G50.2\",IF($E$307=\"G51.1\",\"G51.2\",IF($E$307=\"G52.1\",\"G52.2\",IF($E$307=\"G53.1\",\"G53.2\",IF($E$307=\"G54.1\",\"G54.2\",IF($E$307=\"G55.1\",\"G55.2\",IF($E$307=\"G56.1\",\"G56.2\",IF($E$307=\"G57.1\",\"G57.2\",IF($E$307=\"G58.1\",\"G58.2\",IF($E$307=\"G59.1\",\"G59.2\",IF($E$307=\"G60.1\",\"G60.2\",IF($E$307=\"G61.1\",\"G61.2\",IF($E$307=\"G62.1\",\"G62.2\",IF($E$307=\"G63.1\",\"G63.2\",IF($E$307=\"G64.1\",\"G64.2\"))))))))))))))))))))))))))))))))","v":"G35.2"},{"$f":"VLOOKUP(E390,Grup!$N$5:$AF$1000,3,0)","v":{"$error":"#N/A"}},null,null,117,"33/64.1",{"$f":"INDEX(Grup!$M$6:$M$1000,MATCH(Ana_Tablo_Kura!L390,Grup!$P$6:$P$1000,0),1)","v":{"$error":"#N/A"}},{"$f":"IF(H390=0,VLOOKUP(I390,$B$273:$F$404,5,0),VLOOKUP(H390,Kura!$A$4:$Z$350,26,0))","v":{"$error":"#N/A"}},"G51.1",{"$f":"IFERROR(VLOOKUP(K390,Kura!$A$4:$F$1000,6,0),0)","v":0}]
[null,38,null,null,{"$f":"IF($E$310=\"G33.1\",\"G33.2\",IF($E$310=\"G34.1\",\"G34.2\",IF($E$310=\"G35.1\",\"G35.2\",IF($E$310=\"G36.1\",\"G36.2\",IF($E$310=\"G37.1\",\"G37.2\",IF($E$310=\"G38.1\",\"G38.2\",IF($E$310=\"G39.1\",\"G39.2\",IF($E$310=\"G40.1\",\"G40.2\",IF($E$310=\"G41.1\",\"G41.2\",IF($E$310=\"G42.1\",\"G42.2\",IF($E$310=\"G43.1\",\"G43.2\",IF($E$310=\"G44.1\",\"G44.2\",IF($E$310=\"G45.1\",\"G45.2\",IF($E$310=\"G46.1\",\"G46.2\",IF($E$310=\"G47.1\",\"G47.2\",IF($E$310=\"G48.1\",\"G48.2\",IF($E$310=\"G49.1\",\"G49.2\",IF($E$310=\"G50.1\",\"G50.2\",IF($E$310=\"G51.1\",\"G51.2\",IF($E$310=\"G52.1\",\"G52.2\",IF($E$310=\"G53.1\",\"G53.2\",IF($E$310=\"G54.1\",\"G54.2\",IF($E$310=\"G55.1\",\"G55.2\",IF($E$310=\"G56.1\",\"G56.2\",IF($E$310=\"G57.1\",\"G57.2\",IF($E$310=\"G58.1\",\"G58.2\",IF($E$310=\"G59.1\",\"G59.2\",IF($E$310=\"G60.1\",\"G60.2\",IF($E$310=\"G61.1\",\"G61.2\",IF($E$310=\"G62.1\",\"G62.2\",IF($E$310=\"G63.1\",\"G63.2\",IF($E$310=\"G64.1\",\"G64.2\"))))))))))))))))))))))))))))))))","v":"G38.2"},{"$f":"VLOOKUP(E391,Grup!$N$5:$AF$1000,3,0)","v":{"$error":"#N/A"}},null,null,118,null,{"$f":"INDEX(Grup!$M$6:$M$1000,MATCH(Ana_Tablo_Kura!L391,Grup!$P$6:$P$1000,0),1)","v":{"$error":"#N/A"}},{"$f":"IF(H391=0,VLOOKUP(I391,$B$273:$F$404,5,0),VLOOKUP(H391,Kura!$A$4:$Z$350,26,0))","v":{"$error":"#N/A"}},"G53.2",{"$f":"IFERROR(VLOOKUP(K391,Kura!$A$4:$F$1000,6,0),0)","v":0}]
[null,39,null,null,{"$f":"IF($E$311=\"G33.1\",\"G33.2\",IF($E$311=\"G34.1\",\"G34.2\",IF($E$311=\"G35.1\",\"G35.2\",IF($E$311=\"G36.1\",\"G36.2\",IF($E$311=\"G37.1\",\"G37.2\",IF($E$311=\"G38.1\",\"G38.2\",IF($E$311=\"G39.1\",\"G39.2\",IF($E$311=\"G40.1\",\"G40.2\",IF($E$311=\"G41.1\",\"G41.2\",IF($E$311=\"G42.1\",\"G42.2\",IF($E$311=\"G43.1\",\"G43.2\",IF($E$311=\"G44.1\",\"G44.2\",IF($E$311=\"G45.1\",\"G45.2\",IF($E$311=\"G46.1\",\"G46.2\",IF($E$311=\"G47.1\",\"G47.2\",IF($E$311=\"G48.1\",\"G48.2\",IF($E$311=\"G49.1\",\"G49.2\",IF($E$311=\"G50.1\",\"G50.2\",IF($E$311=\"G51.1\",\"G51.2\",IF($E$311=\"G52.1\",\"G52.2\",IF($E$311=\"G53.1\",\"G53.2\",IF($E$311=\"G54.1\",\"G54.2\",IF($E$311=\"G55.1\",\"G55.2\",IF($E$311=\"G56.1\",\"G56.2\",IF($E$311=\"G57.1\",\"G57.2\",IF($E$311=\"G58.1\",\"G58.2\",IF($E$311=\"G59.1\",\"G59.2\",IF($E$311=\"G60.1\",\"G60.2\",IF($E$311=\"G61.1\",\"G61.2\",IF($E$311=\"G62.1\",\"G62.2\",IF($E$311=\"G63.1\",\"G63.2\",IF($E$311=\"G64.1\",\"G64.2\"))))))))))))))))))))))))))))))))","v":"G39.2"},{"$f":"VLOOKUP(E392,Grup!$N$5:$AF$1000,3,0)","v":{"$error":"#N/A"}},null,null,119,null,{"$f":"INDEX(Grup!$M$6:$M$1000,MATCH(Ana_Tablo_Kura!L392,Grup!$P$6:$P$1000,0),1)","v":{"$error":"#N/A"}},{"$f":"IF(H392=0,VLOOKUP(I392,$B$273:$F$404,5,0),VLOOKUP(H392,Kura!$A$4:$Z$350,26,0))","v":{"$error":"#N/A"}},"G56.2",{"$f":"IFERROR(VLOOKUP(K392,Kura!$A$4:$F$1000,6,0),0)","v":0}]
[null,42,null,null,{"$f":"IF($E$314=\"G33.1\",\"G33.2\",IF($E$314=\"G34.1\",\"G34.2\",IF($E$314=\"G35.1\",\"G35.2\",IF($E$314=\"G36.1\",\"G36.2\",IF($E$314=\"G37.1\",\"G37.2\",IF($E$314=\"G38.1\",\"G38.2\",IF($E$314=\"G39.1\",\"G39.2\",IF($E$314=\"G40.1\",\"G40.2\",IF($E$314=\"G41.1\",\"G41.2\",IF($E$314=\"G42.1\",\"G42.2\",IF($E$314=\"G43.1\",\"G43.2\",IF($E$314=\"G44.1\",\"G44.2\",IF($E$314=\"G45.1\",\"G45.2\",IF($E$314=\"G46.1\",\"G46.2\",IF($E$314=\"G47.1\",\"G47.2\",IF($E$314=\"G48.1\",\"G48.2\",IF($E$314=\"G49.1\",\"G49.2\",IF($E$314=\"G50.1\",\"G50.2\",IF($E$314=\"G51.1\",\"G51.2\",IF($E$314=\"G52.1\",\"G52.2\",IF($E$314=\"G53.1\",\"G53.2\",IF($E$314=\"G54.1\",\"G54.2\",IF($E$314=\"G55.1\",\"G55.2\",IF($E$314=\"G56.1\",\"G56.2\",IF($E$314=\"G57.1\",\"G57.2\",IF($E$314=\"G58.1\",\"G58.2\",IF($E$314=\"G59.1\",\"G59.2\",IF($E$314=\"G60.1\",\"G60.2\",IF($E$314=\"G61.1\",\"G61.2\",IF($E$314=\"G62.1\",\"G62.2\",IF($E$314=\"G63.1\",\"G63.2\",IF($E$314=\"G64.1\",\"G64.2\"))))))))))))))))))))))))))))))))","v":"G42.2"},{"$f":"VLOOKUP(E393,Grup!$N$5:$AF$1000,3,0)","v":{"$error":"#N/A"}},null,null,120,"17/32.1",{"$f":"INDEX(Grup!$M$6:$M$1000,MATCH(Ana_Tablo_Kura!L393,Grup!$P$6:$P$1000,0),1)","v":{"$error":"#N/A"}},{"$f":"IF(H393=0,VLOOKUP(I393,$B$273:$F$404,5,0),VLOOKUP(H393,Kura!$A$4:$Z$350,26,0))","v":{"$error":"#N/A"}},"G26.1",{"$f":"IFERROR(VLOOKUP(K393,Kura!$A$4:$F$1000,6,0),0)","v":0}]
[null,43,null,null,{"$f":"IF($E$315=\"G33.1\",\"G33.2\",IF($E$315=\"G34.1\",\"G34.2\",IF($E$315=\"G35.1\",\"G35.2\",IF($E$315=\"G36.1\",\"G36.2\",IF($E$315=\"G37.1\",\"G37.2\",IF($E$315=\"G38.1\",\"G38.2\",IF($E$315=\"G39.1\",\"G39.2\",IF($E$315=\"G40.1\",\"G40.2\",IF($E$315=\"G41.1\",\"G41.2\",IF($E$315=\"G42.1\",\"G42.2\",IF($E$315=\"G43.1\",\"G43.2\",IF($E$315=\"G44.1\",\"G44.2\",IF($E$315=\"G45.1\",\"G45.2\",IF($E$315=\"G46.1\",\"G46.2\",IF($E$315=\"G47.1\",\"G47.2\",IF($E$315=\"G48.1\",\"G48.2\",IF($E$315=\"G49.1\",\"G49.2\",IF($E$315=\"G50.1\",\"G50.2\",IF($E$315=\"G51.1\",\"G51.2\",IF($E$315=\"G52.1\",\"G52.2\",IF($E$315=\"G53.1\",\"G53.2\",IF($E$315=\"G54.1\",\"G54.2\",IF($E$315=\"G55.1\",\"G55.2\",IF($E$315=\"G56.1\",\"G56.2\",IF($E$315=\"G57.1\",\"G57.2\",IF($E$315=\"G58.1\",\"G58.2\",IF($E$315=\"G59.1\",\"G59.2\",IF($E$315=\"G60.1\",\"G60.2\",IF($E$315=\"G61.1\",\"G61.2\",IF($E$315=\"G62.1\",\"G62.2\",IF($E$315=\"G63.1\",\"G63.2\",IF($E$315=\"G64.1\",\"G64.2\"))))))))))))))))))))))))))))))))","v":"G43.2"},{"$f":"VLOOKUP(E394,Grup!$N$5:$AF$1000,3,0)","v":{"$error":"#N/A"}},null,null,121,"17/32.1",{"$f":"INDEX(Grup!$M$6:$M$1000,MATCH(Ana_Tablo_Kura!L394,Grup!$P$6:$P$1000,0),1)","v":{"$error":"#N/A"}},{"$f":"IF(H394=0,VLOOKUP(I394,$B$273:$F$404,5,0),VLOOKUP(H394,Kura!$A$4:$Z$350,26,0))","v":{"$error":"#N/A"}},"G27.1",{"$f":"IFERROR(VLOOKUP(K394,Kura!$A$4:$F$1000,6,0),0)","v":0}]
[null,46,null,null,{"$f":"IF($E$318=\"G33.1\",\"G33.2\",IF($E$318=\"G34.1\",\"G34.2\",IF($E$318=\"G35.1\",\"G35.2\",IF($E$318=\"G36.1\",\"G36.2\",IF($E$318=\"G37.1\",\"G37.2\",IF($E$318=\"G38.1\",\"G38.2\",IF($E$318=\"G39.1\",\"G39.2\",IF($E$318=\"G40.1\",\"G40.2\",IF($E$318=\"G41.1\",\"G41.2\",IF($E$318=\"G42.1\",\"G42.2\",IF($E$318=\"G43.1\",\"G43.2\",IF($E$318=\"G44.1\",\"G44.2\",IF($E$318=\"G45.1\",\"G45.2\",IF($E$318=\"G46.1\",\"G46.2\",IF($E$318=\"G47.1\",\"G47.2\",IF($E$318=\"G48.1\",\"G48.2\",IF($E$318=\"G49.1\",\"G49.2\",IF($E$318=\"G50.1\",\"G50.2\",IF($E$318=\"G51.1\",\"G51.2\",IF($E$318=\"G52.1\",\"G52.2\",IF($E$318=\"G53.1\",\"G53.2\",IF($E$318=\"G54.1\",\"G54.2\",IF($E$318=\"G55.1\",\"G55.2\",IF($E$318=\"G56.1\",\"G56.2\",IF($E$318=\"G57.1\",\"G57.2\",IF($E$318=\"G58.1\",\"G58.2\",IF($E$318=\"G59.1\",\"G59.2\",IF($E$318=\"G60.1\",\"G60.2\",IF($E$318=\"G61.1\",\"G61.2\",IF($E$318=\"G62.1\",\"G62.2\",IF($E$318=\"G63.1\",\"G63.2\",IF($E$318=\"G64.1\",\"G64.2\"))))))))))))))))))))))))))))))))","v":"G46.2"},{"$f":"VLOOKUP(E395,Grup!$N$5:$AF$1000,3,0)","v":{"$error":"#N/A"}},null,null,122,null,{"$f":"INDEX(Grup!$M$6:$M$1000,MATCH(Ana_Tablo_Kura!L395,Grup!$P$6:$P$1000,0),1)","v":{"$error":"#N/A"}},{"$f":"IF(H395=0,VLOOKUP(I395,$B$273:$F$404,5,0),VLOOKUP(H395,Kura!$A$4:$Z$350,26,0))","v":{"$error":"#N/A"}},"G57.2",{"$f":"IFERROR(VLOOKUP(K395,Kura!$A$4:$F$1000,6,0),0)","v":0}]
[null,47,null,null,{"$f":"IF($E$319=\"G33.1\",\"G33.2\",IF($E$319=\"G34.1\",\"G34.2\",IF($E$319=\"G35.1\",\"G35.2\",IF($E$319=\"G36.1\",\"G36.2\",IF($E$319=\"G37.1\",\"G37.2\",IF($E$319=\"G38.1\",\"G38.2\",IF($E$319=\"G39.1\",\"G39.2\",IF($E$319=\"G40.1\",\"G40.2\",IF($E$319=\"G41.1\",\"G41.2\",IF($E$319=\"G42.1\",\"G42.2\",IF($E$319=\"G43.1\",\"G43.2\",IF($E$319=\"G44.1\",\"G44.2\",IF($E$319=\"G45.1\",\"G45.2\",IF($E$319=\"G46.1\",\"G46.2\",IF($E$319=\"G47.1\",\"G47.2\",IF($E$319=\"G48.1\",\"G48.2\",IF($E$319=\"G49.1\",\"G49.2\",IF($E$319=\"G50.1\",\"G50.2\",IF($E$319=\"G51.1\",\"G51.2\",IF($E$319=\"G52.1\",\"G52.2\",IF($E$319=\"G53.1\",\"G53.2\",IF($E$319=\"G54.1\",\"G54.2\",IF($E$319=\"G55.1\",\"G55.2\",IF($E$319=\"G56.1\",\"G56.2\",IF($E$319=\"G57.1\",\"G57.2\",IF($E$319=\"G58.1\",\"G58.2\",IF($E$319=\"G59.1\",\"G59.2\",IF($E$319=\"G60.1\",\"G60.2\",IF($E$319=\"G61.1\",\"G61.2\",IF($E$319=\"G62.1\",\"G62.2\",IF($E$319=\"G63.1\",\"G63.2\",IF($E$319=\"G64.1\",\"G64.2\"))))))))))))))))))))))))))))))))","v":"G47.2"},{"$f":"VLOOKUP(E396,Grup!$N$5:$AF$1000,3,0)","v":{"$error":"#N/A"}},null,null,123,null,{"$f":"INDEX(Grup!$M$6:$M$1000,MATCH(Ana_Tablo_Kura!L396,Grup!$P$6:$P$1000,0),1)","v":{"$error":"#N/A"}},{"$f":"IF(H396=0,VLOOKUP(I396,$B$273:$F$404,5,0),VLOOKUP(H396,Kura!$A$4:$Z$350,26,0))","v":{"$error":"#N/A"}},"G60.2",{"$f":"IFERROR(VLOOKUP(K396,Kura!$A$4:$F$1000,6,0),0)","v":0}]
[null,50,null,null,{"$f":"IF($E$322=\"G33.1\",\"G33.2\",IF($E$322=\"G34.1\",\"G34.2\",IF($E$322=\"G35.1\",\"G35.2\",IF($E$322=\"G36.1\",\"G36.2\",IF($E$322=\"G37.1\",\"G37.2\",IF($E$322=\"G38.1\",\"G38.2\",IF($E$322=\"G39.1\",\"G39.2\",IF($E$322=\"G40.1\",\"G40.2\",IF($E$322=\"G41.1\",\"G41.2\",IF($E$322=\"G42.1\",\"G42.2\",IF($E$322=\"G43.1\",\"G43.2\",IF($E$322=\"G44.1\",\"G44.2\",IF($E$322=\"G45.1\",\"G45.2\",IF($E$322=\"G46.1\",\"G46.2\",IF($E$322=\"G47.1\",\"G47.2\",IF($E$322=\"G48.1\",\"G48.2\",IF($E$322=\"G49.1\",\"G49.2\",IF($E$322=\"G50.1\",\"G50.2\",IF($E$322=\"G51.1\",\"G51.2\",IF($E$322=\"G52.1\",\"G52.2\",IF($E$322=\"G53.1\",\"G53.2\",IF($E$322=\"G54.1\",\"G54.2\",IF($E$322=\"G55.1\",\"G55.2\",IF($E$322=\"G56.1\",\"G56.2\",IF($E$322=\"G57.1\",\"G57.2\",IF($E$322=\"G58.1\",\"G58.2\",IF($E$322=\"G59.1\",\"G59.2\",IF($E$322=\"G60.1\",\"G60.2\",IF($E$322=\"G61.1\",\"G61.2\",IF($E$322=\"G62.1\",\"G62.2\",IF($E$322=\"G63.1\",\"G63.2\",IF($E$322=\"G64.1\",\"G64.2\"))))))))))))))))))))))))))))))))","v":"G50.2"},{"$f":"VLOOKUP(E397,Grup!$N$5:$AF$1000,3,0)","v":{"$error":"#N/A"}},null,null,124,"33/64.1",{"$f":"INDEX(Grup!$M$6:$M$1000,MATCH(Ana_Tablo_Kura!L397,Grup!$P$6:$P$1000,0),1)","v":{"$error":"#N/A"}},{"$f":"IF(H397=0,VLOOKUP(I397,$B$273:$F$404,5,0),VLOOKUP(H397,Kura!$A$4:$Z$350,26,0))","v":{"$error":"#N/A"}},"G58.1",{"$f":"IFERROR(VLOOKUP(K397,Kura!$A$4:$F$1000,6,0),0)","v":0}]
[null,51,null,null,{"$f":"IF($E$323=\"G33.1\",\"G33.2\",IF($E$323=\"G34.1\",\"G34.2\",IF($E$323=\"G35.1\",\"G35.2\",IF($E$323=\"G36.1\",\"G36.2\",IF($E$323=\"G37.1\",\"G37.2\",IF($E$323=\"G38.1\",\"G38.2\",IF($E$323=\"G39.1\",\"G39.2\",IF($E$323=\"G40.1\",\"G40.2\",IF($E$323=\"G41.1\",\"G41.2\",IF($E$323=\"G42.1\",\"G42.2\",IF($E$323=\"G43.1\",\"G43.2\",IF($E$323=\"G44.1\",\"G44.2\",IF($E$323=\"G45.1\",\"G45.2\",IF($E$323=\"G46.1\",\"G46.2\",IF($E$323=\"G47.1\",\"G47.2\",IF($E$323=\"G48.1\",\"G48.2\",IF($E$323=\"G49.1\",\"G49.2\",IF($E$323=\"G50.1\",\"G50.2\",IF($E$323=\"G51.1\",\"G51.2\",IF($E$323=\"G52.1\",\"G52.2\",IF($E$323=\"G53.1\",\"G53.2\",IF($E$323=\"G54.1\",\"G54.2\",IF($E$323=\"G55.1\",\"G55.2\",IF($E$323=\"G56.1\",\"G56.2\",IF($E$323=\"G57.1\",\"G57.2\",IF($E$323=\"G58.1\",\"G58.2\",IF($E$323=\"G59.1\",\"G59.2\",IF($E$323=\"G60.1\",\"G60.2\",IF($E$323=\"G61.1\",\"G61.2\",IF($E$323=\"G62.1\",\"G62.2\",IF($E$323=\"G63.1\",\"G63.2\",IF($E$323=\"G64.1\",\"G64.2\"))))))))))))))))))))))))))))))))","v":"G51.2"},{"$f":"VLOOKUP(E398,Grup!$N$5:$AF$1000,3,0)","v":{"$error":"#N/A"}},null,null,125,"33/64.1",{"$f":"INDEX(Grup!$M$6:$M$1000,MATCH(Ana_Tablo_Kura!L398,Grup!$P$6:$P$1000,0),1)","v":{"$error":"#N/A"}},{"$f":"IF(H398=0,VLOOKUP(I398,$B$273:$F$404,5,0),VLOOKUP(H398,Kura!$A$4:$Z$350,26,0))","v":{"$error":"#N/A"}},"G59.1",{"$f":"IFERROR(VLOOKUP(K398,Kura!$A$4:$F$1000,6,0),0)","v":0}]
[null,54,null,null,{"$f":"IF($E$326=\"G33.1\",\"G33.2\",IF($E$326=\"G34.1\",\"G34.2\",IF($E$326=\"G35.1\",\"G35.2\",IF($E$326=\"G36.1\",\"G36.2\",IF($E$326=\"G37.1\",\"G37.2\",IF($E$326=\"G38.1\",\"G38.2\",IF($E$326=\"G39.1\",\"G39.2\",IF($E$326=\"G40.1\",\"G40.2\",IF($E$326=\"G41.1\",\"G41.2\",IF($E$326=\"G42.1\",\"G42.2\",IF($E$326=\"G43.1\",\"G43.2\",IF($E$326=\"G44.1\",\"G44.2\",IF($E$326=\"G45.1\",\"G45.2\",IF($E$326=\"G46.1\",\"G46.2\",IF($E$326=\"G47.1\",\"G47.2\",IF($E$326=\"G48.1\",\"G48.2\",IF($E$326=\"G49.1\",\"G49.2\",IF($E$326=\"G50.1\",\"G50.2\",IF($E$326=\"G51.1\",\"G51.2\",IF($E$326=\"G52.1\",\"G52.2\",IF($E$326=\"G53.1\",\"G53.2\",IF($E$326=\"G54.1\",\"G54.2\",IF($E$326=\"G55.1\",\"G55.2\",IF($E$326=\"G56.1\",\"G56.2\",IF($E$326=\"G57.1\",\"G57.2\",IF($E$326=\"G58.1\",\"G58.2\",IF($E$326=\"G59.1\",\"G59.2\",IF($E$326=\"G60.1\",\"G60.2\",IF($E$326=\"G61.1\",\"G61.2\",IF($E$326=\"G62.1\",\"G62.2\",IF($E$326=\"G63.1\",\"G63.2\",IF($E$326=\"G64.1\",\"G64.2\"))))))))))))))))))))))))))))))))","v":"G54.2"},{"$f":"VLOOKUP(E399,Grup!$N$5:$AF$1000,3,0)","v":{"$error":"#N/A"}},null,null,126,null,{"$f":"INDEX(Grup!$M$6:$M$1000,MATCH(Ana_Tablo_Kura!L399,Grup!$P$6:$P$1000,0),1)","v":{"$error":"#N/A"}},{"$f":"IF(H399=0,VLOOKUP(I399,$B$273:$F$404,5,0),VLOOKUP(H399,Kura!$A$4:$Z$350,26,0))","v":{"$error":"#N/A"}},"G61.2",{"$f":"IFERROR(VLOOKUP(K399,Kura!$A$4:$F$1000,6,0),0)","v":0}]
[null,55,null,null,{"$f":"IF($E$327=\"G33.1\",\"G33.2\",IF($E$327=\"G34.1\",\"G34.2\",IF($E$327=\"G35.1\",\"G35.2\",IF($E$327=\"G36.1\",\"G36.2\",IF($E$327=\"G37.1\",\"G37.2\",IF($E$327=\"G38.1\",\"G38.2\",IF($E$327=\"G39.1\",\"G39.2\",IF($E$327=\"G40.1\",\"G40.2\",IF($E$327=\"G41.1\",\"G41.2\",IF($E$327=\"G42.1\",\"G42.2\",IF($E$327=\"G43.1\",\"G43.2\",IF($E$327=\"G44.1\",\"G44.2\",IF($E$327=\"G45.1\",\"G45.2\",IF($E$327=\"G46.1\",\"G46.2\",IF($E$327=\"G47.1\",\"G47.2\",IF($E$327=\"G48.1\",\"G48.2\",IF($E$327=\"G49.1\",\"G49.2\",IF($E$327=\"G50.1\",\"G50.2\",IF($E$327=\"G51.1\",\"G51.2\",IF($E$327=\"G52.1\",\"G52.2\",IF($E$327=\"G53.1\",\"G53.2\",IF($E$327=\"G54.1\",\"G54.2\",IF($E$327=\"G55.1\",\"G55.2\",IF($E$327=\"G56.1\",\"G56.2\",IF($E$327=\"G57.1\",\"G57.2\",IF($E$327=\"G58.1\",\"G58.2\",IF($E$327=\"G59.1\",\"G59.2\",IF($E$327=\"G60.1\",\"G60.2\",IF($E$327=\"G61.1\",\"G61.2\",IF($E$327=\"G62.1\",\"G62.2\",IF($E$327=\"G63.1\",\"G63.2\",IF($E$327=\"G64.1\",\"G64.2\"))))))))))))))))))))))))))))))))","v":"G55.2"},{"$f":"VLOOKUP(E400,Grup!$N$5:$AF$1000,3,0)","v":{"$error":"#N/A"}},null,null,127,null,{"$f":"INDEX(Grup!$M$6:$M$1000,MATCH(Ana_Tablo_Kura!L400,Grup!$P$6:$P$1000,0),1)","v":{"$error":"#N/A"}},{"$f":"IF(H400=0,VLOOKUP(I400,$B$273:$F$404,5,0),VLOOKUP(H400,Kura!$A$4:$Z$350,26,0))","v":{"$error":"#N/A"}},"G64.2",{"$f":"IFERROR(VLOOKUP(K400,Kura!$A$4:$F$1000,6,0),0)","v":0}]
[null,58,null,null,{"$f":"IF($E$330=\"G33.1\",\"G33.2\",IF($E$330=\"G34.1\",\"G34.2\",IF($E$330=\"G35.1\",\"G35.2\",IF($E$330=\"G36.1\",\"G36.2\",IF($E$330=\"G37.1\",\"G37.2\",IF($E$330=\"G38.1\",\"G38.2\",IF($E$330=\"G39.1\",\"G39.2\",IF($E$330=\"G40.1\",\"G40.2\",IF($E$330=\"G41.1\",\"G41.2\",IF($E$330=\"G42.1\",\"G42.2\",IF($E$330=\"G43.1\",\"G43.2\",IF($E$330=\"G44.1\",\"G44.2\",IF($E$330=\"G45.1\",\"G45.2\",IF($E$330=\"G46.1\",\"G46.2\",IF($E$330=\"G47.1\",\"G47.2\",IF($E$330=\"G48.1\",\"G48.2\",IF($E$330=\"G49.1\",\"G49.2\",IF($E$330=\"G50.1\",\"G50.2\",IF($E$330=\"G51.1\",\"G51.2\",IF($E$330=\"G52.1\",\"G52.2\",IF($E$330=\"G53.1\",\"G53.2\",IF($E$330=\"G54.1\",\"G54.2\",IF($E$330=\"G55.1\",\"G55.2\",IF($E$330=\"G56.1\",\"G56.2\",IF($E$330=\"G57.1\",\"G57.2\",IF($E$330=\"G58.1\",\"G58.2\",IF($E$330=\"G59.1\",\"G59.2\",IF($E$330=\"G60.1\",\"G60.2\",IF($E$330=\"G61.1\",\"G61.2\",IF($E$330=\"G62.1\",\"G62.2\",IF($E$330=\"G63.1\",\"G63.2\",IF($E$330=\"G64.1\",\"G64.2\"))))))))))))))))))))))))))))))))","v":"G58.2"},{"$f":"VLOOKUP(E401,Grup!$N$5:$AF$1000,3,0)","v":{"$error":"#N/A"}},null,null,128,"2.1",{"$f":"INDEX(Grup!$M$6:$M$1000,MATCH(Ana_Tablo_Kura!L401,Grup!$P$6:$P$1000,0),1)","v":2},{"$f":"IF(H401=0,VLOOKUP(I401,$B$273:$F$404,5,0),VLOOKUP(H401,Kura!$A$4:$Z$350,26,0))","v":"ÇORUM GENÇLİK SPOR (A) (ÇRM)"},"G2.1",{"$f":"IFERROR(VLOOKUP(K401,Kura!$A$4:$F$1000,6,0),0)","v":"ÇORUM"}]
[null,59,null,null,{"$f":"IF($E$331=\"G33.1\",\"G33.2\",IF($E$331=\"G34.1\",\"G34.2\",IF($E$331=\"G35.1\",\"G35.2\",IF($E$331=\"G36.1\",\"G36.2\",IF($E$331=\"G37.1\",\"G37.2\",IF($E$331=\"G38.1\",\"G38.2\",IF($E$331=\"G39.1\",\"G39.2\",IF($E$331=\"G40.1\",\"G40.2\",IF($E$331=\"G41.1\",\"G41.2\",IF($E$331=\"G42.1\",\"G42.2\",IF($E$331=\"G43.1\",\"G43.2\",IF($E$331=\"G44.1\",\"G44.2\",IF($E$331=\"G45.1\",\"G45.2\",IF($E$331=\"G46.1\",\"G46.2\",IF($E$331=\"G47.1\",\"G47.2\",IF($E$331=\"G48.1\",\"G48.2\",IF($E$331=\"G49.1\",\"G49.2\",IF($E$331=\"G50.1\",\"G50.2\",IF($E$331=\"G51.1\",\"G51.2\",IF($E$331=\"G52.1\",\"G52.2\",IF($E$331=\"G53.1\",\"G53.2\",IF($E$331=\"G54.1\",\"G54.2\",IF($E$331=\"G55.1\",\"G55.2\",IF($E$331=\"G56.1\",\"G56.2\",IF($E$331=\"G57.1\",\"G57.2\",IF($E$331=\"G58.1\",\"G58.2\",IF($E$331=\"G59.1\",\"G59.2\",IF($E$331=\"G60.1\",\"G60.2\",IF($E$331=\"G61.1\",\"G61.2\",IF($E$331=\"G62.1\",\"G62.2\",IF($E$331=\"G63.1\",\"G63.2\",IF($E$331=\"G64.1\",\"G64.2\"))))))))))))))))))))))))))))))))","v":"G59.2"},{"$f":"VLOOKUP(E402,Grup!$N$5:$AF$1000,3,0)","v":{"$error":"#N/A"}}]
[null,62,null,null,{"$f":"IF($E$334=\"G33.1\",\"G33.2\",IF($E$334=\"G34.1\",\"G34.2\",IF($E$334=\"G35.1\",\"G35.2\",IF($E$334=\"G36.1\",\"G36.2\",IF($E$334=\"G37.1\",\"G37.2\",IF($E$334=\"G38.1\",\"G38.2\",IF($E$334=\"G39.1\",\"G39.2\",IF($E$334=\"G40.1\",\"G40.2\",IF($E$334=\"G41.1\",\"G41.2\",IF($E$334=\"G42.1\",\"G42.2\",IF($E$334=\"G43.1\",\"G43.2\",IF($E$334=\"G44.1\",\"G44.2\",IF($E$334=\"G45.1\",\"G45.2\",IF($E$334=\"G46.1\",\"G46.2\",IF($E$334=\"G47.1\",\"G47.2\",IF($E$334=\"G48.1\",\"G48.2\",IF($E$334=\"G49.1\",\"G49.2\",IF($E$334=\"G50.1\",\"G50.2\",IF($E$334=\"G51.1\",\"G51.2\",IF($E$334=\"G52.1\",\"G52.2\",IF($E$334=\"G53.1\",\"G53.2\",IF($E$334=\"G54.1\",\"G54.2\",IF($E$334=\"G55.1\",\"G55.2\",IF($E$334=\"G56.1\",\"G56.2\",IF($E$334=\"G57.1\",\"G57.2\",IF($E$334=\"G58.1\",\"G58.2\",IF($E$334=\"G59.1\",\"G59.2\",IF($E$334=\"G60.1\",\"G60.2\",IF($E$334=\"G61.1\",\"G61.2\",IF($E$334=\"G62.1\",\"G62.2\",IF($E$334=\"G63.1\",\"G63.2\",IF($E$334=\"G64.1\",\"G64.2\"))))))))))))))))))))))))))))))))","v":"G62.2"},{"$f":"VLOOKUP(E403,Grup!$N$5:$AF$1000,3,0)","v":{"$error":"#N/A"}}]
[null,63,null,null,{"$f":"IF($E$335=\"G33.1\",\"G33.2\",IF($E$335=\"G34.1\",\"G34.2\",IF($E$335=\"G35.1\",\"G35.2\",IF($E$335=\"G36.1\",\"G36.2\",IF($E$335=\"G37.1\",\"G37.2\",IF($E$335=\"G38.1\",\"G38.2\",IF($E$335=\"G39.1\",\"G39.2\",IF($E$335=\"G40.1\",\"G40.2\",IF($E$335=\"G41.1\",\"G41.2\",IF($E$335=\"G42.1\",\"G42.2\",IF($E$335=\"G43.1\",\"G43.2\",IF($E$335=\"G44.1\",\"G44.2\",IF($E$335=\"G45.1\",\"G45.2\",IF($E$335=\"G46.1\",\"G46.2\",IF($E$335=\"G47.1\",\"G47.2\",IF($E$335=\"G48.1\",\"G48.2\",IF($E$335=\"G49.1\",\"G49.2\",IF($E$335=\"G50.1\",\"G50.2\",IF($E$335=\"G51.1\",\"G51.2\",IF($E$335=\"G52.1\",\"G52.2\",IF($E$335=\"G53.1\",\"G53.2\",IF($E$335=\"G54.1\",\"G54.2\",IF($E$335=\"G55.1\",\"G55.2\",IF($E$335=\"G56.1\",\"G56.2\",IF($E$335=\"G57.1\",\"G57.2\",IF($E$335=\"G58.1\",\"G58.2\",IF($E$335=\"G59.1\",\"G59.2\",IF($E$335=\"G60.1\",\"G60.2\",IF($E$335=\"G61.1\",\"G61.2\",IF($E$335=\"G62.1\",\"G62.2\",IF($E$335=\"G63.1\",\"G63.2\",IF($E$335=\"G64.1\",\"G64.2\"))))))))))))))))))))))))))))))))","v":"G63.2"},{"$f":"VLOOKUP(E404,Grup!$N$5:$AF$1000,3,0)","v":{"$error":"#N/A"}}]
[]
[]
[null,64]
[]
[null,"Place",null,"#","Group","Player",null,"Manuel",null,null,"S.No","Main table"]
[1,1,null,null,"G1.1",{"$f":"VLOOKUP(E410,Grup!$N$5:$AF$1000,3,0)","v":"ÇORUM BLD. SPOR (A) (ÇRM)"},null,null,1,"1.1",{"$f":"INDEX(Grup!$M$6:$M$1000,MATCH(Ana_Tablo_Kura!L410,Grup!$P$6:$P$1000,0),1)","v":1},{"$f":"IF(H410=0,VLOOKUP(I410,$B$410:$F$477,5,0),VLOOKUP(H410,Kura!$A$4:$Z$350,26,0))","v":"ÇORUM BLD. SPOR (A) (ÇRM)"},{"$f":"VLOOKUP(I410,$B$410:$F$477,4,0)","v":"G1.1"},{"$f":"IFERROR(VLOOKUP(K410,Kura!$A$4:$F$1000,6,0),0)","v":"ÇORUM"}]
[2,64,null,null,"G2.1",{"$f":"VLOOKUP(E411,Grup!$N$5:$AF$1000,3,0)","v":"ÇORUM GENÇLİK SPOR (A) (ÇRM)"},null,null,2,null,{"$f":"INDEX(Grup!$M$6:$M$1000,MATCH(Ana_Tablo_Kura!L411,Grup!$P$6:$P$1000,0),1)","v":7},{"$f":"IF(H411=0,VLOOKUP(I411,$B$410:$F$477,5,0),VLOOKUP(H411,Kura!$A$4:$Z$350,26,0))","v":"BAYBURT GMSK (A) (BYB)"},"G2.2",{"$f":"IFERROR(VLOOKUP(K411,Kura!$A$4:$F$1000,6,0),0)","v":"BAYBURT"}]
["3-4",33,null,null,"G3.1",{"$f":"VLOOKUP(E412,Grup!$N$5:$AF$1000,3,0)","v":"ŞAFAKTEPE SK (A) (ANK)"},null,null,3,null,{"$f":"INDEX(Grup!$M$6:$M$1000,MATCH(Ana_Tablo_Kura!L412,Grup!$P$6:$P$1000,0),1)","v":9},{"$f":"IF(H412=0,VLOOKUP(I412,$B$410:$F$477,5,0),VLOOKUP(H412,Kura!$A$4:$Z$350,26,0))","v":"FINDIKLI 1974 SPOR (A) (RİZ)"},"G3.2",{"$f":"IFERROR(VLOOKUP(K412,Kura!$A$4:$F$1000,6,0),0)","v":"RİZE"}]
["3-4",32,null,null,"G4.1",{"$f":"VLOOKUP(E413,Grup!$N$5:$AF$1000,3,0)","v":"KUTLUBEY OKULLARI (A) (AMS)"},null,null,4,"17/32.1",{"$f":"INDEX(Grup!$M$6:$M$1000,MATCH(Ana_Tablo_Kura!L413,Grup!$P$6:$P$1000,0),1)","v":{"$error":"#N/A"}},{"$f":"IF(H413=0,VLOOKUP(I413,$B$410:$F$477,5,0),VLOOKUP(H413,Kura!$A$4:$Z$350,26,0))","v":{"$error":"#N/A"}},"G32.1",{"$f":"IFERROR(VLOOKUP(K413,Kura!$A$4:$F$1000,6,0),0)","v":0}]
["5-6",17,null,null,"G5.1",{"$f":"VLOOKUP(E414,Grup!$N$5:$AF$1000,3,0)","v":{"$error":"#N/A"}},null,null,5,"17/32.1",{"$f":"INDEX(Grup!$M$6:$M$1000,MATCH(Ana_Tablo_Kura!L414,Grup!$P$6:$P$1000,0),1)","v":{"$error":"#N/A"}},{"$f":"IF(H414=0,VLOOKUP(I414,$B$410:$F$477,5,0),VLOOKUP(H414,Kura!$A$4:$Z$350,26,0))","v":{"$error":"#N/A"}},"G29.1",{"$f":"IFERROR(VLOOKUP(K414,Kura!$A$4:$F$1000,6,0),0)","v":0}]
["5-6",48,null,null,"G6.1",{"$f":"VLOOKUP(E415,Grup!$N$5:$AF$1000,3,0)","v":{"$error":"#N/A"}},null,null,6,null,{"$f":"INDEX(Grup!$M$6:$M$1000,MATCH(Ana_Tablo_Kura!L415,Grup!$P$6:$P$1000,0),1)","v":{"$error":"#N/A"}},{"$f":"IF(H415=0,VLOOKUP(I415,$B$410:$F$477,5,0),VLOOKUP(H415,Kura!$A$4:$Z$350,26,0))","v":{"$error":"#N/A"}},"G6.2",{"$f":"IFERROR(VLOOKUP(K415,Kura!$A$4:$F$1000,6,0),0)","v":0}]
["7-8",16,null,null,"G8.1",{"$f":"VLOOKUP(E416,Grup!$N$5:$AF$1000,3,0)","v":{"$error":"#N/A"}},null,null,7,null,{"$f":"INDEX(Grup!$M$6:$M$1000,MATCH(Ana_Tablo_Kura!L416,Grup!$P$6:$P$1000,0),1)","v":{"$error":"#N/A"}},{"$f":"IF(H416=0,VLOOKUP(I416,$B$410:$F$477,5,0),VLOOKUP(H416,Kura!$A$4:$Z$350,26,0))","v":{"$error":"#N/A"}},"G7.2",{"$f":"IFERROR(VLOOKUP(K416,Kura!$A$4:$F$1000,6,0),0)","v":0}]
["7-8",49,null,null,"G7.1",{"$f":"VLOOKUP(E417,Grup!$N$5:$AF$1000,3,0)","v":{"$error":"#N/A"}},null,null,8,"13/16.1",{"$f":"INDEX(Grup!$M$6:$M$1000,MATCH(Ana_Tablo_Kura!L417,Grup!$P$6:$P$1000,0),1)","v":{"$error":"#N/A"}},{"$f":"IF(H417=0,VLOOKUP(I417,$B$410:$F$477,5,0),VLOOKUP(H417,Kura!$A$4:$Z$350,26,0))","v":{"$error":"#N/A"}},"G16.1",{"$f":"IFERROR(VLOOKUP(K417,Kura!$A$4:$F$1000,6,0),0)","v":0}]
["9-12",9,null,null,"G9.1",{"$f":"VLOOKUP(E418,Grup!$N$5:$AF$1000,3,0)","v":{"$error":"#N/A"}},null,null,9,"9/12.1",{"$f":"INDEX(Grup!$M$6:$M$1000,MATCH(Ana_Tablo_Kura!L418,Grup!$P$6:$P$1000,0),1)","v":{"$error":"#N/A"}},{"$f":"IF(H418=0,VLOOKUP(I418,$B$410:$F$477,5,0),VLOOKUP(H418,Kura!$A$4:$Z$350,26,0))","v":{"$error":"#N/A"}},"G9.1",{"$f":"IFERROR(VLOOKUP(K418,Kura!$A$4:$F$1000,6,0),0)","v":0}]
["9-12",56,null,null,"G10.1",{"$f":"VLOOKUP(E419,Grup!$N$5:$AF$1000,3,0)","v":{"$error":"#N/A"}},null,null,10,null,{"$f":"INDEX(Grup!$M$6:$M$1000,MATCH(Ana_Tablo_Kura!L419,Grup!$P$6:$P$1000,0),1)","v":{"$error":"#N/A"}},{"$f":"IF(H419=0,VLOOKUP(I419,$B$410:$F$477,5,0),VLOOKUP(H419,Kura!$A$4:$Z$350,26,0))","v":{"$error":"#N/A"}},"G10.2",{"$f":"IFERROR(VLOOKUP(K419,Kura!$A$4:$F$1000,6,0),0)","v":0}]
["9-12",41,null,null,"G11.1",{"$f":"VLOOKUP(E420,Grup!$N$5:$AF$1000,3,0)","v":{"$error":"#N/A"}},null,null,11,null,{"$f":"INDEX(Grup!$M$6:$M$1000,MATCH(Ana_Tablo_Kura!L420,Grup!$P$6:$P$1000,0),1)","v":{"$error":"#N/A"}},{"$f":"IF(H420=0,VLOOKUP(I420,$B$410:$F$477,5,0),VLOOKUP(H420,Kura!$A$4:$Z$350,26,0))","v":{"$error":"#N/A"}},"G11.2",{"$f":"IFERROR(VLOOKUP(K420,Kura!$A$4:$F$1000,6,0),0)","v":0}]
["9-12",24,null,null,"G12.1",{"$f":"VLOOKUP(E421,Grup!$N$5:$AF$1000,3,0)","v":{"$error":"#N/A"}},null,null,12,"17/32.1",{"$f":"INDEX(Grup!$M$6:$M$1000,MATCH(Ana_Tablo_Kura!L421,Grup!$P$6:$P$1000,0),1)","v":{"$error":"#N/A"}},{"$f":"IF(H421=0,VLOOKUP(I421,$B$410:$F$477,5,0),VLOOKUP(H421,Kura!$A$4:$Z$350,26,0))","v":{"$error":"#N/A"}},"G28.1",{"$f":"IFERROR(VLOOKUP(K421,Kura!$A$4:$F$1000,6,0),0)","v":0}]
["13-16",25,null,null,"G13.1",{"$f":"VLOOKUP(E422,Grup!$N$5:$AF$1000,3,0)","v":{"$error":"#N/A"}},null,null,13,"17/32.1",{"$f":"INDEX(Grup!$M$6:$M$1000,MATCH(Ana_Tablo_Kura!L422,Grup!$P$6:$P$1000,0),1)","v":{"$error":"#N/A"}},{"$f":"IF(H422=0,VLOOKUP(I422,$B$410:$F$477,5,0),VLOOKUP(H422,Kura!$A$4:$Z$350,26,0))","v":{"$error":"#N/A"}},"G25.1",{"$f":"IFERROR(VLOOKUP(K422,Kura!$A$4:$F$1000,6,0),0)","v":0}]
["13-16",40,null,null,"G14.1",{"$f":"VLOOKUP(E423,Grup!$N$5:$AF$1000,3,0)","v":{"$error":"#N/A"}},null,null,14,null,{"$f":"INDEX(Grup!$M$6:$M$1000,MATCH(Ana_Tablo_Kura!L423,Grup!$P$6:$P$1000,0),1)","v":{"$error":"#N/A"}},{"$f":"IF(H423=0,VLOOKUP(I423,$B$410:$F$477,5,0),VLOOKUP(H423,Kura!$A$4:$Z$350,26,0))","v":{"$error":"#N/A"}},"G14.2",{"$f":"IFERROR(VLOOKUP(K423,Kura!$A$4:$F$1000,6,0),0)","v":0}]
["13-16",57,null,null,"G15.1",{"$f":"VLOOKUP(E424,Grup!$N$5:$AF$1000,3,0)","v":{"$error":"#N/A"}},null,null,15,null,{"$f":"INDEX(Grup!$M$6:$M$1000,MATCH(Ana_Tablo_Kura!L424,Grup!$P$6:$P$1000,0),1)","v":{"$error":"#N/A"}},{"$f":"IF(H424=0,VLOOKUP(I424,$B$410:$F$477,5,0),VLOOKUP(H424,Kura!$A$4:$Z$350,26,0))","v":{"$error":"#N/A"}},"G15.2",{"$f":"IFERROR(VLOOKUP(K424,Kura!$A$4:$F$1000,6,0),0)","v":0}]
["13-16",8,null,null,"G16.1",{"$f":"VLOOKUP(E425,Grup!$N$5:$AF$1000,3,0)","v":{"$error":"#N/A"}},null,null,16,"7/8.1",{"$f":"INDEX(Grup!$M$6:$M$1000,MATCH(Ana_Tablo_Kura!L425,Grup!$P$6:$P$1000,0),1)","v":{"$error":"#N/A"}},{"$f":"IF(H425=0,VLOOKUP(I425,$B$410:$F$477,5,0),VLOOKUP(H425,Kura!$A$4:$Z$350,26,0))","v":{"$error":"#N/A"}},"G8.1",{"$f":"IFERROR(VLOOKUP(K425,Kura!$A$4:$F$1000,6,0),0)","v":0}]
["17-32",29,null,null,"G17.1",{"$f":"VLOOKUP(E426,Grup!$N$5:$AF$1000,3,0)","v":{"$error":"#N/A"}},3.819197416305542E-2,null,17,"5/6.1",{"$f":"INDEX(Grup!$M$6:$M$1000,MATCH(Ana_Tablo_Kura!L426,Grup!$P$6:$P$1000,0),1)","v":{"$error":"#N/A"}},{"$f":"IF(H426=0,VLOOKUP(I426,$B$410:$F$477,5,0),VLOOKUP(H426,Kura!$A$4:$Z$350,26,0))","v":{"$error":"#N/A"}},"G5.1",{"$f":"IFERROR(VLOOKUP(K426,Kura!$A$4:$F$1000,6,0),0)","v":0}]
["17-32",36,null,null,"G18.1",{"$f":"VLOOKUP(E427,Grup!$N$5:$AF$1000,3,0)","v":{"$error":"#N/A"}},0.11724323034286499,null,18,null,{"$f":"INDEX(Grup!$M$6:$M$1000,MATCH(Ana_Tablo_Kura!L427,Grup!$P$6:$P$1000,0),1)","v":{"$error":"#N/A"}},{"$f":"IF(H427=0,VLOOKUP(I427,$B$410:$F$477,5,0),VLOOKUP(H427,Kura!$A$4:$Z$350,26,0))","v":{"$error":"#N/A"}},"G18.2",{"$f":"IFERROR(VLOOKUP(K427,Kura!$A$4:$F$1000,6,0),0)","v":0}]
["17-32",37,null,null,"G19.1",{"$f":"VLOOKUP(E428,Grup!$N$5:$AF$1000,3,0)","v":{"$error":"#N/A"}},0.17354333400726318,null,19,null,{"$f":"INDEX(Grup!$M$6:$M$1000,MATCH(Ana_Tablo_Kura!L428,Grup!$P$6:$P$1000,0),1)","v":{"$error":"#N/A"}},{"$f":"IF(H428=0,VLOOKUP(I428,$B$410:$F$477,5,0),VLOOKUP(H428,Kura!$A$4:$Z$350,26,0))","v":{"$error":"#N/A"}},"G19.2",{"$f":"IFERROR(VLOOKUP(K428,Kura!$A$4:$F$1000,6,0),0)","v":0}]
["17-32",28,null,null,"G20.1",{"$f":"VLOOKUP(E429,Grup!$N$5:$AF$1000,3,0)","v":{"$error":"#N/A"}},0.34038853645324707,null,20,"17/32.1",{"$f":"INDEX(Grup!$M$6:$M$1000,MATCH(Ana_Tablo_Kura!L429,Grup!$P$6:$P$1000,0),1)","v":{"$error":"#N/A"}},{"$f":"IF(H429=0,VLOOKUP(I429,$B$410:$F$477,5,0),VLOOKUP(H429,Kura!$A$4:$Z$350,26,0))","v":{"$error":"#N/A"}},"G24.1",{"$f":"IFERROR(VLOOKUP(K429,Kura!$A$4:$F$1000,6,0),0)","v":0}]
["17-32",21,null,null,"G21.1",{"$f":"VLOOKUP(E430,Grup!$N$5:$AF$1000,3,0)","v":{"$error":"#N/A"}},0.35810422897338867,null,21,"17/32.1",{"$f":"INDEX(Grup!$M$6:$M$1000,MATCH(Ana_Tablo_Kura!L430,Grup!$P$6:$P$1000,0),1)","v":{"$error":"#N/A"}},{"$f":"IF(H430=0,VLOOKUP(I430,$B$410:$F$477,5,0),VLOOKUP(H430,Kura!$A$4:$Z$350,26,0))","v":{"$error":"#N/A"}},"G21.1",{"$f":"IFERROR(VLOOKUP(K430,Kura!$A$4:$F$1000,6,0),0)","v":0}]
["17-32",44,null,null,"G22.1",{"$f":"VLOOKUP(E431,Grup!$N$5:$AF$1000,3,0)","v":{"$error":"#N/A"}},0.41199654340744019,null,22,null,{"$f":"INDEX(Grup!$M$6:$M$1000,MATCH(Ana_Tablo_Kura!L431,Grup!$P$6:$P$1000,0),1)","v":{"$error":"#N/A"}},{"$f":"IF(H431=0,VLOOKUP(I431,$B$410:$F$477,5,0),VLOOKUP(H431,Kura!$A$4:$Z$350,26,0))","v":{"$error":"#N/A"}},"G22.2",{"$f":"IFERROR(VLOOKUP(K431,Kura!$A$4:$F$1000,6,0),0)","v":0}]
["17-32",45,null,null,"G23.1",{"$f":"VLOOKUP(E432,Grup!$N$5:$AF$1000,3,0)","v":{"$error":"#N/A"}},0.42553412914276123,null,23,null,{"$f":"INDEX(Grup!$M$6:$M$1000,MATCH(Ana_Tablo_Kura!L432,Grup!$P$6:$P$1000,0),1)","v":{"$error":"#N/A"}},{"$f":"IF(H432=0,VLOOKUP(I432,$B$410:$F$477,5,0),VLOOKUP(H432,Kura!$A$4:$Z$350,26,0))","v":{"$error":"#N/A"}},"G23.2",{"$f":"IFERROR(VLOOKUP(K432,Kura!$A$4:$F$1000,6,0),0)","v":0}]
["17-32",20,null,null,"G24.1",{"$f":"VLOOKUP(E433,Grup!$N$5:$AF$1000,3,0)","v":{"$error":"#N/A"}},0.43658334016799927,null,24,"9/12.1",{"$f":"INDEX(Grup!$M$6:$M$1000,MATCH(Ana_Tablo_Kura!L433,Grup!$P$6:$P$1000,0),1)","v":{"$error":"#N/A"}},{"$f":"IF(H433=0,VLOOKUP(I433,$B$410:$F$477,5,0),VLOOKUP(H433,Kura!$A$4:$Z$350,26,0))","v":{"$error":"#N/A"}},"G12.1",{"$f":"IFERROR(VLOOKUP(K433,Kura!$A$4:$F$1000,6,0),0)","v":0}]
["17-32",13,null,null,"G25.1",{"$f":"VLOOKUP(E434,Grup!$N$5:$AF$1000,3,0)","v":{"$error":"#N/A"}},0.50674146413803101,null,25,"13/16.1",{"$f":"INDEX(Grup!$M$6:$M$1000,MATCH(Ana_Tablo_Kura!L434,Grup!$P$6:$P$1000,0),1)","v":{"$error":"#N/A"}},{"$f":"IF(H434=0,VLOOKUP(I434,$B$410:$F$477,5,0),VLOOKUP(H434,Kura!$A$4:$Z$350,26,0))","v":{"$error":"#N/A"}},"G13.1",{"$f":"IFERROR(VLOOKUP(K434,Kura!$A$4:$F$1000,6,0),0)","v":0}]
["17-32",52,null,null,"G26.1",{"$f":"VLOOKUP(E435,Grup!$N$5:$AF$1000,3,0)","v":{"$error":"#N/A"}},0.54701143503189087,null,26,null,{"$f":"INDEX(Grup!$M$6:$M$1000,MATCH(Ana_Tablo_Kura!L435,Grup!$P$6:$P$1000,0),1)","v":{"$error":"#N/A"}},{"$f":"IF(H435=0,VLOOKUP(I435,$B$410:$F$477,5,0),VLOOKUP(H435,Kura!$A$4:$Z$350,26,0))","v":{"$error":"#N/A"}},"G26.2",{"$f":"IFERROR(VLOOKUP(K435,Kura!$A$4:$F$1000,6,0),0)","v":0}]
["17-32",53,null,null,"G27.1",{"$f":"VLOOKUP(E436,Grup!$N$5:$AF$1000,3,0)","v":{"$error":"#N/A"}},0.64779531955718994,null,27,null,{"$f":"INDEX(Grup!$M$6:$M$1000,MATCH(Ana_Tablo_Kura!L436,Grup!$P$6:$P$1000,0),1)","v":{"$error":"#N/A"}},{"$f":"IF(H436=0,VLOOKUP(I436,$B$410:$F$477,5,0),VLOOKUP(H436,Kura!$A$4:$Z$350,26,0))","v":{"$error":"#N/A"}},"G27.2",{"$f":"IFERROR(VLOOKUP(K436,Kura!$A$4:$F$1000,6,0),0)","v":0}]
["17-32",12,null,null,"G28.1",{"$f":"VLOOKUP(E437,Grup!$N$5:$AF$1000,3,0)","v":{"$error":"#N/A"}},0.67394924163818359,null,28,"17/32.1",{"$f":"INDEX(Grup!$M$6:$M$1000,MATCH(Ana_Tablo_Kura!L437,Grup!$P$6:$P$1000,0),1)","v":{"$error":"#N/A"}},{"$f":"IF(H437=0,VLOOKUP(I437,$B$410:$F$477,5,0),VLOOKUP(H437,Kura!$A$4:$Z$350,26,0))","v":{"$error":"#N/A"}},"G20.1",{"$f":"IFERROR(VLOOKUP(K437,Kura!$A$4:$F$1000,6,0),0)","v":0}]
["17-32",5,null,null,"G29.1",{"$f":"VLOOKUP(E438,Grup!$N$5:$AF$1000,3,0)","v":{"$error":"#N/A"}},0.7198331356048584,null,29,"17/32.1",{"$f":"INDEX(Grup!$M$6:$M$1000,MATCH(Ana_Tablo_Kura!L438,Grup!$P$6:$P$1000,0),1)","v":{"$error":"#N/A"}},{"$f":"IF(H438=0,VLOOKUP(I438,$B$410:$F$477,5,0),VLOOKUP(H438,Kura!$A$4:$Z$350,26,0))","v":{"$error":"#N/A"}},"G17.1",{"$f":"IFERROR(VLOOKUP(K438,Kura!$A$4:$F$1000,6,0),0)","v":0}]
["17-32",60,null,null,"G30.1",{"$f":"VLOOKUP(E439,Grup!$N$5:$AF$1000,3,0)","v":{"$error":"#N/A"}},0.74757301807403564,null,30,null,{"$f":"INDEX(Grup!$M$6:$M$1000,MATCH(Ana_Tablo_Kura!L439,Grup!$P$6:$P$1000,0),1)","v":{"$error":"#N/A"}},{"$f":"IF(H439=0,VLOOKUP(I439,$B$410:$F$477,5,0),VLOOKUP(H439,Kura!$A$4:$Z$350,26,0))","v":{"$error":"#N/A"}},"G30.2",{"$f":"IFERROR(VLOOKUP(K439,Kura!$A$4:$F$1000,6,0),0)","v":0}]
["17-32",61,null,null,"G31.1",{"$f":"VLOOKUP(E440,Grup!$N$5:$AF$1000,3,0)","v":{"$error":"#N/A"}},0.77159649133682251,null,31,null,{"$f":"INDEX(Grup!$M$6:$M$1000,MATCH(Ana_Tablo_Kura!L440,Grup!$P$6:$P$1000,0),1)","v":{"$error":"#N/A"}},{"$f":"IF(H440=0,VLOOKUP(I440,$B$410:$F$477,5,0),VLOOKUP(H440,Kura!$A$4:$Z$350,26,0))","v":{"$error":"#N/A"}},"G31.2",{"$f":"IFERROR(VLOOKUP(K440,Kura!$A$4:$F$1000,6,0),0)","v":0}]
["17-32",4,null,null,"G32.1",{"$f":"VLOOKUP(E441,Grup!$N$5:$AF$1000,3,0)","v":{"$error":"#N/A"}},0.89949065446853638,null,32,"3/4.1",{"$f":"INDEX(Grup!$M$6:$M$1000,MATCH(Ana_Tablo_Kura!L441,Grup!$P$6:$P$1000,0),1)","v":5},{"$f":"IF(H441=0,VLOOKUP(I441,$B$410:$F$477,5,0),VLOOKUP(H441,Kura!$A$4:$Z$350,26,0))","v":"KUTLUBEY OKULLARI (A) (AMS)"},"G4.1",{"$f":"IFERROR(VLOOKUP(K441,Kura!$A$4:$F$1000,6,0),0)","v":"AMASYA"}]
[]
[null,"Lower Group Runners-down (↓)",null,null,null,null,null,null,33,"3/4.1",{"$f":"INDEX(Grup!$M$6:$M$1000,MATCH(Ana_Tablo_Kura!L443,Grup!$P$6:$P$1000,0),1)","v":3},{"$f":"IF(H443=0,VLOOKUP(I443,$B$410:$F$477,5,0),VLOOKUP(H443,Kura!$A$4:$Z$350,26,0))","v":"ŞAFAKTEPE SK (A) (ANK)"},{"$f":"VLOOKUP(I443,$B$410:$F$477,4,0)","v":"G3.1"},{"$f":"IFERROR(VLOOKUP(K443,Kura!$A$4:$F$1000,6,0),0)","v":"ANKARA"}]
[null,34,null,null,{"$f":"IF($E$410=\"G1.1\",\"G1.2\",\"G2.2\")","v":"G1.2"},{"$f":"VLOOKUP(E444,Grup!$N$5:$AF$1000,3,0)","v":"BEŞİKDÜZÜ AYYILDIZ SPOR (A) (TRB)"},null,null,34,null,{"$f":"INDEX(Grup!$M$6:$M$1000,MATCH(Ana_Tablo_Kura!L444,Grup!$P$6:$P$1000,0),1)","v":8},{"$f":"IF(H444=0,VLOOKUP(I444,$B$410:$F$477,5,0),VLOOKUP(H444,Kura!$A$4:$Z$350,26,0))","v":"BEŞİKDÜZÜ AYYILDIZ SPOR (A) (TRB)"},"G1.2",{"$f":"IFERROR(VLOOKUP(K444,Kura!$A$4:$F$1000,6,0),0)","v":"TRABZON"}]
[null,35,null,null,{"$f":"IF($E$413=\"G4.1\",\"G4.2\",\"G3.2\")","v":"G4.2"},{"$f":"VLOOKUP(E445,Grup!$N$5:$AF$1000,3,0)","v":"YALIKÖY ŞBÇ OO (A) (GRS)"},null,null,35,null,{"$f":"INDEX(Grup!$M$6:$M$1000,MATCH(Ana_Tablo_Kura!L445,Grup!$P$6:$P$1000,0),1)","v":4},{"$f":"IF(H445=0,VLOOKUP(I445,$B$410:$F$477,5,0),VLOOKUP(H445,Kura!$A$4:$Z$350,26,0))","v":"YALIKÖY ŞBÇ OO (A) (GRS)"},"G4.2",{"$f":"IFERROR(VLOOKUP(K445,Kura!$A$4:$F$1000,6,0),0)","v":"GİRESUN"}]
[null,38,null,null,{"$f":"IF($E$414=\"G5.1\",\"G5.2\",\"G6.2\")","v":"G5.2"},{"$f":"VLOOKUP(E446,Grup!$N$5:$AF$1000,3,0)","v":{"$error":"#N/A"}},null,null,36,"17/32.1",{"$f":"INDEX(Grup!$M$6:$M$1000,MATCH(Ana_Tablo_Kura!L446,Grup!$P$6:$P$1000,0),1)","v":{"$error":"#N/A"}},{"$f":"IF(H446=0,VLOOKUP(I446,$B$410:$F$477,5,0),VLOOKUP(H446,Kura!$A$4:$Z$350,26,0))","v":{"$error":"#N/A"}},"G18.1",{"$f":"IFERROR(VLOOKUP(K446,Kura!$A$4:$F$1000,6,0),0)","v":0}]
[null,39,null,null,{"$f":"IF($E$416=\"G8.1\",\"G8.2\",\"G7.2\")","v":"G8.2"},{"$f":"VLOOKUP(E447,Grup!$N$5:$AF$1000,3,0)","v":{"$error":"#N/A"}},null,null,37,"17/32.1",{"$f":"INDEX(Grup!$M$6:$M$1000,MATCH(Ana_Tablo_Kura!L447,Grup!$P$6:$P$1000,0),1)","v":{"$error":"#N/A"}},{"$f":"IF(H447=0,VLOOKUP(I447,$B$410:$F$477,5,0),VLOOKUP(H447,Kura!$A$4:$Z$350,26,0))","v":{"$error":"#N/A"}},"G19.1",{"$f":"IFERROR(VLOOKUP(K447,Kura!$A$4:$F$1000,6,0),0)","v":0}]
[null,42,null,null,{"$f":"IF($E$418=\"G9.1\",\"G9.2\",IF($E$418=\"G10.1\",\"G10.2\",IF($E$418=\"G11.1\",\"G11.2\",IF($E$418=\"G12.1\",\"G12.2\"))))","v":"G9.2"},{"$f":"VLOOKUP(E448,Grup!$N$5:$AF$1000,3,0)","v":{"$error":"#N/A"}},null,null,38,null,{"$f":"INDEX(Grup!$M$6:$M$1000,MATCH(Ana_Tablo_Kura!L448,Grup!$P$6:$P$1000,0),1)","v":{"$error":"#N/A"}},{"$f":"IF(H448=0,VLOOKUP(I448,$B$410:$F$477,5,0),VLOOKUP(H448,Kura!$A$4:$Z$350,26,0))","v":{"$error":"#N/A"}},"G5.2",{"$f":"IFERROR(VLOOKUP(K448,Kura!$A$4:$F$1000,6,0),0)","v":0}]
[null,43,null,null,{"$f":"IF($E$421=\"G9.1\",\"G9.2\",IF($E$421=\"G10.1\",\"G10.2\",IF($E$421=\"G11.1\",\"G11.2\",IF($E$421=\"G12.1\",\"G12.2\"))))","v":"G12.2"},{"$f":"VLOOKUP(E449,Grup!$N$5:$AF$1000,3,0)","v":{"$error":"#N/A"}},null,null,39,null,{"$f":"INDEX(Grup!$M$6:$M$1000,MATCH(Ana_Tablo_Kura!L449,Grup!$P$6:$P$1000,0),1)","v":{"$error":"#N/A"}},{"$f":"IF(H449=0,VLOOKUP(I449,$B$410:$F$477,5,0),VLOOKUP(H449,Kura!$A$4:$Z$350,26,0))","v":{"$error":"#N/A"}},"G8.2",{"$f":"IFERROR(VLOOKUP(K449,Kura!$A$4:$F$1000,6,0),0)","v":0}]
[null,46,null,null,{"$f":"IF($E$422=\"G13.1\",\"G13.2\",IF($E$422=\"G14.1\",\"G14.2\",IF($E$422=\"G15.1\",\"G15.2\",IF($E$422=\"G16.1\",\"G16.2\"))))","v":"G13.2"},{"$f":"VLOOKUP(E450,Grup!$N$5:$AF$1000,3,0)","v":{"$error":"#N/A"}},null,null,40,"13/16.1",{"$f":"INDEX(Grup!$M$6:$M$1000,MATCH(Ana_Tablo_Kura!L450,Grup!$P$6:$P$1000,0),1)","v":{"$error":"#N/A"}},{"$f":"IF(H450=0,VLOOKUP(I450,$B$410:$F$477,5,0),VLOOKUP(H450,Kura!$A$4:$Z$350,26,0))","v":{"$error":"#N/A"}},"G14.1",{"$f":"IFERROR(VLOOKUP(K450,Kura!$A$4:$F$1000,6,0),0)","v":0}]
[null,47,null,null,{"$f":"IF($E$425=\"G13.1\",\"G13.2\",IF($E$425=\"G14.1\",\"G14.2\",IF($E$425=\"G15.1\",\"G15.2\",IF($E$425=\"G16.1\",\"G16.2\"))))","v":"G16.2"},{"$f":"VLOOKUP(E451,Grup!$N$5:$AF$1000,3,0)","v":{"$error":"#N/A"}},null,null,41,"9/12.1",{"$f":"INDEX(Grup!$M$6:$M$1000,MATCH(Ana_Tablo_Kura!L451,Grup!$P$6:$P$1000,0),1)","v":{"$error":"#N/A"}},{"$f":"IF(H451=0,VLOOKUP(I451,$B$410:$F$477,5,0),VLOOKUP(H451,Kura!$A$4:$Z$350,26,0))","v":{"$error":"#N/A"}},"G11.1",{"$f":"IFERROR(VLOOKUP(K451,Kura!$A$4:$F$1000,6,0),0)","v":0}]
[null,50,null,null,{"$f":"IF($E$426=\"G17.1\",\"G17.2\",IF($E$426=\"G18.1\",\"G18.2\",IF($E$426=\"G19.1\",\"G19.2\",IF($E$426=\"G20.1\",\"G20.2\",IF($E$426=\"G21.1\",\"G21.2\",IF($E$426=\"G22.1\",\"G22.2\",IF($E$426=\"G23.1\",\"G23.2\",IF($E$426=\"G24.1\",\"G24.2\",IF($E$426=\"G25.1\",\"G25.2\",IF($E$426=\"G26.1\",\"G26.2\",IF($E$426=\"G27.1\",\"G27.2\",IF($E$426=\"G28.1\",\"G28.2\",IF($E$426=\"G29.1\",\"G29.2\",IF($E$426=\"G30.1\",\"G30.2\",IF($E$426=\"G31.1\",\"G31.2\",IF($E$426=\"G32.1\",\"G32.2\"))))))))))))))))","v":"G17.2"},{"$f":"VLOOKUP(E452,Grup!$N$5:$AF$1000,3,0)","v":{"$error":"#N/A"}},null,null,42,null,{"$f":"INDEX(Grup!$M$6:$M$1000,MATCH(Ana_Tablo_Kura!L452,Grup!$P$6:$P$1000,0),1)","v":{"$error":"#N/A"}},{"$f":"IF(H452=0,VLOOKUP(I452,$B$410:$F$477,5,0),VLOOKUP(H452,Kura!$A$4:$Z$350,26,0))","v":{"$error":"#N/A"}},"G9.2",{"$f":"IFERROR(VLOOKUP(K452,Kura!$A$4:$F$1000,6,0),0)","v":0}]
[null,51,null,null,{"$f":"IF($E$429=\"G17.1\",\"G17.2\",IF($E$429=\"G18.1\",\"G18.2\",IF($E$429=\"G19.1\",\"G19.2\",IF($E$429=\"G20.1\",\"G20.2\",IF($E$429=\"G21.1\",\"G21.2\",IF($E$429=\"G22.1\",\"G22.2\",IF($E$429=\"G23.1\",\"G23.2\",IF($E$429=\"G24.1\",\"G24.2\",IF($E$429=\"G25.1\",\"G25.2\",IF($E$429=\"G26.1\",\"G26.2\",IF($E$429=\"G27.1\",\"G27.2\",IF($E$429=\"G28.1\",\"G28.2\",IF($E$429=\"G29.1\",\"G29.2\",IF($E$429=\"G30.1\",\"G30.2\",IF($E$429=\"G31.1\",\"G31.2\",IF($E$429=\"G32.1\",\"G32.2\"))))))))))))))))","v":"G20.2"},{"$f":"VLOOKUP(E453,Grup!$N$5:$AF$1000,3,0)","v":{"$error":"#N/A"}},null,null,43,null,{"$f":"INDEX(Grup!$M$6:$M$1000,MATCH(Ana_Tablo_Kura!L453,Grup!$P$6:$P$1000,0),1)","v":{"$error":"#N/A"}},{"$f":"IF(H453=0,VLOOKUP(I453,$B$410:$F$477,5,0),VLOOKUP(H453,Kura!$A$4:$Z$350,26,0))","v":{"$error":"#N/A"}},"G12.2",{"$f":"IFERROR(VLOOKUP(K453,Kura!$A$4:$F$1000,6,0),0)","v":0}]
[null,54,null,null,{"$f":"IF($E$430=\"G17.1\",\"G17.2\",IF($E$430=\"G18.1\",\"G18.2\",IF($E$430=\"G19.1\",\"G19.2\",IF($E$430=\"G20.1\",\"G20.2\",IF($E$430=\"G21.1\",\"G21.2\",IF($E$430=\"G22.1\",\"G22.2\",IF($E$430=\"G23.1\",\"G23.2\",IF($E$430=\"G24.1\",\"G24.2\",IF($E$430=\"G25.1\",\"G25.2\",IF($E$430=\"G26.1\",\"G26.2\",IF($E$430=\"G27.1\",\"G27.2\",IF($E$430=\"G28.1\",\"G28.2\",IF($E$430=\"G29.1\",\"G29.2\",IF($E$430=\"G30.1\",\"G30.2\",IF($E$430=\"G31.1\",\"G31.2\",IF($E$430=\"G32.1\",\"G32.2\"))))))))))))))))","v":"G21.2"},{"$f":"VLOOKUP(E454,Grup!$N$5:$AF$1000,3,0)","v":{"$error":"#N/A"}},null,null,44,"17/32.1",{"$f":"INDEX(Grup!$M$6:$M$1000,MATCH(Ana_Tablo_Kura!L454,Grup!$P$6:$P$1000,0),1)","v":{"$error":"#N/A"}},{"$f":"IF(H454=0,VLOOKUP(I454,$B$410:$F$477,5,0),VLOOKUP(H454,Kura!$A$4:$Z$350,26,0))","v":{"$error":"#N/A"}},"G22.1",{"$f":"IFERROR(VLOOKUP(K454,Kura!$A$4:$F$1000,6,0),0)","v":0}]
[null,55,null,null,{"$f":"IF($E$433=\"G17.1\",\"G17.2\",IF($E$433=\"G18.1\",\"G18.2\",IF($E$433=\"G19.1\",\"G19.2\",IF($E$433=\"G20.1\",\"G20.2\",IF($E$433=\"G21.1\",\"G21.2\",IF($E$433=\"G22.1\",\"G22.2\",IF($E$433=\"G23.1\",\"G23.2\",IF($E$433=\"G24.1\",\"G24.2\",IF($E$433=\"G25.1\",\"G25.2\",IF($E$433=\"G26.1\",\"G26.2\",IF($E$433=\"G27.1\",\"G27.2\",IF($E$433=\"G28.1\",\"G28.2\",IF($E$433=\"G29.1\",\"G29.2\",IF($E$433=\"G30.1\",\"G30.2\",IF($E$433=\"G31.1\",\"G31.2\",IF($E$433=\"G32.1\",\"G32.2\"))))))))))))))))","v":"G24.2"},{"$f":"VLOOKUP(E455,Grup!$N$5:$AF$1000,3,0)","v":{"$error":"#N/A"}},null,null,45,"17/32.1",{"$f":"INDEX(Grup!$M$6:$M$1000,MATCH(Ana_Tablo_Kura!L455,Grup!$P$6:$P$1000,0),1)","v":{"$error":"#N/A"}},{"$f":"IF(H455=0,VLOOKUP(I455,$B$410:$F$477,5,0),VLOOKUP(H455,Kura!$A$4:$Z$350,26,0))","v":{"$error":"#N/A"}},"G23.1",{"$f":"IFERROR(VLOOKUP(K455,Kura!$A$4:$F$1000,6,0),0)","v":0}]
[null,58,null,null,{"$f":"IF($E$434=\"G17.1\",\"G17.2\",IF($E$434=\"G18.1\",\"G18.2\",IF($E$434=\"G19.1\",\"G19.2\",IF($E$434=\"G20.1\",\"G20.2\",IF($E$434=\"G21.1\",\"G21.2\",IF($E$434=\"G22.1\",\"G22.2\",IF($E$434=\"G23.1\",\"G23.2\",IF($E$434=\"G24.1\",\"G24.2\",IF($E$434=\"G25.1\",\"G25.2\",IF($E$434=\"G26.1\",\"G26.2\",IF($E$434=\"G27.1\",\"G27.2\",IF($E$434=\"G28.1\",\"G28.2\",IF($E$434=\"G29.1\",\"G29.2\",IF($E$434=\"G30.1\",\"G30.2\",IF($E$434=\"G31.1\",\"G31.2\",IF($E$434=\"G32.1\",\"G32.2\"))))))))))))))))","v":"G25.2"},{"$f":"VLOOKUP(E456,Grup!$N$5:$AF$1000,3,0)","v":{"$error":"#N/A"}},null,null,46,null,{"$f":"INDEX(Grup!$M$6:$M$1000,MATCH(Ana_Tablo_Kura!L456,Grup!$P$6:$P$1000,0),1)","v":{"$error":"#N/A"}},{"$f":"IF(H456=0,VLOOKUP(I456,$B$410:$F$477,5,0),VLOOKUP(H456,Kura!$A$4:$Z$350,26,0))","v":{"$error":"#N/A"}},"G13.2",{"$f":"IFERROR(VLOOKUP(K456,Kura!$A$4:$F$1000,6,0),0)","v":0}]
[null,59,null,null,{"$f":"IF($E$437=\"G17.1\",\"G17.2\",IF($E$437=\"G18.1\",\"G18.2\",IF($E$437=\"G19.1\",\"G19.2\",IF($E$437=\"G20.1\",\"G20.2\",IF($E$437=\"G21.1\",\"G21.2\",IF($E$437=\"G22.1\",\"G22.2\",IF($E$437=\"G23.1\",\"G23.2\",IF($E$437=\"G24.1\",\"G24.2\",IF($E$437=\"G25.1\",\"G25.2\",IF($E$437=\"G26.1\",\"G26.2\",IF($E$437=\"G27.1\",\"G27.2\",IF($E$437=\"G28.1\",\"G28.2\",IF($E$437=\"G29.1\",\"G29.2\",IF($E$437=\"G30.1\",\"G30.2\",IF($E$437=\"G31.1\",\"G31.2\",IF($E$437=\"G32.1\",\"G32.2\"))))))))))))))))","v":"G28.2"},{"$f":"VLOOKUP(E457,Grup!$N$5:$AF$1000,3,0)","v":{"$error":"#N/A"}},null,null,47,null,{"$f":"INDEX(Grup!$M$6:$M$1000,MATCH(Ana_Tablo_Kura!L457,Grup!$P$6:$P$1000,0),1)","v":{"$error":"#N/A"}},{"$f":"IF(H457=0,VLOOKUP(I457,$B$410:$F$477,5,0),VLOOKUP(H457,Kura!$A$4:$Z$350,26,0))","v":{"$error":"#N/A"}},"G16.2",{"$f":"IFERROR(VLOOKUP(K457,Kura!$A$4:$F$1000,6,0),0)","v":0}]
[null,62,null,null,{"$f":"IF($E$438=\"G17.1\",\"G17.2\",IF($E$438=\"G18.1\",\"G18.2\",IF($E$438=\"G19.1\",\"G19.2\",IF($E$438=\"G20.1\",\"G20.2\",IF($E$438=\"G21.1\",\"G21.2\",IF($E$438=\"G22.1\",\"G22.2\",IF($E$438=\"G23.1\",\"G23.2\",IF($E$438=\"G24.1\",\"G24.2\",IF($E$438=\"G25.1\",\"G25.2\",IF($E$438=\"G26.1\",\"G26.2\",IF($E$438=\"G27.1\",\"G27.2\",IF($E$438=\"G28.1\",\"G28.2\",IF($E$438=\"G29.1\",\"G29.2\",IF($E$438=\"G30.1\",\"G30.2\",IF($E$438=\"G31.1\",\"G31.2\",IF($E$438=\"G32.1\",\"G32.2\"))))))))))))))))","v":"G29.2"},{"$f":"VLOOKUP(E458,Grup!$N$5:$AF$1000,3,0)","v":{"$error":"#N/A"}},null,null,48,"5/6.1",{"$f":"INDEX(Grup!$M$6:$M$1000,MATCH(Ana_Tablo_Kura!L458,Grup!$P$6:$P$1000,0),1)","v":{"$error":"#N/A"}},{"$f":"IF(H458=0,VLOOKUP(I458,$B$410:$F$477,5,0),VLOOKUP(H458,Kura!$A$4:$Z$350,26,0))","v":{"$error":"#N/A"}},"G6.1",{"$f":"IFERROR(VLOOKUP(K458,Kura!$A$4:$F$1000,6,0),0)","v":0}]
[null,63,null,null,{"$f":"IF($E$441=\"G17.1\",\"G17.2\",IF($E$441=\"G18.1\",\"G18.2\",IF($E$441=\"G19.1\",\"G19.2\",IF($E$441=\"G20.1\",\"G20.2\",IF($E$441=\"G21.1\",\"G21.2\",IF($E$441=\"G22.1\",\"G22.2\",IF($E$441=\"G23.1\",\"G23.2\",IF($E$441=\"G24.1\",\"G24.2\",IF($E$441=\"G25.1\",\"G25.2\",IF($E$441=\"G26.1\",\"G26.2\",IF($E$441=\"G27.1\",\"G27.2\",IF($E$441=\"G28.1\",\"G28.2\",IF($E$441=\"G29.1\",\"G29.2\",IF($E$441=\"G30.1\",\"G30.2\",IF($E$441=\"G31.1\",\"G31.2\",IF($E$441=\"G32.1\",\"G32.2\"))))))))))))))))","v":"G32.2"},{"$f":"VLOOKUP(E459,Grup!$N$5:$AF$1000,3,0)","v":{"$error":"#N/A"}},null,null,49,"7/8.1",{"$f":"INDEX(Grup!$M$6:$M$1000,MATCH(Ana_Tablo_Kura!L459,Grup!$P$6:$P$1000,0),1)","v":{"$error":"#N/A"}},{"$f":"IF(H459=0,VLOOKUP(I459,$B$410:$F$477,5,0),VLOOKUP(H459,Kura!$A$4:$Z$350,26,0))","v":{"$error":"#N/A"}},"G7.1",{"$f":"IFERROR(VLOOKUP(K459,Kura!$A$4:$F$1000,6,0),0)","v":0}]
[null,null,null,null,null,null,null,null,50,null,{"$f":"INDEX(Grup!$M$6:$M$1000,MATCH(Ana_Tablo_Kura!L460,Grup!$P$6:$P$1000,0),1)","v":{"$error":"#N/A"}},{"$f":"IF(H460=0,VLOOKUP(I460,$B$410:$F$477,5,0),VLOOKUP(H460,Kura!$A$4:$Z$350,26,0))","v":{"$error":"#N/A"}},"G17.2",{"$f":"IFERROR(VLOOKUP(K460,Kura!$A$4:$F$1000,6,0),0)","v":0}]
[null,"Upper Group Runners-up (↑)",null,null,null,null,null,null,51,null,{"$f":"INDEX(Grup!$M$6:$M$1000,MATCH(Ana_Tablo_Kura!L461,Grup!$P$6:$P$1000,0),1)","v":{"$error":"#N/A"}},{"$f":"IF(H461=0,VLOOKUP(I461,$B$410:$F$477,5,0),VLOOKUP(H461,Kura!$A$4:$Z$350,26,0))","v":{"$error":"#N/A"}},"G20.2",{"$f":"IFERROR(VLOOKUP(K461,Kura!$A$4:$F$1000,6,0),0)","v":0}]
[null,2,null,null,{"$f":"IF($E$411=\"G1.1\",\"G1.2\",\"G2.2\")","v":"G2.2"},{"$f":"VLOOKUP(E462,Grup!$N$5:$AF$1000,3,0)","v":"BAYBURT GMSK (A) (BYB)"},null,null,52,"17/32.1",{"$f":"INDEX(Grup!$M$6:$M$1000,MATCH(Ana_Tablo_Kura!L462,Grup!$P$6:$P$1000,0),1)","v":{"$error":"#N/A"}},{"$f":"IF(H462=0,VLOOKUP(I462,$B$410:$F$477,5,0),VLOOKUP(H462,Kura!$A$4:$Z$350,26,0))","v":{"$error":"#N/A"}},"G26.1",{"$f":"IFERROR(VLOOKUP(K462,Kura!$A$4:$F$1000,6,0),0)","v":0}]
[null,3,null,null,{"$f":"IF($E$412=\"G4.1\",\"G4.2\",\"G3.2\")","v":"G3.2"},{"$f":"VLOOKUP(E463,Grup!$N$5:$AF$1000,3,0)","v":"FINDIKLI 1974 SPOR (A) (RİZ)"},null,null,53,"17/32.1",{"$f":"INDEX(Grup!$M$6:$M$1000,MATCH(Ana_Tablo_Kura!L463,Grup!$P$6:$P$1000,0),1)","v":{"$error":"#N/A"}},{"$f":"IF(H463=0,VLOOKUP(I463,$B$410:$F$477,5,0),VLOOKUP(H463,Kura!$A$4:$Z$350,26,0))","v":{"$error":"#N/A"}},"G27.1",{"$f":"IFERROR(VLOOKUP(K463,Kura!$A$4:$F$1000,6,0),0)","v":0}]
[null,6,null,null,{"$f":"IF($E$415=\"G5.1\",\"G5.2\",\"G6.2\")","v":"G6.2"},{"$f":"VLOOKUP(E464,Grup!$N$5:$AF$1000,3,0)","v":{"$error":"#N/A"}},null,null,54,null,{"$f":"INDEX(Grup!$M$6:$M$1000,MATCH(Ana_Tablo_Kura!L464,Grup!$P$6:$P$1000,0),1)","v":{"$error":"#N/A"}},{"$f":"IF(H464=0,VLOOKUP(I464,$B$410:$F$477,5,0),VLOOKUP(H464,Kura!$A$4:$Z$350,26,0))","v":{"$error":"#N/A"}},"G21.2",{"$f":"IFERROR(VLOOKUP(K464,Kura!$A$4:$F$1000,6,0),0)","v":0}]
[null,7,null,null,{"$f":"IF($E$417=\"G8.1\",\"G8.2\",\"G7.2\")","v":"G7.2"},{"$f":"VLOOKUP(E465,Grup!$N$5:$AF$1000,3,0)","v":{"$error":"#N/A"}},null,null,55,null,{"$f":"INDEX(Grup!$M$6:$M$1000,MATCH(Ana_Tablo_Kura!L465,Grup!$P$6:$P$1000,0),1)","v":{"$error":"#N/A"}},{"$f":"IF(H465=0,VLOOKUP(I465,$B$410:$F$477,5,0),VLOOKUP(H465,Kura!$A$4:$Z$350,26,0))","v":{"$error":"#N/A"}},"G24.2",{"$f":"IFERROR(VLOOKUP(K465,Kura!$A$4:$F$1000,6,0),0)","v":0}]
[null,10,null,null,{"$f":"IF($E$419=\"G9.1\",\"G9.2\",IF($E$419=\"G10.1\",\"G10.2\",IF($E$419=\"G11.1\",\"G11.2\",IF($E$419=\"G12.1\",\"G12.2\"))))","v":"G10.2"},{"$f":"VLOOKUP(E466,Grup!$N$5:$AF$1000,3,0)","v":{"$error":"#N/A"}},null,null,56,"9/12.1",{"$f":"INDEX(Grup!$M$6:$M$1000,MATCH(Ana_Tablo_Kura!L466,Grup!$P$6:$P$1000,0),1)","v":{"$error":"#N/A"}},{"$f":"IF(H466=0,VLOOKUP(I466,$B$410:$F$477,5,0),VLOOKUP(H466,Kura!$A$4:$Z$350,26,0))","v":{"$error":"#N/A"}},"G10.1",{"$f":"IFERROR(VLOOKUP(K466,Kura!$A$4:$F$1000,6,0),0)","v":0}]
[null,11,null,null,{"$f":"IF($E$420=\"G9.1\",\"G9.2\",IF($E$420=\"G10.1\",\"G10.2\",IF($E$420=\"G11.1\",\"G11.2\",IF($E$420=\"G12.1\",\"G12.2\"))))","v":"G11.2"},{"$f":"VLOOKUP(E467,Grup!$N$5:$AF$1000,3,0)","v":{"$error":"#N/A"}},null,null,57,"13/16.1",{"$f":"INDEX(Grup!$M$6:$M$1000,MATCH(Ana_Tablo_Kura!L467,Grup!$P$6:$P$1000,0),1)","v":{"$error":"#N/A"}},{"$f":"IF(H467=0,VLOOKUP(I467,$B$410:$F$477,5,0),VLOOKUP(H467,Kura!$A$4:$Z$350,26,0))","v":{"$error":"#N/A"}},"G15.1",{"$f":"IFERROR(VLOOKUP(K467,Kura!$A$4:$F$1000,6,0),0)","v":0}]
[null,14,null,null,{"$f":"IF($E$423=\"G13.1\",\"G13.2\",IF($E$423=\"G14.1\",\"G14.2\",IF($E$423=\"G15.1\",\"G15.2\",IF($E$423=\"G16.1\",\"G16.2\"))))","v":"G14.2"},{"$f":"VLOOKUP(E468,Grup!$N$5:$AF$1000,3,0)","v":{"$error":"#N/A"}},null,null,58,null,{"$f":"INDEX(Grup!$M$6:$M$1000,MATCH(Ana_Tablo_Kura!L468,Grup!$P$6:$P$1000,0),1)","v":{"$error":"#N/A"}},{"$f":"IF(H468=0,VLOOKUP(I468,$B$410:$F$477,5,0),VLOOKUP(H468,Kura!$A$4:$Z$350,26,0))","v":{"$error":"#N/A"}},"G25.2",{"$f":"IFERROR(VLOOKUP(K468,Kura!$A$4:$F$1000,6,0),0)","v":0}]
[null,15,null,null,{"$f":"IF($E$424=\"G13.1\",\"G13.2\",IF($E$424=\"G14.1\",\"G14.2\",IF($E$424=\"G15.1\",\"G15.2\",IF($E$424=\"G16.1\",\"G16.2\"))))","v":"G15.2"},{"$f":"VLOOKUP(E469,Grup!$N$5:$AF$1000,3,0)","v":{"$error":"#N/A"}},null,null,59,null,{"$f":"INDEX(Grup!$M$6:$M$1000,MATCH(Ana_Tablo_Kura!L469,Grup!$P$6:$P$1000,0),1)","v":{"$error":"#N/A"}},{"$f":"IF(H469=0,VLOOKUP(I469,$B$410:$F$477,5,0),VLOOKUP(H469,Kura!$A$4:$Z$350,26,0))","v":{"$error":"#N/A"}},"G28.2",{"$f":"IFERROR(VLOOKUP(K469,Kura!$A$4:$F$1000,6,0),0)","v":0}]
[null,18,null,null,{"$f":"IF($E$427=\"G17.1\",\"G17.2\",IF($E$427=\"G18.1\",\"G18.2\",IF($E$427=\"G19.1\",\"G19.2\",IF($E$427=\"G20.1\",\"G20.2\",IF($E$427=\"G21.1\",\"G21.2\",IF($E$427=\"G22.1\",\"G22.2\",IF($E$427=\"G23.1\",\"G23.2\",IF($E$427=\"G24.1\",\"G24.2\",IF($E$427=\"G25.1\",\"G25.2\",IF($E$427=\"G26.1\",\"G26.2\",IF($E$427=\"G27.1\",\"G27.2\",IF($E$427=\"G28.1\",\"G28.2\",IF($E$427=\"G29.1\",\"G29.2\",IF($E$427=\"G30.1\",\"G30.2\",IF($E$427=\"G31.1\",\"G31.2\",IF($E$427=\"G32.1\",\"G32.2\"))))))))))))))))","v":"G18.2"},{"$f":"VLOOKUP(E470,Grup!$N$5:$AF$1000,3,0)","v":{"$error":"#N/A"}},null,null,60,"17/32.1",{"$f":"INDEX(Grup!$M$6:$M$1000,MATCH(Ana_Tablo_Kura!L470,Grup!$P$6:$P$1000,0),1)","v":{"$error":"#N/A"}},{"$f":"IF(H470=0,VLOOKUP(I470,$B$410:$F$477,5,0),VLOOKUP(H470,Kura!$A$4:$Z$350,26,0))","v":{"$error":"#N/A"}},"G30.1",{"$f":"IFERROR(VLOOKUP(K470,Kura!$A$4:$F$1000,6,0),0)","v":0}]
[null,19,null,null,{"$f":"IF($E$428=\"G17.1\",\"G17.2\",IF($E$428=\"G18.1\",\"G18.2\",IF($E$428=\"G19.1\",\"G19.2\",IF($E$428=\"G20.1\",\"G20.2\",IF($E$428=\"G21.1\",\"G21.2\",IF($E$428=\"G22.1\",\"G22.2\",IF($E$428=\"G23.1\",\"G23.2\",IF($E$428=\"G24.1\",\"G24.2\",IF($E$428=\"G25.1\",\"G25.2\",IF($E$428=\"G26.1\",\"G26.2\",IF($E$428=\"G27.1\",\"G27.2\",IF($E$428=\"G28.1\",\"G28.2\",IF($E$428=\"G29.1\",\"G29.2\",IF($E$428=\"G30.1\",\"G30.2\",IF($E$428=\"G31.1\",\"G31.2\",IF($E$428=\"G32.1\",\"G32.2\"))))))))))))))))","v":"G19.2"},{"$f":"VLOOKUP(E471,Grup!$N$5:$AF$1000,3,0)","v":{"$error":"#N/A"}},null,null,61,"17/32.1",{"$f":"INDEX(Grup!$M$6:$M$1000,MATCH(Ana_Tablo_Kura!L471,Grup!$P$6:$P$1000,0),1)","v":{"$error":"#N/A"}},{"$f":"IF(H471=0,VLOOKUP(I471,$B$410:$F$477,5,0),VLOOKUP(H471,Kura!$A$4:$Z$350,26,0))","v":{"$error":"#N/A"}},"G31.1",{"$f":"IFERROR(VLOOKUP(K471,Kura!$A$4:$F$1000,6,0),0)","v":0}]
[null,22,null,null,{"$f":"IF($E$431=\"G17.1\",\"G17.2\",IF($E$431=\"G18.1\",\"G18.2\",IF($E$431=\"G19.1\",\"G19.2\",IF($E$431=\"G20.1\",\"G20.2\",IF($E$431=\"G21.1\",\"G21.2\",IF($E$431=\"G22.1\",\"G22.2\",IF($E$431=\"G23.1\",\"G23.2\",IF($E$431=\"G24.1\",\"G24.2\",IF($E$431=\"G25.1\",\"G25.2\",IF($E$431=\"G26.1\",\"G26.2\",IF($E$431=\"G27.1\",\"G27.2\",IF($E$431=\"G28.1\",\"G28.2\",IF($E$431=\"G29.1\",\"G29.2\",IF($E$431=\"G30.1\",\"G30.2\",IF($E$431=\"G31.1\",\"G31.2\",IF($E$431=\"G32.1\",\"G32.2\"))))))))))))))))","v":"G22.2"},{"$f":"VLOOKUP(E472,Grup!$N$5:$AF$1000,3,0)","v":{"$error":"#N/A"}},null,null,62,null,{"$f":"INDEX(Grup!$M$6:$M$1000,MATCH(Ana_Tablo_Kura!L472,Grup!$P$6:$P$1000,0),1)","v":{"$error":"#N/A"}},{"$f":"IF(H472=0,VLOOKUP(I472,$B$410:$F$477,5,0),VLOOKUP(H472,Kura!$A$4:$Z$350,26,0))","v":{"$error":"#N/A"}},"G29.2",{"$f":"IFERROR(VLOOKUP(K472,Kura!$A$4:$F$1000,6,0),0)","v":0}]
[null,23,null,null,{"$f":"IF($E$432=\"G17.1\",\"G17.2\",IF($E$432=\"G18.1\",\"G18.2\",IF($E$432=\"G19.1\",\"G19.2\",IF($E$432=\"G20.1\",\"G20.2\",IF($E$432=\"G21.1\",\"G21.2\",IF($E$432=\"G22.1\",\"G22.2\",IF($E$432=\"G23.1\",\"G23.2\",IF($E$432=\"G24.1\",\"G24.2\",IF($E$432=\"G25.1\",\"G25.2\",IF($E$432=\"G26.1\",\"G26.2\",IF($E$432=\"G27.1\",\"G27.2\",IF($E$432=\"G28.1\",\"G28.2\",IF($E$432=\"G29.1\",\"G29.2\",IF($E$432=\"G30.1\",\"G30.2\",IF($E$432=\"G31.1\",\"G31.2\",IF($E$432=\"G32.1\",\"G32.2\"))))))))))))))))","v":"G23.2"},{"$f":"VLOOKUP(E473,Grup!$N$5:$AF$1000,3,0)","v":{"$error":"#N/A"}},null,null,63,null,{"$f":"INDEX(Grup!$M$6:$M$1000,MATCH(Ana_Tablo_Kura!L473,Grup!$P$6:$P$1000,0),1)","v":{"$error":"#N/A"}},{"$f":"IF(H473=0,VLOOKUP(I473,$B$410:$F$477,5,0),VLOOKUP(H473,Kura!$A$4:$Z$350,26,0))","v":{"$error":"#N/A"}},"G32.2",{"$f":"IFERROR(VLOOKUP(K473,Kura!$A$4:$F$1000,6,0),0)","v":0}]
[null,26,null,null,{"$f":"IF($E$435=\"G17.1\",\"G17.2\",IF($E$435=\"G18.1\",\"G18.2\",IF($E$435=\"G19.1\",\"G19.2\",IF($E$435=\"G20.1\",\"G20.2\",IF($E$435=\"G21.1\",\"G21.2\",IF($E$435=\"G22.1\",\"G22.2\",IF($E$435=\"G23.1\",\"G23.2\",IF($E$435=\"G24.1\",\"G24.2\",IF($E$435=\"G25.1\",\"G25.2\",IF($E$435=\"G26.1\",\"G26.2\",IF($E$435=\"G27.1\",\"G27.2\",IF($E$435=\"G28.1\",\"G28.2\",IF($E$435=\"G29.1\",\"G29.2\",IF($E$435=\"G30.1\",\"G30.2\",IF($E$435=\"G31.1\",\"G31.2\",IF($E$435=\"G32.1\",\"G32.2\"))))))))))))))))","v":"G26.2"},{"$f":"VLOOKUP(E474,Grup!$N$5:$AF$1000,3,0)","v":{"$error":"#N/A"}},null,null,64,"2.1",{"$f":"INDEX(Grup!$M$6:$M$1000,MATCH(Ana_Tablo_Kura!L474,Grup!$P$6:$P$1000,0),1)","v":2},{"$f":"IF(H474=0,VLOOKUP(I474,$B$410:$F$477,5,0),VLOOKUP(H474,Kura!$A$4:$Z$350,26,0))","v":"ÇORUM GENÇLİK SPOR (A) (ÇRM)"},"G2.1",{"$f":"IFERROR(VLOOKUP(K474,Kura!$A$4:$F$1000,6,0),0)","v":"ÇORUM"}]
[null,27,null,null,{"$f":"IF($E$436=\"G17.1\",\"G17.2\",IF($E$436=\"G18.1\",\"G18.2\",IF($E$436=\"G19.1\",\"G19.2\",IF($E$436=\"G20.1\",\"G20.2\",IF($E$436=\"G21.1\",\"G21.2\",IF($E$436=\"G22.1\",\"G22.2\",IF($E$436=\"G23.1\",\"G23.2\",IF($E$436=\"G24.1\",\"G24.2\",IF($E$436=\"G25.1\",\"G25.2\",IF($E$436=\"G26.1\",\"G26.2\",IF($E$436=\"G27.1\",\"G27.2\",IF($E$436=\"G28.1\",\"G28.2\",IF($E$436=\"G29.1\",\"G29.2\",IF($E$436=\"G30.1\",\"G30.2\",IF($E$436=\"G31.1\",\"G31.2\",IF($E$436=\"G32.1\",\"G32.2\"))))))))))))))))","v":"G27.2"},{"$f":"VLOOKUP(E475,Grup!$N$5:$AF$1000,3,0)","v":{"$error":"#N/A"}}]
[null,30,null,null,{"$f":"IF($E$439=\"G17.1\",\"G17.2\",IF($E$439=\"G18.1\",\"G18.2\",IF($E$439=\"G19.1\",\"G19.2\",IF($E$439=\"G20.1\",\"G20.2\",IF($E$439=\"G21.1\",\"G21.2\",IF($E$439=\"G22.1\",\"G22.2\",IF($E$439=\"G23.1\",\"G23.2\",IF($E$439=\"G24.1\",\"G24.2\",IF($E$439=\"G25.1\",\"G25.2\",IF($E$439=\"G26.1\",\"G26.2\",IF($E$439=\"G27.1\",\"G27.2\",IF($E$439=\"G28.1\",\"G28.2\",IF($E$439=\"G29.1\",\"G29.2\",IF($E$439=\"G30.1\",\"G30.2\",IF($E$439=\"G31.1\",\"G31.2\",IF($E$439=\"G32.1\",\"G32.2\"))))))))))))))))","v":"G30.2"},{"$f":"VLOOKUP(E476,Grup!$N$5:$AF$1000,3,0)","v":{"$error":"#N/A"}}]
[null,31,null,null,{"$f":"IF($E$440=\"G17.1\",\"G17.2\",IF($E$440=\"G18.1\",\"G18.2\",IF($E$440=\"G19.1\",\"G19.2\",IF($E$440=\"G20.1\",\"G20.2\",IF($E$440=\"G21.1\",\"G21.2\",IF($E$440=\"G22.1\",\"G22.2\",IF($E$440=\"G23.1\",\"G23.2\",IF($E$440=\"G24.1\",\"G24.2\",IF($E$440=\"G25.1\",\"G25.2\",IF($E$440=\"G26.1\",\"G26.2\",IF($E$440=\"G27.1\",\"G27.2\",IF($E$440=\"G28.1\",\"G28.2\",IF($E$440=\"G29.1\",\"G29.2\",IF($E$440=\"G30.1\",\"G30.2\",IF($E$440=\"G31.1\",\"G31.2\",IF($E$440=\"G32.1\",\"G32.2\"))))))))))))))))","v":"G31.2"},{"$f":"VLOOKUP(E477,Grup!$N$5:$AF$1000,3,0)","v":{"$error":"#N/A"}}]
[]
[]
[null,32]
[]
[null,"Place",null,"#","Group","Player",null,"Manuel",null,null,"S.No","Main table"]
[1,1,null,null,"G1.1",{"$f":"VLOOKUP(E483,Grup!$N$5:$AF$1000,3,0)","v":"ÇORUM BLD. SPOR (A) (ÇRM)"},null,null,1,"1.1",{"$f":"INDEX(Grup!$M$6:$M$1000,MATCH(Ana_Tablo_Kura!L483,Grup!$P$6:$P$1000,0),1)","v":1},{"$f":"IF(H483=0,VLOOKUP(I483,$B$483:$F$518,5,0),VLOOKUP(H483,Kura!$A$4:$Z$350,26,0))","v":"ÇORUM BLD. SPOR (A) (ÇRM)"},{"$f":"VLOOKUP(I483,$B$483:$F$518,4,0)","v":"G1.1"},{"$f":"IFERROR(VLOOKUP(K483,Kura!$A$4:$F$1000,6,0),0)","v":"ÇORUM"}]
[2,32,null,null,"G2.1",{"$f":"VLOOKUP(E484,Grup!$N$5:$AF$1000,3,0)","v":"ÇORUM GENÇLİK SPOR (A) (ÇRM)"},null,null,2,null,{"$f":"INDEX(Grup!$M$6:$M$1000,MATCH(Ana_Tablo_Kura!L484,Grup!$P$6:$P$1000,0),1)","v":7},{"$f":"IF(H484=0,VLOOKUP(I484,$B$483:$F$518,5,0),VLOOKUP(H484,Kura!$A$4:$Z$350,26,0))","v":"BAYBURT GMSK (A) (BYB)"},"G2.2",{"$f":"IFERROR(VLOOKUP(K484,Kura!$A$4:$F$1000,6,0),0)","v":"BAYBURT"}]
["3-4",17,null,null,"G3.1",{"$f":"VLOOKUP(E485,Grup!$N$5:$AF$1000,3,0)","v":"ŞAFAKTEPE SK (A) (ANK)"},null,null,3,null,{"$f":"INDEX(Grup!$M$6:$M$1000,MATCH(Ana_Tablo_Kura!L485,Grup!$P$6:$P$1000,0),1)","v":9},{"$f":"IF(H485=0,VLOOKUP(I485,$B$483:$F$518,5,0),VLOOKUP(H485,Kura!$A$4:$Z$350,26,0))","v":"FINDIKLI 1974 SPOR (A) (RİZ)"},"G3.2",{"$f":"IFERROR(VLOOKUP(K485,Kura!$A$4:$F$1000,6,0),0)","v":"RİZE"}]
["3-4",16,null,null,"G4.1",{"$f":"VLOOKUP(E486,Grup!$N$5:$AF$1000,3,0)","v":"KUTLUBEY OKULLARI (A) (AMS)"},null,null,4,"13/16.1",{"$f":"INDEX(Grup!$M$6:$M$1000,MATCH(Ana_Tablo_Kura!L486,Grup!$P$6:$P$1000,0),1)","v":{"$error":"#N/A"}},{"$f":"IF(H486=0,VLOOKUP(I486,$B$483:$F$518,5,0),VLOOKUP(H486,Kura!$A$4:$Z$350,26,0))","v":{"$error":"#N/A"}},"G16.1",{"$f":"IFERROR(VLOOKUP(K486,Kura!$A$4:$F$1000,6,0),0)","v":0}]
["5-6",9,null,null,"G5.1",{"$f":"VLOOKUP(E487,Grup!$N$5:$AF$1000,3,0)","v":{"$error":"#N/A"}},null,null,5,"9/12.1",{"$f":"INDEX(Grup!$M$6:$M$1000,MATCH(Ana_Tablo_Kura!L487,Grup!$P$6:$P$1000,0),1)","v":{"$error":"#N/A"}},{"$f":"IF(H487=0,VLOOKUP(I487,$B$483:$F$518,5,0),VLOOKUP(H487,Kura!$A$4:$Z$350,26,0))","v":{"$error":"#N/A"}},"G9.1",{"$f":"IFERROR(VLOOKUP(K487,Kura!$A$4:$F$1000,6,0),0)","v":0}]
["5-6",24,null,null,"G6.1",{"$f":"VLOOKUP(E488,Grup!$N$5:$AF$1000,3,0)","v":{"$error":"#N/A"}},null,null,6,null,{"$f":"INDEX(Grup!$M$6:$M$1000,MATCH(Ana_Tablo_Kura!L488,Grup!$P$6:$P$1000,0),1)","v":{"$error":"#N/A"}},{"$f":"IF(H488=0,VLOOKUP(I488,$B$483:$F$518,5,0),VLOOKUP(H488,Kura!$A$4:$Z$350,26,0))","v":{"$error":"#N/A"}},"G6.2",{"$f":"IFERROR(VLOOKUP(K488,Kura!$A$4:$F$1000,6,0),0)","v":0}]
["7-8",25,null,null,"G8.1",{"$f":"VLOOKUP(E489,Grup!$N$5:$AF$1000,3,0)","v":{"$error":"#N/A"}},null,null,7,null,{"$f":"INDEX(Grup!$M$6:$M$1000,MATCH(Ana_Tablo_Kura!L489,Grup!$P$6:$P$1000,0),1)","v":{"$error":"#N/A"}},{"$f":"IF(H489=0,VLOOKUP(I489,$B$483:$F$518,5,0),VLOOKUP(H489,Kura!$A$4:$Z$350,26,0))","v":{"$error":"#N/A"}},"G8.2",{"$f":"IFERROR(VLOOKUP(K489,Kura!$A$4:$F$1000,6,0),0)","v":0}]
["7-8",8,null,null,"G7.1",{"$f":"VLOOKUP(E490,Grup!$N$5:$AF$1000,3,0)","v":{"$error":"#N/A"}},null,null,8,"7/8.1",{"$f":"INDEX(Grup!$M$6:$M$1000,MATCH(Ana_Tablo_Kura!L490,Grup!$P$6:$P$1000,0),1)","v":{"$error":"#N/A"}},{"$f":"IF(H490=0,VLOOKUP(I490,$B$483:$F$518,5,0),VLOOKUP(H490,Kura!$A$4:$Z$350,26,0))","v":{"$error":"#N/A"}},"G7.1",{"$f":"IFERROR(VLOOKUP(K490,Kura!$A$4:$F$1000,6,0),0)","v":0}]
["9-12",5,null,null,"G9.1",{"$f":"VLOOKUP(E491,Grup!$N$5:$AF$1000,3,0)","v":{"$error":"#N/A"}},null,null,9,"5/6.1",{"$f":"INDEX(Grup!$M$6:$M$1000,MATCH(Ana_Tablo_Kura!L491,Grup!$P$6:$P$1000,0),1)","v":{"$error":"#N/A"}},{"$f":"IF(H491=0,VLOOKUP(I491,$B$483:$F$518,5,0),VLOOKUP(H491,Kura!$A$4:$Z$350,26,0))","v":{"$error":"#N/A"}},"G5.1",{"$f":"IFERROR(VLOOKUP(K491,Kura!$A$4:$F$1000,6,0),0)","v":0}]
["9-12",28,null,null,"G10.1",{"$f":"VLOOKUP(E492,Grup!$N$5:$AF$1000,3,0)","v":{"$error":"#N/A"}},null,null,10,null,{"$f":"INDEX(Grup!$M$6:$M$1000,MATCH(Ana_Tablo_Kura!L492,Grup!$P$6:$P$1000,0),1)","v":{"$error":"#N/A"}},{"$f":"IF(H492=0,VLOOKUP(I492,$B$483:$F$518,5,0),VLOOKUP(H492,Kura!$A$4:$Z$350,26,0))","v":{"$error":"#N/A"}},"G10.2",{"$f":"IFERROR(VLOOKUP(K492,Kura!$A$4:$F$1000,6,0),0)","v":0}]
["9-12",20,null,null,"G11.1",{"$f":"VLOOKUP(E493,Grup!$N$5:$AF$1000,3,0)","v":{"$error":"#N/A"}},null,null,11,null,{"$f":"INDEX(Grup!$M$6:$M$1000,MATCH(Ana_Tablo_Kura!L493,Grup!$P$6:$P$1000,0),1)","v":{"$error":"#N/A"}},{"$f":"IF(H493=0,VLOOKUP(I493,$B$483:$F$518,5,0),VLOOKUP(H493,Kura!$A$4:$Z$350,26,0))","v":{"$error":"#N/A"}},"G11.2",{"$f":"IFERROR(VLOOKUP(K493,Kura!$A$4:$F$1000,6,0),0)","v":0}]
["9-12",12,null,null,"G12.1",{"$f":"VLOOKUP(E494,Grup!$N$5:$AF$1000,3,0)","v":{"$error":"#N/A"}},null,null,12,"9/12.1",{"$f":"INDEX(Grup!$M$6:$M$1000,MATCH(Ana_Tablo_Kura!L494,Grup!$P$6:$P$1000,0),1)","v":{"$error":"#N/A"}},{"$f":"IF(H494=0,VLOOKUP(I494,$B$483:$F$518,5,0),VLOOKUP(H494,Kura!$A$4:$Z$350,26,0))","v":{"$error":"#N/A"}},"G12.1",{"$f":"IFERROR(VLOOKUP(K494,Kura!$A$4:$F$1000,6,0),0)","v":0}]
["13-16",13,null,null,"G13.1",{"$f":"VLOOKUP(E495,Grup!$N$5:$AF$1000,3,0)","v":{"$error":"#N/A"}},null,null,13,"13/16.1",{"$f":"INDEX(Grup!$M$6:$M$1000,MATCH(Ana_Tablo_Kura!L495,Grup!$P$6:$P$1000,0),1)","v":{"$error":"#N/A"}},{"$f":"IF(H495=0,VLOOKUP(I495,$B$483:$F$518,5,0),VLOOKUP(H495,Kura!$A$4:$Z$350,26,0))","v":{"$error":"#N/A"}},"G13.1",{"$f":"IFERROR(VLOOKUP(K495,Kura!$A$4:$F$1000,6,0),0)","v":0}]
["13-16",21,null,null,"G14.1",{"$f":"VLOOKUP(E496,Grup!$N$5:$AF$1000,3,0)","v":{"$error":"#N/A"}},null,null,14,null,{"$f":"INDEX(Grup!$M$6:$M$1000,MATCH(Ana_Tablo_Kura!L496,Grup!$P$6:$P$1000,0),1)","v":{"$error":"#N/A"}},{"$f":"IF(H496=0,VLOOKUP(I496,$B$483:$F$518,5,0),VLOOKUP(H496,Kura!$A$4:$Z$350,26,0))","v":{"$error":"#N/A"}},"G14.2",{"$f":"IFERROR(VLOOKUP(K496,Kura!$A$4:$F$1000,6,0),0)","v":0}]
["13-16",29,null,null,"G15.1",{"$f":"VLOOKUP(E497,Grup!$N$5:$AF$1000,3,0)","v":{"$error":"#N/A"}},null,null,15,null,{"$f":"INDEX(Grup!$M$6:$M$1000,MATCH(Ana_Tablo_Kura!L497,Grup!$P$6:$P$1000,0),1)","v":{"$error":"#N/A"}},{"$f":"IF(H497=0,VLOOKUP(I497,$B$483:$F$518,5,0),VLOOKUP(H497,Kura!$A$4:$Z$350,26,0))","v":{"$error":"#N/A"}},"G15.2",{"$f":"IFERROR(VLOOKUP(K497,Kura!$A$4:$F$1000,6,0),0)","v":0}]
["13-16",4,null,null,"G16.1",{"$f":"VLOOKUP(E498,Grup!$N$5:$AF$1000,3,0)","v":{"$error":"#N/A"}},null,null,16,"3/4.1",{"$f":"INDEX(Grup!$M$6:$M$1000,MATCH(Ana_Tablo_Kura!L498,Grup!$P$6:$P$1000,0),1)","v":5},{"$f":"IF(H498=0,VLOOKUP(I498,$B$483:$F$518,5,0),VLOOKUP(H498,Kura!$A$4:$Z$350,26,0))","v":"KUTLUBEY OKULLARI (A) (AMS)"},"G4.1",{"$f":"IFERROR(VLOOKUP(K498,Kura!$A$4:$F$1000,6,0),0)","v":"AMASYA"}]
[]
[null,"Lower Group Runners-down (↓)",null,null,null,null,null,null,17,"3/4.1",{"$f":"INDEX(Grup!$M$6:$M$1000,MATCH(Ana_Tablo_Kura!L500,Grup!$P$6:$P$1000,0),1)","v":3},{"$f":"IF(H500=0,VLOOKUP(I500,$B$483:$F$518,5,0),VLOOKUP(H500,Kura!$A$4:$Z$350,26,0))","v":"ŞAFAKTEPE SK (A) (ANK)"},{"$f":"VLOOKUP(I500,$B$483:$F$518,4,0)","v":"G3.1"},{"$f":"IFERROR(VLOOKUP(K500,Kura!$A$4:$F$1000,6,0),0)","v":"ANKARA"}]
[null,18,null,null,{"$f":"IF($E$483=\"G1.1\",\"G1.2\",\"G2.2\")","v":"G1.2"},{"$f":"VLOOKUP(E501,Grup!$N$5:$AF$1000,3,0)","v":"BEŞİKDÜZÜ AYYILDIZ SPOR (A) (TRB)"},5.961686372756958E-2,null,18,null,{"$f":"INDEX(Grup!$M$6:$M$1000,MATCH(Ana_Tablo_Kura!L501,Grup!$P$6:$P$1000,0),1)","v":8},{"$f":"IF(H501=0,VLOOKUP(I501,$B$483:$F$518,5,0),VLOOKUP(H501,Kura!$A$4:$Z$350,26,0))","v":"BEŞİKDÜZÜ AYYILDIZ SPOR (A) (TRB)"},"G1.2",{"$f":"IFERROR(VLOOKUP(K501,Kura!$A$4:$F$1000,6,0),0)","v":"TRABZON"}]
[null,19,null,null,{"$f":"IF($E$486=\"G3.1\",\"G3.2\",\"G4.2\")","v":"G4.2"},{"$f":"VLOOKUP(E502,Grup!$N$5:$AF$1000,3,0)","v":"YALIKÖY ŞBÇ OO (A) (GRS)"},0.16294205188751221,null,19,null,{"$f":"INDEX(Grup!$M$6:$M$1000,MATCH(Ana_Tablo_Kura!L502,Grup!$P$6:$P$1000,0),1)","v":4},{"$f":"IF(H502=0,VLOOKUP(I502,$B$483:$F$518,5,0),VLOOKUP(H502,Kura!$A$4:$Z$350,26,0))","v":"YALIKÖY ŞBÇ OO (A) (GRS)"},"G4.2",{"$f":"IFERROR(VLOOKUP(K502,Kura!$A$4:$F$1000,6,0),0)","v":"GİRESUN"}]
[null,22,null,null,{"$f":"IF($E$487=\"G5.1\",\"G5.2\",\"G6.2\")","v":"G5.2"},{"$f":"VLOOKUP(E503,Grup!$N$5:$AF$1000,3,0)","v":{"$error":"#N/A"}},0.24331068992614746,null,20,"9/12.1",{"$f":"INDEX(Grup!$M$6:$M$1000,MATCH(Ana_Tablo_Kura!L503,Grup!$P$6:$P$1000,0),1)","v":{"$error":"#N/A"}},{"$f":"IF(H503=0,VLOOKUP(I503,$B$483:$F$518,5,0),VLOOKUP(H503,Kura!$A$4:$Z$350,26,0))","v":{"$error":"#N/A"}},"G11.1",{"$f":"IFERROR(VLOOKUP(K503,Kura!$A$4:$F$1000,6,0),0)","v":0}]
[null,23,null,null,{"$f":"IF($E$490=\"G7.1\",\"G7.2\",\"G8.2\")","v":"G7.2"},{"$f":"VLOOKUP(E504,Grup!$N$5:$AF$1000,3,0)","v":{"$error":"#N/A"}},0.43160009384155273,null,21,"13/16.1",{"$f":"INDEX(Grup!$M$6:$M$1000,MATCH(Ana_Tablo_Kura!L504,Grup!$P$6:$P$1000,0),1)","v":{"$error":"#N/A"}},{"$f":"IF(H504=0,VLOOKUP(I504,$B$483:$F$518,5,0),VLOOKUP(H504,Kura!$A$4:$Z$350,26,0))","v":{"$error":"#N/A"}},"G14.1",{"$f":"IFERROR(VLOOKUP(K504,Kura!$A$4:$F$1000,6,0),0)","v":0}]
[null,26,null,null,{"$f":"IF($E$491=\"G9.1\",\"G9.2\",IF($E$491=\"G10.1\",\"G10.2\",IF($E$491=\"G11.1\",\"G11.2\",IF($E$491=\"G12.1\",\"G12.2\"))))","v":"G9.2"},{"$f":"VLOOKUP(E505,Grup!$N$5:$AF$1000,3,0)","v":{"$error":"#N/A"}},0.57587391138076782,null,22,null,{"$f":"INDEX(Grup!$M$6:$M$1000,MATCH(Ana_Tablo_Kura!L505,Grup!$P$6:$P$1000,0),1)","v":{"$error":"#N/A"}},{"$f":"IF(H505=0,VLOOKUP(I505,$B$483:$F$518,5,0),VLOOKUP(H505,Kura!$A$4:$Z$350,26,0))","v":{"$error":"#N/A"}},"G5.2",{"$f":"IFERROR(VLOOKUP(K505,Kura!$A$4:$F$1000,6,0),0)","v":0}]
[null,27,null,null,{"$f":"IF($E$494=\"G9.1\",\"G9.2\",IF($E$494=\"G10.1\",\"G10.2\",IF($E$494=\"G11.1\",\"G11.2\",IF($E$494=\"G12.1\",\"G12.2\"))))","v":"G12.2"},{"$f":"VLOOKUP(E506,Grup!$N$5:$AF$1000,3,0)","v":{"$error":"#N/A"}},0.732524573802948,null,23,null,{"$f":"INDEX(Grup!$M$6:$M$1000,MATCH(Ana_Tablo_Kura!L506,Grup!$P$6:$P$1000,0),1)","v":{"$error":"#N/A"}},{"$f":"IF(H506=0,VLOOKUP(I506,$B$483:$F$518,5,0),VLOOKUP(H506,Kura!$A$4:$Z$350,26,0))","v":{"$error":"#N/A"}},"G7.2",{"$f":"IFERROR(VLOOKUP(K506,Kura!$A$4:$F$1000,6,0),0)","v":0}]
[null,30,null,null,{"$f":"IF($E$495=\"G13.1\",\"G13.2\",IF($E$495=\"G14.1\",\"G14.2\",IF($E$495=\"G15.1\",\"G15.2\",IF($E$495=\"G16.1\",\"G16.2\"))))","v":"G13.2"},{"$f":"VLOOKUP(E507,Grup!$N$5:$AF$1000,3,0)","v":{"$error":"#N/A"}},0.75857442617416382,null,24,"5/6.1",{"$f":"INDEX(Grup!$M$6:$M$1000,MATCH(Ana_Tablo_Kura!L507,Grup!$P$6:$P$1000,0),1)","v":{"$error":"#N/A"}},{"$f":"IF(H507=0,VLOOKUP(I507,$B$483:$F$518,5,0),VLOOKUP(H507,Kura!$A$4:$Z$350,26,0))","v":{"$error":"#N/A"}},"G6.1",{"$f":"IFERROR(VLOOKUP(K507,Kura!$A$4:$F$1000,6,0),0)","v":0}]
[null,31,null,null,{"$f":"IF($E$498=\"G13.1\",\"G13.2\",IF($E$498=\"G14.1\",\"G14.2\",IF($E$498=\"G15.1\",\"G15.2\",IF($E$498=\"G16.1\",\"G16.2\"))))","v":"G16.2"},{"$f":"VLOOKUP(E508,Grup!$N$5:$AF$1000,3,0)","v":{"$error":"#N/A"}},0.95124757289886475,null,25,"7/8.1",{"$f":"INDEX(Grup!$M$6:$M$1000,MATCH(Ana_Tablo_Kura!L508,Grup!$P$6:$P$1000,0),1)","v":{"$error":"#N/A"}},{"$f":"IF(H508=0,VLOOKUP(I508,$B$483:$F$518,5,0),VLOOKUP(H508,Kura!$A$4:$Z$350,26,0))","v":{"$error":"#N/A"}},"G8.1",{"$f":"IFERROR(VLOOKUP(K508,Kura!$A$4:$F$1000,6,0),0)","v":0}]
[null,null,null,null,null,null,null,null,26,null,{"$f":"INDEX(Grup!$M$6:$M$1000,MATCH(Ana_Tablo_Kura!L509,Grup!$P$6:$P$1000,0),1)","v":{"$error":"#N/A"}},{"$f":"IF(H509=0,VLOOKUP(I509,$B$483:$F$518,5,0),VLOOKUP(H509,Kura!$A$4:$Z$350,26,0))","v":{"$error":"#N/A"}},"G9.2",{"$f":"IFERROR(VLOOKUP(K509,Kura!$A$4:$F$1000,6,0),0)","v":0}]
[null,"Upper Group Runners-up (↑)",null,null,null,null,null,null,27,null,{"$f":"INDEX(Grup!$M$6:$M$1000,MATCH(Ana_Tablo_Kura!L510,Grup!$P$6:$P$1000,0),1)","v":{"$error":"#N/A"}},{"$f":"IF(H510=0,VLOOKUP(I510,$B$483:$F$518,5,0),VLOOKUP(H510,Kura!$A$4:$Z$350,26,0))","v":{"$error":"#N/A"}},"G12.2",{"$f":"IFERROR(VLOOKUP(K510,Kura!$A$4:$F$1000,6,0),0)","v":0}]
[null,2,null,null,{"$f":"IF($E$484=\"G1.1\",\"G1.2\",\"G2.2\")","v":"G2.2"},{"$f":"VLOOKUP(E511,Grup!$N$5:$AF$1000,3,0)","v":"BAYBURT GMSK (A) (BYB)"},null,null,28,"9/12.1",{"$f":"INDEX(Grup!$M$6:$M$1000,MATCH(Ana_Tablo_Kura!L511,Grup!$P$6:$P$1000,0),1)","v":{"$error":"#N/A"}},{"$f":"IF(H511=0,VLOOKUP(I511,$B$483:$F$518,5,0),VLOOKUP(H511,Kura!$A$4:$Z$350,26,0))","v":{"$error":"#N/A"}},"G10.1",{"$f":"IFERROR(VLOOKUP(K511,Kura!$A$4:$F$1000,6,0),0)","v":0}]
[null,3,null,null,{"$f":"IF($E$485=\"G3.1\",\"G3.2\",\"G4.2\")","v":"G3.2"},{"$f":"VLOOKUP(E512,Grup!$N$5:$AF$1000,3,0)","v":"FINDIKLI 1974 SPOR (A) (RİZ)"},null,null,29,"13/16.1",{"$f":"INDEX(Grup!$M$6:$M$1000,MATCH(Ana_Tablo_Kura!L512,Grup!$P$6:$P$1000,0),1)","v":{"$error":"#N/A"}},{"$f":"IF(H512=0,VLOOKUP(I512,$B$483:$F$518,5,0),VLOOKUP(H512,Kura!$A$4:$Z$350,26,0))","v":{"$error":"#N/A"}},"G15.1",{"$f":"IFERROR(VLOOKUP(K512,Kura!$A$4:$F$1000,6,0),0)","v":0}]
[null,6,null,null,{"$f":"IF($E$488=\"G5.1\",\"G5.2\",\"G6.2\")","v":"G6.2"},{"$f":"VLOOKUP(E513,Grup!$N$5:$AF$1000,3,0)","v":{"$error":"#N/A"}},null,null,30,null,{"$f":"INDEX(Grup!$M$6:$M$1000,MATCH(Ana_Tablo_Kura!L513,Grup!$P$6:$P$1000,0),1)","v":{"$error":"#N/A"}},{"$f":"IF(H513=0,VLOOKUP(I513,$B$483:$F$518,5,0),VLOOKUP(H513,Kura!$A$4:$Z$350,26,0))","v":{"$error":"#N/A"}},"G13.2",{"$f":"IFERROR(VLOOKUP(K513,Kura!$A$4:$F$1000,6,0),0)","v":0}]
[null,7,null,null,{"$f":"IF($E$489=\"G7.1\",\"G7.2\",\"G8.2\")","v":"G8.2"},{"$f":"VLOOKUP(E514,Grup!$N$5:$AF$1000,3,0)","v":{"$error":"#N/A"}},null,null,31,null,{"$f":"INDEX(Grup!$M$6:$M$1000,MATCH(Ana_Tablo_Kura!L514,Grup!$P$6:$P$1000,0),1)","v":{"$error":"#N/A"}},{"$f":"IF(H514=0,VLOOKUP(I514,$B$483:$F$518,5,0),VLOOKUP(H514,Kura!$A$4:$Z$350,26,0))","v":{"$error":"#N/A"}},"G16.2",{"$f":"IFERROR(VLOOKUP(K514,Kura!$A$4:$F$1000,6,0),0)","v":0}]
[null,10,null,null,{"$f":"IF($E$492=\"G9.1\",\"G9.2\",IF($E$492=\"G10.1\",\"G10.2\",IF($E$492=\"G11.1\",\"G11.2\",IF($E$492=\"G12.1\",\"G12.2\"))))","v":"G10.2"},{"$f":"VLOOKUP(E515,Grup!$N$5:$AF$1000,3,0)","v":{"$error":"#N/A"}},null,null,32,"2.1",{"$f":"INDEX(Grup!$M$6:$M$1000,MATCH(Ana_Tablo_Kura!L515,Grup!$P$6:$P$1000,0),1)","v":2},{"$f":"IF(H515=0,VLOOKUP(I515,$B$483:$F$518,5,0),VLOOKUP(H515,Kura!$A$4:$Z$350,26,0))","v":"ÇORUM GENÇLİK SPOR (A) (ÇRM)"},"G2.1",{"$f":"IFERROR(VLOOKUP(K515,Kura!$A$4:$F$1000,6,0),0)","v":"ÇORUM"}]
[null,11,null,null,{"$f":"IF($E$493=\"G9.1\",\"G9.2\",IF($E$493=\"G10.1\",\"G10.2\",IF($E$493=\"G11.1\",\"G11.2\",IF($E$493=\"G12.1\",\"G12.2\"))))","v":"G11.2"},{"$f":"VLOOKUP(E516,Grup!$N$5:$AF$1000,3,0)","v":{"$error":"#N/A"}}]
[null,14,null,null,{"$f":"IF($E$496=\"G13.1\",\"G13.2\",IF($E$496=\"G14.1\",\"G14.2\",IF($E$496=\"G15.1\",\"G15.2\",IF($E$496=\"G16.1\",\"G16.2\"))))","v":"G14.2"},{"$f":"VLOOKUP(E517,Grup!$N$5:$AF$1000,3,0)","v":{"$error":"#N/A"}}]
[null,15,null,null,{"$f":"IF($E$497=\"G13.1\",\"G13.2\",IF($E$497=\"G14.1\",\"G14.2\",IF($E$497=\"G15.1\",\"G15.2\",IF($E$497=\"G16.1\",\"G16.2\"))))","v":"G15.2"},{"$f":"VLOOKUP(E518,Grup!$N$5:$AF$1000,3,0)","v":{"$error":"#N/A"}}]
[]
[]
[null,16]
[]
[]
[null,"Place",null,"#","Group","Player",null,"Manuel",null,null,"S.No","Main table"]
[1,1,null,null,"G1.1",{"$f":"VLOOKUP(E525,Grup!$N$5:$AF$1000,3,0)","v":"ÇORUM BLD. SPOR (A) (ÇRM)"},null,null,1,"1.1",{"$f":"INDEX(Grup!$M$6:$M$1000,MATCH(Ana_Tablo_Kura!L525,Grup!$P$6:$P$1000,0),1)","v":1},{"$f":"IF(H525=0,VLOOKUP(I525,$B$525:$F$544,5,0),VLOOKUP(H525,Kura!$A$4:$Z$350,26,0))","v":"ÇORUM BLD. SPOR (A) (ÇRM)"},{"$f":"VLOOKUP(I525,$B$525:$F$544,4,0)","v":"G1.1"},{"$f":"IFERROR(VLOOKUP(K525,Kura!$A$4:$F$1000,6,0),0)","v":"ÇORUM"}]
[2,16,null,null,"G2.1",{"$f":"VLOOKUP(E526,Grup!$N$5:$AF$1000,3,0)","v":"ÇORUM GENÇLİK SPOR (A) (ÇRM)"},null,null,2,null,{"$f":"INDEX(Grup!$M$6:$M$1000,MATCH(Ana_Tablo_Kura!L526,Grup!$P$6:$P$1000,0),1)","v":{"$error":"#N/A"}},{"$f":"IF(H526=0,VLOOKUP(I526,$B$525:$F$544,5,0),VLOOKUP(H526,Kura!$A$4:$Z$350,26,0))","v":{"$error":"#N/A"}},"G5.2",{"$f":"IFERROR(VLOOKUP(K526,Kura!$A$4:$F$1000,6,0),0)","v":0}]
["3-4",9,null,null,"G3.1",{"$f":"VLOOKUP(E527,Grup!$N$5:$AF$1000,3,0)","v":"ŞAFAKTEPE SK (A) (ANK)"},1.5703916549682617E-2,null,3,null,{"$f":"INDEX(Grup!$M$6:$M$1000,MATCH(Ana_Tablo_Kura!L527,Grup!$P$6:$P$1000,0),1)","v":9},{"$f":"IF(H527=0,VLOOKUP(I527,$B$525:$F$544,5,0),VLOOKUP(H527,Kura!$A$4:$Z$350,26,0))","v":"FINDIKLI 1974 SPOR (A) (RİZ)"},"G3.2",{"$f":"IFERROR(VLOOKUP(K527,Kura!$A$4:$F$1000,6,0),0)","v":"RİZE"}]
["3-4",8,null,null,"G4.1",{"$f":"VLOOKUP(E528,Grup!$N$5:$AF$1000,3,0)","v":"KUTLUBEY OKULLARI (A) (AMS)"},0.67617589235305786,null,4,"7/8.1",{"$f":"INDEX(Grup!$M$6:$M$1000,MATCH(Ana_Tablo_Kura!L528,Grup!$P$6:$P$1000,0),1)","v":{"$error":"#N/A"}},{"$f":"IF(H528=0,VLOOKUP(I528,$B$525:$F$544,5,0),VLOOKUP(H528,Kura!$A$4:$Z$350,26,0))","v":{"$error":"#N/A"}},"G7.1",{"$f":"IFERROR(VLOOKUP(K528,Kura!$A$4:$F$1000,6,0),0)","v":0}]
["5-6",12,null,null,"G5.1",{"$f":"VLOOKUP(E529,Grup!$N$5:$AF$1000,3,0)","v":{"$error":"#N/A"}},0.79048001766204834,null,5,"5/6.1",{"$f":"INDEX(Grup!$M$6:$M$1000,MATCH(Ana_Tablo_Kura!L529,Grup!$P$6:$P$1000,0),1)","v":{"$error":"#N/A"}},{"$f":"IF(H529=0,VLOOKUP(I529,$B$525:$F$544,5,0),VLOOKUP(H529,Kura!$A$4:$Z$350,26,0))","v":{"$error":"#N/A"}},"G6.1",{"$f":"IFERROR(VLOOKUP(K529,Kura!$A$4:$F$1000,6,0),0)","v":0}]
["5-6",5,null,null,"G6.1",{"$f":"VLOOKUP(E530,Grup!$N$5:$AF$1000,3,0)","v":{"$error":"#N/A"}},0.86261934041976929,null,6,null,{"$f":"INDEX(Grup!$M$6:$M$1000,MATCH(Ana_Tablo_Kura!L530,Grup!$P$6:$P$1000,0),1)","v":{"$error":"#N/A"}},{"$f":"IF(H530=0,VLOOKUP(I530,$B$525:$F$544,5,0),VLOOKUP(H530,Kura!$A$4:$Z$350,26,0))","v":{"$error":"#N/A"}},"G8.2",{"$f":"IFERROR(VLOOKUP(K530,Kura!$A$4:$F$1000,6,0),0)","v":0}]
["7-8",13,null,null,"G8.1",{"$f":"VLOOKUP(E531,Grup!$N$5:$AF$1000,3,0)","v":{"$error":"#N/A"}},9.7973823547363281E-2,null,7,null,{"$f":"INDEX(Grup!$M$6:$M$1000,MATCH(Ana_Tablo_Kura!L531,Grup!$P$6:$P$1000,0),1)","v":7},{"$f":"IF(H531=0,VLOOKUP(I531,$B$525:$F$544,5,0),VLOOKUP(H531,Kura!$A$4:$Z$350,26,0))","v":"BAYBURT GMSK (A) (BYB)"},"G2.2",{"$f":"IFERROR(VLOOKUP(K531,Kura!$A$4:$F$1000,6,0),0)","v":"BAYBURT"}]
["7-8",4,null,null,"G7.1",{"$f":"VLOOKUP(E532,Grup!$N$5:$AF$1000,3,0)","v":{"$error":"#N/A"}},0.42845636606216431,null,8,"3/4.1",{"$f":"INDEX(Grup!$M$6:$M$1000,MATCH(Ana_Tablo_Kura!L532,Grup!$P$6:$P$1000,0),1)","v":5},{"$f":"IF(H532=0,VLOOKUP(I532,$B$525:$F$544,5,0),VLOOKUP(H532,Kura!$A$4:$Z$350,26,0))","v":"KUTLUBEY OKULLARI (A) (AMS)"},"G4.1",{"$f":"IFERROR(VLOOKUP(K532,Kura!$A$4:$F$1000,6,0),0)","v":"AMASYA"}]
[]
[null,"Lower Group Runners-down (↓)",null,null,null,null,null,null,9,"3/4.1",{"$f":"INDEX(Grup!$M$6:$M$1000,MATCH(Ana_Tablo_Kura!L534,Grup!$P$6:$P$1000,0),1)","v":3},{"$f":"IF(H534=0,VLOOKUP(I534,$B$525:$F$544,5,0),VLOOKUP(H534,Kura!$A$4:$Z$350,26,0))","v":"ŞAFAKTEPE SK (A) (ANK)"},{"$f":"VLOOKUP(I534,$B$525:$F$544,4,0)","v":"G3.1"},{"$f":"IFERROR(VLOOKUP(K534,Kura!$A$4:$F$1000,6,0),0)","v":"ANKARA"}]
[null,10,null,null,{"$f":"IF($E$532=\"G7.1\",\"G7.2\",\"G8.2\")","v":"G7.2"},{"$f":"VLOOKUP(E535,Grup!$N$5:$AF$1000,3,0)","v":{"$error":"#N/A"}},0.20601719617843628,null,10,null,{"$f":"INDEX(Grup!$M$6:$M$1000,MATCH(Ana_Tablo_Kura!L535,Grup!$P$6:$P$1000,0),1)","v":{"$error":"#N/A"}},{"$f":"IF(H535=0,VLOOKUP(I535,$B$525:$F$544,5,0),VLOOKUP(H535,Kura!$A$4:$Z$350,26,0))","v":{"$error":"#N/A"}},"G7.2",{"$f":"IFERROR(VLOOKUP(K535,Kura!$A$4:$F$1000,6,0),0)","v":0}]
[null,11,null,null,{"$f":"IF($E$530=\"G5.1\",\"G5.2\",\"G6.2\")","v":"G6.2"},{"$f":"VLOOKUP(E536,Grup!$N$5:$AF$1000,3,0)","v":{"$error":"#N/A"}},0.58862859010696411,null,11,null,{"$f":"INDEX(Grup!$M$6:$M$1000,MATCH(Ana_Tablo_Kura!L536,Grup!$P$6:$P$1000,0),1)","v":{"$error":"#N/A"}},{"$f":"IF(H536=0,VLOOKUP(I536,$B$525:$F$544,5,0),VLOOKUP(H536,Kura!$A$4:$Z$350,26,0))","v":{"$error":"#N/A"}},"G6.2",{"$f":"IFERROR(VLOOKUP(K536,Kura!$A$4:$F$1000,6,0),0)","v":0}]
[null,14,null,null,{"$f":"IF($E$528=\"G3.1\",\"G3.2\",\"G4.2\")","v":"G4.2"},{"$f":"VLOOKUP(E537,Grup!$N$5:$AF$1000,3,0)","v":"YALIKÖY ŞBÇ OO (A) (GRS)"},0.75490832328796387,null,12,"5/6.1",{"$f":"INDEX(Grup!$M$6:$M$1000,MATCH(Ana_Tablo_Kura!L537,Grup!$P$6:$P$1000,0),1)","v":{"$error":"#N/A"}},{"$f":"IF(H537=0,VLOOKUP(I537,$B$525:$F$544,5,0),VLOOKUP(H537,Kura!$A$4:$Z$350,26,0))","v":{"$error":"#N/A"}},"G5.1",{"$f":"IFERROR(VLOOKUP(K537,Kura!$A$4:$F$1000,6,0),0)","v":0}]
[null,15,null,null,{"$f":"IF($E$525=\"G1.1\",\"G1.2\",\"G2.2\")","v":"G1.2"},{"$f":"VLOOKUP(E538,Grup!$N$5:$AF$1000,3,0)","v":"BEŞİKDÜZÜ AYYILDIZ SPOR (A) (TRB)"},0.86453449726104736,null,13,"7/8.1",{"$f":"INDEX(Grup!$M$6:$M$1000,MATCH(Ana_Tablo_Kura!L538,Grup!$P$6:$P$1000,0),1)","v":{"$error":"#N/A"}},{"$f":"IF(H538=0,VLOOKUP(I538,$B$525:$F$544,5,0),VLOOKUP(H538,Kura!$A$4:$Z$350,26,0))","v":{"$error":"#N/A"}},"G8.1",{"$f":"IFERROR(VLOOKUP(K538,Kura!$A$4:$F$1000,6,0),0)","v":0}]
[null,null,null,null,null,null,null,null,14,null,{"$f":"INDEX(Grup!$M$6:$M$1000,MATCH(Ana_Tablo_Kura!L539,Grup!$P$6:$P$1000,0),1)","v":4},{"$f":"IF(H539=0,VLOOKUP(I539,$B$525:$F$544,5,0),VLOOKUP(H539,Kura!$A$4:$Z$350,26,0))","v":"YALIKÖY ŞBÇ OO (A) (GRS)"},"G4.2",{"$f":"IFERROR(VLOOKUP(K539,Kura!$A$4:$F$1000,6,0),0)","v":"GİRESUN"}]
[null,"Upper Group Runners-up (↑)",null,null,null,null,null,null,15,null,{"$f":"INDEX(Grup!$M$6:$M$1000,MATCH(Ana_Tablo_Kura!L540,Grup!$P$6:$P$1000,0),1)","v":8},{"$f":"IF(H540=0,VLOOKUP(I540,$B$525:$F$544,5,0),VLOOKUP(H540,Kura!$A$4:$Z$350,26,0))","v":"BEŞİKDÜZÜ AYYILDIZ SPOR (A) (TRB)"},"G1.2",{"$f":"IFERROR(VLOOKUP(K540,Kura!$A$4:$F$1000,6,0),0)","v":"TRABZON"}]
[null,2,null,null,{"$f":"IF($E$529=\"G5.1\",\"G5.2\",\"G6.2\")","v":"G5.2"},{"$f":"VLOOKUP(E541,Grup!$N$5:$AF$1000,3,0)","v":{"$error":"#N/A"}},3.544008731842041E-2,null,16,"2.1",{"$f":"INDEX(Grup!$M$6:$M$1000,MATCH(Ana_Tablo_Kura!L541,Grup!$P$6:$P$1000,0),1)","v":2},{"$f":"IF(H541=0,VLOOKUP(I541,$B$525:$F$544,5,0),VLOOKUP(H541,Kura!$A$4:$Z$350,26,0))","v":"ÇORUM GENÇLİK SPOR (A) (ÇRM)"},"G2.1",{"$f":"IFERROR(VLOOKUP(K541,Kura!$A$4:$F$1000,6,0),0)","v":"ÇORUM"}]
[null,3,null,null,{"$f":"IF($E$527=\"G3.1\",\"G3.2\",\"G4.2\")","v":"G3.2"},{"$f":"VLOOKUP(E542,Grup!$N$5:$AF$1000,3,0)","v":"FINDIKLI 1974 SPOR (A) (RİZ)"},0.48348832130432129]
[null,6,null,null,{"$f":"IF($E$531=\"G7.1\",\"G7.2\",\"G8.2\")","v":"G8.2"},{"$f":"VLOOKUP(E543,Grup!$N$5:$AF$1000,3,0)","v":{"$error":"#N/A"}},0.79146403074264526]
[null,7,null,null,{"$f":"IF($E$526=\"G1.1\",\"G1.2\",\"G2.2\")","v":"G2.2"},{"$f":"VLOOKUP(E544,Grup!$N$5:$AF$1000,3,0)","v":"BAYBURT GMSK (A) (BYB)"},0.79417353868484497]
[]
[]
[null,8]
[]
[]
[null,"Place",null,null,"Group","Player",null,"Manuel",null,null,"S.No","Main table"]
[1,1,null,null,"G1.1",{"$f":"VLOOKUP(E551,Grup!$N$5:$AF$1000,3,0)","v":"ÇORUM BLD. SPOR (A) (ÇRM)"},null,null,1,"1.1",{"$f":"INDEX(Grup!$M$6:$M$1000,MATCH(Ana_Tablo_Kura!L551,Grup!$P$6:$P$1000,0),1)","v":1},{"$f":"IF(H551=0,VLOOKUP(I551,$B$551:$F$562,5,0),VLOOKUP(H551,Kura!$A$4:$Z$350,26,0))","v":"ÇORUM BLD. SPOR (A) (ÇRM)"},{"$f":"VLOOKUP(I551,$B$551:$F$562,4,0)","v":"G1.1"},{"$f":"IFERROR(VLOOKUP(K551,Kura!$A$4:$F$1000,6,0),0)","v":"ÇORUM"}]
[2,8,null,null,"G2.1",{"$f":"VLOOKUP(E552,Grup!$N$5:$AF$1000,3,0)","v":"ÇORUM GENÇLİK SPOR (A) (ÇRM)"},null,null,2,null,{"$f":"INDEX(Grup!$M$6:$M$1000,MATCH(Ana_Tablo_Kura!L552,Grup!$P$6:$P$1000,0),1)","v":7},{"$f":"IF(H552=0,VLOOKUP(I552,$B$551:$F$562,5,0),VLOOKUP(H552,Kura!$A$4:$Z$350,26,0))","v":"BAYBURT GMSK (A) (BYB)"},{"$f":"VLOOKUP(I552,$B$551:$F$562,4,0)","v":"G2.2"},{"$f":"IFERROR(VLOOKUP(K552,Kura!$A$4:$F$1000,6,0),0)","v":"BAYBURT"}]
["3-4",4,null,null,"G4.1",{"$f":"VLOOKUP(E553,Grup!$N$5:$AF$1000,3,0)","v":"KUTLUBEY OKULLARI (A) (AMS)"},0.18601351976394653,null,3,null,{"$f":"INDEX(Grup!$M$6:$M$1000,MATCH(Ana_Tablo_Kura!L553,Grup!$P$6:$P$1000,0),1)","v":9},{"$f":"IF(H553=0,VLOOKUP(I553,$B$551:$F$562,5,0),VLOOKUP(H553,Kura!$A$4:$Z$350,26,0))","v":"FINDIKLI 1974 SPOR (A) (RİZ)"},{"$f":"VLOOKUP(I553,$B$551:$F$562,4,0)","v":"G3.2"},{"$f":"IFERROR(VLOOKUP(K553,Kura!$A$4:$F$1000,6,0),0)","v":"RİZE"}]
["3-4",5,null,null,"G3.1",{"$f":"VLOOKUP(E554,Grup!$N$5:$AF$1000,3,0)","v":"ŞAFAKTEPE SK (A) (ANK)"},0.5833590030670166,null,4,"3/4.1",{"$f":"INDEX(Grup!$M$6:$M$1000,MATCH(Ana_Tablo_Kura!L554,Grup!$P$6:$P$1000,0),1)","v":5},{"$f":"IF(H554=0,VLOOKUP(I554,$B$551:$F$562,5,0),VLOOKUP(H554,Kura!$A$4:$Z$350,26,0))","v":"KUTLUBEY OKULLARI (A) (AMS)"},{"$f":"VLOOKUP(I554,$B$551:$F$562,4,0)","v":"G4.1"},{"$f":"IFERROR(VLOOKUP(K554,Kura!$A$4:$F$1000,6,0),0)","v":"AMASYA"}]
[]
[null,"Lower Group Runners-down (↓)",null,null,null,null,null,null,5,"3/4.1",{"$f":"INDEX(Grup!$M$6:$M$1000,MATCH(Ana_Tablo_Kura!L556,Grup!$P$6:$P$1000,0),1)","v":3},{"$f":"IF(H556=0,VLOOKUP(I556,$B$551:$F$562,5,0),VLOOKUP(H556,Kura!$A$4:$Z$350,26,0))","v":"ŞAFAKTEPE SK (A) (ANK)"},{"$f":"VLOOKUP(I556,$B$551:$F$562,4,0)","v":"G3.1"},{"$f":"IFERROR(VLOOKUP(K556,Kura!$A$4:$F$1000,6,0),0)","v":"ANKARA"}]
[null,6,null,null,{"$f":"IF($E$551=\"G1.1\",\"G1.2\",\"G2.2\")","v":"G1.2"},{"$f":"VLOOKUP(E557,Grup!$N$5:$AF$1000,3,0)","v":"BEŞİKDÜZÜ AYYILDIZ SPOR (A) (TRB)"},9.7973823547363281E-2,null,6,null,{"$f":"INDEX(Grup!$M$6:$M$1000,MATCH(Ana_Tablo_Kura!L557,Grup!$P$6:$P$1000,0),1)","v":8},{"$f":"IF(H557=0,VLOOKUP(I557,$B$551:$F$562,5,0),VLOOKUP(H557,Kura!$A$4:$Z$350,26,0))","v":"BEŞİKDÜZÜ AYYILDIZ SPOR (A) (TRB)"},{"$f":"VLOOKUP(I557,$B$551:$F$562,4,0)","v":"G1.2"},{"$f":"IFERROR(VLOOKUP(K557,Kura!$A$4:$F$1000,6,0),0)","v":"TRABZON"}]
[null,7,null,null,{"$f":"IF($E$553=\"G3.1\",\"G3.2\",\"G4.2\")","v":"G4.2"},{"$f":"VLOOKUP(E558,Grup!$N$5:$AF$1000,3,0)","v":"YALIKÖY ŞBÇ OO (A) (GRS)"},0.42845636606216431,null,7,null,{"$f":"INDEX(Grup!$M$6:$M$1000,MATCH(Ana_Tablo_Kura!L558,Grup!$P$6:$P$1000,0),1)","v":4},{"$f":"IF(H558=0,VLOOKUP(I558,$B$551:$F$562,5,0),VLOOKUP(H558,Kura!$A$4:$Z$350,26,0))","v":"YALIKÖY ŞBÇ OO (A) (GRS)"},{"$f":"VLOOKUP(I558,$B$551:$F$562,4,0)","v":"G4.2"},{"$f":"IFERROR(VLOOKUP(K558,Kura!$A$4:$F$1000,6,0),0)","v":"GİRESUN"}]
[null,null,null,null,null,null,null,null,8,"2.1",{"$f":"INDEX(Grup!$M$6:$M$1000,MATCH(Ana_Tablo_Kura!L559,Grup!$P$6:$P$1000,0),1)","v":2},{"$f":"IF(H559=0,VLOOKUP(I559,$B$551:$F$562,5,0),VLOOKUP(H559,Kura!$A$4:$Z$350,26,0))","v":"ÇORUM GENÇLİK SPOR (A) (ÇRM)"},{"$f":"VLOOKUP(I559,$B$551:$F$562,4,0)","v":"G2.1"},{"$f":"IFERROR(VLOOKUP(K559,Kura!$A$4:$F$1000,6,0),0)","v":"ÇORUM"}]
[null,"Upper Group Runners-up (↑)"]
[null,2,null,null,{"$f":"IF($E$552=\"G1.1\",\"G1.2\",\"G2.2\")","v":"G2.2"},{"$f":"VLOOKUP(E561,Grup!$N$5:$AF$1000,3,0)","v":"BAYBURT GMSK (A) (BYB)"},0.46298003196716309]
[null,3,null,null,{"$f":"IF($E$554=\"G3.1\",\"G3.2\",\"G4.2\")","v":"G3.2"},{"$f":"VLOOKUP(E562,Grup!$N$5:$AF$1000,3,0)","v":"FINDIKLI 1974 SPOR (A) (RİZ)"},0.51373749971389771]

{"sheet":"On_Eleme","index":5,"n_rows":195,"n_cols":52,"rows_kept":195,"cut":false,"hidden":true,"merged":[[0,4,1,7],[2,4,2,7],[3,47,3,48],[3,49,3,50],[3,51,3,52],[3,41,3,42],[3,43,3,44],[3,45,3,46]]}
[null,null,null,null,{"$f":"Kura!AC1","v":"TÜRKİYE MASA TENİSİ FEDERASYONU\nGENÇLER TAKIM KUZEYDOĞU BÖLGE YARIŞMALARI"},null,null,null,null,null,null,null,null,null,null,null,null,null,null,null,null,null,null,null,null,null,null,null,null,null,null,null,null,null,null,null,null,null,null,{"$f":"COUNTIF(AN5:AN68,\"<>0\")","v":4}]
[]
[null,null,null,null,{"$f":"Kura!A2&\" \"&Kura!AC3","v":"KIZ TAKIM  [15-16 Mart 2025 TRABZON] [ Ön Eleme ]"}]
[null,null,null,null,"Sporcu","Skor","Galip",null,"Külüp Adı",null,null,"Eleme tablosu ilk turda denk gelip gelmediğinin kontrolü yapılır",null,null,null,null,null,null,null,null,null,null,null,null,null,null,null,null,null,null,null,null,null,null,"#","Date","Time","Table","Competition","Player-A","Player-B","Set1",null,"Set2",null,"Set3",null,"Set4",null,"Set5",null,"Result"]
[1,"E1",6,null,{"$f":"IFERROR(VLOOKUP(C5,Kura!$A$4:$Z$301,26,0),0)","v":"GİRESUN GENÇLİK VE SPOR (A) (GRS)"},{"$f":"AZ5","v":0},{"$f":"IF(AND(F5=0,F6=0),\"\",IF(F5>F6,E5,E6))","v":""},null,{"$f":"IFERROR(VLOOKUP(C5,Kura!$A$4:$G$301,6,0),0)","v":"GİRESUN"},null,null,"E1",1,{"$f":"OFFSET(Sablon!$DN$1,M5,Main!R2)","v":3},{"$f":"IFERROR(VLOOKUP(N5,Kura!$A$4:$Z$301,26,0),0)","v":"ŞAFAKTEPE SK (A) (ANK)"},{"$f":"IFERROR(VLOOKUP(N5,Kura!$A$4:$G$301,6,0),0)","v":"ANKARA"},null,null,null,null,null,null,null,null,null,null,null,null,null,null,null,null,null,null,1,null,null,null,null,{"$f":"E5","v":"GİRESUN GENÇLİK VE SPOR (A) (GRS)"},{"$f":"E6","v":"FINDIKLI 1974 SPOR (A) (RİZ)"}]
["1.1",null,9,null,{"$f":"IFERROR(VLOOKUP(C6,Kura!$A$4:$Z$301,26,0),0)","v":"FINDIKLI 1974 SPOR (A) (RİZ)"},{"$f":"BA5","v":0},null,null,{"$f":"IFERROR(VLOOKUP(C6,Kura!$A$4:$G$301,6,0),0)","v":"RİZE"},null,null,null,null,null,null,null,null,null,null,null,null,null,null,null,null,null,null,null,null,null,null,null,null,null,2,null,null,null,null,{"$f":"E8","v":"KUTLUBEY OKULLARI (A) (AMS)"},{"$f":"E9","v":"ORTAHİSAR BLD. SPOR (A) (TRB)"}]
[null,null,null,null,null,null,null,null,null,null,null,null,null,null,null,null,null,null,null,null,null,null,null,null,null,null,null,null,null,null,null,null,null,null,3,null,null,null,null,{"$f":"E11","v":"BAYBURT GMSK (A) (BYB)"},{"$f":"E12","v":0}]
[2,"E2",5,null,{"$f":"IFERROR(VLOOKUP(C8,Kura!$A$4:$Z$301,26,0),0)","v":"KUTLUBEY OKULLARI (A) (AMS)"},{"$f":"AZ6","v":0},{"$f":"IF(AND(F8=0,F9=0),\"\",IF(F8>F9,E8,E9))","v":""},null,{"$f":"IFERROR(VLOOKUP(C8,Kura!$A$4:$G$301,6,0),0)","v":"AMASYA"},null,null,"E2",2,{"$f":"OFFSET(Sablon!$DN$1,M8,Main!R2)","v":4},{"$f":"IFERROR(VLOOKUP(N8,Kura!$A$4:$Z$301,26,0),0)","v":"YALIKÖY ŞBÇ OO (A) (GRS)"},{"$f":"IFERROR(VLOOKUP(N8,Kura!$A$4:$G$301,6,0),0)","v":"GİRESUN"},null,null,null,null,null,null,null,null,null,null,null,null,null,null,null,null,null,null,4,null,null,null,null,{"$f":"E14","v":"BEŞİKDÜZÜ AYYILDIZ SPOR (A) (TRB)"},{"$f":"E15","v":0}]
["2.2",null,10,null,{"$f":"IFERROR(VLOOKUP(C9,Kura!$A$4:$Z$301,26,0),0)","v":"ORTAHİSAR BLD. SPOR (A) (TRB)"},{"$f":"BA6","v":0},null,null,{"$f":"IFERROR(VLOOKUP(C9,Kura!$A$4:$G$301,6,0),0)","v":"TRABZON"},null,null,null,null,null,null,null,null,null,null,null,null,null,null,null,null,null,null,null,null,null,null,null,null,null,5,null,null,null,null,{"$f":"E17","v":0},{"$f":"E18","v":0}]
[null,null,null,null,null,null,null,null,null,null,null,null,null,null,null,null,null,null,null,null,null,null,null,null,null,null,null,null,null,null,null,null,null,null,6,null,null,null,null,{"$f":"E20","v":0},{"$f":"E21","v":0}]
[3,"E3",7,null,{"$f":"IFERROR(VLOOKUP(C11,Kura!$A$4:$Z$301,26,0),0)","v":"BAYBURT GMSK (A) (BYB)"},{"$f":"AZ7","v":0},{"$f":"IF(AND(F11=0,F12=0),\"\",IF(F11>F12,E11,E12))","v":""},null,{"$f":"IFERROR(VLOOKUP(C11,Kura!$A$4:$G$301,6,0),0)","v":"BAYBURT"},null,null,"E3",3,{"$f":"OFFSET(Sablon!$DN$1,M11,Main!R2)","v":2},{"$f":"IFERROR(VLOOKUP(N11,Kura!$A$4:$Z$301,26,0),0)","v":"ÇORUM GENÇLİK SPOR (A) (ÇRM)"},{"$f":"IFERROR(VLOOKUP(N11,Kura!$A$4:$G$301,6,0),0)","v":"ÇORUM"},null,null,null,null,null,null,null,null,null,null,null,null,null,null,null,null,null,null,7,null,null,null,null,{"$f":"E23","v":0},{"$f":"E24","v":0}]
["3.3",null,11,null,{"$f":"IFERROR(VLOOKUP(C12,Kura!$A$4:$Z$301,26,0),0)","v":0},{"$f":"BA7","v":0},null,null,{"$f":"IFERROR(VLOOKUP(C12,Kura!$A$4:$G$301,6,0),0)","v":0},null,null,null,null,null,null,null,null,null,null,null,null,null,null,null,null,null,null,null,null,null,null,null,null,null,8,null,null,null,null,{"$f":"E26","v":0},{"$f":"E27","v":0}]
[null,null,null,null,null,null,null,null,null,null,null,null,null,null,null,null,null,null,null,null,null,null,null,null,null,null,null,null,null,null,null,null,null,null,9,null,null,null,null,{"$f":"E29","v":0},{"$f":"E30","v":0}]
[4,"E4",8,null,{"$f":"IFERROR(VLOOKUP(C14,Kura!$A$4:$Z$301,26,0),0)","v":"BEŞİKDÜZÜ AYYILDIZ SPOR (A) (TRB)"},{"$f":"AZ8","v":0},{"$f":"IF(AND(F14=0,F15=0),\"\",IF(F14>F15,E14,E15))","v":""},null,{"$f":"IFERROR(VLOOKUP(C14,Kura!$A$4:$G$301,6,0),0)","v":"TRABZON"},null,null,"E4",4,{"$f":"OFFSET(Sablon!$DN$1,M14,Main!R2)","v":1},{"$f":"IFERROR(VLOOKUP(N14,Kura!$A$4:$Z$301,26,0),0)","v":"ÇORUM BLD. SPOR (A) (ÇRM)"},{"$f":"IFERROR(VLOOKUP(N14,Kura!$A$4:$G$301,6,0),0)","v":"ÇORUM"},null,null,null,null,null,null,null,null,null,null,null,null,null,null,null,null,null,null,10,null,null,null,null,{"$f":"E32","v":0},{"$f":"E33","v":0}]
["4.4",null,12,null,{"$f":"IFERROR(VLOOKUP(C15,Kura!$A$4:$Z$301,26,0),0)","v":0},{"$f":"BA8","v":0},null,null,{"$f":"IFERROR(VLOOKUP(C15,Kura!$A$4:$G$301,6,0),0)","v":0},null,null,null,null,null,null,null,null,null,null,null,null,null,null,null,null,null,null,null,null,null,null,null,null,null,11,null,null,null,null,{"$f":"E35","v":0},{"$f":"E36","v":0}]
[null,null,null,null,null,null,null,null,null,null,null,null,null,null,null,null,null,null,null,null,null,null,null,null,null,null,null,null,null,null,null,null,null,null,12,null,null,null,null,{"$f":"E38","v":0},{"$f":"E39","v":0}]
[5,"E5",null,null,{"$f":"IFERROR(VLOOKUP(C17,Kura!$A$4:$Z$301,26,0),0)","v":0},{"$f":"AZ9","v":0},{"$f":"IF(AND(F17=0,F18=0),\"\",IF(F17>F18,E17,E18))","v":""},null,{"$f":"IFERROR(VLOOKUP(C17,Kura!$A$4:$G$301,6,0),0)","v":0},null,null,"E5",5,{"$f":"OFFSET(Sablon!$DN$1,M17,Main!R2)","v":0},{"$f":"IFERROR(VLOOKUP(N17,Kura!$A$4:$Z$301,26,0),0)","v":0},{"$f":"IFERROR(VLOOKUP(N17,Kura!$A$4:$G$301,6,0),0)","v":0},null,null,null,null,null,null,null,null,null,null,null,null,null,null,null,null,null,null,13,null,null,null,null,{"$f":"E41","v":0},{"$f":"E42","v":0}]
["5.5",null,null,null,{"$f":"IFERROR(VLOOKUP(C18,Kura!$A$4:$Z$301,26,0),0)","v":0},{"$f":"BA9","v":0},null,null,{"$f":"IFERROR(VLOOKUP(C18,Kura!$A$4:$G$301,6,0),0)","v":0},null,null,null,null,null,null,null,null,null,null,null,null,null,null,null,null,null,null,null,null,null,null,null,null,null,14,null,null,null,null,{"$f":"E44","v":0},{"$f":"E45","v":0}]
[null,null,null,null,null,null,null,null,null,null,null,null,null,null,null,null,null,null,null,null,null,null,null,null,null,null,null,null,null,null,null,null,null,null,15,null,null,null,null,{"$f":"E47","v":0},{"$f":"E48","v":0}]
[6,"E6",null,null,{"$f":"IFERROR(VLOOKUP(C20,Kura!$A$4:$Z$301,26,0),0)","v":0},{"$f":"AZ10","v":0},{"$f":"IF(AND(F20=0,F21=0),\"\",IF(F20>F21,E20,E21))","v":""},null,{"$f":"IFERROR(VLOOKUP(C20,Kura!$A$4:$G$301,6,0),0)","v":0},null,null,"E6",6,{"$f":"OFFSET(Sablon!$DN$1,M20,Main!R2)","v":0},{"$f":"IFERROR(VLOOKUP(N20,Kura!$A$4:$Z$301,26,0),0)","v":0},{"$f":"IFERROR(VLOOKUP(N20,Kura!$A$4:$G$301,6,0),0)","v":0},null,null,null,null,null,null,null,null,null,null,null,null,null,null,null,null,null,null,16,null,null,null,null,{"$f":"E50","v":0},{"$f":"E51","v":0}]
["6.6",null,null,null,{"$f":"IFERROR(VLOOKUP(C21,Kura!$A$4:$Z$301,26,0),0)","v":0},{"$f":"BA10","v":0},null,null,{"$f":"IFERROR(VLOOKUP(C21,Kura!$A$4:$G$301,6,0),0)","v":0},null,null,null,null,null,null,null,null,null,null,null,null,null,null,null,null,null,null,null,null,null,null,null,null,null,17,null,null,null,null,{"$f":"E53","v":0},{"$f":"E54","v":0}]
[null,null,null,null,null,null,null,null,null,null,null,null,null,null,null,null,null,null,null,null,null,null,null,null,null,null,null,null,null,null,null,null,null,null,18,null,null,null,null,{"$f":"E56","v":0},{"$f":"E57","v":0}]
[7,"E7",null,null,{"$f":"IFERROR(VLOOKUP(C23,Kura!$A$4:$Z$301,26,0),0)","v":0},{"$f":"AZ11","v":0},{"$f":"IF(AND(F23=0,F24=0),\"\",IF(F23>F24,E23,E24))","v":""},null,{"$f":"IFERROR(VLOOKUP(C23,Kura!$A$4:$G$301,6,0),0)","v":0},null,null,"E7",7,{"$f":"OFFSET(Sablon!$DN$1,M23,Main!R2)","v":0},{"$f":"IFERROR(VLOOKUP(N23,Kura!$A$4:$Z$301,26,0),0)","v":0},{"$f":"IFERROR(VLOOKUP(N23,Kura!$A$4:$G$301,6,0),0)","v":0},null,null,null,null,null,null,null,null,null,null,null,null,null,null,null,null,null,null,19,null,null,null,null,{"$f":"E59","v":0},{"$f":"E60","v":0}]
["7.7",null,null,null,{"$f":"IFERROR(VLOOKUP(C24,Kura!$A$4:$Z$301,26,0),0)","v":0},{"$f":"BA11","v":0},null,null,{"$f":"IFERROR(VLOOKUP(C24,Kura!$A$4:$G$301,6,0),0)","v":0},null,null,null,null,null,null,null,null,null,null,null,null,null,null,null,null,null,null,null,null,null,null,null,null,null,20,null,null,null,null,{"$f":"E62","v":0},{"$f":"E63","v":0}]
[null,null,null,null,null,null,null,null,null,null,null,null,null,null,null,null,null,null,null,null,null,null,null,null,null,null,null,null,null,null,null,null,null,null,21,null,null,null,null,{"$f":"E65","v":0},{"$f":"E66","v":0}]
[8,"E8",null,null,{"$f":"IFERROR(VLOOKUP(C26,Kura!$A$4:$Z$301,26,0),0)","v":0},{"$f":"AZ12","v":0},{"$f":"IF(AND(F26=0,F27=0),\"\",IF(F26>F27,E26,E27))","v":""},null,{"$f":"IFERROR(VLOOKUP(C26,Kura!$A$4:$G$301,6,0),0)","v":0},null,null,"E8",8,{"$f":"OFFSET(Sablon!$DN$1,M26,Main!R2)","v":0},{"$f":"IFERROR(VLOOKUP(N26,Kura!$A$4:$Z$301,26,0),0)","v":0},{"$f":"IFERROR(VLOOKUP(N26,Kura!$A$4:$G$301,6,0),0)","v":0},null,null,null,null,null,null,null,null,null,null,null,null,null,null,null,null,null,null,22,null,null,null,null,{"$f":"E68","v":0},{"$f":"E69","v":0}]
["8.8",null,null,null,{"$f":"IFERROR(VLOOKUP(C27,Kura!$A$4:$Z$301,26,0),0)","v":0},{"$f":"BA12","v":0},null,null,{"$f":"IFERROR(VLOOKUP(C27,Kura!$A$4:$G$301,6,0),0)","v":0},null,null,null,null,null,null,null,null,null,null,null,null,null,null,null,null,null,null,null,null,null,null,null,null,null,23,null,null,null,null,{"$f":"E71","v":0},{"$f":"E72","v":0}]
[null,null,null,null,null,null,null,null,null,null,null,null,null,null,null,null,null,null,null,null,null,null,null,null,null,null,null,null,null,null,null,null,null,null,24,null,null,null,null,{"$f":"E74","v":0},{"$f":"E75","v":0}]
[9,"E9",null,null,{"$f":"IFERROR(VLOOKUP(C29,Kura!$A$4:$Z$301,26,0),0)","v":0},{"$f":"AZ13","v":0},{"$f":"IF(AND(F29=0,F30=0),\"\",IF(F29>F30,E29,E30))","v":""},null,{"$f":"IFERROR(VLOOKUP(C29,Kura!$A$4:$G$301,6,0),0)","v":0},null,null,"E9",9,{"$f":"OFFSET(Sablon!$DN$1,M29,Main!R2)","v":0},{"$f":"IFERROR(VLOOKUP(N29,Kura!$A$4:$Z$301,26,0),0)","v":0},{"$f":"IFERROR(VLOOKUP(N29,Kura!$A$4:$G$301,6,0),0)","v":0},null,null,null,null,null,null,null,null,null,null,null,null,null,null,null,null,null,null,25,null,null,null,null,{"$f":"E77","v":0},{"$f":"E78","v":0}]
["9.9",null,null,null,{"$f":"IFERROR(VLOOKUP(C30,Kura!$A$4:$Z$301,26,0),0)","v":0},{"$f":"BA13","v":0},null,null,{"$f":"IFERROR(VLOOKUP(C30,Kura!$A$4:$G$301,6,0),0)","v":0},null,null,null,null,null,null,null,null,null,null,null,null,null,null,null,null,null,null,null,null,null,null,null,null,null,26,null,null,null,null,{"$f":"E80","v":0},{"$f":"E81","v":0}]
[null,null,null,null,null,null,null,null,null,null,null,null,null,null,null,null,null,null,null,null,null,null,null,null,null,null,null,null,null,null,null,null,null,null,27,null,null,null,null,{"$f":"E83","v":0},{"$f":"E84","v":0}]
[10,"E10",null,null,{"$f":"IFERROR(VLOOKUP(C32,Kura!$A$4:$Z$301,26,0),0)","v":0},{"$f":"AZ14","v":0},{"$f":"IF(AND(F32=0,F33=0),\"\",IF(F32>F33,E32,E33))","v":""},null,{"$f":"IFERROR(VLOOKUP(C32,Kura!$A$4:$G$301,6,0),0)","v":0},null,null,"E10",10,{"$f":"OFFSET(Sablon!$DN$1,M32,Main!R2)","v":0},{"$f":"IFERROR(VLOOKUP(N32,Kura!$A$4:$Z$301,26,0),0)","v":0},{"$f":"IFERROR(VLOOKUP(N32,Kura!$A$4:$G$301,6,0),0)","v":0},null,null,null,null,null,null,null,null,null,null,null,null,null,null,null,null,null,null,28,null,null,null,null,{"$f":"E86","v":0},{"$f":"E87","v":0}]
["10.10",null,null,null,{"$f":"IFERROR(VLOOKUP(C33,Kura!$A$4:$Z$301,26,0),0)","v":0},{"$f":"BA14","v":0},null,null,{"$f":"IFERROR(VLOOKUP(C33,Kura!$A$4:$G$301,6,0),0)","v":0},null,null,null,null,null,null,null,null,null,null,null,null,null,null,null,null,null,null,null,null,null,null,null,null,null,29,null,null,null,null,{"$f":"E89","v":0},{"$f":"E90","v":0}]
[null,null,null,null,null,null,null,null,null,null,null,null,null,null,null,null,null,null,null,null,null,null,null,null,null,null,null,null,null,null,null,null,null,null,30,null,null,null,null,{"$f":"E92","v":0},{"$f":"E93","v":0}]
[11,"E11",null,null,{"$f":"IFERROR(VLOOKUP(C35,Kura!$A$4:$Z$301,26,0),0)","v":0},{"$f":"AZ15","v":0},{"$f":"IF(AND(F35=0,F36=0),\"\",IF(F35>F36,E35,E36))","v":""},null,{"$f":"IFERROR(VLOOKUP(C35,Kura!$A$4:$G$301,6,0),0)","v":0},null,null,"E11",11,{"$f":"OFFSET(Sablon!$DN$1,M35,Main!R2)","v":0},{"$f":"IFERROR(VLOOKUP(N35,Kura!$A$4:$Z$301,26,0),0)","v":0},{"$f":"IFERROR(VLOOKUP(N35,Kura!$A$4:$G$301,6,0),0)","v":0},null,null,null,null,null,null,null,null,null,null,null,null,null,null,null,null,null,null,31,null,null,null,null,{"$f":"E95","v":0},{"$f":"E96","v":0}]
["11.11",null,null,null,{"$f":"IFERROR(VLOOKUP(C36,Kura!$A$4:$Z$301,26,0),0)","v":0},{"$f":"BA15","v":0},null,null,{"$f":"IFERROR(VLOOKUP(C36,Kura!$A$4:$G$301,6,0),0)","v":0},null,null,null,null,null,null,null,null,null,null,null,null,null,null,null,null,null,null,null,null,null,null,null,null,null,32,null,null,null,null,{"$f":"E98","v":0},{"$f":"E99","v":0}]
[null,null,null,null,null,null,null,null,null,null,null,null,null,null,null,null,null,null,null,null,null,null,null,null,null,null,null,null,null,null,null,null,null,null,33,null,null,null,null,{"$f":"E101","v":0},{"$f":"E102","v":0}]
[12,"E12",null,null,{"$f":"IFERROR(VLOOKUP(C38,Kura!$A$4:$Z$301,26,0),0)","v":0},{"$f":"AZ16","v":0},{"$f":"IF(AND(F38=0,F39=0),\"\",IF(F38>F39,E38,E39))","v":""},null,{"$f":"IFERROR(VLOOKUP(C38,Kura!$A$4:$G$301,6,0),0)","v":0},null,null,"E12",12,{"$f":"OFFSET(Sablon!$DN$1,M38,Main!R2)","v":0},{"$f":"IFERROR(VLOOKUP(N38,Kura!$A$4:$Z$301,26,0),0)","v":0},{"$f":"IFERROR(VLOOKUP(N38,Kura!$A$4:$G$301,6,0),0)","v":0},null,null,null,null,null,null,null,null,null,null,null,null,null,null,null,null,null,null,34,null,null,null,null,{"$f":"E104","v":0},{"$f":"E105","v":0}]
["12.12",null,null,null,{"$f":"IFERROR(VLOOKUP(C39,Kura!$A$4:$Z$301,26,0),0)","v":0},{"$f":"BA16","v":0},null,null,{"$f":"IFERROR(VLOOKUP(C39,Kura!$A$4:$G$301,6,0),0)","v":0},null,null,null,null,null,null,null,null,null,null,null,null,null,null,null,null,null,null,null,null,null,null,null,null,null,35,null,null,null,null,{"$f":"E107","v":0},{"$f":"E108","v":0}]
[null,null,null,null,null,null,null,null,null,null,null,null,null,null,null,null,null,null,null,null,null,null,null,null,null,null,null,null,null,null,null,null,null,null,36,null,null,null,null,{"$f":"E110","v":0},{"$f":"E111","v":0}]
[13,"E13",null,null,{"$f":"IFERROR(VLOOKUP(C41,Kura!$A$4:$Z$301,26,0),0)","v":0},{"$f":"AZ17","v":0},{"$f":"IF(AND(F41=0,F42=0),\"\",IF(F41>F42,E41,E42))","v":""},null,{"$f":"IFERROR(VLOOKUP(C41,Kura!$A$4:$G$301,6,0),0)","v":0},null,null,"E13",13,{"$f":"OFFSET(Sablon!$DN$1,M41,Main!R2)","v":0},{"$f":"IFERROR(VLOOKUP(N41,Kura!$A$4:$Z$301,26,0),0)","v":0},{"$f":"IFERROR(VLOOKUP(N41,Kura!$A$4:$G$301,6,0),0)","v":0},null,null,null,null,null,null,null,null,null,null,null,null,null,null,null,null,null,null,37,null,null,null,null,{"$f":"E113","v":0},{"$f":"E114","v":0}]
["13.13",null,null,null,{"$f":"IFERROR(VLOOKUP(C42,Kura!$A$4:$Z$301,26,0),0)","v":0},{"$f":"BA17","v":0},null,null,{"$f":"IFERROR(VLOOKUP(C42,Kura!$A$4:$G$301,6,0),0)","v":0},null,null,null,null,null,null,null,null,null,null,null,null,null,null,null,null,null,null,null,null,null,null,null,null,null,38,null,null,null,null,{"$f":"E116","v":0},{"$f":"E117","v":0}]
[null,null,null,null,null,null,null,null,null,null,null,null,null,null,null,null,null,null,null,null,null,null,null,null,null,null,null,null,null,null,null,null,null,null,39,null,null,null,null,{"$f":"E119","v":0},{"$f":"E120","v":0}]
[14,"E14",null,null,{"$f":"IFERROR(VLOOKUP(C44,Kura!$A$4:$Z$301,26,0),0)","v":0},{"$f":"AZ18","v":0},{"$f":"IF(AND(F44=0,F45=0),\"\",IF(F44>F45,E44,E45))","v":""},null,{"$f":"IFERROR(VLOOKUP(C44,Kura!$A$4:$G$301,6,0),0)","v":0},null,null,"E14",14,{"$f":"OFFSET(Sablon!$DN$1,M44,Main!R2)","v":0},{"$f":"IFERROR(VLOOKUP(N44,Kura!$A$4:$Z$301,26,0),0)","v":0},{"$f":"IFERROR(VLOOKUP(N44,Kura!$A$4:$G$301,6,0),0)","v":0},null,null,null,null,null,null,null,null,null,null,null,null,null,null,null,null,null,null,40,null,null,null,null,{"$f":"E122","v":0},{"$f":"E123","v":0}]
["14.14",null,null,null,{"$f":"IFERROR(VLOOKUP(C45,Kura!$A$4:$Z$301,26,0),0)","v":0},{"$f":"BA18","v":0},null,null,{"$f":"IFERROR(VLOOKUP(C45,Kura!$A$4:$G$301,6,0),0)","v":0},null,null,null,null,null,null,null,null,null,null,null,null,null,null,null,null,null,null,null,null,null,null,null,null,null,41,null,null,null,null,{"$f":"E125","v":0},{"$f":"E126","v":0}]
[null,null,null,null,null,null,null,null,null,null,null,null,null,null,null,null,null,null,null,null,null,null,null,null,null,null,null,null,null,null,null,null,null,null,42,null,null,null,null,{"$f":"E128","v":0},{"$f":"E129","v":0}]
[15,"E15",null,null,{"$f":"IFERROR(VLOOKUP(C47,Kura!$A$4:$Z$301,26,0),0)","v":0},{"$f":"AZ19","v":0},{"$f":"IF(AND(F47=0,F48=0),\"\",IF(F47>F48,E47,E48))","v":""},null,{"$f":"IFERROR(VLOOKUP(C47,Kura!$A$4:$G$301,6,0),0)","v":0},null,null,"E15",15,{"$f":"OFFSET(Sablon!$DN$1,M47,Main!R2)","v":0},{"$f":"IFERROR(VLOOKUP(N47,Kura!$A$4:$Z$301,26,0),0)","v":0},{"$f":"IFERROR(VLOOKUP(N47,Kura!$A$4:$G$301,6,0),0)","v":0},null,null,null,null,null,null,null,null,null,null,null,null,null,null,null,null,null,null,43,null,null,null,null,{"$f":"E131","v":0},{"$f":"E132","v":0}]
["15.15",null,null,null,{"$f":"IFERROR(VLOOKUP(C48,Kura!$A$4:$Z$301,26,0),0)","v":0},{"$f":"BA19","v":0},null,null,{"$f":"IFERROR(VLOOKUP(C48,Kura!$A$4:$G$301,6,0),0)","v":0},null,null,null,null,null,null,null,null,null,null,null,null,null,null,null,null,null,null,null,null,null,null,null,null,null,44,null,null,null,null,{"$f":"E134","v":0},{"$f":"E135","v":0}]
[null,null,null,null,null,null,null,null,null,null,null,null,null,null,null,null,null,null,null,null,null,null,null,null,null,null,null,null,null,null,null,null,null,null,45,null,null,null,null,{"$f":"E137","v":0},{"$f":"E138","v":0}]
[16,"E16",null,null,{"$f":"IFERROR(VLOOKUP(C50,Kura!$A$4:$Z$301,26,0),0)","v":0},{"$f":"AZ20","v":0},{"$f":"IF(AND(F50=0,F51=0),\"\",IF(F50>F51,E50,E51))","v":""},null,{"$f":"IFERROR(VLOOKUP(C50,Kura!$A$4:$G$301,6,0),0)","v":0},null,null,"E16",16,{"$f":"OFFSET(Sablon!$DN$1,M50,Main!R2)","v":0},{"$f":"IFERROR(VLOOKUP(N50,Kura!$A$4:$Z$301,26,0),0)","v":0},{"$f":"IFERROR(VLOOKUP(N50,Kura!$A$4:$G$301,6,0),0)","v":0},null,null,null,null,null,null,null,null,null,null,null,null,null,null,null,null,null,null,46,null,null,null,null,{"$f":"E140","v":0},{"$f":"E141","v":0}]
["16.16",null,null,null,{"$f":"IFERROR(VLOOKUP(C51,Kura!$A$4:$Z$301,26,0),0)","v":0},{"$f":"BA20","v":0},null,null,{"$f":"IFERROR(VLOOKUP(C51,Kura!$A$4:$G$301,6,0),0)","v":0},null,null,null,null,null,null,null,null,null,null,null,null,null,null,null,null,null,null,null,null,null,null,null,null,null,47,null,null,null,null,{"$f":"E143","v":0},{"$f":"E144","v":0}]
[null,null,null,null,null,null,null,null,null,null,null,null,null,null,null,null,null,null,null,null,null,null,null,null,null,null,null,null,null,null,null,null,null,null,48,null,null,null,null,{"$f":"E146","v":0},{"$f":"E147","v":0}]
[17,"E17",null,null,{"$f":"IFERROR(VLOOKUP(C53,Kura!$A$4:$Z$301,26,0),0)","v":0},{"$f":"AZ21","v":0},{"$f":"IF(AND(F53=0,F54=0),\"\",IF(F53>F54,E53,E54))","v":""},null,{"$f":"IFERROR(VLOOKUP(C53,Kura!$A$4:$G$301,6,0),0)","v":0},null,null,"E17",17,{"$f":"OFFSET(Sablon!$DN$1,M53,Main!R2)","v":0},{"$f":"IFERROR(VLOOKUP(N53,Kura!$A$4:$Z$301,26,0),0)","v":0},{"$f":"IFERROR(VLOOKUP(N53,Kura!$A$4:$G$301,6,0),0)","v":0},null,null,null,null,null,null,null,null,null,null,null,null,null,null,null,null,null,null,49,null,null,null,null,{"$f":"E149","v":0},{"$f":"E150","v":0}]
["17.17",null,null,null,{"$f":"IFERROR(VLOOKUP(C54,Kura!$A$4:$Z$301,26,0),0)","v":0},{"$f":"BA21","v":0},null,null,{"$f":"IFERROR(VLOOKUP(C54,Kura!$A$4:$G$301,6,0),0)","v":0},null,null,null,null,null,null,null,null,null,null,null,null,null,null,null,null,null,null,null,null,null,null,null,null,null,50,null,null,null,null,{"$f":"E152","v":0},{"$f":"E153","v":0}]
[null,null,null,null,null,null,null,null,null,null,null,null,null,null,null,null,null,null,null,null,null,null,null,null,null,null,null,null,null,null,null,null,null,null,51,null,null,null,null,{"$f":"E155","v":0},{"$f":"E156","v":0}]
[18,"E18",null,null,{"$f":"IFERROR(VLOOKUP(C56,Kura!$A$4:$Z$301,26,0),0)","v":0},{"$f":"AZ22","v":0},{"$f":"IF(AND(F56=0,F57=0),\"\",IF(F56>F57,E56,E57))","v":""},null,{"$f":"IFERROR(VLOOKUP(C56,Kura!$A$4:$G$301,6,0),0)","v":0},null,null,"E18",18,{"$f":"OFFSET(Sablon!$DN$1,M56,Main!R2)","v":0},{"$f":"IFERROR(VLOOKUP(N56,Kura!$A$4:$Z$301,26,0),0)","v":0},{"$f":"IFERROR(VLOOKUP(N56,Kura!$A$4:$G$301,6,0),0)","v":0},null,null,null,null,null,null,null,null,null,null,null,null,null,null,null,null,null,null,52,null,null,null,null,{"$f":"E158","v":0},{"$f":"E159","v":0}]
["18.18",null,null,null,{"$f":"IFERROR(VLOOKUP(C57,Kura!$A$4:$Z$301,26,0),0)","v":0},{"$f":"BA22","v":0},null,null,{"$f":"IFERROR(VLOOKUP(C57,Kura!$A$4:$G$301,6,0),0)","v":0},null,null,null,null,null,null,null,null,null,null,null,null,null,null,null,null,null,null,null,null,null,null,null,null,null,53,null,null,null,null,{"$f":"E161","v":0},{"$f":"E162","v":0}]
[null,null,null,null,null,null,null,null,null,null,null,null,null,null,null,null,null,null,null,null,null,null,null,null,null,null,null,null,null,null,null,null,null,null,54,null,null,null,null,{"$f":"E164","v":0},{"$f":"E165","v":0}]
[19,"E19",null,null,{"$f":"IFERROR(VLOOKUP(C59,Kura!$A$4:$Z$301,26,0),0)","v":0},{"$f":"AZ23","v":0},{"$f":"IF(AND(F59=0,F60=0),\"\",IF(F59>F60,E59,E60))","v":""},null,{"$f":"IFERROR(VLOOKUP(C59,Kura!$A$4:$G$301,6,0),0)","v":0},null,null,"E19",19,{"$f":"OFFSET(Sablon!$DN$1,M59,Main!R2)","v":0},{"$f":"IFERROR(VLOOKUP(N59,Kura!$A$4:$Z$301,26,0),0)","v":0},{"$f":"IFERROR(VLOOKUP(N59,Kura!$A$4:$G$301,6,0),0)","v":0},null,null,null,null,null,null,null,null,null,null,null,null,null,null,null,null,null,null,55,null,null,null,null,{"$f":"E167","v":0},{"$f":"E168","v":0}]
["19.19",null,null,null,{"$f":"IFERROR(VLOOKUP(C60,Kura!$A$4:$Z$301,26,0),0)","v":0},{"$f":"BA23","v":0},null,null,{"$f":"IFERROR(VLOOKUP(C60,Kura!$A$4:$G$301,6,0),0)","v":0},null,null,null,null,null,null,null,null,null,null,null,null,null,null,null,null,null,null,null,null,null,null,null,null,null,56,null,null,null,null,{"$f":"E170","v":0},{"$f":"E171","v":0}]
[null,null,null,null,null,null,null,null,null,null,null,null,null,null,null,null,null,null,null,null,null,null,null,null,null,null,null,null,null,null,null,null,null,null,57,null,null,null,null,{"$f":"E173","v":0},{"$f":"E174","v":0}]
[20,"E20",null,null,{"$f":"IFERROR(VLOOKUP(C62,Kura!$A$4:$Z$301,26,0),0)","v":0},{"$f":"AZ24","v":0},{"$f":"IF(AND(F62=0,F63=0),\"\",IF(F62>F63,E62,E63))","v":""},null,{"$f":"IFERROR(VLOOKUP(C62,Kura!$A$4:$G$301,6,0),0)","v":0},null,null,"E20",20,{"$f":"OFFSET(Sablon!$DN$1,M62,Main!R2)","v":0},{"$f":"IFERROR(VLOOKUP(N62,Kura!$A$4:$Z$301,26,0),0)","v":0},{"$f":"IFERROR(VLOOKUP(N62,Kura!$A$4:$G$301,6,0),0)","v":0},null,null,null,null,null,null,null,null,null,null,null,null,null,null,null,null,null,null,58,null,null,null,null,{"$f":"E176","v":0},{"$f":"E177","v":0}]
["20.20",null,null,null,{"$f":"IFERROR(VLOOKUP(C63,Kura!$A$4:$Z$301,26,0),0)","v":0},{"$f":"BA24","v":0},null,null,{"$f":"IFERROR(VLOOKUP(C63,Kura!$A$4:$G$301,6,0),0)","v":0},null,null,null,null,null,null,null,null,null,null,null,null,null,null,null,null,null,null,null,null,null,null,null,null,null,59,null,null,null,null,{"$f":"E179","v":0},{"$f":"E180","v":0}]
[null,null,null,null,null,null,null,null,null,null,null,null,null,null,null,null,null,null,null,null,null,null,null,null,null,null,null,null,null,null,null,null,null,null,60,null,null,null,null,{"$f":"E182","v":0},{"$f":"E183","v":0}]
[21,"E21",null,null,{"$f":"IFERROR(VLOOKUP(C65,Kura!$A$4:$Z$301,26,0),0)","v":0},{"$f":"AZ25","v":0},{"$f":"IF(AND(F65=0,F66=0),\"\",IF(F65>F66,E65,E66))","v":""},null,{"$f":"IFERROR(VLOOKUP(C65,Kura!$A$4:$G$301,6,0),0)","v":0},null,null,"E21",21,{"$f":"OFFSET(Sablon!$DN$1,M65,Main!R2)","v":0},{"$f":"IFERROR(VLOOKUP(N65,Kura!$A$4:$Z$301,26,0),0)","v":0},{"$f":"IFERROR(VLOOKUP(N65,Kura!$A$4:$G$301,6,0),0)","v":0},null,null,null,null,null,null,null,null,null,null,null,null,null,null,null,null,null,null,61,null,null,null,null,{"$f":"E185","v":0},{"$f":"E186","v":0}]
["21.21",null,null,null,{"$f":"IFERROR(VLOOKUP(C66,Kura!$A$4:$Z$301,26,0),0)","v":0},{"$f":"BA25","v":0},null,null,{"$f":"IFERROR(VLOOKUP(C66,Kura!$A$4:$G$301,6,0),0)","v":0},null,null,null,null,null,null,null,null,null,null,null,null,null,null,null,null,null,null,null,null,null,null,null,null,null,62,null,null,null,null,{"$f":"E188","v":0},{"$f":"E189","v":0}]
[null,null,null,null,null,null,null,null,null,null,null,null,null,null,null,null,null,null,null,null,null,null,null,null,null,null,null,null,null,null,null,null,null,null,63,null,null,null,null,{"$f":"E191","v":0},{"$f":"E192","v":0}]
[22,"E22",null,null,{"$f":"IFERROR(VLOOKUP(C68,Kura!$A$4:$Z$301,26,0),0)","v":0},{"$f":"AZ26","v":0},{"$f":"IF(AND(F68=0,F69=0),\"\",IF(F68>F69,E68,E69))","v":""},null,{"$f":"IFERROR(VLOOKUP(C68,Kura!$A$4:$G$301,6,0),0)","v":0},null,null,"E22",22,{"$f":"OFFSET(Sablon!$DN$1,M68,Main!R2)","v":0},{"$f":"IFERROR(VLOOKUP(N68,Kura!$A$4:$Z$301,26,0),0)","v":0},{"$f":"IFERROR(VLOOKUP(N68,Kura!$A$4:$G$301,6,0),0)","v":0},null,null,null,null,null,null,null,null,null,null,null,null,null,null,null,null,null,null,64,null,null,null,null,{"$f":"E194","v":0},{"$f":"E195","v":0}]
["22.22",null,null,null,{"$f":"IFERROR(VLOOKUP(C69,Kura!$A$4:$Z$301,26,0),0)","v":0},{"$f":"BA26","v":0},null,null,{"$f":"IFERROR(VLOOKUP(C69,Kura!$A$4:$G$301,6,0),0)","v":0}]
[]
[23,"E23",null,null,{"$f":"IFERROR(VLOOKUP(C71,Kura!$A$4:$Z$301,26,0),0)","v":0},{"$f":"AZ27","v":0},{"$f":"IF(AND(F71=0,F72=0),\"\",IF(F71>F72,E71,E72))","v":""},null,{"$f":"IFERROR(VLOOKUP(C71,Kura!$A$4:$G$301,6,0),0)","v":0},null,null,"E23",23,{"$f":"OFFSET(Sablon!$DN$1,M71,Main!R2)","v":0},{"$f":"IFERROR(VLOOKUP(N71,Kura!$A$4:$Z$301,26,0),0)","v":0},{"$f":"IFERROR(VLOOKUP(N71,Kura!$A$4:$G$301,6,0),0)","v":0}]
["23.23",null,null,null,{"$f":"IFERROR(VLOOKUP(C72,Kura!$A$4:$Z$301,26,0),0)","v":0},{"$f":"BA27","v":0},null,null,{"$f":"IFERROR(VLOOKUP(C72,Kura!$A$4:$G$301,6,0),0)","v":0}]
[]
[24,"E24",null,null,{"$f":"IFERROR(VLOOKUP(C74,Kura!$A$4:$Z$301,26,0),0)","v":0},{"$f":"AZ28","v":0},{"$f":"IF(AND(F74=0,F75=0),\"\",IF(F74>F75,E74,E75))","v":""},null,{"$f":"IFERROR(VLOOKUP(C74,Kura!$A$4:$G$301,6,0),0)","v":0},null,null,"E24",24,{"$f":"OFFSET(Sablon!$DN$1,M74,Main!R2)","v":0},{"$f":"IFERROR(VLOOKUP(N74,Kura!$A$4:$Z$301,26,0),0)","v":0},{"$f":"IFERROR(VLOOKUP(N74,Kura!$A$4:$G$301,6,0),0)","v":0}]
["24.24",null,null,null,{"$f":"IFERROR(VLOOKUP(C75,Kura!$A$4:$Z$301,26,0),0)","v":0},{"$f":"BA28","v":0},null,null,{"$f":"IFERROR(VLOOKUP(C75,Kura!$A$4:$G$301,6,0),0)","v":0}]
[]
[25,"E25",null,null,{"$f":"IFERROR(VLOOKUP(C77,Kura!$A$4:$Z$301,26,0),0)","v":0},{"$f":"AZ29","v":0},{"$f":"IF(AND(F77=0,F78=0),\"\",IF(F77>F78,E77,E78))","v":""},null,{"$f":"IFERROR(VLOOKUP(C77,Kura!$A$4:$G$301,6,0),0)","v":0},null,null,"E25",25,{"$f":"OFFSET(Sablon!$DN$1,M77,Main!R2)","v":0},{"$f":"IFERROR(VLOOKUP(N77,Kura!$A$4:$Z$301,26,0),0)","v":0},{"$f":"IFERROR(VLOOKUP(N77,Kura!$A$4:$G$301,6,0),0)","v":0}]
["25.25",null,null,null,{"$f":"IFERROR(VLOOKUP(C78,Kura!$A$4:$Z$301,26,0),0)","v":0},{"$f":"BA29","v":0},null,null,{"$f":"IFERROR(VLOOKUP(C78,Kura!$A$4:$G$301,6,0),0)","v":0}]
[]
[26,"E26",null,null,{"$f":"IFERROR(VLOOKUP(C80,Kura!$A$4:$Z$301,26,0),0)","v":0},{"$f":"AZ30","v":0},{"$f":"IF(AND(F80=0,F81=0),\"\",IF(F80>F81,E80,E81))","v":""},null,{"$f":"IFERROR(VLOOKUP(C80,Kura!$A$4:$G$301,6,0),0)","v":0},null,null,"E26",26,{"$f":"OFFSET(Sablon!$DN$1,M80,Main!R2)","v":0},{"$f":"IFERROR(VLOOKUP(N80,Kura!$A$4:$Z$301,26,0),0)","v":0},{"$f":"IFERROR(VLOOKUP(N80,Kura!$A$4:$G$301,6,0),0)","v":0}]
["26.26",null,null,null,{"$f":"IFERROR(VLOOKUP(C81,Kura!$A$4:$Z$301,26,0),0)","v":0},{"$f":"BA30","v":0},null,null,{"$f":"IFERROR(VLOOKUP(C81,Kura!$A$4:$G$301,6,0),0)","v":0}]
[]
[27,"E27",null,null,{"$f":"IFERROR(VLOOKUP(C83,Kura!$A$4:$Z$301,26,0),0)","v":0},{"$f":"AZ31","v":0},{"$f":"IF(AND(F83=0,F84=0),\"\",IF(F83>F84,E83,E84))","v":""},null,{"$f":"IFERROR(VLOOKUP(C83,Kura!$A$4:$G$301,6,0),0)","v":0},null,null,"E27",27,{"$f":"OFFSET(Sablon!$DN$1,M83,Main!R2)","v":0},{"$f":"IFERROR(VLOOKUP(N83,Kura!$A$4:$Z$301,26,0),0)","v":0},{"$f":"IFERROR(VLOOKUP(N83,Kura!$A$4:$G$301,6,0),0)","v":0}]
["27.27",null,null,null,{"$f":"IFERROR(VLOOKUP(C84,Kura!$A$4:$Z$301,26,0),0)","v":0},{"$f":"BA31","v":0},null,null,{"$f":"IFERROR(VLOOKUP(C84,Kura!$A$4:$G$301,6,0),0)","v":0}]
[]
[28,"E28",null,null,{"$f":"IFERROR(VLOOKUP(C86,Kura!$A$4:$Z$301,26,0),0)","v":0},{"$f":"AZ32","v":0},{"$f":"IF(AND(F86=0,F87=0),\"\",IF(F86>F87,E86,E87))","v":""},null,{"$f":"IFERROR(VLOOKUP(C86,Kura!$A$4:$G$301,6,0),0)","v":0},null,null,"E28",28,{"$f":"OFFSET(Sablon!$DN$1,M86,Main!R2)","v":0},{"$f":"IFERROR(VLOOKUP(N86,Kura!$A$4:$Z$301,26,0),0)","v":0},{"$f":"IFERROR(VLOOKUP(N86,Kura!$A$4:$G$301,6,0),0)","v":0}]
["28.28",null,null,null,{"$f":"IFERROR(VLOOKUP(C87,Kura!$A$4:$Z$301,26,0),0)","v":0},{"$f":"BA32","v":0},null,null,{"$f":"IFERROR(VLOOKUP(C87,Kura!$A$4:$G$301,6,0),0)","v":0}]
[]
[29,"E29",null,null,{"$f":"IFERROR(VLOOKUP(C89,Kura!$A$4:$Z$301,26,0),0)","v":0},{"$f":"AZ33","v":0},{"$f":"IF(AND(F89=0,F90=0),\"\",IF(F89>F90,E89,E90))","v":""},null,{"$f":"IFERROR(VLOOKUP(C89,Kura!$A$4:$G$301,6,0),0)","v":0},null,null,"E29",29,{"$f":"OFFSET(Sablon!$DN$1,M89,Main!R2)","v":0},{"$f":"IFERROR(VLOOKUP(N89,Kura!$A$4:$Z$301,26,0),0)","v":0},{"$f":"IFERROR(VLOOKUP(N89,Kura!$A$4:$G$301,6,0),0)","v":0}]
["29.29",null,null,null,{"$f":"IFERROR(VLOOKUP(C90,Kura!$A$4:$Z$301,26,0),0)","v":0},{"$f":"BA33","v":0},null,null,{"$f":"IFERROR(VLOOKUP(C90,Kura!$A$4:$G$301,6,0),0)","v":0}]
[]
[30,"E30",null,null,{"$f":"IFERROR(VLOOKUP(C92,Kura!$A$4:$Z$301,26,0),0)","v":0},{"$f":"AZ34","v":0},{"$f":"IF(AND(F92=0,F93=0),\"\",IF(F92>F93,E92,E93))","v":""},null,{"$f":"IFERROR(VLOOKUP(C92,Kura!$A$4:$G$301,6,0),0)","v":0},null,null,"E30",30,{"$f":"OFFSET(Sablon!$DN$1,M92,Main!R2)","v":0},{"$f":"IFERROR(VLOOKUP(N92,Kura!$A$4:$Z$301,26,0),0)","v":0},{"$f":"IFERROR(VLOOKUP(N92,Kura!$A$4:$G$301,6,0),0)","v":0}]
["30.30",null,null,null,{"$f":"IFERROR(VLOOKUP(C93,Kura!$A$4:$Z$301,26,0),0)","v":0},{"$f":"BA34","v":0},null,null,{"$f":"IFERROR(VLOOKUP(C93,Kura!$A$4:$G$301,6,0),0)","v":0}]
[]
[31,"E31",null,null,{"$f":"IFERROR(VLOOKUP(C95,Kura!$A$4:$Z$301,26,0),0)","v":0},{"$f":"AZ35","v":0},{"$f":"IF(AND(F95=0,F96=0),\"\",IF(F95>F96,E95,E96))","v":""},null,{"$f":"IFERROR(VLOOKUP(C95,Kura!$A$4:$G$301,6,0),0)","v":0},null,null,"E31",31,{"$f":"OFFSET(Sablon!$DN$1,M95,Main!R2)","v":0},{"$f":"IFERROR(VLOOKUP(N95,Kura!$A$4:$Z$301,26,0),0)","v":0},{"$f":"IFERROR(VLOOKUP(N95,Kura!$A$4:$G$301,6,0),0)","v":0}]
["31.31",null,null,null,{"$f":"IFERROR(VLOOKUP(C96,Kura!$A$4:$Z$301,26,0),0)","v":0},{"$f":"BA35","v":0},null,null,{"$f":"IFERROR(VLOOKUP(C96,Kura!$A$4:$G$301,6,0),0)","v":0}]
[]
[32,"E32",null,null,{"$f":"IFERROR(VLOOKUP(C98,Kura!$A$4:$Z$301,26,0),0)","v":0},{"$f":"AZ36","v":0},{"$f":"IF(AND(F98=0,F99=0),\"\",IF(F98>F99,E98,E99))","v":""},null,{"$f":"IFERROR(VLOOKUP(C98,Kura!$A$4:$G$301,6,0),0)","v":0},null,null,"E32",32,{"$f":"OFFSET(Sablon!$DN$1,M98,Main!R2)","v":0},{"$f":"IFERROR(VLOOKUP(N98,Kura!$A$4:$Z$301,26,0),0)","v":0},{"$f":"IFERROR(VLOOKUP(N98,Kura!$A$4:$G$301,6,0),0)","v":0}]
["32.32",null,null,null,{"$f":"IFERROR(VLOOKUP(C99,Kura!$A$4:$Z$301,26,0),0)","v":0},{"$f":"BA36","v":0},null,null,{"$f":"IFERROR(VLOOKUP(C99,Kura!$A$4:$G$301,6,0),0)","v":0}]
[]
[33,"E33",null,null,{"$f":"IFERROR(VLOOKUP(C101,Kura!$A$4:$Z$301,26,0),0)","v":0},{"$f":"AZ37","v":0},{"$f":"IF(AND(F101=0,F102=0),\"\",IF(F101>F102,E101,E102))","v":""},null,{"$f":"IFERROR(VLOOKUP(C101,Kura!$A$4:$G$301,6,0),0)","v":0},null,null,"E33",33,{"$f":"OFFSET(Sablon!$DN$1,M101,Main!R2)","v":0},{"$f":"IFERROR(VLOOKUP(N101,Kura!$A$4:$Z$301,26,0),0)","v":0},{"$f":"IFERROR(VLOOKUP(N101,Kura!$A$4:$G$301,6,0),0)","v":0}]
["33.33",null,null,null,{"$f":"IFERROR(VLOOKUP(C102,Kura!$A$4:$Z$301,26,0),0)","v":0},{"$f":"BA37","v":0},null,null,{"$f":"IFERROR(VLOOKUP(C102,Kura!$A$4:$G$301,6,0),0)","v":0}]
[]
[34,"E34",null,null,{"$f":"IFERROR(VLOOKUP(C104,Kura!$A$4:$Z$301,26,0),0)","v":0},{"$f":"AZ38","v":0},{"$f":"IF(AND(F104=0,F105=0),\"\",IF(F104>F105,E104,E105))","v":""},null,{"$f":"IFERROR(VLOOKUP(C104,Kura!$A$4:$G$301,6,0),0)","v":0},null,null,"E34",34,{"$f":"OFFSET(Sablon!$DN$1,M104,Main!R2)","v":0},{"$f":"IFERROR(VLOOKUP(N104,Kura!$A$4:$Z$301,26,0),0)","v":0},{"$f":"IFERROR(VLOOKUP(N104,Kura!$A$4:$G$301,6,0),0)","v":0}]
["34.34",null,null,null,{"$f":"IFERROR(VLOOKUP(C105,Kura!$A$4:$Z$301,26,0),0)","v":0},{"$f":"BA38","v":0},null,null,{"$f":"IFERROR(VLOOKUP(C105,Kura!$A$4:$G$301,6,0),0)","v":0}]
[]
[35,"E35",null,null,{"$f":"IFERROR(VLOOKUP(C107,Kura!$A$4:$Z$301,26,0),0)","v":0},{"$f":"AZ39","v":0},{"$f":"IF(AND(F107=0,F108=0),\"\",IF(F107>F108,E107,E108))","v":""},null,{"$f":"IFERROR(VLOOKUP(C107,Kura!$A$4:$G$301,6,0),0)","v":0},null,null,"E35",35,{"$f":"OFFSET(Sablon!$DN$1,M107,Main!R2)","v":0},{"$f":"IFERROR(VLOOKUP(N107,Kura!$A$4:$Z$301,26,0),0)","v":0},{"$f":"IFERROR(VLOOKUP(N107,Kura!$A$4:$G$301,6,0),0)","v":0}]
["35.35",null,null,null,{"$f":"IFERROR(VLOOKUP(C108,Kura!$A$4:$Z$301,26,0),0)","v":0},{"$f":"BA39","v":0},null,null,{"$f":"IFERROR(VLOOKUP(C108,Kura!$A$4:$G$301,6,0),0)","v":0}]
[]
[36,"E36",null,null,{"$f":"IFERROR(VLOOKUP(C110,Kura!$A$4:$Z$301,26,0),0)","v":0},{"$f":"AZ40","v":0},{"$f":"IF(AND(F110=0,F111=0),\"\",IF(F110>F111,E110,E111))","v":""},null,{"$f":"IFERROR(VLOOKUP(C110,Kura!$A$4:$G$301,6,0),0)","v":0},null,null,"E36",36,{"$f":"OFFSET(Sablon!$DN$1,M110,Main!R2)","v":0},{"$f":"IFERROR(VLOOKUP(N110,Kura!$A$4:$Z$301,26,0),0)","v":0},{"$f":"IFERROR(VLOOKUP(N110,Kura!$A$4:$G$301,6,0),0)","v":0}]
["36.36",null,null,null,{"$f":"IFERROR(VLOOKUP(C111,Kura!$A$4:$Z$301,26,0),0)","v":0},{"$f":"BA40","v":0},null,null,{"$f":"IFERROR(VLOOKUP(C111,Kura!$A$4:$G$301,6,0),0)","v":0}]
[]
[37,"E37",null,null,{"$f":"IFERROR(VLOOKUP(C113,Kura!$A$4:$Z$301,26,0),0)","v":0},{"$f":"AZ41","v":0},{"$f":"IF(AND(F113=0,F114=0),\"\",IF(F113>F114,E113,E114))","v":""},null,{"$f":"IFERROR(VLOOKUP(C113,Kura!$A$4:$G$301,6,0),0)","v":0},null,null,"E37",37,{"$f":"OFFSET(Sablon!$DN$1,M113,Main!R2)","v":0},{"$f":"IFERROR(VLOOKUP(N113,Kura!$A$4:$Z$301,26,0),0)","v":0},{"$f":"IFERROR(VLOOKUP(N113,Kura!$A$4:$G$301,6,0),0)","v":0}]
["37.37",null,null,null,{"$f":"IFERROR(VLOOKUP(C114,Kura!$A$4:$Z$301,26,0),0)","v":0},{"$f":"BA41","v":0},null,null,{"$f":"IFERROR(VLOOKUP(C114,Kura!$A$4:$G$301,6,0),0)","v":0}]
[]
[38,"E38",null,null,{"$f":"IFERROR(VLOOKUP(C116,Kura!$A$4:$Z$301,26,0),0)","v":0},{"$f":"AZ42","v":0},{"$f":"IF(AND(F116=0,F117=0),\"\",IF(F116>F117,E116,E117))","v":""},null,{"$f":"IFERROR(VLOOKUP(C116,Kura!$A$4:$G$301,6,0),0)","v":0},null,null,"E38",38,{"$f":"OFFSET(Sablon!$DN$1,M116,Main!R2)","v":0},{"$f":"IFERROR(VLOOKUP(N116,Kura!$A$4:$Z$301,26,0),0)","v":0},{"$f":"IFERROR(VLOOKUP(N116,Kura!$A$4:$G$301,6,0),0)","v":0}]
["38.38",null,null,null,{"$f":"IFERROR(VLOOKUP(C117,Kura!$A$4:$Z$301,26,0),0)","v":0},{"$f":"BA42","v":0},null,null,{"$f":"IFERROR(VLOOKUP(C117,Kura!$A$4:$G$301,6,0),0)","v":0}]
[]
[39,"E39",null,null,{"$f":"IFERROR(VLOOKUP(C119,Kura!$A$4:$Z$301,26,0),0)","v":0},{"$f":"AZ43","v":0},{"$f":"IF(AND(F119=0,F120=0),\"\",IF(F119>F120,E119,E120))","v":""},null,{"$f":"IFERROR(VLOOKUP(C119,Kura!$A$4:$G$301,6,0),0)","v":0},null,null,"E39",39,{"$f":"OFFSET(Sablon!$DN$1,M119,Main!R2)","v":0},{"$f":"IFERROR(VLOOKUP(N119,Kura!$A$4:$Z$301,26,0),0)","v":0},{"$f":"IFERROR(VLOOKUP(N119,Kura!$A$4:$G$301,6,0),0)","v":0}]
["39.39",null,null,null,{"$f":"IFERROR(VLOOKUP(C120,Kura!$A$4:$Z$301,26,0),0)","v":0},{"$f":"BA43","v":0},null,null,{"$f":"IFERROR(VLOOKUP(C120,Kura!$A$4:$G$301,6,0),0)","v":0}]
[]
[40,"E40",null,null,{"$f":"IFERROR(VLOOKUP(C122,Kura!$A$4:$Z$301,26,0),0)","v":0},{"$f":"AZ44","v":0},{"$f":"IF(AND(F122=0,F123=0),\"\",IF(F122>F123,E122,E123))","v":""},null,{"$f":"IFERROR(VLOOKUP(C122,Kura!$A$4:$G$301,6,0),0)","v":0},null,null,"E40",40,{"$f":"OFFSET(Sablon!$DN$1,M122,Main!R2)","v":0},{"$f":"IFERROR(VLOOKUP(N122,Kura!$A$4:$Z$301,26,0),0)","v":0},{"$f":"IFERROR(VLOOKUP(N122,Kura!$A$4:$G$301,6,0),0)","v":0}]
["40.40",null,null,null,{"$f":"IFERROR(VLOOKUP(C123,Kura!$A$4:$Z$301,26,0),0)","v":0},{"$f":"BA44","v":0},null,null,{"$f":"IFERROR(VLOOKUP(C123,Kura!$A$4:$G$301,6,0),0)","v":0}]
[]
[41,"E41",null,null,{"$f":"IFERROR(VLOOKUP(C125,Kura!$A$4:$Z$301,26,0),0)","v":0},{"$f":"AZ45","v":0},{"$f":"IF(AND(F125=0,F126=0),\"\",IF(F125>F126,E125,E126))","v":""},null,{"$f":"IFERROR(VLOOKUP(C125,Kura!$A$4:$G$301,6,0),0)","v":0},null,null,"E41",41,{"$f":"OFFSET(Sablon!$DN$1,M125,Main!R2)","v":0},{"$f":"IFERROR(VLOOKUP(N125,Kura!$A$4:$Z$301,26,0),0)","v":0},{"$f":"IFERROR(VLOOKUP(N125,Kura!$A$4:$G$301,6,0),0)","v":0}]
["41.41",null,null,null,{"$f":"IFERROR(VLOOKUP(C126,Kura!$A$4:$Z$301,26,0),0)","v":0},{"$f":"BA45","v":0},null,null,{"$f":"IFERROR(VLOOKUP(C126,Kura!$A$4:$G$301,6,0),0)","v":0}]
[]
[42,"E42",null,null,{"$f":"IFERROR(VLOOKUP(C128,Kura!$A$4:$Z$301,26,0),0)","v":0},{"$f":"AZ46","v":0},{"$f":"IF(AND(F128=0,F129=0),\"\",IF(F128>F129,E128,E129))","v":""},null,{"$f":"IFERROR(VLOOKUP(C128,Kura!$A$4:$G$301,6,0),0)","v":0},null,null,"E42",42,{"$f":"OFFSET(Sablon!$DN$1,M128,Main!R2)","v":0},{"$f":"IFERROR(VLOOKUP(N128,Kura!$A$4:$Z$301,26,0),0)","v":0},{"$f":"IFERROR(VLOOKUP(N128,Kura!$A$4:$G$301,6,0),0)","v":0}]
["42.42",null,null,null,{"$f":"IFERROR(VLOOKUP(C129,Kura!$A$4:$Z$301,26,0),0)","v":0},{"$f":"BA46","v":0},null,null,{"$f":"IFERROR(VLOOKUP(C129,Kura!$A$4:$G$301,6,0),0)","v":0}]
[]
[43,"E43",null,null,{"$f":"IFERROR(VLOOKUP(C131,Kura!$A$4:$Z$301,26,0),0)","v":0},{"$f":"AZ47","v":0},{"$f":"IF(AND(F131=0,F132=0),\"\",IF(F131>F132,E131,E132))","v":""},null,{"$f":"IFERROR(VLOOKUP(C131,Kura!$A$4:$G$301,6,0),0)","v":0},null,null,"E43",43,{"$f":"OFFSET(Sablon!$DN$1,M131,Main!R2)","v":0},{"$f":"IFERROR(VLOOKUP(N131,Kura!$A$4:$Z$301,26,0),0)","v":0},{"$f":"IFERROR(VLOOKUP(N131,Kura!$A$4:$G$301,6,0),0)","v":0}]
["43.43",null,null,null,{"$f":"IFERROR(VLOOKUP(C132,Kura!$A$4:$Z$301,26,0),0)","v":0},{"$f":"BA47","v":0},null,null,{"$f":"IFERROR(VLOOKUP(C132,Kura!$A$4:$G$301,6,0),0)","v":0}]
[]
[44,"E44",null,null,{"$f":"IFERROR(VLOOKUP(C134,Kura!$A$4:$Z$301,26,0),0)","v":0},{"$f":"AZ48","v":0},{"$f":"IF(AND(F134=0,F135=0),\"\",IF(F134>F135,E134,E135))","v":""},null,{"$f":"IFERROR(VLOOKUP(C134,Kura!$A$4:$G$301,6,0),0)","v":0},null,null,"E44",44,{"$f":"OFFSET(Sablon!$DN$1,M134,Main!R2)","v":0},{"$f":"IFERROR(VLOOKUP(N134,Kura!$A$4:$Z$301,26,0),0)","v":0},{"$f":"IFERROR(VLOOKUP(N134,Kura!$A$4:$G$301,6,0),0)","v":0}]
["44.44",null,null,null,{"$f":"IFERROR(VLOOKUP(C135,Kura!$A$4:$Z$301,26,0),0)","v":0},{"$f":"BA48","v":0},null,null,{"$f":"IFERROR(VLOOKUP(C135,Kura!$A$4:$G$301,6,0),0)","v":0}]
[]
[45,"E45",null,null,{"$f":"IFERROR(VLOOKUP(C137,Kura!$A$4:$Z$301,26,0),0)","v":0},{"$f":"AZ49","v":0},{"$f":"IF(AND(F137=0,F138=0),\"\",IF(F137>F138,E137,E138))","v":""},null,{"$f":"IFERROR(VLOOKUP(C137,Kura!$A$4:$G$301,6,0),0)","v":0},null,null,"E45",45,{"$f":"OFFSET(Sablon!$DN$1,M137,Main!R2)","v":0},{"$f":"IFERROR(VLOOKUP(N137,Kura!$A$4:$Z$301,26,0),0)","v":0},{"$f":"IFERROR(VLOOKUP(N137,Kura!$A$4:$G$301,6,0),0)","v":0}]
["45.45",null,null,null,{"$f":"IFERROR(VLOOKUP(C138,Kura!$A$4:$Z$301,26,0),0)","v":0},{"$f":"BA49","v":0},null,null,{"$f":"IFERROR(VLOOKUP(C138,Kura!$A$4:$G$301,6,0),0)","v":0}]
[]
[46,"E46",null,null,{"$f":"IFERROR(VLOOKUP(C140,Kura!$A$4:$Z$301,26,0),0)","v":0},{"$f":"AZ50","v":0},{"$f":"IF(AND(F140=0,F141=0),\"\",IF(F140>F141,E140,E141))","v":""},null,{"$f":"IFERROR(VLOOKUP(C140,Kura!$A$4:$G$301,6,0),0)","v":0},null,null,"E46",46,{"$f":"OFFSET(Sablon!$DN$1,M140,Main!R2)","v":0},{"$f":"IFERROR(VLOOKUP(N140,Kura!$A$4:$Z$301,26,0),0)","v":0},{"$f":"IFERROR(VLOOKUP(N140,Kura!$A$4:$G$301,6,0),0)","v":0}]
["46.46",null,null,null,{"$f":"IFERROR(VLOOKUP(C141,Kura!$A$4:$Z$301,26,0),0)","v":0},{"$f":"BA50","v":0},null,null,{"$f":"IFERROR(VLOOKUP(C141,Kura!$A$4:$G$301,6,0),0)","v":0}]
[]
[47,"E47",null,null,{"$f":"IFERROR(VLOOKUP(C143,Kura!$A$4:$Z$301,26,0),0)","v":0},{"$f":"AZ51","v":0},{"$f":"IF(AND(F143=0,F144=0),\"\",IF(F143>F144,E143,E144))","v":""},null,{"$f":"IFERROR(VLOOKUP(C143,Kura!$A$4:$G$301,6,0),0)","v":0},null,null,"E47",47,{"$f":"OFFSET(Sablon!$DN$1,M143,Main!R2)","v":0},{"$f":"IFERROR(VLOOKUP(N143,Kura!$A$4:$Z$301,26,0),0)","v":0},{"$f":"IFERROR(VLOOKUP(N143,Kura!$A$4:$G$301,6,0),0)","v":0}]
["47.47",null,null,null,{"$f":"IFERROR(VLOOKUP(C144,Kura!$A$4:$Z$301,26,0),0)","v":0},{"$f":"BA51","v":0},null,null,{"$f":"IFERROR(VLOOKUP(C144,Kura!$A$4:$G$301,6,0),0)","v":0}]
[]
[48,"E48",null,null,{"$f":"IFERROR(VLOOKUP(C146,Kura!$A$4:$Z$301,26,0),0)","v":0},{"$f":"AZ52","v":0},{"$f":"IF(AND(F146=0,F147=0),\"\",IF(F146>F147,E146,E147))","v":""},null,{"$f":"IFERROR(VLOOKUP(C146,Kura!$A$4:$G$301,6,0),0)","v":0},null,null,"E48",48,{"$f":"OFFSET(Sablon!$DN$1,M146,Main!R2)","v":0},{"$f":"IFERROR(VLOOKUP(N146,Kura!$A$4:$Z$301,26,0),0)","v":0},{"$f":"IFERROR(VLOOKUP(N146,Kura!$A$4:$G$301,6,0),0)","v":0}]
["48.48",null,null,null,{"$f":"IFERROR(VLOOKUP(C147,Kura!$A$4:$Z$301,26,0),0)","v":0},{"$f":"BA52","v":0},null,null,{"$f":"IFERROR(VLOOKUP(C147,Kura!$A$4:$G$301,6,0),0)","v":0}]
[]
[49,"E49",null,null,{"$f":"IFERROR(VLOOKUP(C149,Kura!$A$4:$Z$301,26,0),0)","v":0},{"$f":"AZ53","v":0},{"$f":"IF(AND(F149=0,F150=0),\"\",IF(F149>F150,E149,E150))","v":""},null,{"$f":"IFERROR(VLOOKUP(C149,Kura!$A$4:$G$301,6,0),0)","v":0},null,null,"E49",49,{"$f":"OFFSET(Sablon!$DN$1,M149,Main!R2)","v":0},{"$f":"IFERROR(VLOOKUP(N149,Kura!$A$4:$Z$301,26,0),0)","v":0},{"$f":"IFERROR(VLOOKUP(N149,Kura!$A$4:$G$301,6,0),0)","v":0}]
["49.49",null,null,null,{"$f":"IFERROR(VLOOKUP(C150,Kura!$A$4:$Z$301,26,0),0)","v":0},{"$f":"BA53","v":0},null,null,{"$f":"IFERROR(VLOOKUP(C150,Kura!$A$4:$G$301,6,0),0)","v":0}]
[]
[50,"E50",null,null,{"$f":"IFERROR(VLOOKUP(C152,Kura!$A$4:$Z$301,26,0),0)","v":0},{"$f":"AZ54","v":0},{"$f":"IF(AND(F152=0,F153=0),\"\",IF(F152>F153,E152,E153))","v":""},null,{"$f":"IFERROR(VLOOKUP(C152,Kura!$A$4:$G$301,6,0),0)","v":0},null,null,"E50",50,{"$f":"OFFSET(Sablon!$DN$1,M152,Main!R2)","v":0},{"$f":"IFERROR(VLOOKUP(N152,Kura!$A$4:$Z$301,26,0),0)","v":0},{"$f":"IFERROR(VLOOKUP(N152,Kura!$A$4:$G$301,6,0),0)","v":0}]
["50.50",null,null,null,{"$f":"IFERROR(VLOOKUP(C153,Kura!$A$4:$Z$301,26,0),0)","v":0},{"$f":"BA54","v":0},null,null,{"$f":"IFERROR(VLOOKUP(C153,Kura!$A$4:$G$301,6,0),0)","v":0}]
[]
[51,"E51",null,null,{"$f":"IFERROR(VLOOKUP(C155,Kura!$A$4:$Z$301,26,0),0)","v":0},{"$f":"AZ55","v":0},{"$f":"IF(AND(F155=0,F156=0),\"\",IF(F155>F156,E155,E156))","v":""},null,{"$f":"IFERROR(VLOOKUP(C155,Kura!$A$4:$G$301,6,0),0)","v":0},null,null,"E51",51,{"$f":"OFFSET(Sablon!$DN$1,M155,Main!R2)","v":0},{"$f":"IFERROR(VLOOKUP(N155,Kura!$A$4:$Z$301,26,0),0)","v":0},{"$f":"IFERROR(VLOOKUP(N155,Kura!$A$4:$G$301,6,0),0)","v":0}]
["51.51",null,null,null,{"$f":"IFERROR(VLOOKUP(C156,Kura!$A$4:$Z$301,26,0),0)","v":0},{"$f":"BA55","v":0},null,null,{"$f":"IFERROR(VLOOKUP(C156,Kura!$A$4:$G$301,6,0),0)","v":0}]
[]
[52,"E52",null,null,{"$f":"IFERROR(VLOOKUP(C158,Kura!$A$4:$Z$301,26,0),0)","v":0},{"$f":"AZ56","v":0},{"$f":"IF(AND(F158=0,F159=0),\"\",IF(F158>F159,E158,E159))","v":""},null,{"$f":"IFERROR(VLOOKUP(C158,Kura!$A$4:$G$301,6,0),0)","v":0},null,null,"E52",52,{"$f":"OFFSET(Sablon!$DN$1,M158,Main!R2)","v":0},{"$f":"IFERROR(VLOOKUP(N158,Kura!$A$4:$Z$301,26,0),0)","v":0},{"$f":"IFERROR(VLOOKUP(N158,Kura!$A$4:$G$301,6,0),0)","v":0}]
["52.52",null,null,null,{"$f":"IFERROR(VLOOKUP(C159,Kura!$A$4:$Z$301,26,0),0)","v":0},{"$f":"BA56","v":0},null,null,{"$f":"IFERROR(VLOOKUP(C159,Kura!$A$4:$G$301,6,0),0)","v":0}]
[]
[53,"E53",null,null,{"$f":"IFERROR(VLOOKUP(C161,Kura!$A$4:$Z$301,26,0),0)","v":0},{"$f":"AZ57","v":0},{"$f":"IF(AND(F161=0,F162=0),\"\",IF(F161>F162,E161,E162))","v":""},null,{"$f":"IFERROR(VLOOKUP(C161,Kura!$A$4:$G$301,6,0),0)","v":0},null,null,"E53",53,{"$f":"OFFSET(Sablon!$DN$1,M161,Main!R2)","v":0},{"$f":"IFERROR(VLOOKUP(N161,Kura!$A$4:$Z$301,26,0),0)","v":0},{"$f":"IFERROR(VLOOKUP(N161,Kura!$A$4:$G$301,6,0),0)","v":0}]
["53.53",null,null,null,{"$f":"IFERROR(VLOOKUP(C162,Kura!$A$4:$Z$301,26,0),0)","v":0},{"$f":"BA57","v":0},null,null,{"$f":"IFERROR(VLOOKUP(C162,Kura!$A$4:$G$301,6,0),0)","v":0}]
[]
[54,"E54",null,null,{"$f":"IFERROR(VLOOKUP(C164,Kura!$A$4:$Z$301,26,0),0)","v":0},{"$f":"AZ58","v":0},{"$f":"IF(AND(F164=0,F165=0),\"\",IF(F164>F165,E164,E165))","v":""},null,{"$f":"IFERROR(VLOOKUP(C164,Kura!$A$4:$G$301,6,0),0)","v":0},null,null,"E54",54,{"$f":"OFFSET(Sablon!$DN$1,M164,Main!R2)","v":0},{"$f":"IFERROR(VLOOKUP(N164,Kura!$A$4:$Z$301,26,0),0)","v":0},{"$f":"IFERROR(VLOOKUP(N164,Kura!$A$4:$G$301,6,0),0)","v":0}]
["54.54",null,null,null,{"$f":"IFERROR(VLOOKUP(C165,Kura!$A$4:$Z$301,26,0),0)","v":0},{"$f":"BA58","v":0},null,null,{"$f":"IFERROR(VLOOKUP(C165,Kura!$A$4:$G$301,6,0),0)","v":0}]
[]
[55,"E55",null,null,{"$f":"IFERROR(VLOOKUP(C167,Kura!$A$4:$Z$301,26,0),0)","v":0},{"$f":"AZ59","v":0},{"$f":"IF(AND(F167=0,F168=0),\"\",IF(F167>F168,E167,E168))","v":""},null,{"$f":"IFERROR(VLOOKUP(C167,Kura!$A$4:$G$301,6,0),0)","v":0},null,null,"E55",55,{"$f":"OFFSET(Sablon!$DN$1,M167,Main!R2)","v":0},{"$f":"IFERROR(VLOOKUP(N167,Kura!$A$4:$Z$301,26,0),0)","v":0},{"$f":"IFERROR(VLOOKUP(N167,Kura!$A$4:$G$301,6,0),0)","v":0}]
["55.55",null,null,null,{"$f":"IFERROR(VLOOKUP(C168,Kura!$A$4:$Z$301,26,0),0)","v":0},{"$f":"BA59","v":0},null,null,{"$f":"IFERROR(VLOOKUP(C168,Kura!$A$4:$G$301,6,0),0)","v":0}]
[]
[56,"E56",null,null,{"$f":"IFERROR(VLOOKUP(C170,Kura!$A$4:$Z$301,26,0),0)","v":0},{"$f":"AZ60","v":0},{"$f":"IF(AND(F170=0,F171=0),\"\",IF(F170>F171,E170,E171))","v":""},null,{"$f":"IFERROR(VLOOKUP(C170,Kura!$A$4:$G$301,6,0),0)","v":0},null,null,"E56",56,{"$f":"OFFSET(Sablon!$DN$1,M170,Main!R2)","v":0},{"$f":"IFERROR(VLOOKUP(N170,Kura!$A$4:$Z$301,26,0),0)","v":0},{"$f":"IFERROR(VLOOKUP(N170,Kura!$A$4:$G$301,6,0),0)","v":0}]
["56.56",null,null,null,{"$f":"IFERROR(VLOOKUP(C171,Kura!$A$4:$Z$301,26,0),0)","v":0},{"$f":"BA60","v":0},null,null,{"$f":"IFERROR(VLOOKUP(C171,Kura!$A$4:$G$301,6,0),0)","v":0}]
[]
[57,"E57",null,null,{"$f":"IFERROR(VLOOKUP(C173,Kura!$A$4:$Z$301,26,0),0)","v":0},{"$f":"AZ61","v":0},{"$f":"IF(AND(F173=0,F174=0),\"\",IF(F173>F174,E173,E174))","v":""},null,{"$f":"IFERROR(VLOOKUP(C173,Kura!$A$4:$G$301,6,0),0)","v":0},null,null,"E57",57,{"$f":"OFFSET(Sablon!$DN$1,M173,Main!R2)","v":0},{"$f":"IFERROR(VLOOKUP(N173,Kura!$A$4:$Z$301,26,0),0)","v":0},{"$f":"IFERROR(VLOOKUP(N173,Kura!$A$4:$G$301,6,0),0)","v":0}]
["57.57",null,null,null,{"$f":"IFERROR(VLOOKUP(C174,Kura!$A$4:$Z$301,26,0),0)","v":0},{"$f":"BA61","v":0},null,null,{"$f":"IFERROR(VLOOKUP(C174,Kura!$A$4:$G$301,6,0),0)","v":0}]
[]
[58,"E58",null,null,{"$f":"IFERROR(VLOOKUP(C176,Kura!$A$4:$Z$301,26,0),0)","v":0},{"$f":"AZ62","v":0},{"$f":"IF(AND(F176=0,F177=0),\"\",IF(F176>F177,E176,E177))","v":""},null,{"$f":"IFERROR(VLOOKUP(C176,Kura!$A$4:$G$301,6,0),0)","v":0},null,null,"E58",58,{"$f":"OFFSET(Sablon!$DN$1,M176,Main!R2)","v":0},{"$f":"IFERROR(VLOOKUP(N176,Kura!$A$4:$Z$301,26,0),0)","v":0},{"$f":"IFERROR(VLOOKUP(N176,Kura!$A$4:$G$301,6,0),0)","v":0}]
["58.58",null,null,null,{"$f":"IFERROR(VLOOKUP(C177,Kura!$A$4:$Z$301,26,0),0)","v":0},{"$f":"BA62","v":0},null,null,{"$f":"IFERROR(VLOOKUP(C177,Kura!$A$4:$G$301,6,0),0)","v":0}]
[]
[59,"E59",null,null,{"$f":"IFERROR(VLOOKUP(C179,Kura!$A$4:$Z$301,26,0),0)","v":0},{"$f":"AZ63","v":0},{"$f":"IF(AND(F179=0,F180=0),\"\",IF(F179>F180,E179,E180))","v":""},null,{"$f":"IFERROR(VLOOKUP(C179,Kura!$A$4:$G$301,6,0),0)","v":0},null,null,"E59",59,{"$f":"OFFSET(Sablon!$DN$1,M179,Main!R2)","v":0},{"$f":"IFERROR(VLOOKUP(N179,Kura!$A$4:$Z$301,26,0),0)","v":0},{"$f":"IFERROR(VLOOKUP(N179,Kura!$A$4:$G$301,6,0),0)","v":0}]
["59.59",null,null,null,{"$f":"IFERROR(VLOOKUP(C180,Kura!$A$4:$Z$301,26,0),0)","v":0},{"$f":"BA63","v":0},null,null,{"$f":"IFERROR(VLOOKUP(C180,Kura!$A$4:$G$301,6,0),0)","v":0}]
[]
[60,"E60",null,null,{"$f":"IFERROR(VLOOKUP(C182,Kura!$A$4:$Z$301,26,0),0)","v":0},{"$f":"AZ64","v":0},{"$f":"IF(AND(F182=0,F183=0),\"\",IF(F182>F183,E182,E183))","v":""},null,{"$f":"IFERROR(VLOOKUP(C182,Kura!$A$4:$G$301,6,0),0)","v":0},null,null,"E60",60,{"$f":"OFFSET(Sablon!$DN$1,M182,Main!R2)","v":0},{"$f":"IFERROR(VLOOKUP(N182,Kura!$A$4:$Z$301,26,0),0)","v":0},{"$f":"IFERROR(VLOOKUP(N182,Kura!$A$4:$G$301,6,0),0)","v":0}]
["60.60",null,null,null,{"$f":"IFERROR(VLOOKUP(C183,Kura!$A$4:$Z$301,26,0),0)","v":0},{"$f":"BA64","v":0},null,null,{"$f":"IFERROR(VLOOKUP(C183,Kura!$A$4:$G$301,6,0),0)","v":0}]
[]
[61,"E61",null,null,{"$f":"IFERROR(VLOOKUP(C185,Kura!$A$4:$Z$301,26,0),0)","v":0},{"$f":"AZ65","v":0},{"$f":"IF(AND(F185=0,F186=0),\"\",IF(F185>F186,E185,E186))","v":""},null,{"$f":"IFERROR(VLOOKUP(C185,Kura!$A$4:$G$301,6,0),0)","v":0},null,null,"E61",61,{"$f":"OFFSET(Sablon!$DN$1,M185,Main!R2)","v":0},{"$f":"IFERROR(VLOOKUP(N185,Kura!$A$4:$Z$301,26,0),0)","v":0},{"$f":"IFERROR(VLOOKUP(N185,Kura!$A$4:$G$301,6,0),0)","v":0}]
["61.61",null,null,null,{"$f":"IFERROR(VLOOKUP(C186,Kura!$A$4:$Z$301,26,0),0)","v":0},{"$f":"BA65","v":0},null,null,{"$f":"IFERROR(VLOOKUP(C186,Kura!$A$4:$G$301,6,0),0)","v":0}]
[]
[62,"E62",null,null,{"$f":"IFERROR(VLOOKUP(C188,Kura!$A$4:$Z$301,26,0),0)","v":0},{"$f":"AZ66","v":0},{"$f":"IF(AND(F188=0,F189=0),\"\",IF(F188>F189,E188,E189))","v":""},null,{"$f":"IFERROR(VLOOKUP(C188,Kura!$A$4:$G$301,6,0),0)","v":0},null,null,"E62",62,{"$f":"OFFSET(Sablon!$DN$1,M188,Main!R2)","v":0},{"$f":"IFERROR(VLOOKUP(N188,Kura!$A$4:$Z$301,26,0),0)","v":0},{"$f":"IFERROR(VLOOKUP(N188,Kura!$A$4:$G$301,6,0),0)","v":0}]
["62.62",null,null,null,{"$f":"IFERROR(VLOOKUP(C189,Kura!$A$4:$Z$301,26,0),0)","v":0},{"$f":"BA66","v":0},null,null,{"$f":"IFERROR(VLOOKUP(C189,Kura!$A$4:$G$301,6,0),0)","v":0}]
[]
[63,"E63",null,null,{"$f":"IFERROR(VLOOKUP(C191,Kura!$A$4:$Z$301,26,0),0)","v":0},{"$f":"AZ67","v":0},{"$f":"IF(AND(F191=0,F192=0),\"\",IF(F191>F192,E191,E192))","v":""},null,{"$f":"IFERROR(VLOOKUP(C191,Kura!$A$4:$G$301,6,0),0)","v":0},null,null,"E63",63,{"$f":"OFFSET(Sablon!$DN$1,M191,Main!R2)","v":0},{"$f":"IFERROR(VLOOKUP(N191,Kura!$A$4:$Z$301,26,0),0)","v":0},{"$f":"IFERROR(VLOOKUP(N191,Kura!$A$4:$G$301,6,0),0)","v":0}]
["63.63",null,null,null,{"$f":"IFERROR(VLOOKUP(C192,Kura!$A$4:$Z$301,26,0),0)","v":0},{"$f":"BA67","v":0},null,null,{"$f":"IFERROR(VLOOKUP(C192,Kura!$A$4:$G$301,6,0),0)","v":0}]
[]
[64,"E64",null,null,{"$f":"IFERROR(VLOOKUP(C194,Kura!$A$4:$Z$301,26,0),0)","v":0},{"$f":"AZ68","v":0},{"$f":"IF(AND(F194=0,F195=0),\"\",IF(F194>F195,E194,E195))","v":""},null,{"$f":"IFERROR(VLOOKUP(C194,Kura!$A$4:$G$301,6,0),0)","v":0},null,null,"E64",64,{"$f":"OFFSET(Sablon!$DN$1,M194,Main!R2)","v":0},{"$f":"IFERROR(VLOOKUP(N194,Kura!$A$4:$Z$301,26,0),0)","v":0},{"$f":"IFERROR(VLOOKUP(N194,Kura!$A$4:$G$301,6,0),0)","v":0}]
["64.64",null,null,null,{"$f":"IFERROR(VLOOKUP(C195,Kura!$A$4:$Z$301,26,0),0)","v":0},{"$f":"BA68","v":0},null,null,{"$f":"IFERROR(VLOOKUP(C195,Kura!$A$4:$G$301,6,0),0)","v":0}]

{"sheet":"Eleme","index":6,"n_rows":769,"n_cols":107,"rows_kept":769,"cut":false,"hidden":false,"merged":[[189,26,189,32],[190,12,190,18],[191,5,191,11],[192,5,192,11],[192,19,192,25],[0,0,0,32],[1,0,1,32],[187,12,187,18],[188,5,188,11],[189,5,189,11],[182,5,182,11],[183,5,183,11],[184,12,184,18],[185,5,185,11],[169,12,169,18],[170,5,170,11],[164,5,164,11],[165,5,165,11],[165,26,165,32],[166,12,166,18],[167,5,167,11],[177,26,177,32],[171,5,171,11],[172,12,172,18],[193,12,193,18],[194,5,194,11],[185,19,185,25],[179,5,179,11],[180,5,180,11],[180,19,180,25],[181,12,181,18],[175,12,175,18],[176,5,176,11],[177,5,177,11],[186,5,186,11],[178,12,178,18],[173,5,173,11],[173,19,173,25],[174,5,174,11],[161,5,161,11],[161,19,161,25],[162,5,162,11],[163,12,163,18],[157,12,157,18],[158,5,158,11],[159,5,159,11],[160,12,160,18],[168,5,168,11],[168,19,168,25],[153,26,153,32],[154,12,154,18],[155,5,155,11],[156,5,156,11],[156,19,156,25],[150,5,150,11],[151,12,151,18],[152,5,152,11],[153,5,153,11],[146,5,146,11],[147,5,147,11],[148,12,148,18],[149,5,149,11],[149,19,149,25],[143,5,143,11],[144,5,144,11],[144,19,144,25],[145,12,145,18],[129,26,129,32],[130,12,130,18],[131,5,131,11],[139,12,139,18],[140,5,140,11],[141,5,141,11],[141,26,141,32],[142,12,142,18],[135,5,135,11],[136,12,136,18],[137,5,137,11],[137,19,137,25],[138,5,138,11],[127,12,127,18],[121,12,121,18],[122,5,122,11],[123,5,123,11],[124,12,124,18],[132,5,132,11],[132,19,132,25],[133,12,133,18],[134,5,134,11],[128,5,128,11],[129,5,129,11],[120,5,120,11],[120,19,120,25],[114,5,114,11],[115,12,115,18],[116,5,116,11],[117,5,117,11],[125,5,125,11],[125,19,125,25],[126,5,126,11],[113,5,113,11],[113,19,113,25],[107,5,107,11],[108,5,108,11],[108,19,108,25],[109,12,109,18],[117,26,117,32],[118,12,118,18],[119,5,119,11],[106,12,106,18],[99,5,99,11],[100,12,100,18],[101,5,101,11],[101,19,101,25],[102,5,102,11],[110,5,110,11],[111,5,111,11],[112,12,112,18],[98,5,98,11],[92,5,92,11],[93,5,93,11],[93,26,93,32],[94,12,94,18],[95,5,95,11],[103,12,103,18],[104,5,104,11],[105,5,105,11],[105,26,105,32],[90,5,90,11],[91,12,91,18],[85,12,85,18],[86,5,86,11],[87,5,87,11],[88,12,88,18],[96,5,96,11],[96,19,96,25],[97,12,97,18],[82,12,82,18],[83,5,83,11],[84,5,84,11],[84,19,84,25],[78,5,78,11],[79,12,79,18],[80,5,80,11],[81,5,81,11],[89,5,89,11],[89,19,89,25],[75,5,75,11],[76,12,76,18],[77,5,77,11],[77,19,77,25],[71,5,71,11],[72,5,72,11],[72,19,72,25],[73,12,73,18],[81,26,81,32],[69,5,69,11],[69,26,69,32],[70,12,70,18],[63,5,63,11],[64,12,64,18],[65,5,65,11],[65,19,65,25],[66,5,66,11],[74,5,74,11],[61,12,61,18],[62,5,62,11],[56,5,56,11],[57,5,57,11],[57,26,57,32],[58,12,58,18],[59,5,59,11],[67,12,67,18],[68,5,68,11],[53,5,53,11],[53,19,53,25],[54,5,54,11],[55,12,55,18],[49,12,49,18],[50,5,50,11],[51,5,51,11],[52,12,52,18],[60,5,60,11],[60,19,60,25],[45,26,45,32],[46,12,46,18],[47,5,47,11],[48,5,48,11],[48,19,48,25],[42,5,42,11],[43,12,43,18],[44,5,44,11],[45,5,45,11],[38,5,38,11],[39,5,39,11],[40,12,40,18],[41,5,41,11],[41,19,41,25],[35,5,35,11],[36,5,36,11],[36,19,36,25],[37,12,37,18],[32,5,32,11],[33,5,33,11],[33,26,33,32],[34,12,34,18],[27,5,27,11],[28,12,28,18],[29,5,29,11],[29,19,29,25],[30,5,30,11],[24,19,24,25],[25,12,25,18],[26,5,26,11],[20,5,20,11],[21,5,21,11],[21,26,21,32],[22,12,22,18],[23,5,23,11],[31,12,31,18],[3,5,3,11],[4,12,4,18],[5,5,5,11],[9,5,9,11],[9,26,9,32],[10,12,10,18],[11,5,11,11],[195,5,195,11],[197,5,197,11],[12,5,12,11],[12,19,12,25],[5,19,5,25],[6,5,6,11],[7,12,7,18],[8,5,8,11],[17,5,17,11],[17,19,17,25],[18,5,18,11],[19,12,19,18],[13,12,13,18],[14,5,14,11],[15,5,15,11],[16,12,16,18],[24,5,24,11],[198,5,198,11],[200,5,200,11],[201,5,201,11],[203,5,203,11],[204,5,204,11],[206,5,206,11],[207,5,207,11],[209,5,209,11],[210,5,210,11],[212,5,212,11],[213,5,213,11],[215,5,215,11],[216,5,216,11],[218,5,218,11],[219,5,219,11],[221,5,221,11],[222,5,222,11],[224,5,224,11],[225,5,225,11],[227,5,227,11],[228,5,228,11],[230,5,230,11],[231,5,231,11],[233,5,233,11],[234,5,234,11],[236,5,236,11],[237,5,237,11],[239,5,239,11],[240,5,240,11],[242,5,242,11],[243,5,243,11],[245,5,245,11],[246,5,246,11],[248,5,248,11],[249,5,249,11],[251,5,251,11],[252,5,252,11],[254,5,254,11],[255,5,255,11],[257,5,257,11],[258,5,258,11],[260,5,260,11],[261,5,261,11],[263,5,263,11],[264,5,264,11],[266,5,266,11],[267,5,267,11],[269,5,269,11],[270,5,270,11],[272,5,272,11],[273,5,273,11],[275,5,275,11],[276,5,276,11],[278,5,278,11],[279,5,279,11],[281,5,281,11],[282,5,282,11],[284,5,284,11],[285,5,285,11],[287,5,287,11],[288,5,288,11],[290,5,290,11],[291,5,291,11],[293,5,293,11],[294,5,294,11],[296,5,296,11],[297,5,297,11],[299,5,299,11],[300,5,300,11],[302,5,302,11],[303,5,303,11],[305,5,305,11],[306,5,306,11],[308,5,308,11],[309,5,309,11],[311,5,311,11],[312,5,312,11],[314,5,314,11],[315,5,315,11],[317,5,317,11],[318,5,318,11],[320,5,320,11],[321,5,321,11],[323,5,323,11],[324,5,324,11],[326,5,326,11],[327,5,327,11],[329,5,329,11],[330,5,330,11],[332,5,332,11],[333,5,333,11],[335,5,335,11],[336,5,336,11],[338,5,338,11],[339,5,339,11],[341,5,341,11],[342,5,342,11],[359,5,359,11],[360,5,360,11],[368,5,368,11],[369,5,369,11],[344,5,344,11],[345,5,345,11],[347,5,347,11],[348,5,348,11],[350,5,350,11],[351,5,351,11],[353,5,353,11],[354,5,354,11],[356,5,356,11],[201,26,201,32],[202,12,202,18],[204,19,204,25],[205,12,205,18],[208,12,208,18],[209,19,209,25],[211,12,211,18],[213,26,213,32],[214,12,214,18],[216,19,216,25],[217,12,217,18],[220,12,220,18],[221,19,221,25],[223,12,223,18],[384,5,384,11],[386,5,386,11],[196,12,196,18],[197,19,197,25],[199,12,199,18],[371,5,371,11],[372,5,372,11],[374,5,374,11],[375,5,375,11],[377,5,377,11],[378,5,378,11],[380,5,380,11],[381,5,381,11],[383,5,383,11],[357,5,357,11],[362,5,362,11],[363,5,363,11],[365,5,365,11],[366,5,366,11],[249,26,249,32],[233,19,233,25],[235,12,235,18],[237,26,237,32],[238,12,238,18],[240,19,240,25],[225,26,225,32],[226,12,226,18],[228,19,228,25],[229,12,229,18],[232,12,232,18],[250,12,250,18],[252,19,252,25],[253,12,253,18],[256,12,256,18],[257,19,257,25],[241,12,241,18],[244,12,244,18],[245,19,245,25],[247,12,247,18],[268,12,268,18],[269,19,269,25],[271,12,271,18],[273,26,273,32],[274,12,274,18],[259,12,259,18],[261,26,261,32],[262,12,262,18],[264,19,264,25],[265,12,265,18],[285,26,285,32],[286,12,286,18],[288,19,288,25],[289,12,289,18],[292,12,292,18],[276,19,276,25],[277,12,277,18],[280,12,280,18],[281,19,281,25],[283,12,283,18],[301,12,301,18],[304,12,304,18],[305,19,305,25],[307,12,307,18],[309,26,309,32],[293,19,293,25],[295,12,295,18],[297,26,297,32],[298,12,298,18],[300,19,300,25],[319,12,319,18],[321,26,321,32],[322,12,322,18],[324,19,324,25],[325,12,325,18],[310,12,310,18],[312,19,312,25],[313,12,313,18],[316,12,316,18],[317,19,317,25],[336,19,336,25],[337,12,337,18],[340,12,340,18],[341,19,341,25],[343,12,343,18],[328,12,328,18],[329,19,329,25],[331,12,331,18],[333,26,333,32],[334,12,334,18],[367,12,367,18],[369,26,369,32],[353,19,353,25],[355,12,355,18],[357,26,357,32],[358,12,358,18],[360,19,360,25],[345,26,345,32],[346,12,346,18],[348,19,348,25],[349,12,349,18],[352,12,352,18],[2,65,2,66],[2,67,2,68],[2,69,2,70],[2,71,2,72],[2,73,2,74],[2,75,2,76],[27,40,27,46],[375,33,375,39],[87,33,87,39],[111,33,111,39],[135,33,135,39],[159,33,159,39],[183,33,183,39],[207,33,207,39],[231,33,231,39],[255,33,255,39],[279,33,279,39],[303,33,303,39],[327,33,327,39],[351,33,351,39],[75,40,75,46],[123,40,123,46],[171,40,171,46],[219,40,219,46],[389,5,389,11],[390,12,390,18],[391,5,391,11],[391,19,391,25],[392,5,392,11],[393,12,393,18],[394,5,394,11],[395,5,395,11],[15,33,15,39],[39,33,39,39],[63,33,63,39],[379,12,379,18],[381,26,381,32],[382,12,382,18],[384,19,384,25],[385,12,385,18],[370,12,370,18],[372,19,372,25],[373,12,373,18],[376,12,376,18],[377,19,377,25],[361,12,361,18],[364,12,364,18],[365,19,365,25],[395,26,395,32],[396,12,396,18],[397,5,397,11],[398,5,398,11],[398,19,398,25],[399,12,399,18],[400,5,400,11],[401,5,401,11],[401,33,401,39],[402,12,402,18],[403,5,403,11],[403,19,403,25],[404,5,404,11],[405,12,405,18],[406,5,406,11],[407,5,407,11],[407,26,407,32],[408,12,408,18],[409,5,409,11],[410,5,410,11],[410,19,410,25],[411,12,411,18],[412,5,412,11],[413,5,413,11],[414,12,414,18],[415,5,415,11],[415,19,415,25],[416,5,416,11],[417,12,417,18],[418,5,418,11],[419,5,419,11],[419,26,419,32],[420,12,420,18],[421,5,421,11],[422,5,422,11],[422,19,422,25],[423,12,423,18],[424,5,424,11],[425,5,425,11],[425,33,425,39],[426,12,426,18],[427,5,427,11],[427,19,427,25],[428,5,428,11],[429,12,429,18],[430,5,430,11],[431,5,431,11],[431,26,431,32],[432,12,432,18],[433,5,433,11],[434,5,434,11],[434,19,434,25],[435,12,435,18],[436,5,436,11],[437,5,437,11],[438,12,438,18],[439,5,439,11],[439,19,439,25],[440,5,440,11],[441,12,441,18],[442,5,442,11],[443,5,443,11],[443,26,443,32],[444,12,444,18],[445,5,445,11],[446,5,446,11],[446,19,446,25],[447,12,447,18],[448,5,448,11],[449,5,449,11],[449,33,449,39],[450,12,450,18],[451,5,451,11],[451,19,451,25],[452,5,452,11],[453,12,453,18],[454,5,454,11],[455,5,455,11],[455,26,455,32],[456,12,456,18],[457,5,457,11],[458,5,458,11],[458,19,458,25],[459,12,459,18],[460,5,460,11],[461,5,461,11],[462,12,462,18],[463,5,463,11],[463,19,463,25],[464,5,464,11],[465,12,465,18],[466,5,466,11],[467,5,467,11],[467,26,467,32],[468,12,468,18],[469,5,469,11],[470,5,470,11],[470,19,470,25],[471,12,471,18],[472,5,472,11],[473,5,473,11],[473,33,473,39],[474,12,474,18],[475,5,475,11],[475,19,475,25],[476,5,476,11],[477,12,477,18],[478,5,478,11],[479,5,479,11],[479,26,479,32],[480,12,480,18],[481,5,481,11],[482,5,482,11],[482,19,482,25],[483,12,483,18],[484,5,484,11],[485,5,485,11],[486,12,486,18],[487,5,487,11],[487,19,487,25],[488,5,488,11],[489,12,489,18],[490,5,490,11],[491,5,491,11],[491,26,491,32],[492,12,492,18],[493,5,493,11],[494,5,494,11],[494,19,494,25],[495,12,495,18],[496,5,496,11],[497,5,497,11],[497,33,497,39],[498,12,498,18],[499,5,499,11],[499,19,499,25],[500,5,500,11],[501,12,501,18],[502,5,502,11],[503,5,503,11],[503,26,503,32],[504,12,504,18],[505,5,505,11],[506,5,506,11],[506,19,506,25],[507,12,507,18],[508,5,508,11],[509,5,509,11],[510,12,510,18],[511,5,511,11],[511,19,511,25],[512,5,512,11],[513,12,513,18],[514,5,514,11],[515,5,515,11],[515,26,515,32],[516,12,516,18],[517,5,517,11],[518,5,518,11],[518,19,518,25],[519,12,519,18],[520,5,520,11],[521,5,521,11],[521,33,521,39],[522,12,522,18],[523,5,523,11],[523,19,523,25],[524,5,524,11],[525,12,525,18],[526,5,526,11],[527,5,527,11],[527,26,527,32],[528,12,528,18],[529,5,529,11],[530,5,530,11],[530,19,530,25],[531,12,531,18],[532,5,532,11],[533,5,533,11],[534,12,534,18],[535,5,535,11],[535,19,535,25],[536,5,536,11],[537,12,537,18],[538,5,538,11],[539,5,539,11],[539,26,539,32],[540,12,540,18],[541,5,541,11],[542,5,542,11],[542,19,542,25],[543,12,543,18],[544,5,544,11],[545,5,545,11],[545,33,545,39],[546,12,546,18],[547,5,547,11],[547,19,547,25],[548,5,548,11],[549,12,549,18],[550,5,550,11],[551,5,551,11],[551,26,551,32],[552,12,552,18],[553,5,553,11],[554,5,554,11],[554,19,554,25],[555,12,555,18],[556,5,556,11],[569,33,569,39],[570,12,570,18],[557,5,557,11],[558,12,558,18],[559,5,559,11],[559,19,559,25],[560,5,560,11],[561,12,561,18],[562,5,562,11],[563,5,563,11],[563,26,563,32],[575,26,575,32],[576,12,576,18],[577,5,577,11],[564,12,564,18],[565,5,565,11],[566,5,566,11],[566,19,566,25],[567,12,567,18],[568,5,568,11],[569,5,569,11],[578,5,578,11],[578,19,578,25],[579,12,579,18],[580,5,580,11],[571,5,571,11],[571,19,571,25],[572,5,572,11],[573,12,573,18],[574,5,574,11],[575,5,575,11],[607,5,607,11],[610,5,610,11],[609,5,609,11],[609,19,609,25],[611,12,611,18],[612,5,612,11],[601,5,601,11],[604,5,604,11],[601,26,601,32],[603,5,603,11],[604,19,604,25],[605,12,605,18],[606,5,606,11],[608,12,608,18],[620,12,620,18],[621,5,621,11],[621,19,621,25],[623,12,623,18],[624,5,624,11],[625,26,625,32],[626,12,626,18],[613,5,613,11],[616,5,616,11],[619,5,619,11],[613,26,613,32],[614,12,614,18],[615,5,615,11],[616,19,616,25],[617,12,617,18],[618,5,618,11],[627,5,627,11],[628,19,628,25],[629,12,629,18],[630,5,630,11],[632,12,632,18],[633,5,633,11],[633,19,633,25],[622,5,622,11],[625,5,625,11],[637,5,637,11],[640,5,640,11],[635,12,635,18],[636,5,636,11],[637,26,637,32],[638,12,638,18],[639,5,639,11],[640,19,640,25],[628,5,628,11],[631,5,631,11],[634,5,634,11],[648,5,648,11],[643,5,643,11],[646,5,646,11],[641,12,641,18],[642,5,642,11],[644,12,644,18],[645,5,645,11],[645,19,645,25],[647,12,647,18],[658,5,658,11],[661,5,661,11],[659,12,659,18],[660,5,660,11],[661,26,661,32],[662,12,662,18],[649,5,649,11],[652,5,652,11],[655,5,655,11],[664,5,664,11],[667,5,667,11],[663,5,663,11],[664,19,664,25],[665,12,665,18],[666,5,666,11],[668,12,668,18],[669,5,669,11],[669,19,669,25],[670,5,670,11],[673,5,673,11],[676,5,676,11],[671,12,671,18],[672,5,672,11],[673,26,673,32],[674,12,674,18],[675,5,675,11],[676,19,676,25],[684,5,684,11],[687,5,687,11],[690,5,690,11],[685,12,685,18],[688,12,688,18],[690,19,690,25],[683,5,683,11],[677,12,677,18],[678,5,678,11],[681,5,681,11],[682,12,682,18],[683,19,683,25],[704,5,704,11],[702,5,702,11],[700,12,700,18],[702,19,702,25],[703,12,703,18],[692,5,692,11],[695,5,695,11],[686,5,686,11],[689,5,689,11],[751,5,751,11],[752,5,752,11],[753,12,753,18],[754,5,754,11],[740,5,740,11],[741,12,741,18],[742,5,742,11],[743,5,743,11],[744,12,744,18],[745,5,745,11],[746,5,746,11],[747,12,747,18],[748,5,748,11],[749,5,749,11],[750,12,750,18],[733,5,733,11],[734,5,734,11],[735,12,735,18],[736,5,736,11],[737,5,737,11],[738,12,738,18],[739,5,739,11],[728,5,728,11],[731,5,731,11],[732,12,732,18],[727,12,727,18],[719,5,719,11],[722,5,722,11],[592,19,592,25],[593,12,593,18],[594,5,594,11],[596,12,596,18],[597,5,597,11],[597,19,597,25],[599,12,599,18],[600,5,600,11],[602,12,602,18],[592,5,592,11],[595,5,595,11],[598,5,598,11],[725,5,725,11],[720,5,720,11],[723,5,723,11],[719,19,719,25],[721,12,721,18],[724,12,724,18],[713,5,713,11],[716,5,716,11],[714,5,714,11],[588,5,588,11],[589,26,589,32],[590,12,590,18],[583,5,583,11],[591,5,591,11],[586,5,586,11],[589,5,589,11],[726,5,726,11],[726,19,726,25],[717,5,717,11],[712,12,712,18],[714,19,714,25],[715,12,715,18],[718,12,718,18],[707,5,707,11],[710,5,710,11],[705,5,705,11],[708,5,708,11],[711,5,711,11],[706,12,706,18],[707,19,707,25],[709,12,709,18],[698,5,698,11],[701,5,701,11],[267,40,267,46],[315,40,315,46],[363,40,363,46],[733,19,733,25],[693,5,693,11],[696,5,696,11],[699,5,699,11],[691,12,691,18],[694,12,694,18],[695,19,695,25],[697,12,697,18],[649,26,649,32],[650,12,650,18],[651,5,651,11],[652,19,652,25],[653,12,653,18],[654,5,654,11],[656,12,656,18],[657,5,657,11],[657,19,657,25],[584,12,584,18],[585,5,585,11],[585,19,585,25],[587,12,587,18],[765,5,765,11],[766,5,766,11],[767,12,767,18],[768,5,768,11],[757,5,757,11],[758,12,758,18],[759,5,759,11],[759,19,759,25],[760,5,760,11],[761,12,761,18],[762,5,762,11],[763,5,763,11],[764,12,764,18]]}
[{"$f":"Kura!AC1","v":"TÜRKİYE MASA TENİSİ FEDERASYONU\nGENÇLER TAKIM KUZEYDOĞU BÖLGE YARIŞMALARI"},null,null,null,null,null,null,null,null,null,null,null,null,null,null,null,null,null,null,null,null,null,null,null,null,null,null,null,null,null,null,null,null,null,null,null,null,null,null,null,null,null,null,null,null,null,null,null,null,null,null,null,null,null,null,null,null,null,null,null,null,null,null,null,null,null,null,null,null,null,null,null,null,null,null,null,null,null,null,null,null,null,null,null,"1st Round",3]
[{"$f":"Kura!AC2&\" \"&Kura!AD3","v":"KIZ TAKIM  [15-16 Mart 2025 TRABZON] [ Eleme ]"},null,null,null,null,null,null,null,null,null,null,null,null,null,null,null,null,null,null,null,null,null,null,null,null,null,null,null,null,null,null,null,null,null,null,null,null,null,null,null,null,null,null,null,null,null,null,null,null,null,null,null,null,null,null,null,null,null,null,null,null,null,null,null,null,null,null,null,null,null,null,null,null,null,null,null,null,null,null,null,null,null,null,null,"2sn Round"]
["Y","S","B","Q","#",null,null,null,null,null,null,null,null,null,null,null,null,null,null,null,null,null,null,null,null,null,null,null,null,null,null,null,null,null,null,null,null,null,null,null,null,null,null,null,null,null,null,null,null,null,null,null,null,null,null,null,null,null,"#","Date","Time","Table","Competition","Player A","Player B","Set1",null,"Set2",null,"Set3",null,"Set4",null,"Set5",null,"Result",null,null,null,null,null,null,null,null,"3th Round"]
[1,1,null,null,1,{"$f":"IF(Main!$Q$2=3,VLOOKUP(E4,Kura!$A$4:$Z$350,26,0),Ana_Tablo_Kura!L8)","v":"ÇORUM BLD. SPOR (A) (ÇRM)"},null,null,null,null,null,null,null,null,null,null,null,null,null,null,null,null,null,null,null,null,null,null,null,null,null,null,null,null,null,null,null,null,null,null,null,null,null,null,null,null,null,null,null,null,null,null,null,null,null,null,null,null,1,null,null,null,null,{"$f":"F4","v":"ÇORUM BLD. SPOR (A) (ÇRM)"},{"$f":"F6","v":"BEŞİKDÜZÜ AYYILDIZ SPOR (A) (TRB)"},null,null,null,null,null,null,null,null,null,null,null,null,null,null,null,null,null,null,null,"4th Round"]
[null,null,null,null,null,null,null,{"$f":"BX4","v":0},{"$f":"BY4","v":0},null,null,1,{"$f":"IF(AND(H5=0,I5=0),\"\",IF(H5>I5,F4,F6))","v":""},null,null,null,null,null,null,null,null,null,null,null,null,null,null,null,null,null,null,null,null,null,null,null,null,null,null,null,null,null,null,null,null,null,null,null,null,null,null,null,null,null,null,null,null,null,2,null,null,null,null,{"$f":"F7","v":"YALIKÖY ŞBÇ OO (A) (GRS)"},{"$f":"F9","v":{"$error":"#N/A"}},null,null,null,null,null,null,null,null,null,null,null,null,null,null,null,null,null,null,null,"5th Round",null,null,null,null,null,null,"Ön eleme müsabakasını kazanan…"]
[2,129,999,"",256,{"$f":"IF(Main!$Q$2=3,VLOOKUP(E6,Kura!$A$4:$Z$350,26,0),Ana_Tablo_Kura!L9)","v":"BEŞİKDÜZÜ AYYILDIZ SPOR (A) (TRB)"},null,null,null,null,null,null,null,null,null,null,null,null,{"$f":"IF(Main!R2=2,129,IF(Main!R2=3,65,IF(Main!R2=4,33,IF(Main!R2=5,17,IF(Main!R2=6,9,IF(Main!R2=7,5))))))","v":5},{"$f":"IF(AND(O7=0,P7=0),\"\",IF(O7>P7,M5,M8))","v":""},null,null,null,null,null,null,null,null,null,null,null,null,null,null,null,null,null,null,null,null,null,null,null,null,null,null,null,null,null,null,null,null,null,null,null,null,null,null,3,null,null,null,null,{"$f":"F10","v":{"$error":"#N/A"}},{"$f":"F12","v":{"$error":"#N/A"}},null,null,null,null,null,null,null,null,null,null,null,null,null,null,null,null,null,null,null,"6th Round",null,null,null,null,null,null,"E1",{"$f":"VLOOKUP(On_Eleme!$G$5,CHOOSE({3,2,1},On_Eleme!$C$5:$C$200,On_Eleme!$D$5:$D$200,On_Eleme!$E$5:$E$200),3,0)","v":{"$error":"#N/A"}},"E9",{"$f":"VLOOKUP(On_Eleme!$G$29,CHOOSE({3,2,1},On_Eleme!$C$5:$C$200,On_Eleme!$D$5:$D$200,On_Eleme!$E$5:$E$200),3,0)","v":{"$error":"#N/A"}},"E17",{"$f":"VLOOKUP(On_Eleme!$G$53,CHOOSE({3,2,1},On_Eleme!$C$5:$C$200,On_Eleme!$D$5:$D$200,On_Eleme!$E$5:$E$200),3,0)","v":{"$error":"#N/A"}},"E25",{"$f":"VLOOKUP(On_Eleme!$G$77,CHOOSE({3,2,1},On_Eleme!$C$5:$C$200,On_Eleme!$D$5:$D$200,On_Eleme!$E$5:$E$200),3,0)","v":{"$error":"#N/A"}},"E33",{"$f":"VLOOKUP(On_Eleme!$G$101,CHOOSE({3,2,1},On_Eleme!$C$5:$C$200,On_Eleme!$D$5:$D$200,On_Eleme!$E$5:$E$200),3,0)","v":{"$error":"#N/A"}},"E41",{"$f":"VLOOKUP(On_Eleme!$G$125,CHOOSE({3,2,1},On_Eleme!$C$5:$C$200,On_Eleme!$D$5:$D$200,On_Eleme!$E$5:$E$200),3,0)","v":{"$error":"#N/A"}},"E49",{"$f":"VLOOKUP(On_Eleme!$G$149,CHOOSE({3,2,1},On_Eleme!$C$5:$C$200,On_Eleme!$D$5:$D$200,On_Eleme!$E$5:$E$200),3,0)","v":{"$error":"#N/A"}},"E57",{"$f":"VLOOKUP(On_Eleme!$G$173,CHOOSE({3,2,1},On_Eleme!$C$5:$C$200,On_Eleme!$D$5:$D$200,On_Eleme!$E$5:$E$200),3,0)","v":{"$error":"#N/A"}}]
[3,129,999,"",128,{"$f":"IF(Main!$Q$2=3,VLOOKUP(E7,Kura!$A$4:$Z$350,26,0),Ana_Tablo_Kura!L10)","v":"YALIKÖY ŞBÇ OO (A) (GRS)"},null,null,null,null,null,null,null,null,{"$f":"BX132","v":0},{"$f":"BY132","v":0},null,null,null,null,null,null,null,null,null,{"$f":"IF(Main!R2=2,193,IF(Main!R2=3,97,IF(Main!R2=4,49,IF(Main!R2=5,25,IF(Main!R2=6,13,IF(Main!R2=7,7))))))","v":7},null,null,null,null,null,null,null,null,null,null,null,null,null,null,null,null,null,null,null,null,null,null,null,null,null,null,null,null,null,null,null,null,4,null,null,null,null,{"$f":"F13","v":{"$error":"#N/A"}},{"$f":"F15","v":{"$error":"#N/A"}},null,null,null,null,null,null,null,null,null,null,null,null,null,null,null,null,null,null,null,null,null,null,null,null,null,null,"E2",{"$f":"VLOOKUP(On_Eleme!$G$8,CHOOSE({3,2,1},On_Eleme!$C$5:$C$200,On_Eleme!$D$5:$D$200,On_Eleme!$E$5:$E$200),3,0)","v":{"$error":"#N/A"}},"E10",{"$f":"VLOOKUP(On_Eleme!$G$32,CHOOSE({3,2,1},On_Eleme!$C$5:$C$200,On_Eleme!$D$5:$D$200,On_Eleme!$E$5:$E$200),3,0)","v":{"$error":"#N/A"}},"E18",{"$f":"VLOOKUP(On_Eleme!$G$56,CHOOSE({3,2,1},On_Eleme!$C$5:$C$200,On_Eleme!$D$5:$D$200,On_Eleme!$E$5:$E$200),3,0)","v":{"$error":"#N/A"}},"E26",{"$f":"VLOOKUP(On_Eleme!$G$80,CHOOSE({3,2,1},On_Eleme!$C$5:$C$200,On_Eleme!$D$5:$D$200,On_Eleme!$E$5:$E$200),3,0)","v":{"$error":"#N/A"}},"E34",{"$f":"VLOOKUP(On_Eleme!$G$104,CHOOSE({3,2,1},On_Eleme!$C$5:$C$200,On_Eleme!$D$5:$D$200,On_Eleme!$E$5:$E$200),3,0)","v":{"$error":"#N/A"}},"E42",{"$f":"VLOOKUP(On_Eleme!$G$128,CHOOSE({3,2,1},On_Eleme!$C$5:$C$200,On_Eleme!$D$5:$D$200,On_Eleme!$E$5:$E$200),3,0)","v":{"$error":"#N/A"}},"E50",{"$f":"VLOOKUP(On_Eleme!$G$152,CHOOSE({3,2,1},On_Eleme!$C$5:$C$200,On_Eleme!$D$5:$D$200,On_Eleme!$E$5:$E$200),3,0)","v":{"$error":"#N/A"}},"E58",{"$f":"VLOOKUP(On_Eleme!$G$176,CHOOSE({3,2,1},On_Eleme!$C$5:$C$200,On_Eleme!$D$5:$D$200,On_Eleme!$E$5:$E$200),3,0)","v":{"$error":"#N/A"}}]
[null,null,null,"",null,null,null,{"$f":"BX5","v":0},{"$f":"BY5","v":0},null,null,2,{"$f":"IF(AND(H8=0,I8=0),\"\",IF(H8>I8,F7,F9))","v":""},null,null,null,null,null,null,null,null,null,null,null,null,null,null,null,null,null,null,null,null,null,null,null,null,null,null,null,null,null,null,null,null,null,null,null,null,null,null,null,null,null,null,null,null,null,5,null,null,null,null,{"$f":"F16","v":{"$error":"#N/A"}},{"$f":"F18","v":{"$error":"#N/A"}},null,null,null,null,null,null,null,null,null,null,null,null,null,null,null,null,null,null,null,null,null,null,null,null,null,null,"E3",{"$f":"VLOOKUP(On_Eleme!$G$11,CHOOSE({3,2,1},On_Eleme!$C$5:$C$200,On_Eleme!$D$5:$D$200,On_Eleme!$E$5:$E$200),3,0)","v":{"$error":"#N/A"}},"E11",{"$f":"VLOOKUP(On_Eleme!$G$35,CHOOSE({3,2,1},On_Eleme!$C$5:$C$200,On_Eleme!$D$5:$D$200,On_Eleme!$E$5:$E$200),3,0)","v":{"$error":"#N/A"}},"E19",{"$f":"VLOOKUP(On_Eleme!$G$59,CHOOSE({3,2,1},On_Eleme!$C$5:$C$200,On_Eleme!$D$5:$D$200,On_Eleme!$E$5:$E$200),3,0)","v":{"$error":"#N/A"}},"E27",{"$f":"VLOOKUP(On_Eleme!$G$83,CHOOSE({3,2,1},On_Eleme!$C$5:$C$200,On_Eleme!$D$5:$D$200,On_Eleme!$E$5:$E$200),3,0)","v":{"$error":"#N/A"}},"E35",{"$f":"VLOOKUP(On_Eleme!$G$107,CHOOSE({3,2,1},On_Eleme!$C$5:$C$200,On_Eleme!$D$5:$D$200,On_Eleme!$E$5:$E$200),3,0)","v":{"$error":"#N/A"}},"E43",{"$f":"VLOOKUP(On_Eleme!$G$131,CHOOSE({3,2,1},On_Eleme!$C$5:$C$200,On_Eleme!$D$5:$D$200,On_Eleme!$E$5:$E$200),3,0)","v":{"$error":"#N/A"}},"E51",{"$f":"VLOOKUP(On_Eleme!$G$155,CHOOSE({3,2,1},On_Eleme!$C$5:$C$200,On_Eleme!$D$5:$D$200,On_Eleme!$E$5:$E$200),3,0)","v":{"$error":"#N/A"}},"E59",{"$f":"VLOOKUP(On_Eleme!$G$179,CHOOSE({3,2,1},On_Eleme!$C$5:$C$200,On_Eleme!$D$5:$D$200,On_Eleme!$E$5:$E$200),3,0)","v":{"$error":"#N/A"}}]
[4,65,999,"",129,{"$f":"IF(Main!$Q$2=3,VLOOKUP(E9,Kura!$A$4:$Z$350,26,0),Ana_Tablo_Kura!L11)","v":{"$error":"#N/A"}},null,null,null,null,null,null,null,null,null,null,null,null,null,null,null,null,null,null,null,null,null,null,null,null,null,null,null,null,null,null,null,null,null,null,null,null,null,null,null,null,null,null,null,null,null,null,null,null,null,null,null,null,6,null,null,null,null,{"$f":"F19","v":{"$error":"#N/A"}},{"$f":"F21","v":{"$error":"#N/A"}},null,null,null,null,null,null,null,null,null,null,null,null,null,null,null,null,null,null,null,null,null,null,null,null,null,null,"E4",{"$f":"VLOOKUP(On_Eleme!$G$14,CHOOSE({3,2,1},On_Eleme!$C$5:$C$200,On_Eleme!$D$5:$D$200,On_Eleme!$E$5:$E$200),3,0)","v":{"$error":"#N/A"}},"E12",{"$f":"VLOOKUP(On_Eleme!$G$38,CHOOSE({3,2,1},On_Eleme!$C$5:$C$200,On_Eleme!$D$5:$D$200,On_Eleme!$E$5:$E$200),3,0)","v":{"$error":"#N/A"}},"E20",{"$f":"VLOOKUP(On_Eleme!$G$62,CHOOSE({3,2,1},On_Eleme!$C$5:$C$200,On_Eleme!$D$5:$D$200,On_Eleme!$E$5:$E$200),3,0)","v":{"$error":"#N/A"}},"E28",{"$f":"VLOOKUP(On_Eleme!$G$86,CHOOSE({3,2,1},On_Eleme!$C$5:$C$200,On_Eleme!$D$5:$D$200,On_Eleme!$E$5:$E$200),3,0)","v":{"$error":"#N/A"}},"E36",{"$f":"VLOOKUP(On_Eleme!$G$110,CHOOSE({3,2,1},On_Eleme!$C$5:$C$200,On_Eleme!$D$5:$D$200,On_Eleme!$E$5:$E$200),3,0)","v":{"$error":"#N/A"}},"E44",{"$f":"VLOOKUP(On_Eleme!$G$134,CHOOSE({3,2,1},On_Eleme!$C$5:$C$200,On_Eleme!$D$5:$D$200,On_Eleme!$E$5:$E$200),3,0)","v":{"$error":"#N/A"}},"E52",{"$f":"VLOOKUP(On_Eleme!$G$158,CHOOSE({3,2,1},On_Eleme!$C$5:$C$200,On_Eleme!$D$5:$D$200,On_Eleme!$E$5:$E$200),3,0)","v":{"$error":"#N/A"}},"E60",{"$f":"VLOOKUP(On_Eleme!$G$182,CHOOSE({3,2,1},On_Eleme!$C$5:$C$200,On_Eleme!$D$5:$D$200,On_Eleme!$E$5:$E$200),3,0)","v":{"$error":"#N/A"}}]
[5,65,999,"",65,{"$f":"IF(Main!$Q$2=3,VLOOKUP(E10,Kura!$A$4:$Z$350,26,0),Ana_Tablo_Kura!L12)","v":{"$error":"#N/A"}},null,null,null,null,null,null,null,null,null,null,null,null,null,null,null,{"$f":"BX196","v":0},{"$f":"BY196","v":0},null,null,null,{"$f":"IF(AND(V10=0,W10=0),\"\",IF(V10>W10,T6,T13))","v":""},null,null,null,null,null,null,null,null,null,null,null,null,null,null,null,null,null,null,null,null,null,null,null,null,null,null,null,null,null,null,null,7,null,null,null,null,{"$f":"F22","v":{"$error":"#N/A"}},{"$f":"F24","v":{"$error":"#N/A"}},null,null,null,null,null,null,null,null,null,null,null,null,null,null,null,null,null,null,null,null,null,null,null,null,null,null,"E5",{"$f":"VLOOKUP(On_Eleme!$G$17,CHOOSE({3,2,1},On_Eleme!$C$5:$C$200,On_Eleme!$D$5:$D$200,On_Eleme!$E$5:$E$200),3,0)","v":{"$error":"#N/A"}},"E13",{"$f":"VLOOKUP(On_Eleme!$G$41,CHOOSE({3,2,1},On_Eleme!$C$5:$C$200,On_Eleme!$D$5:$D$200,On_Eleme!$E$5:$E$200),3,0)","v":{"$error":"#N/A"}},"E21",{"$f":"VLOOKUP(On_Eleme!$G$65,CHOOSE({3,2,1},On_Eleme!$C$5:$C$200,On_Eleme!$D$5:$D$200,On_Eleme!$E$5:$E$200),3,0)","v":{"$error":"#N/A"}},"E29",{"$f":"VLOOKUP(On_Eleme!$G$89,CHOOSE({3,2,1},On_Eleme!$C$5:$C$200,On_Eleme!$D$5:$D$200,On_Eleme!$E$5:$E$200),3,0)","v":{"$error":"#N/A"}},"E37",{"$f":"VLOOKUP(On_Eleme!$G$113,CHOOSE({3,2,1},On_Eleme!$C$5:$C$200,On_Eleme!$D$5:$D$200,On_Eleme!$E$5:$E$200),3,0)","v":{"$error":"#N/A"}},"E45",{"$f":"VLOOKUP(On_Eleme!$G$137,CHOOSE({3,2,1},On_Eleme!$C$5:$C$200,On_Eleme!$D$5:$D$200,On_Eleme!$E$5:$E$200),3,0)","v":{"$error":"#N/A"}},"E53",{"$f":"VLOOKUP(On_Eleme!$G$161,CHOOSE({3,2,1},On_Eleme!$C$5:$C$200,On_Eleme!$D$5:$D$200,On_Eleme!$E$5:$E$200),3,0)","v":{"$error":"#N/A"}},"E61",{"$f":"VLOOKUP(On_Eleme!$G$185,CHOOSE({3,2,1},On_Eleme!$C$5:$C$200,On_Eleme!$D$5:$D$200,On_Eleme!$E$5:$E$200),3,0)","v":{"$error":"#N/A"}}]
[null,null,null,"",null,null,null,{"$f":"BX6","v":0},{"$f":"BY6","v":0},null,null,3,{"$f":"IF(AND(H11=0,I11=0),\"\",IF(H11>I11,F10,F12))","v":""},null,null,null,null,null,null,null,null,null,null,null,null,null,null,null,null,null,null,null,{"$f":"IF(Main!R2=2,225,IF(Main!R2=3,113,IF(Main!R2=4,57,IF(Main!R2=5,29,IF(Main!R2=6,15,IF(Main!R2=7,\"\"))))))","v":""},null,null,null,null,null,null,null,null,null,null,null,null,null,null,null,null,null,null,null,null,null,null,null,null,null,8,null,null,null,null,{"$f":"F25","v":{"$error":"#N/A"}},{"$f":"F27","v":{"$error":"#N/A"}},null,null,null,null,null,null,null,null,null,null,null,null,null,null,null,null,null,null,null,null,null,null,null,null,null,null,"E6",{"$f":"VLOOKUP(On_Eleme!$G$20,CHOOSE({3,2,1},On_Eleme!$C$5:$C$200,On_Eleme!$D$5:$D$200,On_Eleme!$E$5:$E$200),3,0)","v":{"$error":"#N/A"}},"E14",{"$f":"VLOOKUP(On_Eleme!$G$44,CHOOSE({3,2,1},On_Eleme!$C$5:$C$200,On_Eleme!$D$5:$D$200,On_Eleme!$E$5:$E$200),3,0)","v":{"$error":"#N/A"}},"E22",{"$f":"VLOOKUP(On_Eleme!$G$68,CHOOSE({3,2,1},On_Eleme!$C$5:$C$200,On_Eleme!$D$5:$D$200,On_Eleme!$E$5:$E$200),3,0)","v":{"$error":"#N/A"}},"E30",{"$f":"VLOOKUP(On_Eleme!$G$92,CHOOSE({3,2,1},On_Eleme!$C$5:$C$200,On_Eleme!$D$5:$D$200,On_Eleme!$E$5:$E$200),3,0)","v":{"$error":"#N/A"}},"E38",{"$f":"VLOOKUP(On_Eleme!$G$116,CHOOSE({3,2,1},On_Eleme!$C$5:$C$200,On_Eleme!$D$5:$D$200,On_Eleme!$E$5:$E$200),3,0)","v":{"$error":"#N/A"}},"E46",{"$f":"VLOOKUP(On_Eleme!$G$140,CHOOSE({3,2,1},On_Eleme!$C$5:$C$200,On_Eleme!$D$5:$D$200,On_Eleme!$E$5:$E$200),3,0)","v":{"$error":"#N/A"}},"E54",{"$f":"VLOOKUP(On_Eleme!$G$164,CHOOSE({3,2,1},On_Eleme!$C$5:$C$200,On_Eleme!$D$5:$D$200,On_Eleme!$E$5:$E$200),3,0)","v":{"$error":"#N/A"}},"E62",{"$f":"VLOOKUP(On_Eleme!$G$188,CHOOSE({3,2,1},On_Eleme!$C$5:$C$200,On_Eleme!$D$5:$D$200,On_Eleme!$E$5:$E$200),3,0)","v":{"$error":"#N/A"}}]
[6,129,999,"",192,{"$f":"IF(Main!$Q$2=3,VLOOKUP(E12,Kura!$A$4:$Z$350,26,0),Ana_Tablo_Kura!L13)","v":{"$error":"#N/A"}},null,null,null,null,null,null,null,null,null,null,null,null,{"$f":"+S6+1","v":6},null,null,null,null,null,null,null,null,null,null,null,null,null,null,null,null,null,null,null,null,null,null,null,null,null,null,null,null,null,null,null,null,null,null,null,null,null,null,null,9,null,null,null,null,{"$f":"F28","v":{"$error":"#N/A"}},{"$f":"F30","v":{"$error":"#N/A"}},null,null,null,null,null,null,null,null,null,null,null,null,null,null,null,null,null,null,null,null,null,null,null,null,null,null,"E7",{"$f":"VLOOKUP(On_Eleme!$G$23,CHOOSE({3,2,1},On_Eleme!$C$5:$C$200,On_Eleme!$D$5:$D$200,On_Eleme!$E$5:$E$200),3,0)","v":{"$error":"#N/A"}},"E15",{"$f":"VLOOKUP(On_Eleme!$G$47,CHOOSE({3,2,1},On_Eleme!$C$5:$C$200,On_Eleme!$D$5:$D$200,On_Eleme!$E$5:$E$200),3,0)","v":{"$error":"#N/A"}},"E23",{"$f":"VLOOKUP(On_Eleme!$G$71,CHOOSE({3,2,1},On_Eleme!$C$5:$C$200,On_Eleme!$D$5:$D$200,On_Eleme!$E$5:$E$200),3,0)","v":{"$error":"#N/A"}},"E31",{"$f":"VLOOKUP(On_Eleme!$G$95,CHOOSE({3,2,1},On_Eleme!$C$5:$C$200,On_Eleme!$D$5:$D$200,On_Eleme!$E$5:$E$200),3,0)","v":{"$error":"#N/A"}},"E39",{"$f":"VLOOKUP(On_Eleme!$G$119,CHOOSE({3,2,1},On_Eleme!$C$5:$C$200,On_Eleme!$D$5:$D$200,On_Eleme!$E$5:$E$200),3,0)","v":{"$error":"#N/A"}},"E47",{"$f":"VLOOKUP(On_Eleme!$G$143,CHOOSE({3,2,1},On_Eleme!$C$5:$C$200,On_Eleme!$D$5:$D$200,On_Eleme!$E$5:$E$200),3,0)","v":{"$error":"#N/A"}},"E55",{"$f":"VLOOKUP(On_Eleme!$G$167,CHOOSE({3,2,1},On_Eleme!$C$5:$C$200,On_Eleme!$D$5:$D$200,On_Eleme!$E$5:$E$200),3,0)","v":{"$error":"#N/A"}},"E63",{"$f":"VLOOKUP(On_Eleme!$G$191,CHOOSE({3,2,1},On_Eleme!$C$5:$C$200,On_Eleme!$D$5:$D$200,On_Eleme!$E$5:$E$200),3,0)","v":{"$error":"#N/A"}}]
[7,129,999,"",64,{"$f":"IF(Main!$Q$2=3,VLOOKUP(E13,Kura!$A$4:$Z$350,26,0),Ana_Tablo_Kura!L14)","v":{"$error":"#N/A"}},null,null,null,null,null,null,null,null,{"$f":"BX133","v":0},{"$f":"BY133","v":0},null,null,null,{"$f":"IF(AND(O13=0,P13=0),\"\",IF(O13>P13,M11,M14))","v":""},null,null,null,null,null,null,null,null,null,null,null,null,null,null,null,null,null,null,null,null,null,null,null,null,null,null,null,null,null,null,null,null,null,null,null,null,null,null,10,null,null,null,null,{"$f":"F31","v":{"$error":"#N/A"}},{"$f":"F33","v":{"$error":"#N/A"}},null,null,null,null,null,null,null,null,null,null,null,null,null,null,null,null,null,null,null,null,null,null,null,null,null,null,"E8",{"$f":"VLOOKUP(On_Eleme!$G$26,CHOOSE({3,2,1},On_Eleme!$C$5:$C$200,On_Eleme!$D$5:$D$200,On_Eleme!$E$5:$E$200),3,0)","v":{"$error":"#N/A"}},"E16",{"$f":"VLOOKUP(On_Eleme!$G$50,CHOOSE({3,2,1},On_Eleme!$C$5:$C$200,On_Eleme!$D$5:$D$200,On_Eleme!$E$5:$E$200),3,0)","v":{"$error":"#N/A"}},"E24",{"$f":"VLOOKUP(On_Eleme!$G$74,CHOOSE({3,2,1},On_Eleme!$C$5:$C$200,On_Eleme!$D$5:$D$200,On_Eleme!$E$5:$E$200),3,0)","v":{"$error":"#N/A"}},"E32",{"$f":"VLOOKUP(On_Eleme!$G$98,CHOOSE({3,2,1},On_Eleme!$C$5:$C$200,On_Eleme!$D$5:$D$200,On_Eleme!$E$5:$E$200),3,0)","v":{"$error":"#N/A"}},"E40",{"$f":"VLOOKUP(On_Eleme!$G$122,CHOOSE({3,2,1},On_Eleme!$C$5:$C$200,On_Eleme!$D$5:$D$200,On_Eleme!$E$5:$E$200),3,0)","v":{"$error":"#N/A"}},"E48",{"$f":"VLOOKUP(On_Eleme!$G$146,CHOOSE({3,2,1},On_Eleme!$C$5:$C$200,On_Eleme!$D$5:$D$200,On_Eleme!$E$5:$E$200),3,0)","v":{"$error":"#N/A"}},"E56",{"$f":"VLOOKUP(On_Eleme!$G$170,CHOOSE({3,2,1},On_Eleme!$C$5:$C$200,On_Eleme!$D$5:$D$200,On_Eleme!$E$5:$E$200),3,0)","v":{"$error":"#N/A"}},"E64",{"$f":"VLOOKUP(On_Eleme!$G$194,CHOOSE({3,2,1},On_Eleme!$C$5:$C$200,On_Eleme!$D$5:$D$200,On_Eleme!$E$5:$E$200),3,0)","v":{"$error":"#N/A"}}]
[null,null,null,"",null,null,null,{"$f":"BX7","v":0},{"$f":"BY7","v":0},null,null,4,{"$f":"IF(AND(H14=0,I14=0),\"\",IF(H14>I14,F13,F15))","v":""},null,null,null,null,null,null,null,null,null,null,null,null,null,null,null,null,null,null,null,null,null,null,null,null,null,null,null,null,null,null,null,null,null,null,null,null,null,null,null,null,null,null,null,null,null,11,null,null,null,null,{"$f":"F34","v":{"$error":"#N/A"}},{"$f":"F36","v":{"$error":"#N/A"}}]
[8,64,999,"",193,{"$f":"IF(Main!$Q$2=3,VLOOKUP(E15,Kura!$A$4:$Z$350,26,0),Ana_Tablo_Kura!L15)","v":{"$error":"#N/A"}},null,null,null,null,null,null,null,null,null,null,null,null,null,null,null,null,null,null,null,null,null,null,null,null,null,null,null,null,null,null,null,null,null,null,null,null,null,null,null,null,null,null,null,null,null,null,null,null,null,null,null,null,12,null,null,null,null,{"$f":"F37","v":{"$error":"#N/A"}},{"$f":"F39","v":{"$error":"#N/A"}}]
[9,49,null,"",33,{"$f":"IF(Main!$Q$2=3,VLOOKUP(E16,Kura!$A$4:$Z$350,26,0),Ana_Tablo_Kura!L16)","v":{"$error":"#N/A"}},null,null,null,null,null,null,null,null,null,null,null,null,null,null,null,null,null,null,null,null,null,null,null,{"$f":"BX228","v":0},{"$f":"BY228","v":0},null,null,{"$f":"IF(AND(AD16=0,AE16=0),\"\",IF(AD16>AE16,AA10,AA22))","v":""},null,null,null,null,null,null,null,null,null,null,null,null,null,null,null,null,null,null,null,null,null,null,null,null,13,null,null,null,null,{"$f":"F40","v":{"$error":"#N/A"}},{"$f":"F42","v":{"$error":"#N/A"}}]
[null,null,null,"",null,null,null,{"$f":"BX8","v":0},{"$f":"BY8","v":0},null,null,5,{"$f":"IF(AND(H17=0,I17=0),\"\",IF(H17>I17,F16,F18))","v":""},null,null,null,null,null,null,null,null,null,null,null,null,null,null,null,null,null,null,null,null,null,null,null,null,null,null,241,null,null,null,null,null,null,null,null,null,null,null,null,null,null,null,null,null,null,14,null,null,null,null,{"$f":"F43","v":{"$error":"#N/A"}},{"$f":"F45","v":{"$error":"#N/A"}}]
[10,129,49,"",224,{"$f":"IF(Main!$Q$2=3,VLOOKUP(E18,Kura!$A$4:$Z$350,26,0),Ana_Tablo_Kura!L17)","v":{"$error":"#N/A"}},null,null,null,null,null,null,null,null,null,null,null,null,{"$f":"+S12+1","v":7},{"$f":"IF(AND(O19=0,P19=0),\"\",IF(O19>P19,M17,M20))","v":""},null,null,null,null,null,null,null,null,null,null,null,null,null,null,null,null,null,null,null,null,null,null,null,null,null,null,null,null,null,null,null,null,null,null,null,null,null,null,15,null,null,null,null,{"$f":"F46","v":{"$error":"#N/A"}},{"$f":"F48","v":{"$error":"#N/A"}}]
[11,129,null,"",96,{"$f":"IF(Main!$Q$2=3,VLOOKUP(E19,Kura!$A$4:$Z$350,26,0),Ana_Tablo_Kura!L18)","v":{"$error":"#N/A"}},null,null,null,null,null,null,null,null,{"$f":"BX134","v":0},{"$f":"BY134","v":0},null,null,null,null,null,null,null,null,null,{"$f":"+Z7+1","v":8},null,null,null,null,null,null,null,null,null,null,null,null,null,null,null,null,null,null,null,null,null,null,null,null,null,null,null,null,null,null,null,null,16,null,null,null,null,{"$f":"F49","v":{"$error":"#N/A"}},{"$f":"F51","v":{"$error":"#N/A"}}]
[null,null,null,"",null,null,null,{"$f":"BX9","v":0},{"$f":"BY9","v":0},null,null,6,{"$f":"IF(AND(H20=0,I20=0),\"\",IF(H20>I20,F19,F21))","v":""},null,null,null,null,null,null,null,null,null,null,null,null,null,null,null,null,null,null,null,null,null,null,null,null,null,null,null,null,null,null,null,null,null,null,null,null,null,null,null,null,null,null,null,null,null,17,null,null,null,null,{"$f":"F52","v":{"$error":"#N/A"}},{"$f":"F54","v":{"$error":"#N/A"}}]
[12,65,null,"",161,{"$f":"IF(Main!$Q$2=3,VLOOKUP(E21,Kura!$A$4:$Z$350,26,0),Ana_Tablo_Kura!L19)","v":{"$error":"#N/A"}},null,null,null,null,null,null,null,null,null,null,null,null,null,null,null,null,null,null,null,null,null,null,null,null,null,null,null,null,null,null,null,null,null,null,null,null,null,null,null,null,null,null,null,null,null,null,null,null,null,null,null,null,18,null,null,null,null,{"$f":"F55","v":{"$error":"#N/A"}},{"$f":"F57","v":{"$error":"#N/A"}}]
[13,65,null,"",97,{"$f":"IF(Main!$Q$2=3,VLOOKUP(E22,Kura!$A$4:$Z$350,26,0),Ana_Tablo_Kura!L20)","v":{"$error":"#N/A"}},null,null,null,null,null,null,null,null,null,null,null,null,null,null,null,{"$f":"BX197","v":0},{"$f":"BY197","v":0},null,null,null,{"$f":"IF(AND(V22=0,W22=0),\"\",IF(V22>W22,T18,T25))","v":""},null,null,null,null,null,null,null,null,null,null,null,null,null,null,null,null,null,null,null,null,null,null,null,null,null,null,null,null,null,null,null,19,null,null,null,null,{"$f":"F58","v":{"$error":"#N/A"}},{"$f":"F60","v":{"$error":"#N/A"}}]
[null,null,null,"",null,null,null,{"$f":"BX10","v":0},{"$f":"BY10","v":0},null,null,7,{"$f":"IF(AND(H23=0,I23=0),\"\",IF(H23>I23,F22,F24))","v":""},null,null,null,null,null,null,null,null,null,null,null,null,null,null,null,null,null,null,null,null,null,null,null,null,null,null,null,null,null,null,null,null,null,null,null,null,null,null,null,null,null,null,null,null,null,20,null,null,null,null,{"$f":"F61","v":{"$error":"#N/A"}},{"$f":"F63","v":{"$error":"#N/A"}}]
[14,129,null,"",160,{"$f":"IF(Main!$Q$2=3,VLOOKUP(E24,Kura!$A$4:$Z$350,26,0),Ana_Tablo_Kura!L21)","v":{"$error":"#N/A"}},null,null,null,null,null,null,null,null,null,null,null,null,{"$f":"+S18+1","v":8},null,null,null,null,null,null,null,null,null,null,null,null,null,null,null,null,null,null,null,null,null,null,null,null,null,null,null,null,null,null,null,null,null,null,null,null,null,null,null,21,null,null,null,null,{"$f":"F64","v":{"$error":"#N/A"}},{"$f":"F66","v":{"$error":"#N/A"}}]
[15,129,32,"E29",32,{"$f":"IF(Main!$Q$2=3,VLOOKUP(E25,Kura!$A$4:$Z$350,26,0),Ana_Tablo_Kura!L22)","v":{"$error":"#N/A"}},null,null,null,null,null,null,null,null,{"$f":"BX135","v":0},{"$f":"BY135","v":0},null,null,null,{"$f":"IF(AND(O25=0,P25=0),\"\",IF(O25>P25,M23,M26))","v":""},null,null,null,null,null,null,null,null,null,null,null,null,null,null,null,null,null,null,null,null,null,null,null,null,null,null,null,null,null,null,null,null,null,null,null,null,null,null,22,null,null,null,null,{"$f":"F67","v":{"$error":"#N/A"}},{"$f":"F69","v":{"$error":"#N/A"}}]
[null,null,null,"",null,null,null,{"$f":"BX11","v":0},{"$f":"BY11","v":0},null,null,8,{"$f":"IF(AND(H26=0,I26=0),\"\",IF(H26>I26,F25,F27))","v":""},null,null,null,null,null,null,null,null,null,null,null,null,null,null,null,null,null,null,null,null,null,null,null,null,null,null,null,null,null,null,null,null,null,null,null,null,null,null,null,null,null,null,null,null,null,23,null,null,null,null,{"$f":"F70","v":{"$error":"#N/A"}},{"$f":"F72","v":{"$error":"#N/A"}}]
[16,32,null,"",225,{"$f":"IF(Main!$Q$2=3,VLOOKUP(E27,Kura!$A$4:$Z$350,26,0),Ana_Tablo_Kura!L23)","v":{"$error":"#N/A"}},null,null,null,null,null,null,null,null,null,null,null,null,null,null,null,null,null,null,null,null,null,null,null,null,null,null,null,null,null,null,null,null,null,null,null,null,null,null,null,null,null,null,null,null,null,null,null,null,null,null,null,null,24,null,null,null,null,{"$f":"F73","v":{"$error":"#N/A"}},{"$f":"F75","v":{"$error":"#N/A"}}]
[17,17,null,"",17,{"$f":"IF(Main!$Q$2=3,VLOOKUP(E28,Kura!$A$4:$Z$350,26,0),Ana_Tablo_Kura!L24)","v":{"$error":"#N/A"}},null,null,null,null,null,null,null,null,null,null,null,null,null,null,null,null,null,null,null,null,null,null,null,null,null,null,null,null,null,null,{"$f":"BX244","v":0},{"$f":"BY244","v":0},null,null,{"$f":"IF(AND(AK28=0,AL28=0),\"\",IF(AK28>AL28,AH16,AH40))","v":""},null,null,null,null,null,null,null,null,null,null,null,null,null,null,null,null,null,25,null,null,null,null,{"$f":"F76","v":{"$error":"#N/A"}},{"$f":"F78","v":{"$error":"#N/A"}}]
[null,null,null,"",null,null,null,{"$f":"BX12","v":0},{"$f":"BY12","v":0},null,null,9,{"$f":"IF(AND(H29=0,I29=0),\"\",IF(H29>I29,F28,F30))","v":""},null,null,null,null,null,null,null,null,null,null,null,null,null,null,null,null,null,null,null,null,null,null,null,null,null,null,null,null,null,null,null,null,null,null,null,null,null,null,null,null,null,null,null,null,null,26,null,null,null,null,{"$f":"F79","v":{"$error":"#N/A"}},{"$f":"F81","v":{"$error":"#N/A"}}]
[18,129,17,"",240,{"$f":"IF(Main!$Q$2=3,VLOOKUP(E30,Kura!$A$4:$Z$350,26,0),Ana_Tablo_Kura!L25)","v":{"$error":"#N/A"}},null,null,null,null,null,null,null,null,null,null,null,null,{"$f":"+S24+1","v":9},{"$f":"IF(AND(O31=0,P31=0),\"\",IF(O31>P31,M29,M32))","v":""},null,null,null,null,null,null,null,null,null,null,null,null,null,null,null,null,null,null,null,null,null,null,null,null,null,null,null,null,null,null,null,null,null,null,null,null,null,null,27,null,null,null,null,{"$f":"F82","v":{"$error":"#N/A"}},{"$f":"F84","v":{"$error":"#N/A"}}]
[19,129,null,"",112,{"$f":"IF(Main!$Q$2=3,VLOOKUP(E31,Kura!$A$4:$Z$350,26,0),Ana_Tablo_Kura!L26)","v":{"$error":"#N/A"}},null,null,null,null,null,null,null,null,{"$f":"BX136","v":0},{"$f":"BY136","v":0},null,null,null,null,null,null,null,null,null,{"$f":"+Z19+1","v":9},null,null,null,null,null,null,null,null,null,null,null,null,null,null,null,null,null,null,null,null,null,null,null,null,null,null,null,null,null,null,null,null,28,null,null,null,null,{"$f":"F85","v":{"$error":"#N/A"}},{"$f":"F87","v":{"$error":"#N/A"}}]
[null,null,null,"",null,null,null,{"$f":"BX13","v":0},{"$f":"BY13","v":0},null,null,10,{"$f":"IF(AND(H32=0,I32=0),\"\",IF(H32>I32,F31,F33))","v":""},null,null,null,null,null,null,null,null,null,null,null,null,null,null,null,null,null,null,null,null,null,null,null,null,null,null,null,null,null,null,null,null,null,null,null,null,null,null,null,null,null,null,null,null,null,29,null,null,null,null,{"$f":"F88","v":{"$error":"#N/A"}},{"$f":"F90","v":{"$error":"#N/A"}}]
[20,65,null,"",145,{"$f":"IF(Main!$Q$2=3,VLOOKUP(E33,Kura!$A$4:$Z$350,26,0),Ana_Tablo_Kura!L27)","v":{"$error":"#N/A"}},null,null,null,null,null,null,null,null,null,null,null,null,null,null,null,null,null,null,null,null,null,null,null,null,null,null,null,null,null,null,null,null,null,null,null,null,null,null,null,null,null,null,null,null,null,null,null,null,null,null,null,null,30,null,null,null,null,{"$f":"F91","v":{"$error":"#N/A"}},{"$f":"F93","v":{"$error":"#N/A"}}]
[21,65,null,"",81,{"$f":"IF(Main!$Q$2=3,VLOOKUP(E34,Kura!$A$4:$Z$350,26,0),Ana_Tablo_Kura!L28)","v":{"$error":"#N/A"}},null,null,null,null,null,null,null,null,null,null,null,null,null,null,null,{"$f":"BX198","v":0},{"$f":"BY198","v":0},null,null,null,{"$f":"IF(AND(V34=0,W34=0),\"\",IF(V34>W34,T30,T37))","v":""},null,null,null,null,null,null,null,null,null,null,null,null,null,null,null,null,null,null,null,null,null,null,null,null,null,null,null,null,null,null,null,31,null,null,null,null,{"$f":"F94","v":{"$error":"#N/A"}},{"$f":"F96","v":{"$error":"#N/A"}}]
[null,null,null,"",null,null,null,{"$f":"BX14","v":0},{"$f":"BY14","v":0},null,null,11,{"$f":"IF(AND(H35=0,I35=0),\"\",IF(H35>I35,F34,F36))","v":""},null,null,null,null,null,null,null,null,null,null,null,null,null,null,null,null,null,null,null,{"$f":"+AG11+1","v":{"$error":"#VALUE!"}},null,null,null,null,null,null,null,null,null,null,null,null,null,null,null,null,null,null,null,null,null,null,null,null,null,32,null,null,null,null,{"$f":"F97","v":{"$error":"#N/A"}},{"$f":"F99","v":{"$error":"#N/A"}}]
[22,129,null,"E8",176,{"$f":"IF(Main!$Q$2=3,VLOOKUP(E36,Kura!$A$4:$Z$350,26,0),Ana_Tablo_Kura!L29)","v":{"$error":"#N/A"}},null,null,null,null,null,null,null,null,null,null,null,null,{"$f":"+S30+1","v":10},null,null,null,null,null,null,null,null,null,null,null,null,null,null,null,null,null,null,null,null,null,null,null,null,null,null,null,null,null,null,null,null,null,null,null,null,null,null,null,33,null,null,null,null,{"$f":"F100","v":{"$error":"#N/A"}},{"$f":"F102","v":{"$error":"#N/A"}}]
[23,129,48,"",48,{"$f":"IF(Main!$Q$2=3,VLOOKUP(E37,Kura!$A$4:$Z$350,26,0),Ana_Tablo_Kura!L30)","v":{"$error":"#N/A"}},null,null,null,null,null,null,null,null,{"$f":"BX137","v":0},{"$f":"BY137","v":0},null,null,null,{"$f":"IF(AND(O37=0,P37=0),\"\",IF(O37>P37,M35,M38))","v":""},null,null,null,null,null,null,null,null,null,null,null,null,null,null,null,null,null,null,null,null,null,null,null,null,null,null,null,null,null,null,null,null,null,null,null,null,null,null,34,null,null,null,null,{"$f":"F103","v":{"$error":"#N/A"}},{"$f":"F105","v":{"$error":"#N/A"}}]
[null,null,null,"",null,null,null,{"$f":"BX15","v":0},{"$f":"BY15","v":0},null,null,12,{"$f":"IF(AND(H38=0,I38=0),\"\",IF(H38>I38,F37,F39))","v":""},null,null,null,null,null,null,null,null,null,null,null,null,null,null,null,null,null,null,null,null,null,null,null,null,null,null,null,null,null,null,null,null,null,null,null,null,null,null,null,null,null,null,null,null,null,35,null,null,null,null,{"$f":"F106","v":{"$error":"#N/A"}},{"$f":"F108","v":{"$error":"#N/A"}}]
[24,48,null,"",209,{"$f":"IF(Main!$Q$2=3,VLOOKUP(E39,Kura!$A$4:$Z$350,26,0),Ana_Tablo_Kura!L31)","v":{"$error":"#N/A"}},null,null,null,null,null,null,null,null,null,null,null,null,null,null,null,null,null,null,null,null,null,null,null,null,null,null,null,null,null,null,null,null,null,null,null,null,null,null,null,null,null,null,null,null,null,null,null,null,null,null,null,null,36,null,null,null,null,{"$f":"F109","v":{"$error":"#N/A"}},{"$f":"F111","v":{"$error":"#N/A"}}]
[25,33,null,"",49,{"$f":"IF(Main!$Q$2=3,VLOOKUP(E40,Kura!$A$4:$Z$350,26,0),Ana_Tablo_Kura!L32)","v":{"$error":"#N/A"}},null,null,null,null,null,null,null,null,null,null,null,null,null,null,null,null,null,null,null,null,null,null,null,{"$f":"BX229","v":0},{"$f":"BY229","v":0},null,null,{"$f":"IF(AND(AD40=0,AE40=0),\"\",IF(AD40>AE40,AA34,AA46))","v":""},null,null,null,null,null,null,null,null,null,null,null,null,null,null,null,null,null,null,null,null,null,null,null,null,37,null,null,null,null,{"$f":"F112","v":{"$error":"#N/A"}},{"$f":"F114","v":{"$error":"#N/A"}}]
[null,null,null,"",null,null,null,{"$f":"BX16","v":0},{"$f":"BY16","v":0},null,null,13,{"$f":"IF(AND(H41=0,I41=0),\"\",IF(H41>I41,F40,F42))","v":""},null,null,null,null,null,null,null,null,null,null,null,null,null,null,null,null,null,null,null,null,null,null,null,null,null,null,null,null,null,null,null,null,null,null,null,null,null,null,null,null,null,null,null,null,null,38,null,null,null,null,{"$f":"F115","v":{"$error":"#N/A"}},{"$f":"F117","v":{"$error":"#N/A"}}]
[26,129,33,"",208,{"$f":"IF(Main!$Q$2=3,VLOOKUP(E42,Kura!$A$4:$Z$350,26,0),Ana_Tablo_Kura!L33)","v":{"$error":"#N/A"}},null,null,null,null,null,null,null,null,null,null,null,null,{"$f":"+S36+1","v":11},{"$f":"IF(AND(O43=0,P43=0),\"\",IF(O43>P43,M41,M44))","v":""},null,null,null,null,null,null,null,null,null,null,null,null,null,null,null,null,null,null,null,null,null,null,null,null,null,null,null,null,null,null,null,null,null,null,null,null,null,null,39,null,null,null,null,{"$f":"F118","v":{"$error":"#N/A"}},{"$f":"F120","v":{"$error":"#N/A"}}]
[27,129,null,"E24",80,{"$f":"IF(Main!$Q$2=3,VLOOKUP(E43,Kura!$A$4:$Z$350,26,0),Ana_Tablo_Kura!L34)","v":{"$error":"#N/A"}},null,null,null,null,null,null,null,null,{"$f":"BX138","v":0},{"$f":"BY138","v":0},null,null,null,null,null,null,null,null,null,{"$f":"+Z31+1","v":10},null,null,null,null,null,null,null,null,null,null,null,null,null,null,null,null,null,null,null,null,null,null,null,null,null,null,null,null,null,null,null,null,40,null,null,null,null,{"$f":"F121","v":{"$error":"#N/A"}},{"$f":"F123","v":{"$error":"#N/A"}}]
[null,null,null,"",null,null,null,{"$f":"BX17","v":0},{"$f":"BY17","v":0},null,null,14,{"$f":"IF(AND(H44=0,I44=0),\"\",IF(H44>I44,F43,F45))","v":""},null,null,null,null,null,null,null,null,null,null,null,null,null,null,null,null,null,null,null,null,null,null,null,null,null,null,null,null,null,null,null,null,null,null,null,null,null,null,null,null,null,null,null,null,null,41,null,null,null,null,{"$f":"F124","v":{"$error":"#N/A"}},{"$f":"F126","v":{"$error":"#N/A"}}]
[28,65,null,"",177,{"$f":"IF(Main!$Q$2=3,VLOOKUP(E45,Kura!$A$4:$Z$350,26,0),Ana_Tablo_Kura!L35)","v":{"$error":"#N/A"}},null,null,null,null,null,null,null,null,null,null,null,null,null,null,null,null,null,null,null,null,null,null,null,null,null,null,null,null,null,null,null,null,null,null,null,null,null,null,null,null,null,null,null,null,null,null,null,null,null,null,null,null,42,null,null,null,null,{"$f":"F127","v":{"$error":"#N/A"}},{"$f":"F129","v":{"$error":"#N/A"}}]
[29,65,null,"",113,{"$f":"IF(Main!$Q$2=3,VLOOKUP(E46,Kura!$A$4:$Z$350,26,0),Ana_Tablo_Kura!L36)","v":{"$error":"#N/A"}},null,null,null,null,null,null,null,null,null,null,null,null,null,null,null,{"$f":"BX199","v":0},{"$f":"BY199","v":0},null,null,null,{"$f":"IF(AND(V46=0,W46=0),\"\",IF(V46>W46,T42,T49))","v":""},null,null,null,null,null,null,null,null,null,null,null,null,null,null,null,null,null,null,null,null,null,null,null,null,null,null,null,null,null,null,null,43,null,null,null,null,{"$f":"F130","v":{"$error":"#N/A"}},{"$f":"F132","v":{"$error":"#N/A"}}]
[null,null,null,"",null,null,null,{"$f":"BX18","v":0},{"$f":"BY18","v":0},null,null,15,{"$f":"IF(AND(H47=0,I47=0),\"\",IF(H47>I47,F46,F48))","v":""},null,null,null,null,null,null,null,null,null,null,null,null,null,null,null,null,null,null,null,null,null,null,null,null,null,null,null,null,null,null,null,null,null,null,null,null,null,null,null,null,null,null,null,null,null,44,null,null,null,null,{"$f":"F133","v":{"$error":"#N/A"}},{"$f":"F135","v":{"$error":"#N/A"}}]
[30,129,null,"",144,{"$f":"IF(Main!$Q$2=3,VLOOKUP(E48,Kura!$A$4:$Z$350,26,0),Ana_Tablo_Kura!L37)","v":{"$error":"#N/A"}},null,null,null,null,null,null,null,null,null,null,null,null,{"$f":"+S42+1","v":12},null,null,null,null,null,null,null,null,null,null,null,null,null,null,null,null,null,null,null,null,null,null,null,null,null,null,null,null,null,null,null,null,null,null,null,null,null,null,null,45,null,null,null,null,{"$f":"F136","v":{"$error":"#N/A"}},{"$f":"F138","v":{"$error":"#N/A"}}]
[31,129,16,"",16,{"$f":"IF(Main!$Q$2=3,VLOOKUP(E49,Kura!$A$4:$Z$350,26,0),Ana_Tablo_Kura!L38)","v":{"$error":"#N/A"}},null,null,null,null,null,null,null,null,{"$f":"BX139","v":0},{"$f":"BY139","v":0},null,null,null,{"$f":"IF(AND(O49=0,P49=0),\"\",IF(O49>P49,M47,M50))","v":""},null,null,null,null,null,null,null,null,null,null,null,null,null,null,null,null,null,null,null,null,null,null,null,null,null,null,null,null,null,null,null,null,null,null,null,null,null,null,46,null,null,null,null,{"$f":"F139","v":{"$error":"#N/A"}},{"$f":"F141","v":{"$error":"#N/A"}}]
[null,null,null,"",null,null,null,{"$f":"BX19","v":0},{"$f":"BY19","v":0},null,null,16,{"$f":"IF(AND(H50=0,I50=0),\"\",IF(H50>I50,F49,F51))","v":""},null,null,null,null,null,null,null,null,null,null,null,null,null,null,null,null,null,null,null,null,null,null,null,null,null,null,null,null,null,null,null,null,null,null,null,null,null,null,null,null,null,null,null,null,null,47,null,null,null,null,{"$f":"F142","v":{"$error":"#N/A"}},{"$f":"F144","v":{"$error":"#N/A"}}]
[32,16,null,"",241,{"$f":"IF(Main!$Q$2=3,VLOOKUP(E51,Kura!$A$4:$Z$350,26,0),Ana_Tablo_Kura!L39)","v":{"$error":"#N/A"}},null,null,null,null,null,null,null,null,null,null,null,null,null,null,null,null,null,null,null,null,null,null,null,null,null,null,null,null,null,null,null,null,null,null,null,null,null,null,null,null,null,null,null,null,null,null,null,null,null,null,null,null,48,null,null,null,null,{"$f":"F145","v":{"$error":"#N/A"}},{"$f":"F147","v":{"$error":"#N/A"}}]
[33,9,null,"",9,{"$f":"IF(Main!$Q$2=3,VLOOKUP(E52,Kura!$A$4:$Z$350,26,0),Ana_Tablo_Kura!L40)","v":{"$error":"#N/A"}},null,null,null,null,null,null,null,null,null,null,null,null,null,null,null,null,null,null,null,null,null,null,null,null,null,null,null,null,null,null,null,null,null,null,null,null,null,null,null,null,null,null,null,null,null,null,null,null,null,null,null,null,49,null,null,null,null,{"$f":"F148","v":{"$error":"#N/A"}},{"$f":"F150","v":{"$error":"#N/A"}}]
[null,null,null,"",null,null,null,{"$f":"BX20","v":0},{"$f":"BY20","v":0},null,null,17,{"$f":"IF(AND(H53=0,I53=0),\"\",IF(H53>I53,F52,F54))","v":""},null,null,null,null,null,null,null,null,null,null,null,null,null,null,null,null,null,null,null,null,null,null,null,null,null,null,null,null,null,null,null,null,null,null,null,null,null,null,null,null,null,null,null,null,null,50,null,null,null,null,{"$f":"F151","v":{"$error":"#N/A"}},{"$f":"F153","v":{"$error":"#N/A"}}]
[34,129,9,"",248,{"$f":"IF(Main!$Q$2=3,VLOOKUP(E54,Kura!$A$4:$Z$350,26,0),Ana_Tablo_Kura!L41)","v":{"$error":"#N/A"}},null,null,null,null,null,null,null,null,null,null,null,null,{"$f":"+S48+1","v":13},{"$f":"IF(AND(O55=0,P55=0),\"\",IF(O55>P55,M53,M56))","v":""},null,null,null,null,null,null,null,null,null,null,null,null,null,null,null,null,null,null,null,null,null,null,null,null,null,null,null,null,null,null,null,null,null,null,null,null,null,null,51,null,null,null,null,{"$f":"F154","v":{"$error":"#N/A"}},{"$f":"F156","v":{"$error":"#N/A"}}]
[35,129,null,"",120,{"$f":"IF(Main!$Q$2=3,VLOOKUP(E55,Kura!$A$4:$Z$350,26,0),Ana_Tablo_Kura!L42)","v":{"$error":"#N/A"}},null,null,null,null,null,null,null,null,{"$f":"BX140","v":0},{"$f":"BY140","v":0},null,null,null,null,null,null,null,null,null,{"$f":"+Z43+1","v":11},null,null,null,null,null,null,null,null,null,null,null,null,null,null,null,null,null,null,null,null,null,null,null,null,null,null,null,null,null,null,null,null,52,null,null,null,null,{"$f":"F157","v":{"$error":"#N/A"}},{"$f":"F159","v":{"$error":"#N/A"}}]
[null,null,null,"",null,null,null,{"$f":"BX21","v":0},{"$f":"BY21","v":0},null,null,18,{"$f":"IF(AND(H56=0,I56=0),\"\",IF(H56>I56,F55,F57))","v":""},null,null,null,null,null,null,null,null,null,null,null,null,null,null,null,null,null,null,null,null,null,null,null,null,null,null,null,null,null,null,null,null,null,null,null,null,null,null,null,null,null,null,null,null,null,53,null,null,null,null,{"$f":"F160","v":{"$error":"#N/A"}},{"$f":"F162","v":{"$error":"#N/A"}}]
[36,65,null,"",137,{"$f":"IF(Main!$Q$2=3,VLOOKUP(E57,Kura!$A$4:$Z$350,26,0),Ana_Tablo_Kura!L43)","v":{"$error":"#N/A"}},null,null,null,null,null,null,null,null,null,null,null,null,null,null,null,null,null,null,null,null,null,null,null,null,null,null,null,null,null,null,null,null,null,null,null,null,null,null,null,null,null,null,null,null,null,null,null,null,null,null,null,null,54,null,null,null,null,{"$f":"F163","v":{"$error":"#N/A"}},{"$f":"F165","v":{"$error":"#N/A"}}]
[37,65,null,"",73,{"$f":"IF(Main!$Q$2=3,VLOOKUP(E58,Kura!$A$4:$Z$350,26,0),Ana_Tablo_Kura!L44)","v":{"$error":"#N/A"}},null,null,null,null,null,null,null,null,null,null,null,null,null,null,null,{"$f":"BX200","v":0},{"$f":"BY200","v":0},null,null,null,{"$f":"IF(AND(V58=0,W58=0),\"\",IF(V58>W58,T54,T61))","v":""},null,null,null,null,null,null,null,null,null,null,null,null,null,null,null,null,null,null,null,null,null,null,null,null,null,null,null,null,null,null,null,55,null,null,null,null,{"$f":"F166","v":{"$error":"#N/A"}},{"$f":"F168","v":{"$error":"#N/A"}}]
[null,null,null,"",null,null,null,{"$f":"BX22","v":0},{"$f":"BY22","v":0},null,null,19,{"$f":"IF(AND(H59=0,I59=0),\"\",IF(H59>I59,F58,F60))","v":""},null,null,null,null,null,null,null,null,null,null,null,null,null,null,null,null,null,null,null,{"$f":"+AG35+1","v":{"$error":"#VALUE!"}},null,null,null,null,null,null,null,null,null,null,null,null,null,null,null,null,null,null,null,null,null,null,null,null,null,56,null,null,null,null,{"$f":"F169","v":{"$error":"#N/A"}},{"$f":"F171","v":{"$error":"#N/A"}}]
[38,129,null,"E20",184,{"$f":"IF(Main!$Q$2=3,VLOOKUP(E60,Kura!$A$4:$Z$350,26,0),Ana_Tablo_Kura!L45)","v":{"$error":"#N/A"}},null,null,null,null,null,null,null,null,null,null,null,null,{"$f":"+S54+1","v":14},null,null,null,null,null,null,null,null,null,null,null,null,null,null,null,null,null,null,null,null,null,null,null,null,null,null,null,null,null,null,null,null,null,null,null,null,null,null,null,57,null,null,null,null,{"$f":"F172","v":{"$error":"#N/A"}},{"$f":"F174","v":{"$error":"#N/A"}}]
[39,129,40,"",56,{"$f":"IF(Main!$Q$2=3,VLOOKUP(E61,Kura!$A$4:$Z$350,26,0),Ana_Tablo_Kura!L46)","v":{"$error":"#N/A"}},null,null,null,null,null,null,null,null,{"$f":"BX141","v":0},{"$f":"BY141","v":0},null,null,null,{"$f":"IF(AND(O61=0,P61=0),\"\",IF(O61>P61,M59,M62))","v":""},null,null,null,null,null,null,null,null,null,null,null,null,null,null,null,null,null,null,null,null,null,null,null,null,null,null,null,null,null,null,null,null,null,null,null,null,null,null,58,null,null,null,null,{"$f":"F175","v":{"$error":"#N/A"}},{"$f":"F177","v":{"$error":"#N/A"}}]
[null,null,null,"",null,null,null,{"$f":"BX23","v":0},{"$f":"BY23","v":0},null,null,20,{"$f":"IF(AND(H62=0,I62=0),\"\",IF(H62>I62,F61,F63))","v":""},null,null,null,null,null,null,null,null,null,null,null,null,null,null,null,null,null,null,null,null,null,null,null,null,null,null,null,null,null,null,null,null,null,null,null,null,null,null,null,null,null,null,null,null,null,59,null,null,null,null,{"$f":"F178","v":{"$error":"#N/A"}},{"$f":"F180","v":{"$error":"#N/A"}}]
[40,40,null,"",201,{"$f":"IF(Main!$Q$2=3,VLOOKUP(E63,Kura!$A$4:$Z$350,26,0),Ana_Tablo_Kura!L47)","v":{"$error":"#N/A"}},null,null,null,null,null,null,null,null,null,null,null,null,null,null,null,null,null,null,null,null,null,null,null,null,null,null,null,null,null,null,null,null,null,null,null,null,null,null,null,null,null,null,null,null,null,null,null,null,null,null,null,null,60,null,null,null,null,{"$f":"F181","v":{"$error":"#N/A"}},{"$f":"F183","v":{"$error":"#N/A"}}]
[41,41,null,"",41,{"$f":"IF(Main!$Q$2=3,VLOOKUP(E64,Kura!$A$4:$Z$350,26,0),Ana_Tablo_Kura!L48)","v":{"$error":"#N/A"}},null,null,null,null,null,null,null,null,null,null,null,null,null,null,null,null,null,null,null,null,null,null,null,{"$f":"BX230","v":0},{"$f":"BY230","v":0},null,null,{"$f":"IF(AND(AD64=0,AE64=0),\"\",IF(AD64>AE64,AA58,AA70))","v":""},null,null,null,null,null,null,null,null,null,null,null,null,null,null,null,null,null,null,null,null,null,null,null,null,61,null,null,null,null,{"$f":"F184","v":{"$error":"#N/A"}},{"$f":"F186","v":{"$error":"#N/A"}}]
[null,null,null,"",null,null,null,{"$f":"BX24","v":0},{"$f":"BY24","v":0},null,null,21,{"$f":"IF(AND(H65=0,I65=0),\"\",IF(H65>I65,F64,F66))","v":""},null,null,null,null,null,null,null,null,null,null,null,null,null,null,null,null,null,null,null,null,null,null,null,null,null,null,242,null,null,null,null,null,null,null,null,null,null,null,null,null,null,null,null,null,null,62,null,null,null,null,{"$f":"F187","v":{"$error":"#N/A"}},{"$f":"F189","v":{"$error":"#N/A"}}]
[42,129,41,"",216,{"$f":"IF(Main!$Q$2=3,VLOOKUP(E66,Kura!$A$4:$Z$350,26,0),Ana_Tablo_Kura!L49)","v":{"$error":"#N/A"}},null,null,null,null,null,null,null,null,null,null,null,null,{"$f":"+S60+1","v":15},{"$f":"IF(AND(O67=0,P67=0),\"\",IF(O67>P67,M65,M68))","v":""},null,null,null,null,null,null,null,null,null,null,null,null,null,null,null,null,null,null,null,null,null,null,null,null,null,null,null,null,null,null,null,null,null,null,null,null,null,null,63,null,null,null,null,{"$f":"F190","v":{"$error":"#N/A"}},{"$f":"F192","v":{"$error":"#N/A"}}]
[43,129,null,"E4",88,{"$f":"IF(Main!$Q$2=3,VLOOKUP(E67,Kura!$A$4:$Z$350,26,0),Ana_Tablo_Kura!L50)","v":{"$error":"#N/A"}},null,null,null,null,null,null,null,null,{"$f":"BX142","v":0},{"$f":"BY142","v":0},null,null,null,null,null,null,null,null,null,{"$f":"+Z55+1","v":12},null,null,null,null,null,null,null,null,null,null,null,null,null,null,null,null,null,null,null,null,null,null,null,null,null,null,null,null,null,null,null,null,64,null,null,null,null,{"$f":"F193","v":{"$error":"#N/A"}},{"$f":"F195","v":"ŞAFAKTEPE SK (A) (ANK)"}]
[null,null,null,"",null,null,null,{"$f":"BX25","v":0},{"$f":"BY25","v":0},null,null,22,{"$f":"IF(AND(H68=0,I68=0),\"\",IF(H68>I68,F67,F69))","v":""},null,null,null,null,null,null,null,null,null,null,null,null,null,null,null,null,null,null,null,null,null,null,null,null,null,null,null,null,null,null,null,null,null,null,null,null,null,null,null,null,null,null,null,null,null,65,null,null,null,null,{"$f":"F196","v":"KUTLUBEY OKULLARI (A) (AMS)"},{"$f":"F198","v":"BEŞİKDÜZÜ AYYILDIZ SPOR (A) (TRB)"}]
[44,65,null,"",169,{"$f":"IF(Main!$Q$2=3,VLOOKUP(E69,Kura!$A$4:$Z$350,26,0),Ana_Tablo_Kura!L51)","v":{"$error":"#N/A"}},null,null,null,null,null,null,null,null,null,null,null,null,null,null,null,null,null,null,null,null,null,null,null,null,null,null,null,null,null,null,null,null,null,null,null,null,null,null,null,null,null,null,null,null,null,null,null,null,null,null,null,null,66,null,null,null,null,{"$f":"F199","v":"YALIKÖY ŞBÇ OO (A) (GRS)"},{"$f":"F201","v":{"$error":"#N/A"}}]
[45,65,null,"",105,{"$f":"IF(Main!$Q$2=3,VLOOKUP(E70,Kura!$A$4:$Z$350,26,0),Ana_Tablo_Kura!L52)","v":{"$error":"#N/A"}},null,null,null,null,null,null,null,null,null,null,null,null,null,null,null,{"$f":"BX201","v":0},{"$f":"BY201","v":0},null,null,null,{"$f":"IF(AND(V70=0,W70=0),\"\",IF(V70>W70,T66,T73))","v":""},null,null,null,null,null,null,null,null,null,null,null,null,null,null,null,null,null,null,null,null,null,null,null,null,null,null,null,null,null,null,null,67,null,null,null,null,{"$f":"F202","v":{"$error":"#N/A"}},{"$f":"F204","v":{"$error":"#N/A"}}]
[null,null,null,"",null,null,null,{"$f":"BX26","v":0},{"$f":"BY26","v":0},null,null,23,{"$f":"IF(AND(H71=0,I71=0),\"\",IF(H71>I71,F70,F72))","v":""},null,null,null,null,null,null,null,null,null,null,null,null,null,null,null,null,null,null,null,null,null,null,null,null,null,null,null,null,null,null,null,null,null,null,null,null,null,null,null,null,null,null,null,null,null,68,null,null,null,null,{"$f":"F205","v":{"$error":"#N/A"}},{"$f":"F207","v":{"$error":"#N/A"}}]
[46,129,null,"",152,{"$f":"IF(Main!$Q$2=3,VLOOKUP(E72,Kura!$A$4:$Z$350,26,0),Ana_Tablo_Kura!L53)","v":{"$error":"#N/A"}},null,null,null,null,null,null,null,null,null,null,null,null,{"$f":"+S66+1","v":16},null,null,null,null,null,null,null,null,null,null,null,null,null,null,null,null,null,null,null,null,null,null,null,null,null,null,null,null,null,null,null,null,null,null,null,null,null,null,null,69,null,null,null,null,{"$f":"F208","v":{"$error":"#N/A"}},{"$f":"F210","v":{"$error":"#N/A"}}]
[47,129,24,"",24,{"$f":"IF(Main!$Q$2=3,VLOOKUP(E73,Kura!$A$4:$Z$350,26,0),Ana_Tablo_Kura!L54)","v":{"$error":"#N/A"}},null,null,null,null,null,null,null,null,{"$f":"BX143","v":0},{"$f":"BY143","v":0},null,null,null,{"$f":"IF(AND(O73=0,P73=0),\"\",IF(O73>P73,M71,M74))","v":""},null,null,null,null,null,null,null,null,null,null,null,null,null,null,null,null,null,null,null,null,null,null,null,null,null,null,null,null,null,null,null,null,null,null,null,null,null,null,70,null,null,null,null,{"$f":"F211","v":{"$error":"#N/A"}},{"$f":"F213","v":{"$error":"#N/A"}}]
[null,null,null,"",null,null,null,{"$f":"BX27","v":0},{"$f":"BY27","v":0},null,null,24,{"$f":"IF(AND(H74=0,I74=0),\"\",IF(H74>I74,F73,F75))","v":""},null,null,null,null,null,null,null,null,null,null,null,null,null,null,null,null,null,null,null,null,null,null,null,null,null,null,null,null,null,null,null,null,null,null,null,null,null,null,null,null,null,null,null,null,null,71,null,null,null,null,{"$f":"F214","v":{"$error":"#N/A"}},{"$f":"F216","v":{"$error":"#N/A"}}]
[48,24,null,"",233,{"$f":"IF(Main!$Q$2=3,VLOOKUP(E75,Kura!$A$4:$Z$350,26,0),Ana_Tablo_Kura!L55)","v":{"$error":"#N/A"}},null,null,null,null,null,null,null,null,null,null,null,null,null,null,null,null,null,null,null,null,null,null,null,null,null,null,null,null,null,null,null,null,null,null,null,null,null,null,null,null,null,null,null,null,null,null,null,null,null,null,null,null,72,null,null,null,null,{"$f":"F217","v":{"$error":"#N/A"}},{"$f":"F219","v":{"$error":"#N/A"}}]
[49,25,null,"",25,{"$f":"IF(Main!$Q$2=3,VLOOKUP(E76,Kura!$A$4:$Z$350,26,0),Ana_Tablo_Kura!L56)","v":{"$error":"#N/A"}},null,null,null,null,null,null,null,null,null,null,null,null,null,null,null,null,null,null,null,null,null,null,null,null,null,null,null,null,null,null,{"$f":"BX245","v":0},{"$f":"BY245","v":0},null,null,{"$f":"IF(AND(AK76=0,AL76=0),\"\",IF(AK76>AL76,AH64,AH88))","v":""},null,null,null,null,null,null,null,null,null,null,null,null,null,null,null,null,null,73,null,null,null,null,{"$f":"F220","v":{"$error":"#N/A"}},{"$f":"F222","v":{"$error":"#N/A"}}]
[null,null,null,"",null,null,null,{"$f":"BX28","v":0},{"$f":"BY28","v":0},null,null,25,{"$f":"IF(AND(H77=0,I77=0),\"\",IF(H77>I77,F76,F78))","v":""},null,null,null,null,null,null,null,null,null,null,null,null,null,null,null,null,null,null,null,null,null,null,null,null,null,null,null,null,null,null,null,null,null,null,null,null,null,null,null,null,null,null,null,null,null,74,null,null,null,null,{"$f":"F223","v":{"$error":"#N/A"}},{"$f":"F225","v":{"$error":"#N/A"}}]
[50,129,25,"",232,{"$f":"IF(Main!$Q$2=3,VLOOKUP(E78,Kura!$A$4:$Z$350,26,0),Ana_Tablo_Kura!L57)","v":{"$error":"#N/A"}},null,null,null,null,null,null,null,null,null,null,null,null,{"$f":"+S72+1","v":17},{"$f":"IF(AND(O79=0,P79=0),\"\",IF(O79>P79,M77,M80))","v":""},null,null,null,null,null,null,null,null,null,null,null,null,null,null,null,null,null,null,null,null,null,null,null,null,null,null,null,null,null,null,null,null,null,null,null,null,null,null,75,null,null,null,null,{"$f":"F226","v":{"$error":"#N/A"}},{"$f":"F228","v":{"$error":"#N/A"}}]
[51,129,null,"",104,{"$f":"IF(Main!$Q$2=3,VLOOKUP(E79,Kura!$A$4:$Z$350,26,0),Ana_Tablo_Kura!L58)","v":{"$error":"#N/A"}},null,null,null,null,null,null,null,null,{"$f":"BX144","v":0},{"$f":"BY144","v":0},null,null,null,null,null,null,null,null,null,{"$f":"+Z67+1","v":13},null,null,null,null,null,null,null,null,null,null,null,null,null,null,null,null,null,null,null,null,null,null,null,null,null,null,null,null,null,null,null,null,76,null,null,null,null,{"$f":"F229","v":{"$error":"#N/A"}},{"$f":"F231","v":{"$error":"#N/A"}}]
[null,null,null,"",null,null,null,{"$f":"BX29","v":0},{"$f":"BY29","v":0},null,null,26,{"$f":"IF(AND(H80=0,I80=0),\"\",IF(H80>I80,F79,F81))","v":""},null,null,null,null,null,null,null,null,null,null,null,null,null,null,null,null,null,null,null,null,null,null,null,null,null,null,null,null,null,null,null,null,null,null,null,null,null,null,null,null,null,null,null,null,null,77,null,null,null,null,{"$f":"F232","v":{"$error":"#N/A"}},{"$f":"F234","v":{"$error":"#N/A"}}]
[52,65,null,"",153,{"$f":"IF(Main!$Q$2=3,VLOOKUP(E81,Kura!$A$4:$Z$350,26,0),Ana_Tablo_Kura!L59)","v":{"$error":"#N/A"}},null,null,null,null,null,null,null,null,null,null,null,null,null,null,null,null,null,null,null,null,null,null,null,null,null,null,null,null,null,null,null,null,null,null,null,null,null,null,null,null,null,null,null,null,null,null,null,null,null,null,null,null,78,null,null,null,null,{"$f":"F235","v":{"$error":"#N/A"}},{"$f":"F237","v":{"$error":"#N/A"}}]
[53,65,null,"",89,{"$f":"IF(Main!$Q$2=3,VLOOKUP(E82,Kura!$A$4:$Z$350,26,0),Ana_Tablo_Kura!L60)","v":{"$error":"#N/A"}},null,null,null,null,null,null,null,null,null,null,null,null,null,null,null,{"$f":"BX202","v":0},{"$f":"BY202","v":0},null,null,null,{"$f":"IF(AND(V82=0,W82=0),\"\",IF(V82>W82,T78,T85))","v":""},null,null,null,null,null,null,null,null,null,null,null,null,null,null,null,null,null,null,null,null,null,null,null,null,null,null,null,null,null,null,null,79,null,null,null,null,{"$f":"F238","v":{"$error":"#N/A"}},{"$f":"F240","v":{"$error":"#N/A"}}]
[null,null,null,"",null,null,null,{"$f":"BX30","v":0},{"$f":"BY30","v":0},null,null,27,{"$f":"IF(AND(H83=0,I83=0),\"\",IF(H83>I83,F82,F84))","v":""},null,null,null,null,null,null,null,null,null,null,null,null,null,null,null,null,null,null,null,{"$f":"+AG59+1","v":{"$error":"#VALUE!"}},null,null,null,null,null,null,null,null,null,null,null,null,null,null,null,null,null,null,null,null,null,null,null,null,null,80,null,null,null,null,{"$f":"F241","v":{"$error":"#N/A"}},{"$f":"F243","v":{"$error":"#N/A"}}]
[54,129,null,"E26",168,{"$f":"IF(Main!$Q$2=3,VLOOKUP(E84,Kura!$A$4:$Z$350,26,0),Ana_Tablo_Kura!L61)","v":{"$error":"#N/A"}},null,null,null,null,null,null,null,null,null,null,null,null,{"$f":"+S78+1","v":18},null,null,null,null,null,null,null,null,null,null,null,null,null,null,null,null,null,null,null,null,null,null,null,null,null,null,null,null,null,null,null,null,null,null,null,null,null,null,null,81,null,null,null,null,{"$f":"F244","v":{"$error":"#N/A"}},{"$f":"F246","v":{"$error":"#N/A"}}]
[55,129,56,"",40,{"$f":"IF(Main!$Q$2=3,VLOOKUP(E85,Kura!$A$4:$Z$350,26,0),Ana_Tablo_Kura!L62)","v":{"$error":"#N/A"}},null,null,null,null,null,null,null,null,{"$f":"BX145","v":0},{"$f":"BY145","v":0},null,null,null,{"$f":"IF(AND(O85=0,P85=0),\"\",IF(O85>P85,M83,M86))","v":""},null,null,null,null,null,null,null,null,null,null,null,null,null,null,null,null,null,null,null,null,null,null,null,null,null,null,null,null,null,null,null,null,null,null,null,null,null,null,82,null,null,null,null,{"$f":"F247","v":{"$error":"#N/A"}},{"$f":"F249","v":{"$error":"#N/A"}}]
[null,null,null,"",null,null,null,{"$f":"BX31","v":0},{"$f":"BY31","v":0},null,null,28,{"$f":"IF(AND(H86=0,I86=0),\"\",IF(H86>I86,F85,F87))","v":""},null,null,null,null,null,null,null,null,null,null,null,null,null,null,null,null,null,null,null,null,null,null,null,null,null,null,null,null,null,null,null,null,null,null,null,null,null,null,null,null,null,null,null,null,null,83,null,null,null,null,{"$f":"F250","v":{"$error":"#N/A"}},{"$f":"F252","v":{"$error":"#N/A"}}]
[56,56,null,"",217,{"$f":"IF(Main!$Q$2=3,VLOOKUP(E87,Kura!$A$4:$Z$350,26,0),Ana_Tablo_Kura!L63)","v":{"$error":"#N/A"}},null,null,null,null,null,null,null,null,null,null,null,null,null,null,null,null,null,null,null,null,null,null,null,null,null,null,null,null,null,null,null,null,null,null,null,null,null,null,null,null,null,null,null,null,null,null,null,null,null,null,null,null,84,null,null,null,null,{"$f":"F253","v":{"$error":"#N/A"}},{"$f":"F255","v":{"$error":"#N/A"}}]
[57,57,999,"",57,{"$f":"IF(Main!$Q$2=3,VLOOKUP(E88,Kura!$A$4:$Z$350,26,0),Ana_Tablo_Kura!L64)","v":{"$error":"#N/A"}},null,null,null,null,null,null,null,null,null,null,null,null,null,null,null,null,null,null,null,null,null,null,null,{"$f":"BX231","v":0},{"$f":"BY231","v":0},null,null,{"$f":"IF(AND(AD88=0,AE88=0),\"\",IF(AD88>AE88,AA82,AA94))","v":""},null,null,null,null,null,null,null,null,null,null,null,null,null,null,null,null,null,null,null,null,null,null,null,null,85,null,null,null,null,{"$f":"F256","v":{"$error":"#N/A"}},{"$f":"F258","v":{"$error":"#N/A"}}]
[null,null,null,"",null,null,null,{"$f":"BX32","v":0},{"$f":"BY32","v":0},null,null,29,{"$f":"IF(AND(H89=0,I89=0),\"\",IF(H89>I89,F88,F90))","v":""},null,null,null,null,null,null,null,null,null,null,null,null,null,null,null,null,null,null,null,null,null,null,null,null,null,null,null,null,null,null,null,null,null,null,null,null,null,null,null,null,null,null,null,null,null,86,null,null,null,null,{"$f":"F259","v":{"$error":"#N/A"}},{"$f":"F261","v":{"$error":"#N/A"}}]
[58,129,999,"",200,{"$f":"IF(Main!$Q$2=3,VLOOKUP(E90,Kura!$A$4:$Z$350,26,0),Ana_Tablo_Kura!L65)","v":{"$error":"#N/A"}},null,null,null,null,null,null,null,null,null,null,null,null,{"$f":"+S84+1","v":19},{"$f":"IF(AND(O91=0,P91=0),\"\",IF(O91>P91,M89,M92))","v":""},null,null,null,null,null,null,null,null,null,null,null,null,null,null,null,null,null,null,null,null,null,null,null,null,null,null,null,null,null,null,null,null,null,null,null,null,null,null,87,null,null,null,null,{"$f":"F262","v":{"$error":"#N/A"}},{"$f":"F264","v":{"$error":"#N/A"}}]
[59,129,999,"",72,{"$f":"IF(Main!$Q$2=3,VLOOKUP(E91,Kura!$A$4:$Z$350,26,0),Ana_Tablo_Kura!L66)","v":{"$error":"#N/A"}},null,null,null,null,null,null,null,null,{"$f":"BX146","v":0},{"$f":"BY146","v":0},null,null,null,null,null,null,null,null,null,{"$f":"+Z79+1","v":14},null,null,null,null,null,null,null,null,null,null,null,null,null,null,null,null,null,null,null,null,null,null,null,null,null,null,null,null,null,null,null,null,88,null,null,null,null,{"$f":"F265","v":{"$error":"#N/A"}},{"$f":"F267","v":{"$error":"#N/A"}}]
[null,null,null,"",null,null,null,{"$f":"BX33","v":0},{"$f":"BY33","v":0},null,null,30,{"$f":"IF(AND(H92=0,I92=0),\"\",IF(H92>I92,F91,F93))","v":""},null,null,null,null,null,null,null,null,null,null,null,null,null,null,null,null,null,null,null,null,null,null,null,null,null,null,null,null,null,null,null,null,null,null,null,null,null,null,null,null,null,null,null,null,null,89,null,null,null,null,{"$f":"F268","v":{"$error":"#N/A"}},{"$f":"F270","v":{"$error":"#N/A"}}]
[60,65,999,"",185,{"$f":"IF(Main!$Q$2=3,VLOOKUP(E93,Kura!$A$4:$Z$350,26,0),Ana_Tablo_Kura!L67)","v":{"$error":"#N/A"}},null,null,null,null,null,null,null,null,null,null,null,null,null,null,null,null,null,null,null,null,null,null,null,null,null,null,null,null,null,null,null,null,null,null,null,null,null,null,null,null,null,null,null,null,null,null,null,null,null,null,null,null,90,null,null,null,null,{"$f":"F271","v":{"$error":"#N/A"}},{"$f":"F273","v":{"$error":"#N/A"}}]
[61,65,999,"",121,{"$f":"IF(Main!$Q$2=3,VLOOKUP(E94,Kura!$A$4:$Z$350,26,0),Ana_Tablo_Kura!L68)","v":{"$error":"#N/A"}},null,null,null,null,null,null,null,null,null,null,null,null,null,null,null,{"$f":"BX203","v":0},{"$f":"BY203","v":0},null,null,null,{"$f":"IF(AND(V94=0,W94=0),\"\",IF(V94>W94,T90,T97))","v":""},null,null,null,null,null,null,null,null,null,null,null,null,null,null,null,null,null,null,null,null,null,null,null,null,null,null,null,null,null,null,null,91,null,null,null,null,{"$f":"F274","v":{"$error":"#N/A"}},{"$f":"F276","v":{"$error":"#N/A"}}]
[null,null,null,"",null,null,null,{"$f":"BX34","v":0},{"$f":"BY34","v":0},null,null,31,{"$f":"IF(AND(H95=0,I95=0),\"\",IF(H95>I95,F94,F96))","v":""},null,null,null,null,null,null,null,null,null,null,null,null,null,null,null,null,null,null,null,null,null,null,null,null,null,null,null,null,null,null,null,null,null,null,null,null,null,null,null,null,null,null,null,null,null,92,null,null,null,null,{"$f":"F277","v":{"$error":"#N/A"}},{"$f":"F279","v":{"$error":"#N/A"}}]
[62,129,999,"",136,{"$f":"IF(Main!$Q$2=3,VLOOKUP(E96,Kura!$A$4:$Z$350,26,0),Ana_Tablo_Kura!L69)","v":{"$error":"#N/A"}},null,null,null,null,null,null,null,null,null,null,null,null,{"$f":"+S90+1","v":20},null,null,null,null,null,null,null,null,null,null,null,null,null,null,null,null,null,null,null,null,null,null,null,null,null,null,null,null,null,null,null,null,null,null,null,null,null,null,null,93,null,null,null,null,{"$f":"F280","v":{"$error":"#N/A"}},{"$f":"F282","v":{"$error":"#N/A"}}]
[63,129,999,"",249,{"$f":"IF(Main!$Q$2=3,VLOOKUP(E97,Kura!$A$4:$Z$350,26,0),Ana_Tablo_Kura!L70)","v":{"$error":"#N/A"}},null,null,null,null,null,null,null,null,{"$f":"BX147","v":0},{"$f":"BY147","v":0},null,null,null,{"$f":"IF(AND(O97=0,P97=0),\"\",IF(O97>P97,M95,M98))","v":""},null,null,null,null,null,null,null,null,null,null,null,null,null,null,null,null,null,null,null,null,null,null,null,null,null,null,null,null,null,null,null,null,null,null,null,null,null,null,94,null,null,null,null,{"$f":"F283","v":{"$error":"#N/A"}},{"$f":"F285","v":{"$error":"#N/A"}}]
[null,null,null,"",null,null,null,{"$f":"BX35","v":0},{"$f":"BY35","v":0},null,null,32,{"$f":"IF(AND(H98=0,I98=0),\"\",IF(H98>I98,F97,F99))","v":""},null,null,null,null,null,null,null,null,null,null,null,null,null,null,null,null,null,null,null,null,null,null,null,null,null,null,null,null,null,null,null,null,null,null,null,null,null,null,null,null,null,null,null,null,null,95,null,null,null,null,{"$f":"F286","v":{"$error":"#N/A"}},{"$f":"F288","v":{"$error":"#N/A"}}]
[64,8,null,"",8,{"$f":"IF(Main!$Q$2=3,VLOOKUP(E99,Kura!$A$4:$Z$350,26,0),Ana_Tablo_Kura!L71)","v":{"$error":"#N/A"}},null,null,null,null,null,null,null,null,null,null,null,null,null,null,null,null,null,null,null,null,null,null,null,null,null,null,null,null,null,null,null,null,null,null,null,null,null,null,null,null,null,null,null,null,null,null,null,null,null,null,null,null,96,null,null,null,null,{"$f":"F289","v":{"$error":"#N/A"}},{"$f":"F291","v":{"$error":"#N/A"}}]
[65,5,null,"",5,{"$f":"IF(Main!$Q$2=3,VLOOKUP(E100,Kura!$A$4:$Z$350,26,0),Ana_Tablo_Kura!L72)","v":{"$error":"#N/A"}},null,null,null,null,null,null,null,null,null,null,null,null,null,null,null,null,null,null,null,null,null,null,null,null,null,null,null,null,null,null,null,null,null,null,null,null,null,null,null,null,null,null,null,null,null,null,null,null,null,null,null,null,97,null,null,null,null,{"$f":"F292","v":{"$error":"#N/A"}},{"$f":"F294","v":{"$error":"#N/A"}}]
[null,null,null,"",null,null,null,{"$f":"BX36","v":0},{"$f":"BY36","v":0},null,null,33,{"$f":"IF(AND(H101=0,I101=0),\"\",IF(H101>I101,F100,F102))","v":""},null,null,null,null,null,null,null,null,null,null,null,null,null,null,null,null,null,null,null,null,null,null,null,null,null,null,null,null,null,null,null,null,null,null,null,null,null,null,null,null,null,null,null,null,null,98,null,null,null,null,{"$f":"F295","v":{"$error":"#N/A"}},{"$f":"F297","v":{"$error":"#N/A"}}]
[66,129,999,"",252,{"$f":"IF(Main!$Q$2=3,VLOOKUP(E102,Kura!$A$4:$Z$350,26,0),Ana_Tablo_Kura!L73)","v":{"$error":"#N/A"}},null,null,null,null,null,null,null,null,null,null,null,null,{"$f":"+S96+1","v":21},{"$f":"IF(AND(O103=0,P103=0),\"\",IF(O103>P103,M101,M104))","v":""},null,null,null,null,null,null,null,null,null,null,null,null,null,null,null,null,null,null,null,null,null,null,null,null,null,null,null,null,null,null,null,null,null,null,null,null,null,null,99,null,null,null,null,{"$f":"F298","v":{"$error":"#N/A"}},{"$f":"F300","v":{"$error":"#N/A"}}]
[67,129,999,"",124,{"$f":"IF(Main!$Q$2=3,VLOOKUP(E103,Kura!$A$4:$Z$350,26,0),Ana_Tablo_Kura!L74)","v":{"$error":"#N/A"}},null,null,null,null,null,null,null,null,{"$f":"BX148","v":0},{"$f":"BY148","v":0},null,null,null,null,null,null,null,null,null,{"$f":"+Z91+1","v":15},null,null,null,null,null,null,null,null,null,null,null,null,null,null,null,null,null,null,null,null,null,null,null,null,null,null,null,null,null,null,null,null,100,null,null,null,null,{"$f":"F301","v":{"$error":"#N/A"}},{"$f":"F303","v":{"$error":"#N/A"}}]
[null,null,null,"",null,null,null,{"$f":"BX37","v":0},{"$f":"BY37","v":0},null,null,34,{"$f":"IF(AND(H104=0,I104=0),\"\",IF(H104>I104,F103,F105))","v":""},null,null,null,null,null,null,null,null,null,null,null,null,null,null,null,null,null,null,null,null,null,null,null,null,null,null,null,null,null,null,null,null,null,null,null,null,null,null,null,null,null,null,null,null,null,101,null,null,null,null,{"$f":"F304","v":{"$error":"#N/A"}},{"$f":"F306","v":{"$error":"#N/A"}}]
[68,65,999,"",133,{"$f":"IF(Main!$Q$2=3,VLOOKUP(E105,Kura!$A$4:$Z$350,26,0),Ana_Tablo_Kura!L75)","v":{"$error":"#N/A"}},null,null,null,null,null,null,null,null,null,null,null,null,null,null,null,null,null,null,null,null,null,null,null,null,null,null,null,null,null,null,null,null,null,null,null,null,null,null,null,null,null,null,null,null,null,null,null,null,null,null,null,null,102,null,null,null,null,{"$f":"F307","v":{"$error":"#N/A"}},{"$f":"F309","v":{"$error":"#N/A"}}]
[69,65,999,"",69,{"$f":"IF(Main!$Q$2=3,VLOOKUP(E106,Kura!$A$4:$Z$350,26,0),Ana_Tablo_Kura!L76)","v":{"$error":"#N/A"}},null,null,null,null,null,null,null,null,null,null,null,null,null,null,null,{"$f":"BX204","v":0},{"$f":"BY204","v":0},null,null,null,{"$f":"IF(AND(V106=0,W106=0),\"\",IF(V106>W106,T102,T109))","v":""},null,null,null,null,null,null,null,null,null,null,null,null,null,null,null,null,null,null,null,null,null,null,null,null,null,null,null,null,null,null,null,103,null,null,null,null,{"$f":"F310","v":{"$error":"#N/A"}},{"$f":"F312","v":{"$error":"#N/A"}}]
[null,null,null,"",null,null,null,{"$f":"BX38","v":0},{"$f":"BY38","v":0},null,null,35,{"$f":"IF(AND(H107=0,I107=0),\"\",IF(H107>I107,F106,F108))","v":""},null,null,null,null,null,null,null,null,null,null,null,null,null,null,null,null,null,null,null,{"$f":"+AG83+1","v":{"$error":"#VALUE!"}},null,null,null,null,null,null,null,null,null,null,null,null,null,null,null,null,null,null,null,null,null,null,null,null,null,104,null,null,null,null,{"$f":"F313","v":{"$error":"#N/A"}},{"$f":"F315","v":{"$error":"#N/A"}}]
[70,129,999,"",188,{"$f":"IF(Main!$Q$2=3,VLOOKUP(E108,Kura!$A$4:$Z$350,26,0),Ana_Tablo_Kura!L77)","v":{"$error":"#N/A"}},null,null,null,null,null,null,null,null,null,null,null,null,{"$f":"+S102+1","v":22},null,null,null,null,null,null,null,null,null,null,null,null,null,null,null,null,null,null,null,null,null,null,null,null,null,null,null,null,null,null,null,null,null,null,null,null,null,null,null,105,null,null,null,null,{"$f":"F316","v":{"$error":"#N/A"}},{"$f":"F318","v":{"$error":"#N/A"}}]
[71,129,999,"",60,{"$f":"IF(Main!$Q$2=3,VLOOKUP(E109,Kura!$A$4:$Z$350,26,0),Ana_Tablo_Kura!L78)","v":{"$error":"#N/A"}},null,null,null,null,null,null,null,null,{"$f":"BX149","v":0},{"$f":"BY149","v":0},null,null,null,{"$f":"IF(AND(O109=0,P109=0),\"\",IF(O109>P109,M107,M110))","v":""},null,null,null,null,null,null,null,null,null,null,null,null,null,null,null,null,null,null,null,null,null,null,null,null,null,null,null,null,null,null,null,null,null,null,null,null,null,null,106,null,null,null,null,{"$f":"F319","v":{"$error":"#N/A"}},{"$f":"F321","v":{"$error":"#N/A"}}]
[null,null,null,"",null,null,null,{"$f":"BX39","v":0},{"$f":"BY39","v":0},null,null,36,{"$f":"IF(AND(H110=0,I110=0),\"\",IF(H110>I110,F109,F111))","v":""},null,null,null,null,null,null,null,null,null,null,null,null,null,null,null,null,null,null,null,null,null,null,null,null,null,null,null,null,null,null,null,null,null,null,null,null,null,null,null,null,null,null,null,null,null,107,null,null,null,null,{"$f":"F322","v":{"$error":"#N/A"}},{"$f":"F324","v":{"$error":"#N/A"}}]
[72,60,999,"",197,{"$f":"IF(Main!$Q$2=3,VLOOKUP(E111,Kura!$A$4:$Z$350,26,0),Ana_Tablo_Kura!L79)","v":{"$error":"#N/A"}},null,null,null,null,null,null,null,null,null,null,null,null,null,null,null,null,null,null,null,null,null,null,null,null,null,null,null,null,null,null,null,null,null,null,null,null,null,null,null,null,null,null,null,null,null,null,null,null,null,null,null,null,108,null,null,null,null,{"$f":"F325","v":{"$error":"#N/A"}},{"$f":"F327","v":{"$error":"#N/A"}}]
[73,53,null,"",37,{"$f":"IF(Main!$Q$2=3,VLOOKUP(E112,Kura!$A$4:$Z$350,26,0),Ana_Tablo_Kura!L80)","v":{"$error":"#N/A"}},null,null,null,null,null,null,null,null,null,null,null,null,null,null,null,null,null,null,null,null,null,null,null,{"$f":"BX232","v":0},{"$f":"BY232","v":0},null,null,{"$f":"IF(AND(AD112=0,AE112=0),\"\",IF(AD112>AE112,AA106,AA118))","v":""},null,null,null,null,null,null,null,null,null,null,null,null,null,null,null,null,null,null,null,null,null,null,null,null,109,null,null,null,null,{"$f":"F328","v":{"$error":"#N/A"}},{"$f":"F330","v":{"$error":"#N/A"}}]
[null,null,null,"",null,null,null,{"$f":"BX40","v":0},{"$f":"BY40","v":0},null,null,37,{"$f":"IF(AND(H113=0,I113=0),\"\",IF(H113>I113,F112,F114))","v":""},null,null,null,null,null,null,null,null,null,null,null,null,null,null,null,null,null,null,null,null,null,null,null,null,null,null,243,null,null,null,null,null,null,null,null,null,null,null,null,null,null,null,null,null,null,110,null,null,null,null,{"$f":"F331","v":{"$error":"#N/A"}},{"$f":"F333","v":{"$error":"#N/A"}}]
[74,129,53,"",220,{"$f":"IF(Main!$Q$2=3,VLOOKUP(E114,Kura!$A$4:$Z$350,26,0),Ana_Tablo_Kura!L81)","v":{"$error":"#N/A"}},null,null,null,null,null,null,null,null,null,null,null,null,{"$f":"+S108+1","v":23},{"$f":"IF(AND(O115=0,P115=0),\"\",IF(O115>P115,M113,M116))","v":""},null,null,null,null,null,null,null,null,null,null,null,null,null,null,null,null,null,null,null,null,null,null,null,null,null,null,null,null,null,null,null,null,null,null,null,null,null,null,111,null,null,null,null,{"$f":"F334","v":{"$error":"#N/A"}},{"$f":"F336","v":{"$error":"#N/A"}}]
[75,129,null,"E10",92,{"$f":"IF(Main!$Q$2=3,VLOOKUP(E115,Kura!$A$4:$Z$350,26,0),Ana_Tablo_Kura!L82)","v":{"$error":"#N/A"}},null,null,null,null,null,null,null,null,{"$f":"BX150","v":0},{"$f":"BY150","v":0},null,null,null,null,null,null,null,null,null,{"$f":"+Z103+1","v":16},null,null,null,null,null,null,null,null,null,null,null,null,null,null,null,null,null,null,null,null,null,null,null,null,null,null,null,null,null,null,null,null,112,null,null,null,null,{"$f":"F337","v":{"$error":"#N/A"}},{"$f":"F339","v":{"$error":"#N/A"}}]
[null,null,null,"",null,null,null,{"$f":"BX41","v":0},{"$f":"BY41","v":0},null,null,38,{"$f":"IF(AND(H116=0,I116=0),\"\",IF(H116>I116,F115,F117))","v":""},null,null,null,null,null,null,null,null,null,null,null,null,null,null,null,null,null,null,null,null,null,null,null,null,null,null,null,null,null,null,null,null,null,null,null,null,null,null,null,null,null,null,null,null,null,113,null,null,null,null,{"$f":"F340","v":{"$error":"#N/A"}},{"$f":"F342","v":{"$error":"#N/A"}}]
[76,65,null,"",165,{"$f":"IF(Main!$Q$2=3,VLOOKUP(E117,Kura!$A$4:$Z$350,26,0),Ana_Tablo_Kura!L83)","v":{"$error":"#N/A"}},null,null,null,null,null,null,null,null,null,null,null,null,null,null,null,null,null,null,null,null,null,null,null,null,null,null,null,null,null,null,null,null,null,null,null,null,null,null,null,null,null,null,null,null,null,null,null,null,null,null,null,null,114,null,null,null,null,{"$f":"F343","v":{"$error":"#N/A"}},{"$f":"F345","v":{"$error":"#N/A"}}]
[77,65,null,"",101,{"$f":"IF(Main!$Q$2=3,VLOOKUP(E118,Kura!$A$4:$Z$350,26,0),Ana_Tablo_Kura!L84)","v":{"$error":"#N/A"}},null,null,null,null,null,null,null,null,null,null,null,null,null,null,null,{"$f":"BX205","v":0},{"$f":"BY205","v":0},null,null,null,{"$f":"IF(AND(V118=0,W118=0),\"\",IF(V118>W118,T114,T121))","v":""},null,null,null,null,null,null,null,null,null,null,null,null,null,null,null,null,null,null,null,null,null,null,null,null,null,null,null,null,null,null,null,115,null,null,null,null,{"$f":"F346","v":{"$error":"#N/A"}},{"$f":"F348","v":{"$error":"#N/A"}}]
[null,null,null,"",null,null,null,{"$f":"BX42","v":0},{"$f":"BY42","v":0},null,null,39,{"$f":"IF(AND(H119=0,I119=0),\"\",IF(H119>I119,F118,F120))","v":""},null,null,null,null,null,null,null,null,null,null,null,null,null,null,null,null,null,null,null,null,null,null,null,null,null,null,null,null,null,null,null,null,null,null,null,null,null,null,null,null,null,null,null,null,null,116,null,null,null,null,{"$f":"F349","v":{"$error":"#N/A"}},{"$f":"F351","v":{"$error":"#N/A"}}]
[78,129,null,"",156,{"$f":"IF(Main!$Q$2=3,VLOOKUP(E120,Kura!$A$4:$Z$350,26,0),Ana_Tablo_Kura!L85)","v":{"$error":"#N/A"}},null,null,null,null,null,null,null,null,null,null,null,null,{"$f":"+S114+1","v":24},null,null,null,null,null,null,null,null,null,null,null,null,null,null,null,null,null,null,null,null,null,null,null,null,null,null,null,null,null,null,null,null,null,null,null,null,null,null,null,117,null,null,null,null,{"$f":"F352","v":{"$error":"#N/A"}},{"$f":"F354","v":{"$error":"#N/A"}}]
[79,129,28,"E2",28,{"$f":"IF(Main!$Q$2=3,VLOOKUP(E121,Kura!$A$4:$Z$350,26,0),Ana_Tablo_Kura!L86)","v":{"$error":"#N/A"}},null,null,null,null,null,null,null,null,{"$f":"BX151","v":0},{"$f":"BY151","v":0},null,null,null,{"$f":"IF(AND(O121=0,P121=0),\"\",IF(O121>P121,M119,M122))","v":""},null,null,null,null,null,null,null,null,null,null,null,null,null,null,null,null,null,null,null,null,null,null,null,null,null,null,null,null,null,null,null,null,null,null,null,null,null,null,118,null,null,null,null,{"$f":"F355","v":{"$error":"#N/A"}},{"$f":"F357","v":{"$error":"#N/A"}}]
[null,null,null,"",null,null,null,{"$f":"BX43","v":0},{"$f":"BY43","v":0},null,null,40,{"$f":"IF(AND(H122=0,I122=0),\"\",IF(H122>I122,F121,F123))","v":""},null,null,null,null,null,null,null,null,null,null,null,null,null,null,null,null,null,null,null,null,null,null,null,null,null,null,null,null,null,null,null,null,null,null,null,null,null,null,null,null,null,null,null,null,null,119,null,null,null,null,{"$f":"F358","v":{"$error":"#N/A"}},{"$f":"F360","v":{"$error":"#N/A"}}]
[80,28,null,"",229,{"$f":"IF(Main!$Q$2=3,VLOOKUP(E123,Kura!$A$4:$Z$350,26,0),Ana_Tablo_Kura!L87)","v":{"$error":"#N/A"}},null,null,null,null,null,null,null,null,null,null,null,null,null,null,null,null,null,null,null,null,null,null,null,null,null,null,null,null,null,null,null,null,null,null,null,null,null,null,null,null,null,null,null,null,null,null,null,null,null,null,null,null,120,null,null,null,null,{"$f":"F361","v":{"$error":"#N/A"}},{"$f":"F363","v":{"$error":"#N/A"}}]
[81,21,null,"",21,{"$f":"IF(Main!$Q$2=3,VLOOKUP(E124,Kura!$A$4:$Z$350,26,0),Ana_Tablo_Kura!L88)","v":{"$error":"#N/A"}},null,null,null,null,null,null,null,null,null,null,null,null,null,null,null,null,null,null,null,null,null,null,null,null,null,null,null,null,null,null,{"$f":"BX246","v":0},{"$f":"BY246","v":0},null,null,{"$f":"IF(AND(AK124=0,AL124=0),\"\",IF(AK124>AL124,AH112,AH136))","v":""},null,null,null,null,null,null,null,null,null,null,null,null,null,null,null,null,null,121,null,null,null,null,{"$f":"F364","v":{"$error":"#N/A"}},{"$f":"F366","v":{"$error":"#N/A"}}]
[null,null,null,"",null,null,null,{"$f":"BX44","v":0},{"$f":"BY44","v":0},null,null,41,{"$f":"IF(AND(H125=0,I125=0),\"\",IF(H125>I125,F124,F126))","v":""},null,null,null,null,null,null,null,null,null,null,null,null,null,null,null,null,null,null,null,null,null,null,null,null,null,null,null,null,null,null,null,null,null,null,null,null,null,null,null,null,null,null,null,null,null,122,null,null,null,null,{"$f":"F367","v":{"$error":"#N/A"}},{"$f":"F369","v":{"$error":"#N/A"}}]
[82,129,21,"E30",236,{"$f":"IF(Main!$Q$2=3,VLOOKUP(E126,Kura!$A$4:$Z$350,26,0),Ana_Tablo_Kura!L89)","v":{"$error":"#N/A"}},null,null,null,null,null,null,null,null,null,null,null,null,{"$f":"+S120+1","v":25},{"$f":"IF(AND(O127=0,P127=0),\"\",IF(O127>P127,M125,M128))","v":""},null,null,null,null,null,null,null,null,null,null,null,null,null,null,null,null,null,null,null,null,null,null,null,null,null,null,null,null,null,null,null,null,null,null,null,null,null,null,123,null,null,null,null,{"$f":"F370","v":{"$error":"#N/A"}},{"$f":"F372","v":{"$error":"#N/A"}}]
[83,129,null,"",108,{"$f":"IF(Main!$Q$2=3,VLOOKUP(E127,Kura!$A$4:$Z$350,26,0),Ana_Tablo_Kura!L90)","v":{"$error":"#N/A"}},null,null,null,null,null,null,null,null,{"$f":"BX152","v":0},{"$f":"BY152","v":0},null,null,null,null,null,null,null,null,null,{"$f":"+Z115+1","v":17},null,null,null,null,null,null,null,null,null,null,null,null,null,null,null,null,null,null,null,null,null,null,null,null,null,null,null,null,null,null,null,null,124,null,null,null,null,{"$f":"F373","v":{"$error":"#N/A"}},{"$f":"F375","v":{"$error":"#N/A"}}]
[null,null,null,"",null,null,null,{"$f":"BX45","v":0},{"$f":"BY45","v":0},null,null,42,{"$f":"IF(AND(H128=0,I128=0),\"\",IF(H128>I128,F127,F129))","v":""},null,null,null,null,null,null,null,null,null,null,null,null,null,null,null,null,null,null,null,null,null,null,null,null,null,null,null,null,null,null,null,null,null,null,null,null,null,null,null,null,null,null,null,null,null,125,null,null,null,null,{"$f":"F376","v":{"$error":"#N/A"}},{"$f":"F378","v":{"$error":"#N/A"}}]
[84,65,null,"",149,{"$f":"IF(Main!$Q$2=3,VLOOKUP(E129,Kura!$A$4:$Z$350,26,0),Ana_Tablo_Kura!L91)","v":{"$error":"#N/A"}},null,null,null,null,null,null,null,null,null,null,null,null,null,null,null,null,null,null,null,null,null,null,null,null,null,null,null,null,null,null,null,null,null,null,null,null,null,null,null,null,null,null,null,null,null,null,null,null,null,null,null,null,126,null,null,null,null,{"$f":"F379","v":{"$error":"#N/A"}},{"$f":"F381","v":{"$error":"#N/A"}}]
[85,65,null,"",85,{"$f":"IF(Main!$Q$2=3,VLOOKUP(E130,Kura!$A$4:$Z$350,26,0),Ana_Tablo_Kura!L92)","v":{"$error":"#N/A"}},null,null,null,null,null,null,null,null,null,null,null,null,null,null,null,{"$f":"BX206","v":0},{"$f":"BY206","v":0},null,null,null,{"$f":"IF(AND(V130=0,W130=0),\"\",IF(V130>W130,T126,T133))","v":""},null,null,null,null,null,null,null,null,null,null,null,null,null,null,null,null,null,null,null,null,null,null,null,null,null,null,null,null,null,null,null,127,null,null,null,null,{"$f":"F382","v":{"$error":"#N/A"}},{"$f":"F384","v":{"$error":"#N/A"}}]
[null,null,null,"",null,null,null,{"$f":"BX46","v":0},{"$f":"BY46","v":0},null,null,43,{"$f":"IF(AND(H131=0,I131=0),\"\",IF(H131>I131,F130,F132))","v":""},null,null,null,null,null,null,null,null,null,null,null,null,null,null,null,null,null,null,null,{"$f":"+AG107+1","v":{"$error":"#VALUE!"}},null,null,null,null,null,null,null,null,null,null,null,null,null,null,null,null,null,null,null,null,null,null,null,null,null,128,null,null,null,null,{"$f":"F385","v":{"$error":"#N/A"}},{"$f":"F387","v":"ÇORUM GENÇLİK SPOR (A) (ÇRM)"}]
[86,129,null,"E16",172,{"$f":"IF(Main!$Q$2=3,VLOOKUP(E132,Kura!$A$4:$Z$350,26,0),Ana_Tablo_Kura!L93)","v":{"$error":"#N/A"}},null,null,null,null,null,null,null,null,null,null,null,null,{"$f":"+S126+1","v":26},null,null,null,null,null,null,null,null,null,null,null,null,null,null,null,null,null,null,null,null,null,null,null,null,null,null,null,null,null,null,null,null,null,null,null,null,null,null,null,129,null,null,null,null,{"$f":"M5","v":""},{"$f":"M8","v":""}]
[87,129,44,"",44,{"$f":"IF(Main!$Q$2=3,VLOOKUP(E133,Kura!$A$4:$Z$350,26,0),Ana_Tablo_Kura!L94)","v":{"$error":"#N/A"}},null,null,null,null,null,null,null,null,{"$f":"BX153","v":0},{"$f":"BY153","v":0},null,null,null,{"$f":"IF(AND(O133=0,P133=0),\"\",IF(O133>P133,M131,M134))","v":""},null,null,null,null,null,null,null,null,null,null,null,null,null,null,null,null,null,null,null,null,null,null,null,null,null,null,null,null,null,null,null,null,null,null,null,null,null,null,130,null,null,null,null,{"$f":"M11","v":""},{"$f":"M14","v":""}]
[null,null,null,"",null,null,null,{"$f":"BX47","v":0},{"$f":"BY47","v":0},null,null,44,{"$f":"IF(AND(H134=0,I134=0),\"\",IF(H134>I134,F133,F135))","v":""},null,null,null,null,null,null,null,null,null,null,null,null,null,null,null,null,null,null,null,null,null,null,null,null,null,null,null,null,null,null,null,null,null,null,null,null,null,null,null,null,null,null,null,null,null,131,null,null,null,null,{"$f":"M17","v":""},{"$f":"M20","v":""}]
[88,44,null,"",213,{"$f":"IF(Main!$Q$2=3,VLOOKUP(E135,Kura!$A$4:$Z$350,26,0),Ana_Tablo_Kura!L95)","v":{"$error":"#N/A"}},null,null,null,null,null,null,null,null,null,null,null,null,null,null,null,null,null,null,null,null,null,null,null,null,null,null,null,null,null,null,null,null,null,null,null,null,null,null,null,null,null,null,null,null,null,null,null,null,null,null,null,null,132,null,null,null,null,{"$f":"M23","v":""},{"$f":"M26","v":""}]
[89,37,null,"",53,{"$f":"IF(Main!$Q$2=3,VLOOKUP(E136,Kura!$A$4:$Z$350,26,0),Ana_Tablo_Kura!L96)","v":{"$error":"#N/A"}},null,null,null,null,null,null,null,null,null,null,null,null,null,null,null,null,null,null,null,null,null,null,null,{"$f":"BX233","v":0},{"$f":"BY233","v":0},null,null,{"$f":"IF(AND(AD136=0,AE136=0),\"\",IF(AD136>AE136,AA130,AA142))","v":""},null,null,null,null,null,null,null,null,null,null,null,null,null,null,null,null,null,null,null,null,null,null,null,null,133,null,null,null,null,{"$f":"M29","v":""},{"$f":"M32","v":""}]
[null,null,null,"",null,null,null,{"$f":"BX48","v":0},{"$f":"BY48","v":0},null,null,45,{"$f":"IF(AND(H137=0,I137=0),\"\",IF(H137>I137,F136,F138))","v":""},null,null,null,null,null,null,null,null,null,null,null,null,null,null,null,null,null,null,null,null,null,null,null,null,null,null,null,null,null,null,null,null,null,null,null,null,null,null,null,null,null,null,null,null,null,134,null,null,null,null,{"$f":"M35","v":""},{"$f":"M38","v":""}]
[90,129,37,"",204,{"$f":"IF(Main!$Q$2=3,VLOOKUP(E138,Kura!$A$4:$Z$350,26,0),Ana_Tablo_Kura!L97)","v":{"$error":"#N/A"}},null,null,null,null,null,null,null,null,null,null,null,null,{"$f":"+S132+1","v":27},{"$f":"IF(AND(O139=0,P139=0),\"\",IF(O139>P139,M137,M140))","v":""},null,null,null,null,null,null,null,null,null,null,null,null,null,null,null,null,null,null,null,null,null,null,null,null,null,null,null,null,null,null,null,null,null,null,null,null,null,null,135,null,null,null,null,{"$f":"M41","v":""},{"$f":"M44","v":""}]
[91,129,null,"E18",76,{"$f":"IF(Main!$Q$2=3,VLOOKUP(E139,Kura!$A$4:$Z$350,26,0),Ana_Tablo_Kura!L98)","v":{"$error":"#N/A"}},null,null,null,null,null,null,null,null,{"$f":"BX154","v":0},{"$f":"BY154","v":0},null,null,null,null,null,null,null,null,null,{"$f":"+Z127+1","v":18},null,null,null,null,null,null,null,null,null,null,null,null,null,null,null,null,null,null,null,null,null,null,null,null,null,null,null,null,null,null,null,null,136,null,null,null,null,{"$f":"M47","v":""},{"$f":"M50","v":""}]
[null,null,null,"",null,null,null,{"$f":"BX49","v":0},{"$f":"BY49","v":0},null,null,46,{"$f":"IF(AND(H140=0,I140=0),\"\",IF(H140>I140,F139,F141))","v":""},null,null,null,null,null,null,null,null,null,null,null,null,null,null,null,null,null,null,null,null,null,null,null,null,null,null,null,null,null,null,null,null,null,null,null,null,null,null,null,null,null,null,null,null,null,137,null,null,null,null,{"$f":"M53","v":""},{"$f":"M56","v":""}]
[92,65,null,"",181,{"$f":"IF(Main!$Q$2=3,VLOOKUP(E141,Kura!$A$4:$Z$350,26,0),Ana_Tablo_Kura!L99)","v":{"$error":"#N/A"}},null,null,null,null,null,null,null,null,null,null,null,null,null,null,null,null,null,null,null,null,null,null,null,null,null,null,null,null,null,null,null,null,null,null,null,null,null,null,null,null,null,null,null,null,null,null,null,null,null,null,null,null,138,null,null,null,null,{"$f":"M59","v":""},{"$f":"M62","v":""}]
[93,65,null,"",117,{"$f":"IF(Main!$Q$2=3,VLOOKUP(E142,Kura!$A$4:$Z$350,26,0),Ana_Tablo_Kura!L100)","v":{"$error":"#N/A"}},null,null,null,null,null,null,null,null,null,null,null,null,null,null,null,{"$f":"BX207","v":0},{"$f":"BY207","v":0},null,null,null,{"$f":"IF(AND(V142=0,W142=0),\"\",IF(V142>W142,T138,T145))","v":""},null,null,null,null,null,null,null,null,null,null,null,null,null,null,null,null,null,null,null,null,null,null,null,null,null,null,null,null,null,null,null,139,null,null,null,null,{"$f":"M65","v":""},{"$f":"M68","v":""}]
[null,null,null,"",null,null,null,{"$f":"BX50","v":0},{"$f":"BY50","v":0},null,null,47,{"$f":"IF(AND(H143=0,I143=0),\"\",IF(H143>I143,F142,F144))","v":""},null,null,null,null,null,null,null,null,null,null,null,null,null,null,null,null,null,null,null,null,null,null,null,null,null,null,null,null,null,null,null,null,null,null,null,null,null,null,null,null,null,null,null,null,null,140,null,null,null,null,{"$f":"M71","v":""},{"$f":"M74","v":""}]
[94,129,null,"",140,{"$f":"IF(Main!$Q$2=3,VLOOKUP(E144,Kura!$A$4:$Z$350,26,0),Ana_Tablo_Kura!L101)","v":{"$error":"#N/A"}},null,null,null,null,null,null,null,null,null,null,null,null,{"$f":"+S138+1","v":28},null,null,null,null,null,null,null,null,null,null,null,null,null,null,null,null,null,null,null,null,null,null,null,null,null,null,null,null,null,null,null,null,null,null,null,null,null,null,null,141,null,null,null,null,{"$f":"M77","v":""},{"$f":"M80","v":""}]
[95,129,12,"",12,{"$f":"IF(Main!$Q$2=3,VLOOKUP(E145,Kura!$A$4:$Z$350,26,0),Ana_Tablo_Kura!L102)","v":{"$error":"#N/A"}},null,null,null,null,null,null,null,null,{"$f":"BX155","v":0},{"$f":"BY155","v":0},null,null,null,{"$f":"IF(AND(O145=0,P145=0),\"\",IF(O145>P145,M143,M146))","v":""},null,null,null,null,null,null,null,null,null,null,null,null,null,null,null,null,null,null,null,null,null,null,null,null,null,null,null,null,null,null,null,null,null,null,null,null,null,null,142,null,null,null,null,{"$f":"M83","v":""},{"$f":"M86","v":""}]
[null,null,null,"",null,null,null,{"$f":"BX51","v":0},{"$f":"BY51","v":0},null,null,48,{"$f":"IF(AND(H146=0,I146=0),\"\",IF(H146>I146,F145,F147))","v":""},null,null,null,null,null,null,null,null,null,null,null,null,null,null,null,null,null,null,null,null,null,null,null,null,null,null,null,null,null,null,null,null,null,null,null,null,null,null,null,null,null,null,null,null,null,143,null,null,null,null,{"$f":"M89","v":""},{"$f":"M92","v":""}]
[96,12,null,"",245,{"$f":"IF(Main!$Q$2=3,VLOOKUP(E147,Kura!$A$4:$Z$350,26,0),Ana_Tablo_Kura!L103)","v":{"$error":"#N/A"}},null,null,null,null,null,null,null,null,null,null,null,null,null,null,null,null,null,null,null,null,null,null,null,null,null,null,null,null,null,null,null,null,null,null,null,null,null,null,null,null,null,null,null,null,null,null,null,null,null,null,null,null,144,null,null,null,null,{"$f":"M95","v":""},{"$f":"M98","v":""}]
[97,13,null,"",13,{"$f":"IF(Main!$Q$2=3,VLOOKUP(E148,Kura!$A$4:$Z$350,26,0),Ana_Tablo_Kura!L104)","v":{"$error":"#N/A"}},null,null,null,null,null,null,null,null,null,null,null,null,null,null,null,null,null,null,null,null,null,null,null,null,null,null,null,null,null,null,null,null,null,null,null,null,null,null,null,null,null,null,null,null,null,null,null,null,null,null,null,null,145,null,null,null,null,{"$f":"M101","v":""},{"$f":"M104","v":""}]
[null,null,null,"",null,null,null,{"$f":"BX52","v":0},{"$f":"BY52","v":0},null,null,49,{"$f":"IF(AND(H149=0,I149=0),\"\",IF(H149>I149,F148,F150))","v":""},null,null,null,null,null,null,null,null,null,null,null,null,null,null,null,null,null,null,null,null,null,null,null,null,null,null,null,null,null,null,null,null,null,null,null,null,null,null,null,null,null,null,null,null,null,146,null,null,null,null,{"$f":"M107","v":""},{"$f":"M110","v":""}]
[98,129,13,"",244,{"$f":"IF(Main!$Q$2=3,VLOOKUP(E150,Kura!$A$4:$Z$350,26,0),Ana_Tablo_Kura!L105)","v":{"$error":"#N/A"}},null,null,null,null,null,null,null,null,null,null,null,null,{"$f":"+S144+1","v":29},{"$f":"IF(AND(O151=0,P151=0),\"\",IF(O151>P151,M149,M152))","v":""},null,null,null,null,null,null,null,null,null,null,null,null,null,null,null,null,null,null,null,null,null,null,null,null,null,null,null,null,null,null,null,null,null,null,null,null,null,null,147,null,null,null,null,{"$f":"M113","v":""},{"$f":"M116","v":""}]
[99,129,null,"E27",116,{"$f":"IF(Main!$Q$2=3,VLOOKUP(E151,Kura!$A$4:$Z$350,26,0),Ana_Tablo_Kura!L106)","v":{"$error":"#N/A"}},null,null,null,null,null,null,null,null,{"$f":"BX156","v":0},{"$f":"BY156","v":0},null,null,null,null,null,null,null,null,null,{"$f":"+Z139+1","v":19},null,null,null,null,null,null,null,null,null,null,null,null,null,null,null,null,null,null,null,null,null,null,null,null,null,null,null,null,null,null,null,null,148,null,null,null,null,{"$f":"M119","v":""},{"$f":"M122","v":""}]
[null,null,null,"",null,null,null,{"$f":"BX53","v":0},{"$f":"BY53","v":0},null,null,50,{"$f":"IF(AND(H152=0,I152=0),\"\",IF(H152>I152,F151,F153))","v":""},null,null,null,null,null,null,null,null,null,null,null,null,null,null,null,null,null,null,null,null,null,null,null,null,null,null,null,null,null,null,null,null,null,null,null,null,null,null,null,null,null,null,null,null,null,149,null,null,null,null,{"$f":"M125","v":""},{"$f":"M128","v":""}]
[100,65,null,"",141,{"$f":"IF(Main!$Q$2=3,VLOOKUP(E153,Kura!$A$4:$Z$350,26,0),Ana_Tablo_Kura!L107)","v":{"$error":"#N/A"}},null,null,null,null,null,null,null,null,null,null,null,null,null,null,null,null,null,null,null,null,null,null,null,null,null,null,null,null,null,null,null,null,null,null,null,null,null,null,null,null,null,null,null,null,null,null,null,null,null,null,null,null,150,null,null,null,null,{"$f":"M131","v":""},{"$f":"M134","v":""}]
[101,65,null,"",77,{"$f":"IF(Main!$Q$2=3,VLOOKUP(E154,Kura!$A$4:$Z$350,26,0),Ana_Tablo_Kura!L108)","v":{"$error":"#N/A"}},null,null,null,null,null,null,null,null,null,null,null,null,null,null,null,{"$f":"BX208","v":0},{"$f":"BY208","v":0},null,null,null,{"$f":"IF(AND(V154=0,W154=0),\"\",IF(V154>W154,T150,T157))","v":""},null,null,null,null,null,null,null,null,null,null,null,null,null,null,null,null,null,null,null,null,null,null,null,null,null,null,null,null,null,null,null,151,null,null,null,null,{"$f":"M137","v":""},{"$f":"M140","v":""}]
[null,null,null,"",null,null,null,{"$f":"BX54","v":0},{"$f":"BY54","v":0},null,null,51,{"$f":"IF(AND(H155=0,I155=0),\"\",IF(H155>I155,F154,F156))","v":""},null,null,null,null,null,null,null,null,null,null,null,null,null,null,null,null,null,null,null,{"$f":"+AG131+1","v":{"$error":"#VALUE!"}},null,null,null,null,null,null,null,null,null,null,null,null,null,null,null,null,null,null,null,null,null,null,null,null,null,152,null,null,null,null,{"$f":"M143","v":""},{"$f":"M146","v":""}]
[102,129,null,"E22",180,{"$f":"IF(Main!$Q$2=3,VLOOKUP(E156,Kura!$A$4:$Z$350,26,0),Ana_Tablo_Kura!L109)","v":{"$error":"#N/A"}},null,null,null,null,null,null,null,null,null,null,null,null,{"$f":"+S150+1","v":30},null,null,null,null,null,null,null,null,null,null,null,null,null,null,null,null,null,null,null,null,null,null,null,null,null,null,null,null,null,null,null,null,null,null,null,null,null,null,null,153,null,null,null,null,{"$f":"M149","v":""},{"$f":"M152","v":""}]
[103,129,36,"",52,{"$f":"IF(Main!$Q$2=3,VLOOKUP(E157,Kura!$A$4:$Z$350,26,0),Ana_Tablo_Kura!L110)","v":{"$error":"#N/A"}},null,null,null,null,null,null,null,null,{"$f":"BX157","v":0},{"$f":"BY157","v":0},null,null,null,{"$f":"IF(AND(O157=0,P157=0),\"\",IF(O157>P157,M155,M158))","v":""},null,null,null,null,null,null,null,null,null,null,null,null,null,null,null,null,null,null,null,null,null,null,null,null,null,null,null,null,null,null,null,null,null,null,null,null,null,null,154,null,null,null,null,{"$f":"M155","v":""},{"$f":"M158","v":""}]
[null,null,null,"",null,null,null,{"$f":"BX55","v":0},{"$f":"BY55","v":0},null,null,52,{"$f":"IF(AND(H158=0,I158=0),\"\",IF(H158>I158,F157,F159))","v":""},null,null,null,null,null,null,null,null,null,null,null,null,null,null,null,null,null,null,null,null,null,null,null,null,null,null,null,null,null,null,null,null,null,null,null,null,null,null,null,null,null,null,null,null,null,155,null,null,null,null,{"$f":"M161","v":""},{"$f":"M164","v":""}]
[104,36,null,"",205,{"$f":"IF(Main!$Q$2=3,VLOOKUP(E159,Kura!$A$4:$Z$350,26,0),Ana_Tablo_Kura!L111)","v":{"$error":"#N/A"}},null,null,null,null,null,null,null,null,null,null,null,null,null,null,null,null,null,null,null,null,null,null,null,null,null,null,null,null,null,null,null,null,null,null,null,null,null,null,null,null,null,null,null,null,null,null,null,null,null,null,null,null,156,null,null,null,null,{"$f":"M167","v":""},{"$f":"M170","v":""}]
[105,45,null,"",45,{"$f":"IF(Main!$Q$2=3,VLOOKUP(E160,Kura!$A$4:$Z$350,26,0),Ana_Tablo_Kura!L112)","v":{"$error":"#N/A"}},null,null,null,null,null,null,null,null,null,null,null,null,null,null,null,null,null,null,null,null,null,null,null,{"$f":"BX234","v":0},{"$f":"BY234","v":0},null,null,{"$f":"IF(AND(AD160=0,AE160=0),\"\",IF(AD160>AE160,AA154,AA166))","v":""},null,null,null,null,null,null,null,null,null,null,null,null,null,null,null,null,null,null,null,null,null,null,null,null,157,null,null,null,null,{"$f":"M173","v":""},{"$f":"M176","v":""}]
[null,null,null,"",null,null,null,{"$f":"BX56","v":0},{"$f":"BY56","v":0},null,null,53,{"$f":"IF(AND(H161=0,I161=0),\"\",IF(H161>I161,F160,F162))","v":""},null,null,null,null,null,null,null,null,null,null,null,null,null,null,null,null,null,null,null,null,null,null,null,null,null,null,244,null,null,null,null,null,null,null,null,null,null,null,null,null,null,null,null,null,null,158,null,null,null,null,{"$f":"M179","v":""},{"$f":"M182","v":""}]
[106,129,45,"",212,{"$f":"IF(Main!$Q$2=3,VLOOKUP(E162,Kura!$A$4:$Z$350,26,0),Ana_Tablo_Kura!L113)","v":{"$error":"#N/A"}},null,null,null,null,null,null,null,null,null,null,null,null,{"$f":"+S156+1","v":31},{"$f":"IF(AND(O163=0,P163=0),\"\",IF(O163>P163,M161,M164))","v":""},null,null,null,null,null,null,null,null,null,null,null,null,null,null,null,null,null,null,null,null,null,null,null,null,null,null,null,null,null,null,null,null,null,null,null,null,null,null,159,null,null,null,null,{"$f":"M185","v":""},{"$f":"M188","v":""}]
[107,129,null,"E6",84,{"$f":"IF(Main!$Q$2=3,VLOOKUP(E163,Kura!$A$4:$Z$350,26,0),Ana_Tablo_Kura!L114)","v":{"$error":"#N/A"}},null,null,null,null,null,null,null,null,{"$f":"BX158","v":0},{"$f":"BY158","v":0},null,null,null,null,null,null,null,null,null,{"$f":"+Z151+1","v":20},null,null,null,null,null,null,null,null,null,null,null,null,null,null,null,null,null,null,null,null,null,null,null,null,null,null,null,null,null,null,null,null,160,null,null,null,null,{"$f":"M191","v":""},{"$f":"M194","v":""}]
[null,null,null,"",null,null,null,{"$f":"BX57","v":0},{"$f":"BY57","v":0},null,null,54,{"$f":"IF(AND(H164=0,I164=0),\"\",IF(H164>I164,F163,F165))","v":""},null,null,null,null,null,null,null,null,null,null,null,null,null,null,null,null,null,null,null,null,null,null,null,null,null,null,null,null,null,null,null,null,null,null,null,null,null,null,null,null,null,null,null,null,null,161,null,null,null,null,{"$f":"M197","v":""},{"$f":"M200","v":""}]
[108,65,null,"",173,{"$f":"IF(Main!$Q$2=3,VLOOKUP(E165,Kura!$A$4:$Z$350,26,0),Ana_Tablo_Kura!L115)","v":{"$error":"#N/A"}},null,null,null,null,null,null,null,null,null,null,null,null,null,null,null,null,null,null,null,null,null,null,null,null,null,null,null,null,null,null,null,null,null,null,null,null,null,null,null,null,null,null,null,null,null,null,null,null,null,null,null,null,162,null,null,null,null,{"$f":"M203","v":""},{"$f":"M206","v":""}]
[109,65,null,"",109,{"$f":"IF(Main!$Q$2=3,VLOOKUP(E166,Kura!$A$4:$Z$350,26,0),Ana_Tablo_Kura!L116)","v":{"$error":"#N/A"}},null,null,null,null,null,null,null,null,null,null,null,null,null,null,null,{"$f":"BX209","v":0},{"$f":"BY209","v":0},null,null,null,{"$f":"IF(AND(V166=0,W166=0),\"\",IF(V166>W166,T162,T169))","v":""},null,null,null,null,null,null,null,null,null,null,null,null,null,null,null,null,null,null,null,null,null,null,null,null,null,null,null,null,null,null,null,163,null,null,null,null,{"$f":"M209","v":""},{"$f":"M212","v":""}]
[null,null,null,"",null,null,null,{"$f":"BX58","v":0},{"$f":"BY58","v":0},null,null,55,{"$f":"IF(AND(H167=0,I167=0),\"\",IF(H167>I167,F166,F168))","v":""},null,null,null,null,null,null,null,null,null,null,null,null,null,null,null,null,null,null,null,null,null,null,null,null,null,null,null,null,null,null,null,null,null,null,null,null,null,null,null,null,null,null,null,null,null,164,null,null,null,null,{"$f":"M215","v":""},{"$f":"M218","v":""}]
[110,129,null,"E12",148,{"$f":"IF(Main!$Q$2=3,VLOOKUP(E168,Kura!$A$4:$Z$350,26,0),Ana_Tablo_Kura!L117)","v":{"$error":"#N/A"}},null,null,null,null,null,null,null,null,null,null,null,null,{"$f":"+S162+1","v":32},null,null,null,null,null,null,null,null,null,null,null,null,null,null,null,null,null,null,null,null,null,null,null,null,null,null,null,null,null,null,null,null,null,null,null,null,null,null,null,165,null,null,null,null,{"$f":"M221","v":""},{"$f":"M224","v":""}]
[111,129,20,"",20,{"$f":"IF(Main!$Q$2=3,VLOOKUP(E169,Kura!$A$4:$Z$350,26,0),Ana_Tablo_Kura!L118)","v":{"$error":"#N/A"}},null,null,null,null,null,null,null,null,{"$f":"BX159","v":0},{"$f":"BY159","v":0},null,null,null,{"$f":"IF(AND(O169=0,P169=0),\"\",IF(O169>P169,M167,M170))","v":""},null,null,null,null,null,null,null,null,null,null,null,null,null,null,null,null,null,null,null,null,null,null,null,null,null,null,null,null,null,null,null,null,null,null,null,null,null,null,166,null,null,null,null,{"$f":"M227","v":""},{"$f":"M230","v":""}]
[null,null,null,"",null,null,null,{"$f":"BX59","v":0},{"$f":"BY59","v":0},null,null,56,{"$f":"IF(AND(H170=0,I170=0),\"\",IF(H170>I170,F169,F171))","v":""},null,null,null,null,null,null,null,null,null,null,null,null,null,null,null,null,null,null,null,null,null,null,null,null,null,null,null,null,null,null,null,null,null,null,null,null,null,null,null,null,null,null,null,null,null,167,null,null,null,null,{"$f":"M233","v":""},{"$f":"M236","v":""}]
[112,20,null,"",237,{"$f":"IF(Main!$Q$2=3,VLOOKUP(E171,Kura!$A$4:$Z$350,26,0),Ana_Tablo_Kura!L119)","v":{"$error":"#N/A"}},null,null,null,null,null,null,null,null,null,null,null,null,null,null,null,null,null,null,null,null,null,null,null,null,null,null,null,null,null,null,null,null,null,null,null,null,null,null,null,null,null,null,null,null,null,null,null,null,null,null,null,null,168,null,null,null,null,{"$f":"M239","v":""},{"$f":"M242","v":""}]
[113,29,null,"",29,{"$f":"IF(Main!$Q$2=3,VLOOKUP(E172,Kura!$A$4:$Z$350,26,0),Ana_Tablo_Kura!L120)","v":{"$error":"#N/A"}},null,null,null,null,null,null,null,null,null,null,null,null,null,null,null,null,null,null,null,null,null,null,null,null,null,null,null,null,null,null,{"$f":"BX247","v":0},{"$f":"BY247","v":0},null,null,{"$f":"IF(AND(AK172=0,AL172=0),\"\",IF(AK172>AL172,AH160,AH184))","v":""},null,null,null,null,null,null,null,null,null,null,null,null,null,null,null,null,null,169,null,null,null,null,{"$f":"M245","v":""},{"$f":"M248","v":""}]
[null,null,null,"",null,null,null,{"$f":"BX60","v":0},{"$f":"BY60","v":0},null,null,57,{"$f":"IF(AND(H173=0,I173=0),\"\",IF(H173>I173,F172,F174))","v":""},null,null,null,null,null,null,null,null,null,null,null,null,null,null,null,null,null,null,null,null,null,null,null,null,null,null,null,null,null,null,null,null,null,null,null,null,null,null,null,null,null,null,null,null,null,170,null,null,null,null,{"$f":"M251","v":""},{"$f":"M254","v":""}]
[114,129,29,"",228,{"$f":"IF(Main!$Q$2=3,VLOOKUP(E174,Kura!$A$4:$Z$350,26,0),Ana_Tablo_Kura!L121)","v":{"$error":"#N/A"}},null,null,null,null,null,null,null,null,null,null,null,null,{"$f":"+S168+1","v":33},{"$f":"IF(AND(O175=0,P175=0),\"\",IF(O175>P175,M173,M176))","v":""},null,null,null,null,null,null,null,null,null,null,null,null,null,null,null,null,null,null,null,null,null,null,null,null,null,null,null,null,null,null,null,null,null,null,null,null,null,null,171,null,null,null,null,{"$f":"M257","v":""},{"$f":"M260","v":""}]
[115,129,null,"",100,{"$f":"IF(Main!$Q$2=3,VLOOKUP(E175,Kura!$A$4:$Z$350,26,0),Ana_Tablo_Kura!L122)","v":{"$error":"#N/A"}},null,null,null,null,null,null,null,null,{"$f":"BX160","v":0},{"$f":"BY160","v":0},null,null,null,null,null,null,null,null,null,{"$f":"+Z163+1","v":21},null,null,null,null,null,null,null,null,null,null,null,null,null,null,null,null,null,null,null,null,null,null,null,null,null,null,null,null,null,null,null,null,172,null,null,null,null,{"$f":"M263","v":""},{"$f":"M266","v":""}]
[null,null,null,"",null,null,null,{"$f":"BX61","v":0},{"$f":"BY61","v":0},null,null,58,{"$f":"IF(AND(H176=0,I176=0),\"\",IF(H176>I176,F175,F177))","v":""},null,null,null,null,null,null,null,null,null,null,null,null,null,null,null,null,null,null,null,null,null,null,null,null,null,null,null,null,null,null,null,null,null,null,null,null,null,null,null,null,null,null,null,null,null,173,null,null,null,null,{"$f":"M269","v":""},{"$f":"M272","v":""}]
[116,65,null,"",157,{"$f":"IF(Main!$Q$2=3,VLOOKUP(E177,Kura!$A$4:$Z$350,26,0),Ana_Tablo_Kura!L123)","v":{"$error":"#N/A"}},null,null,null,null,null,null,null,null,null,null,null,null,null,null,null,null,null,null,null,null,null,null,null,null,null,null,null,null,null,null,null,null,null,null,null,null,null,null,null,null,null,null,null,null,null,null,null,null,null,null,null,null,174,null,null,null,null,{"$f":"M275","v":""},{"$f":"M278","v":""}]
[117,65,null,"",93,{"$f":"IF(Main!$Q$2=3,VLOOKUP(E178,Kura!$A$4:$Z$350,26,0),Ana_Tablo_Kura!L124)","v":{"$error":"#N/A"}},null,null,null,null,null,null,null,null,null,null,null,null,null,null,null,{"$f":"BX210","v":0},{"$f":"BY210","v":0},null,null,null,{"$f":"IF(AND(V178=0,W178=0),\"\",IF(V178>W178,T174,T181))","v":""},null,null,null,null,null,null,null,null,null,null,null,null,null,null,null,null,null,null,null,null,null,null,null,null,null,null,null,null,null,null,null,175,null,null,null,null,{"$f":"M281","v":""},{"$f":"M284","v":""}]
[null,null,null,"",null,null,null,{"$f":"BX62","v":0},{"$f":"BY62","v":0},null,null,59,{"$f":"IF(AND(H179=0,I179=0),\"\",IF(H179>I179,F178,F180))","v":""},null,null,null,null,null,null,null,null,null,null,null,null,null,null,null,null,null,null,null,{"$f":"+AG155+1","v":{"$error":"#VALUE!"}},null,null,null,null,null,null,null,null,null,null,null,null,null,null,null,null,null,null,null,null,null,null,null,null,null,176,null,null,null,null,{"$f":"M287","v":""},{"$f":"M290","v":""}]
[118,129,null,"E14",164,{"$f":"IF(Main!$Q$2=3,VLOOKUP(E180,Kura!$A$4:$Z$350,26,0),Ana_Tablo_Kura!L125)","v":{"$error":"#N/A"}},null,null,null,null,null,null,null,null,null,null,null,null,{"$f":"+S174+1","v":34},null,null,null,null,null,null,null,null,null,null,null,null,null,null,null,null,null,null,null,null,null,null,null,null,null,null,null,null,null,null,null,null,null,null,null,null,null,null,null,177,null,null,null,null,{"$f":"M293","v":""},{"$f":"M296","v":""}]
[119,129,52,"",36,{"$f":"IF(Main!$Q$2=3,VLOOKUP(E181,Kura!$A$4:$Z$350,26,0),Ana_Tablo_Kura!L126)","v":{"$error":"#N/A"}},null,null,null,null,null,null,null,null,{"$f":"BX161","v":0},{"$f":"BY161","v":0},null,null,null,{"$f":"IF(AND(O181=0,P181=0),\"\",IF(O181>P181,M179,M182))","v":""},null,null,null,null,null,null,null,null,null,null,null,null,null,null,null,null,null,null,null,null,null,null,null,null,null,null,null,null,null,null,null,null,null,null,null,null,null,null,178,null,null,null,null,{"$f":"M299","v":""},{"$f":"M302","v":""}]
[null,null,null,"",null,null,null,{"$f":"BX63","v":0},{"$f":"BY63","v":0},null,null,60,{"$f":"IF(AND(H182=0,I182=0),\"\",IF(H182>I182,F181,F183))","v":""},null,null,null,null,null,null,null,null,null,null,null,null,null,null,null,null,null,null,null,null,null,null,null,null,null,null,null,null,null,null,null,null,null,null,null,null,null,null,null,null,null,null,null,null,null,179,null,null,null,null,{"$f":"M305","v":""},{"$f":"M308","v":""}]
[120,52,null,"",221,{"$f":"IF(Main!$Q$2=3,VLOOKUP(E183,Kura!$A$4:$Z$350,26,0),Ana_Tablo_Kura!L127)","v":{"$error":"#N/A"}},null,null,null,null,null,null,null,null,null,null,null,null,null,null,null,null,null,null,null,null,null,null,null,null,null,null,null,null,null,null,null,null,null,null,null,null,null,null,null,null,null,null,null,null,null,null,null,null,null,null,null,null,180,null,null,null,null,{"$f":"M311","v":""},{"$f":"M314","v":""}]
[121,61,999,"",61,{"$f":"IF(Main!$Q$2=3,VLOOKUP(E184,Kura!$A$4:$Z$350,26,0),Ana_Tablo_Kura!L128)","v":{"$error":"#N/A"}},null,null,null,null,null,null,null,null,null,null,null,null,null,null,null,null,null,null,null,null,null,null,null,{"$f":"BX235","v":0},{"$f":"BY235","v":0},null,null,{"$f":"IF(AND(AD184=0,AE184=0),\"\",IF(AD184>AE184,AA178,AA190))","v":""},null,null,null,null,null,null,null,null,null,null,null,null,null,null,null,null,null,null,null,null,null,null,null,null,181,null,null,null,null,{"$f":"M317","v":""},{"$f":"M320","v":""}]
[null,null,null,"",null,null,null,{"$f":"BX64","v":0},{"$f":"BY64","v":0},null,null,61,{"$f":"IF(AND(H185=0,I185=0),\"\",IF(H185>I185,F184,F186))","v":""},null,null,null,null,null,null,null,null,null,null,null,null,null,null,null,null,null,null,null,null,null,null,null,null,null,null,null,null,null,null,null,null,null,null,null,null,null,null,null,null,null,null,null,null,null,182,null,null,null,null,{"$f":"M323","v":""},{"$f":"M326","v":""}]
[122,129,999,"",196,{"$f":"IF(Main!$Q$2=3,VLOOKUP(E186,Kura!$A$4:$Z$350,26,0),Ana_Tablo_Kura!L129)","v":{"$error":"#N/A"}},null,null,null,null,null,null,null,null,null,null,null,null,{"$f":"+S180+1","v":35},{"$f":"IF(AND(O187=0,P187=0),\"\",IF(O187>P187,M185,M188))","v":""},null,null,null,null,null,null,null,null,null,null,null,null,null,null,null,null,null,null,null,null,null,null,null,null,null,null,null,null,null,null,null,null,null,null,null,null,null,null,183,null,null,null,null,{"$f":"M329","v":""},{"$f":"M332","v":""}]
[123,129,999,"",68,{"$f":"IF(Main!$Q$2=3,VLOOKUP(E187,Kura!$A$4:$Z$350,26,0),Ana_Tablo_Kura!L130)","v":{"$error":"#N/A"}},null,null,null,null,null,null,null,null,{"$f":"BX162","v":0},{"$f":"BY162","v":0},null,null,null,null,null,null,null,null,null,{"$f":"+Z175+1","v":22},null,null,null,null,null,null,null,null,null,null,null,null,null,null,null,null,null,null,null,null,null,null,null,null,null,null,null,null,null,null,null,null,184,null,null,null,null,{"$f":"M335","v":""},{"$f":"M338","v":""}]
[null,null,null,"",null,null,null,{"$f":"BX65","v":0},{"$f":"BY65","v":0},null,null,62,{"$f":"IF(AND(H188=0,I188=0),\"\",IF(H188>I188,F187,F189))","v":""},null,null,null,null,null,null,null,null,null,null,null,null,null,null,null,null,null,null,null,null,null,null,null,null,null,null,null,null,null,null,null,null,null,null,null,null,null,null,null,null,null,null,null,null,null,185,null,null,null,null,{"$f":"M341","v":""},{"$f":"M344","v":""}]
[124,65,999,"",189,{"$f":"IF(Main!$Q$2=3,VLOOKUP(E189,Kura!$A$4:$Z$350,26,0),Ana_Tablo_Kura!L131)","v":{"$error":"#N/A"}},null,null,null,null,null,null,null,null,null,null,null,null,null,null,null,null,null,null,null,null,null,null,null,null,null,null,null,null,null,null,null,null,null,null,null,null,null,null,null,null,null,null,null,null,null,null,null,null,null,null,null,null,186,null,null,null,null,{"$f":"M347","v":""},{"$f":"M350","v":""}]
[125,65,999,"",125,{"$f":"IF(Main!$Q$2=3,VLOOKUP(E190,Kura!$A$4:$Z$350,26,0),Ana_Tablo_Kura!L132)","v":{"$error":"#N/A"}},null,null,null,null,null,null,null,null,null,null,null,null,null,null,null,{"$f":"BX211","v":0},{"$f":"BY211","v":0},null,null,null,{"$f":"IF(AND(V190=0,W190=0),\"\",IF(V190>W190,T186,T193))","v":""},null,null,null,null,null,null,null,null,null,null,null,null,null,null,null,null,null,null,null,null,null,null,null,null,null,null,null,null,null,null,null,187,null,null,null,null,{"$f":"M353","v":""},{"$f":"M356","v":""}]
[null,null,null,"",null,null,null,{"$f":"BX66","v":0},{"$f":"BY66","v":0},null,null,63,{"$f":"IF(AND(H191=0,I191=0),\"\",IF(H191>I191,F190,F192))","v":""},null,null,null,null,null,null,null,null,null,null,null,null,null,null,null,null,null,null,null,null,null,null,null,null,null,null,null,null,null,null,null,null,null,null,null,null,null,null,null,null,null,null,null,null,null,188,null,null,null,null,{"$f":"M359","v":""},{"$f":"M362","v":""}]
[126,129,999,"",132,{"$f":"IF(Main!$Q$2=3,VLOOKUP(E192,Kura!$A$4:$Z$350,26,0),Ana_Tablo_Kura!L133)","v":{"$error":"#N/A"}},null,null,null,null,null,null,null,null,null,null,null,null,{"$f":"+S186+1","v":36},null,null,null,null,null,null,null,null,null,null,null,null,null,null,null,null,null,null,null,null,null,null,null,null,null,null,null,null,null,null,null,null,null,null,null,null,null,null,null,189,null,null,null,null,{"$f":"M365","v":""},{"$f":"M368","v":""}]
[127,129,999,"",253,{"$f":"IF(Main!$Q$2=3,VLOOKUP(E193,Kura!$A$4:$Z$350,26,0),Ana_Tablo_Kura!L134)","v":{"$error":"#N/A"}},null,null,null,null,null,null,null,null,{"$f":"BX163","v":0},{"$f":"BY163","v":0},null,null,null,{"$f":"IF(AND(O193=0,P193=0),\"\",IF(O193>P193,M191,M194))","v":""},null,null,null,null,null,null,null,null,null,null,null,null,null,null,null,null,null,null,null,null,null,null,null,null,null,null,null,null,null,null,null,null,null,null,null,null,null,null,190,null,null,null,null,{"$f":"M371","v":""},{"$f":"M374","v":""}]
[null,null,null,"",null,null,null,{"$f":"BX67","v":0},{"$f":"BY67","v":0},null,null,64,{"$f":"IF(AND(H194=0,I194=0),\"\",IF(H194>I194,F193,F195))","v":""},null,null,null,null,null,null,null,null,null,null,null,null,null,null,null,null,null,null,null,null,null,null,null,null,null,null,null,null,null,null,null,null,null,null,null,null,null,null,null,null,null,null,null,null,null,191,null,null,null,null,{"$f":"M377","v":""},{"$f":"M380","v":""}]
[128,4,null,"",4,{"$f":"IF(Main!$Q$2=3,VLOOKUP(E195,Kura!$A$4:$Z$350,26,0),Ana_Tablo_Kura!L135)","v":"ŞAFAKTEPE SK (A) (ANK)"},null,null,null,null,null,null,null,null,null,null,null,null,null,null,null,null,null,null,null,null,null,null,null,null,null,null,null,null,null,null,null,null,null,null,null,null,null,null,null,null,null,null,null,null,null,null,null,null,null,null,null,null,192,null,null,null,null,{"$f":"M383","v":""},{"$f":"M386","v":""}]
[129,3,null,"",3,{"$f":"IF(Main!$Q$2=3,VLOOKUP(E196,Kura!$A$4:$Z$350,26,0),Ana_Tablo_Kura!L137)","v":"KUTLUBEY OKULLARI (A) (AMS)"},null,null,null,null,null,null,null,null,null,null,null,null,null,null,null,null,null,null,null,null,null,null,null,null,null,null,null,null,null,null,null,null,null,null,null,null,null,null,null,null,null,null,null,null,null,null,null,null,null,null,null,null,193,null,null,null,null,{"$f":"T6","v":""},{"$f":"T13","v":""}]
[null,null,null,"",null,null,null,{"$f":"BX68","v":0},{"$f":"BY68","v":0},null,null,65,{"$f":"IF(AND(H197=0,I197=0),\"\",IF(H197>I197,F196,F198))","v":""},null,null,null,null,null,null,null,null,null,null,null,null,null,null,null,null,null,null,null,null,null,null,null,null,null,null,null,null,null,null,null,null,null,null,null,null,null,null,null,null,null,null,null,null,null,194,null,null,null,null,{"$f":"T18","v":""},{"$f":"T25","v":""}]
[130,129,999,"",254,{"$f":"IF(Main!$Q$2=3,VLOOKUP(E198,Kura!$A$4:$Z$350,26,0),Ana_Tablo_Kura!L138)","v":"BEŞİKDÜZÜ AYYILDIZ SPOR (A) (TRB)"},null,null,null,null,null,null,null,null,null,null,null,null,{"$f":"+S192+1","v":37},{"$f":"IF(AND(O199=0,P199=0),\"\",IF(O199>P199,M197,M200))","v":""},null,null,null,null,null,null,null,null,null,null,null,null,null,null,null,null,null,null,null,null,null,null,null,null,null,null,null,null,null,null,null,null,null,null,null,null,null,null,195,null,null,null,null,{"$f":"T30","v":""},{"$f":"T37","v":""}]
[131,129,999,"",126,{"$f":"IF(Main!$Q$2=3,VLOOKUP(E199,Kura!$A$4:$Z$350,26,0),Ana_Tablo_Kura!L139)","v":"YALIKÖY ŞBÇ OO (A) (GRS)"},null,null,null,null,null,null,null,null,{"$f":"BX164","v":0},{"$f":"BY164","v":0},null,null,null,null,null,null,null,null,null,{"$f":"+Z187+1","v":23},null,null,null,null,null,null,null,null,null,null,null,null,null,null,null,null,null,null,null,null,null,null,null,null,null,null,null,null,null,null,null,null,196,null,null,null,null,{"$f":"T42","v":""},{"$f":"T49","v":""}]
[null,null,null,"",null,null,null,{"$f":"BX69","v":0},{"$f":"BY69","v":0},null,null,66,{"$f":"IF(AND(H200=0,I200=0),\"\",IF(H200>I200,F199,F201))","v":""},null,null,null,null,null,null,null,null,null,null,null,null,null,null,null,null,null,null,null,null,null,null,null,null,null,null,null,null,null,null,null,null,null,null,null,null,null,null,null,null,null,null,null,null,null,197,null,null,null,null,{"$f":"T54","v":""},{"$f":"T61","v":""}]
[132,65,999,"",131,{"$f":"IF(Main!$Q$2=3,VLOOKUP(E201,Kura!$A$4:$Z$350,26,0),Ana_Tablo_Kura!L140)","v":{"$error":"#N/A"}},null,null,null,null,null,null,null,null,null,null,null,null,null,null,null,null,null,null,null,null,null,null,null,null,null,null,null,null,null,null,null,null,null,null,null,null,null,null,null,null,null,null,null,null,null,null,null,null,null,null,null,null,198,null,null,null,null,{"$f":"T66","v":""},{"$f":"T73","v":""}]
[133,65,999,"",67,{"$f":"IF(Main!$Q$2=3,VLOOKUP(E202,Kura!$A$4:$Z$350,26,0),Ana_Tablo_Kura!L141)","v":{"$error":"#N/A"}},null,null,null,null,null,null,null,null,null,null,null,null,null,null,null,{"$f":"BX212","v":0},{"$f":"BY212","v":0},null,null,null,{"$f":"IF(AND(V202=0,W202=0),\"\",IF(V202>W202,T198,T205))","v":""},null,null,null,null,null,null,null,null,null,null,null,null,null,null,null,null,null,null,null,null,null,null,null,null,null,null,null,null,null,null,null,199,null,null,null,null,{"$f":"T78","v":""},{"$f":"T85","v":""}]
[null,null,null,"",null,null,null,{"$f":"BX70","v":0},{"$f":"BY70","v":0},null,null,67,{"$f":"IF(AND(H203=0,I203=0),\"\",IF(H203>I203,F202,F204))","v":""},null,null,null,null,null,null,null,null,null,null,null,null,null,null,null,null,null,null,null,{"$f":"+AG179+1","v":{"$error":"#VALUE!"}},null,null,null,null,null,null,null,null,null,null,null,null,null,null,null,null,null,null,null,null,null,null,null,null,null,200,null,null,null,null,{"$f":"T90","v":""},{"$f":"T97","v":""}]
[134,129,999,"",190,{"$f":"IF(Main!$Q$2=3,VLOOKUP(E204,Kura!$A$4:$Z$350,26,0),Ana_Tablo_Kura!L142)","v":{"$error":"#N/A"}},null,null,null,null,null,null,null,null,null,null,null,null,{"$f":"+S198+1","v":38},null,null,null,null,null,null,null,null,null,null,null,null,null,null,null,null,null,null,null,null,null,null,null,null,null,null,null,null,null,null,null,null,null,null,null,null,null,null,null,201,null,null,null,null,{"$f":"T102","v":""},{"$f":"T109","v":""}]
[135,129,999,"",62,{"$f":"IF(Main!$Q$2=3,VLOOKUP(E205,Kura!$A$4:$Z$350,26,0),Ana_Tablo_Kura!L143)","v":{"$error":"#N/A"}},null,null,null,null,null,null,null,null,{"$f":"BX165","v":0},{"$f":"BY165","v":0},null,null,null,{"$f":"IF(AND(O205=0,P205=0),\"\",IF(O205>P205,M203,M206))","v":""},null,null,null,null,null,null,null,null,null,null,null,null,null,null,null,null,null,null,null,null,null,null,null,null,null,null,null,null,null,null,null,null,null,null,null,null,null,null,202,null,null,null,null,{"$f":"T114","v":""},{"$f":"T121","v":""}]
[null,null,null,"",null,null,null,{"$f":"BX71","v":0},{"$f":"BY71","v":0},null,null,68,{"$f":"IF(AND(H206=0,I206=0),\"\",IF(H206>I206,F205,F207))","v":""},null,null,null,null,null,null,null,null,null,null,null,null,null,null,null,null,null,null,null,null,null,null,null,null,null,null,null,null,null,null,null,null,null,null,null,null,null,null,null,null,null,null,null,null,null,203,null,null,null,null,{"$f":"T126","v":""},{"$f":"T133","v":""}]
[136,62,999,"",195,{"$f":"IF(Main!$Q$2=3,VLOOKUP(E207,Kura!$A$4:$Z$350,26,0),Ana_Tablo_Kura!L144)","v":{"$error":"#N/A"}},null,null,null,null,null,null,null,null,null,null,null,null,null,null,null,null,null,null,null,null,null,null,null,null,null,null,null,null,null,null,null,null,null,null,null,null,null,null,null,null,null,null,null,null,null,null,null,null,null,null,null,null,204,null,null,null,null,{"$f":"T138","v":""},{"$f":"T145","v":""}]
[137,51,null,"",35,{"$f":"IF(Main!$Q$2=3,VLOOKUP(E208,Kura!$A$4:$Z$350,26,0),Ana_Tablo_Kura!L145)","v":{"$error":"#N/A"}},null,null,null,null,null,null,null,null,null,null,null,null,null,null,null,null,null,null,null,null,null,null,null,{"$f":"BX236","v":0},{"$f":"BY236","v":0},null,null,{"$f":"IF(AND(AD208=0,AE208=0),\"\",IF(AD208>AE208,AA202,AA214))","v":""},null,null,null,null,null,null,null,null,null,null,null,null,null,null,null,null,null,null,null,null,null,null,null,null,205,null,null,null,null,{"$f":"T150","v":""},{"$f":"T157","v":""}]
[null,null,null,"",null,null,null,{"$f":"BX72","v":0},{"$f":"BY72","v":0},null,null,69,{"$f":"IF(AND(H209=0,I209=0),\"\",IF(H209>I209,F208,F210))","v":""},null,null,null,null,null,null,null,null,null,null,null,null,null,null,null,null,null,null,null,null,null,null,null,null,null,null,245,null,null,null,null,null,null,null,null,null,null,null,null,null,null,null,null,null,null,206,null,null,null,null,{"$f":"T162","v":""},{"$f":"T169","v":""}]
[138,129,51,"",222,{"$f":"IF(Main!$Q$2=3,VLOOKUP(E210,Kura!$A$4:$Z$350,26,0),Ana_Tablo_Kura!L146)","v":{"$error":"#N/A"}},null,null,null,null,null,null,null,null,null,null,null,null,{"$f":"+S204+1","v":39},{"$f":"IF(AND(O211=0,P211=0),\"\",IF(O211>P211,M209,M212))","v":""},null,null,null,null,null,null,null,null,null,null,null,null,null,null,null,null,null,null,null,null,null,null,null,null,null,null,null,null,null,null,null,null,null,null,null,null,null,null,207,null,null,null,null,{"$f":"T174","v":""},{"$f":"T181","v":""}]
[139,129,null,"E13",94,{"$f":"IF(Main!$Q$2=3,VLOOKUP(E211,Kura!$A$4:$Z$350,26,0),Ana_Tablo_Kura!L147)","v":{"$error":"#N/A"}},null,null,null,null,null,null,null,null,{"$f":"BX166","v":0},{"$f":"BY166","v":0},null,null,null,null,null,null,null,null,null,{"$f":"+Z199+1","v":24},null,null,null,null,null,null,null,null,null,null,null,null,null,null,null,null,null,null,null,null,null,null,null,null,null,null,null,null,null,null,null,null,208,null,null,null,null,{"$f":"T186","v":""},{"$f":"T193","v":""}]
[null,null,null,"",null,null,null,{"$f":"BX73","v":0},{"$f":"BY73","v":0},null,null,70,{"$f":"IF(AND(H212=0,I212=0),\"\",IF(H212>I212,F211,F213))","v":""},null,null,null,null,null,null,null,null,null,null,null,null,null,null,null,null,null,null,null,null,null,null,null,null,null,null,null,null,null,null,null,null,null,null,null,null,null,null,null,null,null,null,null,null,null,209,null,null,null,null,{"$f":"T198","v":""},{"$f":"T205","v":""}]
[140,65,null,"",163,{"$f":"IF(Main!$Q$2=3,VLOOKUP(E213,Kura!$A$4:$Z$350,26,0),Ana_Tablo_Kura!L148)","v":{"$error":"#N/A"}},null,null,null,null,null,null,null,null,null,null,null,null,null,null,null,null,null,null,null,null,null,null,null,null,null,null,null,null,null,null,null,null,null,null,null,null,null,null,null,null,null,null,null,null,null,null,null,null,null,null,null,null,210,null,null,null,null,{"$f":"T210","v":""},{"$f":"T217","v":""}]
[141,65,null,"",99,{"$f":"IF(Main!$Q$2=3,VLOOKUP(E214,Kura!$A$4:$Z$350,26,0),Ana_Tablo_Kura!L149)","v":{"$error":"#N/A"}},null,null,null,null,null,null,null,null,null,null,null,null,null,null,null,{"$f":"BX213","v":0},{"$f":"BY213","v":0},null,null,null,{"$f":"IF(AND(V214=0,W214=0),\"\",IF(V214>W214,T210,T217))","v":""},null,null,null,null,null,null,null,null,null,null,null,null,null,null,null,null,null,null,null,null,null,null,null,null,null,null,null,null,null,null,null,211,null,null,null,null,{"$f":"T222","v":""},{"$f":"T229","v":""}]
[null,null,null,"",null,null,null,{"$f":"BX74","v":0},{"$f":"BY74","v":0},null,null,71,{"$f":"IF(AND(H215=0,I215=0),\"\",IF(H215>I215,F214,F216))","v":""},null,null,null,null,null,null,null,null,null,null,null,null,null,null,null,null,null,null,null,null,null,null,null,null,null,null,null,null,null,null,null,null,null,null,null,null,null,null,null,null,null,null,null,null,null,212,null,null,null,null,{"$f":"T234","v":""},{"$f":"T241","v":""}]
[142,129,null,"",158,{"$f":"IF(Main!$Q$2=3,VLOOKUP(E216,Kura!$A$4:$Z$350,26,0),Ana_Tablo_Kura!L150)","v":{"$error":"#N/A"}},null,null,null,null,null,null,null,null,null,null,null,null,{"$f":"+S210+1","v":40},null,null,null,null,null,null,null,null,null,null,null,null,null,null,null,null,null,null,null,null,null,null,null,null,null,null,null,null,null,null,null,null,null,null,null,null,null,null,null,213,null,null,null,null,{"$f":"T246","v":""},{"$f":"T253","v":""}]
[143,129,30,"E28",30,{"$f":"IF(Main!$Q$2=3,VLOOKUP(E217,Kura!$A$4:$Z$350,26,0),Ana_Tablo_Kura!L151)","v":{"$error":"#N/A"}},null,null,null,null,null,null,null,null,{"$f":"BX167","v":0},{"$f":"BY167","v":0},null,null,null,{"$f":"IF(AND(O217=0,P217=0),\"\",IF(O217>P217,M215,M218))","v":""},null,null,null,null,null,null,null,null,null,null,null,null,null,null,null,null,null,null,null,null,null,null,null,null,null,null,null,null,null,null,null,null,null,null,null,null,null,null,214,null,null,null,null,{"$f":"T258","v":""},{"$f":"T265","v":""}]
[null,null,null,"",null,null,null,{"$f":"BX75","v":0},{"$f":"BY75","v":0},null,null,72,{"$f":"IF(AND(H218=0,I218=0),\"\",IF(H218>I218,F217,F219))","v":""},null,null,null,null,null,null,null,null,null,null,null,null,null,null,null,null,null,null,null,null,null,null,null,null,null,null,null,null,null,null,null,null,null,null,null,null,null,null,null,null,null,null,null,null,null,215,null,null,null,null,{"$f":"T270","v":""},{"$f":"T277","v":""}]
[144,30,null,"",227,{"$f":"IF(Main!$Q$2=3,VLOOKUP(E219,Kura!$A$4:$Z$350,26,0),Ana_Tablo_Kura!L152)","v":{"$error":"#N/A"}},null,null,null,null,null,null,null,null,null,null,null,null,null,null,null,null,null,null,null,null,null,null,null,null,null,null,null,null,null,null,null,null,null,null,null,null,null,null,null,null,null,null,null,null,null,null,null,null,null,null,null,null,216,null,null,null,null,{"$f":"T282","v":""},{"$f":"T289","v":""}]
[145,19,null,"",19,{"$f":"IF(Main!$Q$2=3,VLOOKUP(E220,Kura!$A$4:$Z$350,26,0),Ana_Tablo_Kura!L153)","v":{"$error":"#N/A"}},null,null,null,null,null,null,null,null,null,null,null,null,null,null,null,null,null,null,null,null,null,null,null,null,null,null,null,null,null,null,{"$f":"BX248","v":0},{"$f":"BY248","v":0},null,null,{"$f":"IF(AND(AK220=0,AL220=0),\"\",IF(AK220>AL220,AH208,AH232))","v":""},null,null,null,null,null,null,null,null,null,null,null,null,null,null,null,null,null,217,null,null,null,null,{"$f":"T294","v":""},{"$f":"T301","v":""}]
[null,null,null,"",null,null,null,{"$f":"BX76","v":0},{"$f":"BY76","v":0},null,null,73,{"$f":"IF(AND(H221=0,I221=0),\"\",IF(H221>I221,F220,F222))","v":""},null,null,null,null,null,null,null,null,null,null,null,null,null,null,null,null,null,null,null,null,null,null,null,null,null,null,null,null,null,null,null,null,null,null,null,null,null,null,null,null,null,null,null,null,null,218,null,null,null,null,{"$f":"T306","v":""},{"$f":"T313","v":""}]
[146,129,19,"",238,{"$f":"IF(Main!$Q$2=3,VLOOKUP(E222,Kura!$A$4:$Z$350,26,0),Ana_Tablo_Kura!L154)","v":{"$error":"#N/A"}},null,null,null,null,null,null,null,null,null,null,null,null,{"$f":"+S216+1","v":41},{"$f":"IF(AND(O223=0,P223=0),\"\",IF(O223>P223,M221,M224))","v":""},null,null,null,null,null,null,null,null,null,null,null,null,null,null,null,null,null,null,null,null,null,null,null,null,null,null,null,null,null,null,null,null,null,null,null,null,null,null,219,null,null,null,null,{"$f":"T318","v":""},{"$f":"T325","v":""}]
[147,129,null,"",110,{"$f":"IF(Main!$Q$2=3,VLOOKUP(E223,Kura!$A$4:$Z$350,26,0),Ana_Tablo_Kura!L155)","v":{"$error":"#N/A"}},null,null,null,null,null,null,null,null,{"$f":"BX168","v":0},{"$f":"BY168","v":0},null,null,null,null,null,null,null,null,null,{"$f":"+Z211+1","v":25},null,null,null,null,null,null,null,null,null,null,null,null,null,null,null,null,null,null,null,null,null,null,null,null,null,null,null,null,null,null,null,null,220,null,null,null,null,{"$f":"T330","v":""},{"$f":"T337","v":""}]
[null,null,null,"",null,null,null,{"$f":"BX77","v":0},{"$f":"BY77","v":0},null,null,74,{"$f":"IF(AND(H224=0,I224=0),\"\",IF(H224>I224,F223,F225))","v":""},null,null,null,null,null,null,null,null,null,null,null,null,null,null,null,null,null,null,null,null,null,null,null,null,null,null,null,null,null,null,null,null,null,null,null,null,null,null,null,null,null,null,null,null,null,221,null,null,null,null,{"$f":"T342","v":""},{"$f":"T349","v":""}]
[148,65,null,"",147,{"$f":"IF(Main!$Q$2=3,VLOOKUP(E225,Kura!$A$4:$Z$350,26,0),Ana_Tablo_Kura!L156)","v":{"$error":"#N/A"}},null,null,null,null,null,null,null,null,null,null,null,null,null,null,null,null,null,null,null,null,null,null,null,null,null,null,null,null,null,null,null,null,null,null,null,null,null,null,null,null,null,null,null,null,null,null,null,null,null,null,null,null,222,null,null,null,null,{"$f":"T354","v":""},{"$f":"T361","v":""}]
[149,65,null,"",83,{"$f":"IF(Main!$Q$2=3,VLOOKUP(E226,Kura!$A$4:$Z$350,26,0),Ana_Tablo_Kura!L157)","v":{"$error":"#N/A"}},null,null,null,null,null,null,null,null,null,null,null,null,null,null,null,{"$f":"BX214","v":0},{"$f":"BY214","v":0},null,null,null,{"$f":"IF(AND(V226=0,W226=0),\"\",IF(V226>W226,T222,T229))","v":""},null,null,null,null,null,null,null,null,null,null,null,null,null,null,null,null,null,null,null,null,null,null,null,null,null,null,null,null,null,null,null,223,null,null,null,null,{"$f":"T366","v":""},{"$f":"T373","v":""}]
[null,null,null,"",null,null,null,{"$f":"BX78","v":0},{"$f":"BY78","v":0},null,null,75,{"$f":"IF(AND(H227=0,I227=0),\"\",IF(H227>I227,F226,F228))","v":""},null,null,null,null,null,null,null,null,null,null,null,null,null,null,null,null,null,null,null,{"$f":"+AG203+1","v":{"$error":"#VALUE!"}},null,null,null,null,null,null,null,null,null,null,null,null,null,null,null,null,null,null,null,null,null,null,null,null,null,224,null,null,null,null,{"$f":"T378","v":""},{"$f":"T385","v":""}]
[150,129,null,"E5",174,{"$f":"IF(Main!$Q$2=3,VLOOKUP(E228,Kura!$A$4:$Z$350,26,0),Ana_Tablo_Kura!L158)","v":{"$error":"#N/A"}},null,null,null,null,null,null,null,null,null,null,null,null,{"$f":"+S222+1","v":42},null,null,null,null,null,null,null,null,null,null,null,null,null,null,null,null,null,null,null,null,null,null,null,null,null,null,null,null,null,null,null,null,null,null,null,null,null,null,null,225,null,null,null,null,{"$f":"AA10","v":""},{"$f":"AA22","v":""}]
[151,129,46,"",46,{"$f":"IF(Main!$Q$2=3,VLOOKUP(E229,Kura!$A$4:$Z$350,26,0),Ana_Tablo_Kura!L159)","v":{"$error":"#N/A"}},null,null,null,null,null,null,null,null,{"$f":"BX169","v":0},{"$f":"BY169","v":0},null,null,null,{"$f":"IF(AND(O229=0,P229=0),\"\",IF(O229>P229,M227,M230))","v":""},null,null,null,null,null,null,null,null,null,null,null,null,null,null,null,null,null,null,null,null,null,null,null,null,null,null,null,null,null,null,null,null,null,null,null,null,null,null,226,null,null,null,null,{"$f":"AA34","v":""},{"$f":"AA46","v":""}]
[null,null,null,"",null,null,null,{"$f":"BX79","v":0},{"$f":"BY79","v":0},null,null,76,{"$f":"IF(AND(H230=0,I230=0),\"\",IF(H230>I230,F229,F231))","v":""},null,null,null,null,null,null,null,null,null,null,null,null,null,null,null,null,null,null,null,null,null,null,null,null,null,null,null,null,null,null,null,null,null,null,null,null,null,null,null,null,null,null,null,null,null,227,null,null,null,null,{"$f":"AA58","v":""},{"$f":"AA70","v":""}]
[152,46,null,"",211,{"$f":"IF(Main!$Q$2=3,VLOOKUP(E231,Kura!$A$4:$Z$350,26,0),Ana_Tablo_Kura!L160)","v":{"$error":"#N/A"}},null,null,null,null,null,null,null,null,null,null,null,null,null,null,null,null,null,null,null,null,null,null,null,null,null,null,null,null,null,null,null,null,null,null,null,null,null,null,null,null,null,null,null,null,null,null,null,null,null,null,null,null,228,null,null,null,null,{"$f":"AA82","v":""},{"$f":"AA94","v":""}]
[153,35,null,"",51,{"$f":"IF(Main!$Q$2=3,VLOOKUP(E232,Kura!$A$4:$Z$350,26,0),Ana_Tablo_Kura!L161)","v":{"$error":"#N/A"}},null,null,null,null,null,null,null,null,null,null,null,null,null,null,null,null,null,null,null,null,null,null,null,{"$f":"BX237","v":0},{"$f":"BY237","v":0},null,null,{"$f":"IF(AND(AD232=0,AE232=0),\"\",IF(AD232>AE232,AA226,AA238))","v":""},null,null,null,null,null,null,null,null,null,null,null,null,null,null,null,null,null,null,null,null,null,null,null,null,229,null,null,null,null,{"$f":"AA106","v":""},{"$f":"AA118","v":""}]
[null,null,null,"",null,null,null,{"$f":"BX80","v":0},{"$f":"BY80","v":0},null,null,77,{"$f":"IF(AND(H233=0,I233=0),\"\",IF(H233>I233,F232,F234))","v":""},null,null,null,null,null,null,null,null,null,null,null,null,null,null,null,null,null,null,null,null,null,null,null,null,null,null,null,null,null,null,null,null,null,null,null,null,null,null,null,null,null,null,null,null,null,230,null,null,null,null,{"$f":"AA130","v":""},{"$f":"AA142","v":""}]
[154,129,35,"",206,{"$f":"IF(Main!$Q$2=3,VLOOKUP(E234,Kura!$A$4:$Z$350,26,0),Ana_Tablo_Kura!L162)","v":{"$error":"#N/A"}},null,null,null,null,null,null,null,null,null,null,null,null,{"$f":"+S228+1","v":43},{"$f":"IF(AND(O235=0,P235=0),\"\",IF(O235>P235,M233,M236))","v":""},null,null,null,null,null,null,null,null,null,null,null,null,null,null,null,null,null,null,null,null,null,null,null,null,null,null,null,null,null,null,null,null,null,null,null,null,null,null,231,null,null,null,null,{"$f":"AA154","v":""},{"$f":"AA166","v":""}]
[155,129,null,"E21",78,{"$f":"IF(Main!$Q$2=3,VLOOKUP(E235,Kura!$A$4:$Z$350,26,0),Ana_Tablo_Kura!L163)","v":{"$error":"#N/A"}},null,null,null,null,null,null,null,null,{"$f":"BX170","v":0},{"$f":"BY170","v":0},null,null,null,null,null,null,null,null,null,{"$f":"+Z223+1","v":26},null,null,null,null,null,null,null,null,null,null,null,null,null,null,null,null,null,null,null,null,null,null,null,null,null,null,null,null,null,null,null,null,232,null,null,null,null,{"$f":"AA178","v":""},{"$f":"AA190","v":""}]
[null,null,null,"",null,null,null,{"$f":"BX81","v":0},{"$f":"BY81","v":0},null,null,78,{"$f":"IF(AND(H236=0,I236=0),\"\",IF(H236>I236,F235,F237))","v":""},null,null,null,null,null,null,null,null,null,null,null,null,null,null,null,null,null,null,null,null,null,null,null,null,null,null,null,null,null,null,null,null,null,null,null,null,null,null,null,null,null,null,null,null,null,233,null,null,null,null,{"$f":"AA202","v":""},{"$f":"AA214","v":""}]
[156,65,null,"",179,{"$f":"IF(Main!$Q$2=3,VLOOKUP(E237,Kura!$A$4:$Z$350,26,0),Ana_Tablo_Kura!L164)","v":{"$error":"#N/A"}},null,null,null,null,null,null,null,null,null,null,null,null,null,null,null,null,null,null,null,null,null,null,null,null,null,null,null,null,null,null,null,null,null,null,null,null,null,null,null,null,null,null,null,null,null,null,null,null,null,null,null,null,234,null,null,null,null,{"$f":"AA226","v":""},{"$f":"AA238","v":""}]
[157,65,null,"",115,{"$f":"IF(Main!$Q$2=3,VLOOKUP(E238,Kura!$A$4:$Z$350,26,0),Ana_Tablo_Kura!L165)","v":{"$error":"#N/A"}},null,null,null,null,null,null,null,null,null,null,null,null,null,null,null,{"$f":"BX215","v":0},{"$f":"BY215","v":0},null,null,null,{"$f":"IF(AND(V238=0,W238=0),\"\",IF(V238>W238,T234,T241))","v":""},null,null,null,null,null,null,null,null,null,null,null,null,null,null,null,null,null,null,null,null,null,null,null,null,null,null,null,null,null,null,null,235,null,null,null,null,{"$f":"AA250","v":""},{"$f":"AA262","v":""}]
[null,null,null,"",null,null,null,{"$f":"BX82","v":0},{"$f":"BY82","v":0},null,null,79,{"$f":"IF(AND(H239=0,I239=0),\"\",IF(H239>I239,F238,F240))","v":""},null,null,null,null,null,null,null,null,null,null,null,null,null,null,null,null,null,null,null,null,null,null,null,null,null,null,null,null,null,null,null,null,null,null,null,null,null,null,null,null,null,null,null,null,null,236,null,null,null,null,{"$f":"AA274","v":""},{"$f":"AA286","v":""}]
[158,129,null,"E31",142,{"$f":"IF(Main!$Q$2=3,VLOOKUP(E240,Kura!$A$4:$Z$350,26,0),Ana_Tablo_Kura!L166)","v":{"$error":"#N/A"}},null,null,null,null,null,null,null,null,null,null,null,null,{"$f":"+S234+1","v":44},null,null,null,null,null,null,null,null,null,null,null,null,null,null,null,null,null,null,null,null,null,null,null,null,null,null,null,null,null,null,null,null,null,null,null,null,null,null,null,237,null,null,null,null,{"$f":"AA298","v":""},{"$f":"AA310","v":""}]
[159,129,14,"",14,{"$f":"IF(Main!$Q$2=3,VLOOKUP(E241,Kura!$A$4:$Z$350,26,0),Ana_Tablo_Kura!L167)","v":{"$error":"#N/A"}},null,null,null,null,null,null,null,null,{"$f":"BX171","v":0},{"$f":"BY171","v":0},null,null,null,{"$f":"IF(AND(O241=0,P241=0),\"\",IF(O241>P241,M239,M242))","v":""},null,null,null,null,null,null,null,null,null,null,null,null,null,null,null,null,null,null,null,null,null,null,null,null,null,null,null,null,null,null,null,null,null,null,null,null,null,null,238,null,null,null,null,{"$f":"AA322","v":""},{"$f":"AA334","v":""}]
[null,null,null,"",null,null,null,{"$f":"BX83","v":0},{"$f":"BY83","v":0},null,null,80,{"$f":"IF(AND(H242=0,I242=0),\"\",IF(H242>I242,F241,F243))","v":""},null,null,null,null,null,null,null,null,null,null,null,null,null,null,null,null,null,null,null,null,null,null,null,null,null,null,null,null,null,null,null,null,null,null,null,null,null,null,null,null,null,null,null,null,null,239,null,null,null,null,{"$f":"AA346","v":""},{"$f":"AA358","v":""}]
[160,14,null,"",243,{"$f":"IF(Main!$Q$2=3,VLOOKUP(E243,Kura!$A$4:$Z$350,26,0),Ana_Tablo_Kura!L168)","v":{"$error":"#N/A"}},null,null,null,null,null,null,null,null,null,null,null,null,null,null,null,null,null,null,null,null,null,null,null,null,null,null,null,null,null,null,null,null,null,null,null,null,null,null,null,null,null,null,null,null,null,null,null,null,null,null,null,null,240,null,null,null,null,{"$f":"AA370","v":""},{"$f":"AA382","v":""}]
[161,11,null,"",11,{"$f":"IF(Main!$Q$2=3,VLOOKUP(E244,Kura!$A$4:$Z$350,26,0),Ana_Tablo_Kura!L169)","v":{"$error":"#N/A"}},null,null,null,null,null,null,null,null,null,null,null,null,null,null,null,null,null,null,null,null,null,null,null,null,null,null,null,null,null,null,null,null,null,null,null,null,null,null,null,null,null,null,null,null,null,null,null,null,null,null,null,null,241,null,null,null,null,{"$f":"AH16","v":""},{"$f":"AH40","v":""}]
[null,null,null,"",null,null,null,{"$f":"BX84","v":0},{"$f":"BY84","v":0},null,null,81,{"$f":"IF(AND(H245=0,I245=0),\"\",IF(H245>I245,F244,F246))","v":""},null,null,null,null,null,null,null,null,null,null,null,null,null,null,null,null,null,null,null,null,null,null,null,null,null,null,null,null,null,null,null,null,null,null,null,null,null,null,null,null,null,null,null,null,null,242,null,null,null,null,{"$f":"AH64","v":""},{"$f":"AH88","v":""}]
[162,129,11,"",246,{"$f":"IF(Main!$Q$2=3,VLOOKUP(E246,Kura!$A$4:$Z$350,26,0),Ana_Tablo_Kura!L170)","v":{"$error":"#N/A"}},null,null,null,null,null,null,null,null,null,null,null,null,{"$f":"+S240+1","v":45},{"$f":"IF(AND(O247=0,P247=0),\"\",IF(O247>P247,M245,M248))","v":""},null,null,null,null,null,null,null,null,null,null,null,null,null,null,null,null,null,null,null,null,null,null,null,null,null,null,null,null,null,null,null,null,null,null,null,null,null,null,243,null,null,null,null,{"$f":"AH112","v":""},{"$f":"AH136","v":""}]
[163,129,null,"",118,{"$f":"IF(Main!$Q$2=3,VLOOKUP(E247,Kura!$A$4:$Z$350,26,0),Ana_Tablo_Kura!L171)","v":{"$error":"#N/A"}},null,null,null,null,null,null,null,null,{"$f":"BX172","v":0},{"$f":"BY172","v":0},null,null,null,null,null,null,null,null,null,{"$f":"+Z235+1","v":27},null,null,null,null,null,null,null,null,null,null,null,null,null,null,null,null,null,null,null,null,null,null,null,null,null,null,null,null,null,null,null,null,244,null,null,null,null,{"$f":"AH160","v":""},{"$f":"AH184","v":""}]
[null,null,null,"",null,null,null,{"$f":"BX85","v":0},{"$f":"BY85","v":0},null,null,82,{"$f":"IF(AND(H248=0,I248=0),\"\",IF(H248>I248,F247,F249))","v":""},null,null,null,null,null,null,null,null,null,null,null,null,null,null,null,null,null,null,null,null,null,null,null,null,null,null,null,null,null,null,null,null,null,null,null,null,null,null,null,null,null,null,null,null,null,245,null,null,null,null,{"$f":"AH208","v":""},{"$f":"AH232","v":""}]
[164,65,null,"",139,{"$f":"IF(Main!$Q$2=3,VLOOKUP(E249,Kura!$A$4:$Z$350,26,0),Ana_Tablo_Kura!L172)","v":{"$error":"#N/A"}},null,null,null,null,null,null,null,null,null,null,null,null,null,null,null,null,null,null,null,null,null,null,null,null,null,null,null,null,null,null,null,null,null,null,null,null,null,null,null,null,null,null,null,null,null,null,null,null,null,null,null,null,246,null,null,null,null,{"$f":"AH256","v":""},{"$f":"AH280","v":""}]
[165,65,null,"",75,{"$f":"IF(Main!$Q$2=3,VLOOKUP(E250,Kura!$A$4:$Z$350,26,0),Ana_Tablo_Kura!L173)","v":{"$error":"#N/A"}},null,null,null,null,null,null,null,null,null,null,null,null,null,null,null,{"$f":"BX216","v":0},{"$f":"BY216","v":0},null,null,null,{"$f":"IF(AND(V250=0,W250=0),\"\",IF(V250>W250,T246,T253))","v":""},null,null,null,null,null,null,null,null,null,null,null,null,null,null,null,null,null,null,null,null,null,null,null,null,null,null,null,null,null,null,null,247,null,null,null,null,{"$f":"AH304","v":""},{"$f":"AH328","v":""}]
[null,null,null,"",null,null,null,{"$f":"BX86","v":0},{"$f":"BY86","v":0},null,null,83,{"$f":"IF(AND(H251=0,I251=0),\"\",IF(H251>I251,F250,F252))","v":""},null,null,null,null,null,null,null,null,null,null,null,null,null,null,null,null,null,null,null,{"$f":"+AG227+1","v":{"$error":"#VALUE!"}},null,null,null,null,null,null,null,null,null,null,null,null,null,null,null,null,null,null,null,null,null,null,null,null,null,248,null,null,null,null,{"$f":"AH352","v":""},{"$f":"AH376","v":""}]
[166,129,null,"E17",182,{"$f":"IF(Main!$Q$2=3,VLOOKUP(E252,Kura!$A$4:$Z$350,26,0),Ana_Tablo_Kura!L174)","v":{"$error":"#N/A"}},null,null,null,null,null,null,null,null,null,null,null,null,{"$f":"+S246+1","v":46},null,null,null,null,null,null,null,null,null,null,null,null,null,null,null,null,null,null,null,null,null,null,null,null,null,null,null,null,null,null,null,null,null,null,null,null,null,null,null,249,null,null,null,null,{"$f":"AO28","v":""},{"$f":"AO76","v":""}]
[167,129,38,"",54,{"$f":"IF(Main!$Q$2=3,VLOOKUP(E253,Kura!$A$4:$Z$350,26,0),Ana_Tablo_Kura!L175)","v":{"$error":"#N/A"}},null,null,null,null,null,null,null,null,{"$f":"BX173","v":0},{"$f":"BY173","v":0},null,null,null,{"$f":"IF(AND(O253=0,P253=0),\"\",IF(O253>P253,M251,M254))","v":""},null,null,null,null,null,null,null,null,null,null,null,null,null,null,null,null,null,null,null,null,null,null,null,null,null,null,null,null,null,null,null,null,null,null,null,null,null,null,250,null,null,null,null,{"$f":"AO124","v":""},{"$f":"AO172","v":""}]
[null,null,null,"",null,null,null,{"$f":"BX87","v":0},{"$f":"BY87","v":0},null,null,84,{"$f":"IF(AND(H254=0,I254=0),\"\",IF(H254>I254,F253,F255))","v":""},null,null,null,null,null,null,null,null,null,null,null,null,null,null,null,null,null,null,null,null,null,null,null,null,null,null,null,null,null,null,null,null,null,null,null,null,null,null,null,null,null,null,null,null,null,251,null,null,null,null,{"$f":"AO220","v":""},{"$f":"AO268","v":""}]
[168,38,null,"",203,{"$f":"IF(Main!$Q$2=3,VLOOKUP(E255,Kura!$A$4:$Z$350,26,0),Ana_Tablo_Kura!L176)","v":{"$error":"#N/A"}},null,null,null,null,null,null,null,null,null,null,null,null,null,null,null,null,null,null,null,null,null,null,null,null,null,null,null,null,null,null,null,null,null,null,null,null,null,null,null,null,null,null,null,null,null,null,null,null,null,null,null,null,252,null,null,null,null,{"$f":"AO316","v":""},{"$f":"AO364","v":""}]
[169,43,null,"",43,{"$f":"IF(Main!$Q$2=3,VLOOKUP(E256,Kura!$A$4:$Z$350,26,0),Ana_Tablo_Kura!L177)","v":{"$error":"#N/A"}},null,null,null,null,null,null,null,null,null,null,null,null,null,null,null,null,null,null,null,null,null,null,null,{"$f":"BX238","v":0},{"$f":"BY238","v":0},null,null,{"$f":"IF(AND(AD256=0,AE256=0),\"\",IF(AD256>AE256,AA250,AA262))","v":""}]
[null,null,null,"",null,null,null,{"$f":"BX88","v":0},{"$f":"BY88","v":0},null,null,85,{"$f":"IF(AND(H257=0,I257=0),\"\",IF(H257>I257,F256,F258))","v":""},null,null,null,null,null,null,null,null,null,null,null,null,null,null,null,null,null,null,null,null,null,null,null,null,null,null,246]
[170,129,43,"",214,{"$f":"IF(Main!$Q$2=3,VLOOKUP(E258,Kura!$A$4:$Z$350,26,0),Ana_Tablo_Kura!L178)","v":{"$error":"#N/A"}},null,null,null,null,null,null,null,null,null,null,null,null,{"$f":"+S252+1","v":47},{"$f":"IF(AND(O259=0,P259=0),\"\",IF(O259>P259,M257,M260))","v":""}]
[171,129,null,"E1",86,{"$f":"IF(Main!$Q$2=3,VLOOKUP(E259,Kura!$A$4:$Z$350,26,0),Ana_Tablo_Kura!L179)","v":{"$error":"#N/A"}},null,null,null,null,null,null,null,null,{"$f":"BX174","v":0},{"$f":"BY174","v":0},null,null,null,null,null,null,null,null,null,{"$f":"+Z247+1","v":28}]
[null,null,null,"",null,null,null,{"$f":"BX89","v":0},{"$f":"BY89","v":0},null,null,86,{"$f":"IF(AND(H260=0,I260=0),\"\",IF(H260>I260,F259,F261))","v":""}]
[172,65,null,"",171,{"$f":"IF(Main!$Q$2=3,VLOOKUP(E261,Kura!$A$4:$Z$350,26,0),Ana_Tablo_Kura!L180)","v":{"$error":"#N/A"}}]
[173,65,null,"",107,{"$f":"IF(Main!$Q$2=3,VLOOKUP(E262,Kura!$A$4:$Z$350,26,0),Ana_Tablo_Kura!L181)","v":{"$error":"#N/A"}},null,null,null,null,null,null,null,null,null,null,null,null,null,null,null,{"$f":"BX217","v":0},{"$f":"BY217","v":0},null,null,null,{"$f":"IF(AND(V262=0,W262=0),\"\",IF(V262>W262,T258,T265))","v":""}]
[null,null,null,"",null,null,null,{"$f":"BX90","v":0},{"$f":"BY90","v":0},null,null,87,{"$f":"IF(AND(H263=0,I263=0),\"\",IF(H263>I263,F262,F264))","v":""}]
[174,129,null,"",150,{"$f":"IF(Main!$Q$2=3,VLOOKUP(E264,Kura!$A$4:$Z$350,26,0),Ana_Tablo_Kura!L182)","v":{"$error":"#N/A"}},null,null,null,null,null,null,null,null,null,null,null,null,{"$f":"+S258+1","v":48}]
[175,129,22,"",22,{"$f":"IF(Main!$Q$2=3,VLOOKUP(E265,Kura!$A$4:$Z$350,26,0),Ana_Tablo_Kura!L183)","v":{"$error":"#N/A"}},null,null,null,null,null,null,null,null,{"$f":"BX175","v":0},{"$f":"BY175","v":0},null,null,null,{"$f":"IF(AND(O265=0,P265=0),\"\",IF(O265>P265,M263,M266))","v":""}]
[null,null,null,"",null,null,null,{"$f":"BX91","v":0},{"$f":"BY91","v":0},null,null,88,{"$f":"IF(AND(H266=0,I266=0),\"\",IF(H266>I266,F265,F267))","v":""}]
[176,22,null,"",235,{"$f":"IF(Main!$Q$2=3,VLOOKUP(E267,Kura!$A$4:$Z$350,26,0),Ana_Tablo_Kura!L184)","v":{"$error":"#N/A"}}]
[177,27,null,"",27,{"$f":"IF(Main!$Q$2=3,VLOOKUP(E268,Kura!$A$4:$Z$350,26,0),Ana_Tablo_Kura!L185)","v":{"$error":"#N/A"}},null,null,null,null,null,null,null,null,null,null,null,null,null,null,null,null,null,null,null,null,null,null,null,null,null,null,null,null,null,null,{"$f":"BX249","v":0},{"$f":"BY249","v":0},null,null,{"$f":"IF(AND(AK268=0,AL268=0),\"\",IF(AK268>AL268,AH256,AH280))","v":""}]
[null,null,null,"",null,null,null,{"$f":"BX92","v":0},{"$f":"BY92","v":0},null,null,89,{"$f":"IF(AND(H269=0,I269=0),\"\",IF(H269>I269,F268,F270))","v":""}]
[178,129,27,"",230,{"$f":"IF(Main!$Q$2=3,VLOOKUP(E270,Kura!$A$4:$Z$350,26,0),Ana_Tablo_Kura!L186)","v":{"$error":"#N/A"}},null,null,null,null,null,null,null,null,null,null,null,null,{"$f":"+S264+1","v":49},{"$f":"IF(AND(O271=0,P271=0),\"\",IF(O271>P271,M269,M272))","v":""}]
[179,129,null,"",102,{"$f":"IF(Main!$Q$2=3,VLOOKUP(E271,Kura!$A$4:$Z$350,26,0),Ana_Tablo_Kura!L187)","v":{"$error":"#N/A"}},null,null,null,null,null,null,null,null,{"$f":"BX176","v":0},{"$f":"BY176","v":0},null,null,null,null,null,null,null,null,null,{"$f":"+Z259+1","v":29}]
[null,null,null,"",null,null,null,{"$f":"BX93","v":0},{"$f":"BY93","v":0},null,null,90,{"$f":"IF(AND(H272=0,I272=0),\"\",IF(H272>I272,F271,F273))","v":""}]
[180,65,null,"",155,{"$f":"IF(Main!$Q$2=3,VLOOKUP(E273,Kura!$A$4:$Z$350,26,0),Ana_Tablo_Kura!L188)","v":{"$error":"#N/A"}}]
[181,65,null,"",91,{"$f":"IF(Main!$Q$2=3,VLOOKUP(E274,Kura!$A$4:$Z$350,26,0),Ana_Tablo_Kura!L189)","v":{"$error":"#N/A"}},null,null,null,null,null,null,null,null,null,null,null,null,null,null,null,{"$f":"BX218","v":0},{"$f":"BY218","v":0},null,null,null,{"$f":"IF(AND(V274=0,W274=0),\"\",IF(V274>W274,T270,T277))","v":""}]
[null,null,null,"",null,null,null,{"$f":"BX94","v":0},{"$f":"BY94","v":0},null,null,91,{"$f":"IF(AND(H275=0,I275=0),\"\",IF(H275>I275,F274,F276))","v":""},null,null,null,null,null,null,null,null,null,null,null,null,null,null,null,null,null,null,null,{"$f":"+AG251+1","v":{"$error":"#VALUE!"}}]
[182,129,null,"E9",166,{"$f":"IF(Main!$Q$2=3,VLOOKUP(E276,Kura!$A$4:$Z$350,26,0),Ana_Tablo_Kura!L190)","v":{"$error":"#N/A"}},null,null,null,null,null,null,null,null,null,null,null,null,{"$f":"+S270+1","v":50}]
[183,129,54,"",38,{"$f":"IF(Main!$Q$2=3,VLOOKUP(E277,Kura!$A$4:$Z$350,26,0),Ana_Tablo_Kura!L191)","v":{"$error":"#N/A"}},null,null,null,null,null,null,null,null,{"$f":"BX177","v":0},{"$f":"BY177","v":0},null,null,null,{"$f":"IF(AND(O277=0,P277=0),\"\",IF(O277>P277,M275,M278))","v":""}]
[null,null,null,"",null,null,null,{"$f":"BX95","v":0},{"$f":"BY95","v":0},null,null,92,{"$f":"IF(AND(H278=0,I278=0),\"\",IF(H278>I278,F277,F279))","v":""}]
[184,54,null,"",219,{"$f":"IF(Main!$Q$2=3,VLOOKUP(E279,Kura!$A$4:$Z$350,26,0),Ana_Tablo_Kura!L192)","v":{"$error":"#N/A"}}]
[185,59,999,"",59,{"$f":"IF(Main!$Q$2=3,VLOOKUP(E280,Kura!$A$4:$Z$350,26,0),Ana_Tablo_Kura!L193)","v":{"$error":"#N/A"}},null,null,null,null,null,null,null,null,null,null,null,null,null,null,null,null,null,null,null,null,null,null,null,{"$f":"BX239","v":0},{"$f":"BY239","v":0},null,null,{"$f":"IF(AND(AD280=0,AE280=0),\"\",IF(AD280>AE280,AA274,AA286))","v":""}]
[null,null,null,"",null,null,null,{"$f":"BX96","v":0},{"$f":"BY96","v":0},null,null,93,{"$f":"IF(AND(H281=0,I281=0),\"\",IF(H281>I281,F280,F282))","v":""}]
[186,129,999,"",198,{"$f":"IF(Main!$Q$2=3,VLOOKUP(E282,Kura!$A$4:$Z$350,26,0),Ana_Tablo_Kura!L194)","v":{"$error":"#N/A"}},null,null,null,null,null,null,null,null,null,null,null,null,{"$f":"+S276+1","v":51},{"$f":"IF(AND(O283=0,P283=0),\"\",IF(O283>P283,M281,M284))","v":""}]
[187,129,999,"",70,{"$f":"IF(Main!$Q$2=3,VLOOKUP(E283,Kura!$A$4:$Z$350,26,0),Ana_Tablo_Kura!L195)","v":{"$error":"#N/A"}},null,null,null,null,null,null,null,null,{"$f":"BX178","v":0},{"$f":"BY178","v":0},null,null,null,null,null,null,null,null,null,{"$f":"+Z271+1","v":30}]
[null,null,null,"",null,null,null,{"$f":"BX97","v":0},{"$f":"BY97","v":0},null,null,94,{"$f":"IF(AND(H284=0,I284=0),\"\",IF(H284>I284,F283,F285))","v":""}]
[188,65,999,"",187,{"$f":"IF(Main!$Q$2=3,VLOOKUP(E285,Kura!$A$4:$Z$350,26,0),Ana_Tablo_Kura!L196)","v":{"$error":"#N/A"}}]
[189,65,999,"",123,{"$f":"IF(Main!$Q$2=3,VLOOKUP(E286,Kura!$A$4:$Z$350,26,0),Ana_Tablo_Kura!L197)","v":{"$error":"#N/A"}},null,null,null,null,null,null,null,null,null,null,null,null,null,null,null,{"$f":"BX219","v":0},{"$f":"BY219","v":0},null,null,null,{"$f":"IF(AND(V286=0,W286=0),\"\",IF(V286>W286,T282,T289))","v":""}]
[null,null,null,"",null,null,null,{"$f":"BX98","v":0},{"$f":"BY98","v":0},null,null,95,{"$f":"IF(AND(H287=0,I287=0),\"\",IF(H287>I287,F286,F288))","v":""}]
[190,129,999,"",134,{"$f":"IF(Main!$Q$2=3,VLOOKUP(E288,Kura!$A$4:$Z$350,26,0),Ana_Tablo_Kura!L198)","v":{"$error":"#N/A"}},null,null,null,null,null,null,null,null,null,null,null,null,{"$f":"+S282+1","v":52}]
[191,129,999,"",251,{"$f":"IF(Main!$Q$2=3,VLOOKUP(E289,Kura!$A$4:$Z$350,26,0),Ana_Tablo_Kura!L199)","v":{"$error":"#N/A"}},null,null,null,null,null,null,null,null,{"$f":"BX179","v":0},{"$f":"BY179","v":0},null,null,null,{"$f":"IF(AND(O289=0,P289=0),\"\",IF(O289>P289,M287,M290))","v":""}]
[null,null,null,"",null,null,null,{"$f":"BX99","v":0},{"$f":"BY99","v":0},null,null,96,{"$f":"IF(AND(H290=0,I290=0),\"\",IF(H290>I290,F289,F291))","v":""}]
[192,6,null,"",6,{"$f":"IF(Main!$Q$2=3,VLOOKUP(E291,Kura!$A$4:$Z$350,26,0),Ana_Tablo_Kura!L200)","v":{"$error":"#N/A"}}]
[193,7,null,"",7,{"$f":"IF(Main!$Q$2=3,VLOOKUP(E292,Kura!$A$4:$Z$350,26,0),Ana_Tablo_Kura!L201)","v":{"$error":"#N/A"}}]
[null,null,null,"",null,null,null,{"$f":"BX100","v":0},{"$f":"BY100","v":0},null,null,97,{"$f":"IF(AND(H293=0,I293=0),\"\",IF(H293>I293,F292,F294))","v":""}]
[194,129,999,"",250,{"$f":"IF(Main!$Q$2=3,VLOOKUP(E294,Kura!$A$4:$Z$350,26,0),Ana_Tablo_Kura!L202)","v":{"$error":"#N/A"}},null,null,null,null,null,null,null,null,null,null,null,null,{"$f":"+S288+1","v":53},{"$f":"IF(AND(O295=0,P295=0),\"\",IF(O295>P295,M293,M296))","v":""}]
[195,129,999,"",122,{"$f":"IF(Main!$Q$2=3,VLOOKUP(E295,Kura!$A$4:$Z$350,26,0),Ana_Tablo_Kura!L203)","v":{"$error":"#N/A"}},null,null,null,null,null,null,null,null,{"$f":"BX180","v":0},{"$f":"BY180","v":0},null,null,null,null,null,null,null,null,null,{"$f":"+Z283+1","v":31}]
[null,null,null,"",null,null,null,{"$f":"BX101","v":0},{"$f":"BY101","v":0},null,null,98,{"$f":"IF(AND(H296=0,I296=0),\"\",IF(H296>I296,F295,F297))","v":""}]
[196,65,999,"",135,{"$f":"IF(Main!$Q$2=3,VLOOKUP(E297,Kura!$A$4:$Z$350,26,0),Ana_Tablo_Kura!L204)","v":{"$error":"#N/A"}}]
[197,65,999,"",71,{"$f":"IF(Main!$Q$2=3,VLOOKUP(E298,Kura!$A$4:$Z$350,26,0),Ana_Tablo_Kura!L205)","v":{"$error":"#N/A"}},null,null,null,null,null,null,null,null,null,null,null,null,null,null,null,{"$f":"BX220","v":0},{"$f":"BY220","v":0},null,null,null,{"$f":"IF(AND(V298=0,W298=0),\"\",IF(V298>W298,T294,T301))","v":""}]
[null,null,null,"",null,null,null,{"$f":"BX102","v":0},{"$f":"BY102","v":0},null,null,99,{"$f":"IF(AND(H299=0,I299=0),\"\",IF(H299>I299,F298,F300))","v":""},null,null,null,null,null,null,null,null,null,null,null,null,null,null,null,null,null,null,null,{"$f":"+AG275+1","v":{"$error":"#VALUE!"}}]
[198,129,999,"",186,{"$f":"IF(Main!$Q$2=3,VLOOKUP(E300,Kura!$A$4:$Z$350,26,0),Ana_Tablo_Kura!L206)","v":{"$error":"#N/A"}},null,null,null,null,null,null,null,null,null,null,null,null,{"$f":"+S294+1","v":54}]
[199,129,999,"",58,{"$f":"IF(Main!$Q$2=3,VLOOKUP(E301,Kura!$A$4:$Z$350,26,0),Ana_Tablo_Kura!L207)","v":{"$error":"#N/A"}},null,null,null,null,null,null,null,null,{"$f":"BX181","v":0},{"$f":"BY181","v":0},null,null,null,{"$f":"IF(AND(O301=0,P301=0),\"\",IF(O301>P301,M299,M302))","v":""}]
[null,null,null,"",null,null,null,{"$f":"BX103","v":0},{"$f":"BY103","v":0},null,null,100,{"$f":"IF(AND(H302=0,I302=0),\"\",IF(H302>I302,F301,F303))","v":""}]
[200,58,999,"",199,{"$f":"IF(Main!$Q$2=3,VLOOKUP(E303,Kura!$A$4:$Z$350,26,0),Ana_Tablo_Kura!L208)","v":{"$error":"#N/A"}}]
[201,55,null,"",39,{"$f":"IF(Main!$Q$2=3,VLOOKUP(E304,Kura!$A$4:$Z$350,26,0),Ana_Tablo_Kura!L209)","v":{"$error":"#N/A"}},null,null,null,null,null,null,null,null,null,null,null,null,null,null,null,null,null,null,null,null,null,null,null,{"$f":"BX240","v":0},{"$f":"BY240","v":0},null,null,{"$f":"IF(AND(AD304=0,AE304=0),\"\",IF(AD304>AE304,AA298,AA310))","v":""}]
[null,null,null,"",null,null,null,{"$f":"BX104","v":0},{"$f":"BY104","v":0},null,null,101,{"$f":"IF(AND(H305=0,I305=0),\"\",IF(H305>I305,F304,F306))","v":""},null,null,null,null,null,null,null,null,null,null,null,null,null,null,null,null,null,null,null,null,null,null,null,null,null,null,247]
[202,129,55,"",218,{"$f":"IF(Main!$Q$2=3,VLOOKUP(E306,Kura!$A$4:$Z$350,26,0),Ana_Tablo_Kura!L210)","v":{"$error":"#N/A"}},null,null,null,null,null,null,null,null,null,null,null,null,{"$f":"+S300+1","v":55},{"$f":"IF(AND(O307=0,P307=0),\"\",IF(O307>P307,M305,M308))","v":""}]
[203,129,null,"E11",90,{"$f":"IF(Main!$Q$2=3,VLOOKUP(E307,Kura!$A$4:$Z$350,26,0),Ana_Tablo_Kura!L211)","v":{"$error":"#N/A"}},null,null,null,null,null,null,null,null,{"$f":"BX182","v":0},{"$f":"BY182","v":0},null,null,null,null,null,null,null,null,null,{"$f":"+Z295+1","v":32}]
[null,null,null,"",null,null,null,{"$f":"BX105","v":0},{"$f":"BY105","v":0},null,null,102,{"$f":"IF(AND(H308=0,I308=0),\"\",IF(H308>I308,F307,F309))","v":""}]
[204,65,null,"",167,{"$f":"IF(Main!$Q$2=3,VLOOKUP(E309,Kura!$A$4:$Z$350,26,0),Ana_Tablo_Kura!L212)","v":{"$error":"#N/A"}}]
[205,65,null,"",103,{"$f":"IF(Main!$Q$2=3,VLOOKUP(E310,Kura!$A$4:$Z$350,26,0),Ana_Tablo_Kura!L213)","v":{"$error":"#N/A"}},null,null,null,null,null,null,null,null,null,null,null,null,null,null,null,{"$f":"BX221","v":0},{"$f":"BY221","v":0},null,null,null,{"$f":"IF(AND(V310=0,W310=0),\"\",IF(V310>W310,T306,T313))","v":""}]
[null,null,null,"",null,null,null,{"$f":"BX106","v":0},{"$f":"BY106","v":0},null,null,103,{"$f":"IF(AND(H311=0,I311=0),\"\",IF(H311>I311,F310,F312))","v":""}]
[206,129,null,"E25",154,{"$f":"IF(Main!$Q$2=3,VLOOKUP(E312,Kura!$A$4:$Z$350,26,0),Ana_Tablo_Kura!L214)","v":{"$error":"#N/A"}},null,null,null,null,null,null,null,null,null,null,null,null,{"$f":"+S306+1","v":56}]
[207,129,26,"",26,{"$f":"IF(Main!$Q$2=3,VLOOKUP(E313,Kura!$A$4:$Z$350,26,0),Ana_Tablo_Kura!L215)","v":{"$error":"#N/A"}},null,null,null,null,null,null,null,null,{"$f":"BX183","v":0},{"$f":"BY183","v":0},null,null,null,{"$f":"IF(AND(O313=0,P313=0),\"\",IF(O313>P313,M311,M314))","v":""}]
[null,null,null,"",null,null,null,{"$f":"BX107","v":0},{"$f":"BY107","v":0},null,null,104,{"$f":"IF(AND(H314=0,I314=0),\"\",IF(H314>I314,F313,F315))","v":""}]
[208,26,null,"",231,{"$f":"IF(Main!$Q$2=3,VLOOKUP(E315,Kura!$A$4:$Z$350,26,0),Ana_Tablo_Kura!L216)","v":{"$error":"#N/A"}}]
[209,23,null,"",23,{"$f":"IF(Main!$Q$2=3,VLOOKUP(E316,Kura!$A$4:$Z$350,26,0),Ana_Tablo_Kura!L217)","v":{"$error":"#N/A"}},null,null,null,null,null,null,null,null,null,null,null,null,null,null,null,null,null,null,null,null,null,null,null,null,null,null,null,null,null,null,{"$f":"BX250","v":0},{"$f":"BY250","v":0},null,null,{"$f":"IF(AND(AK316=0,AL316=0),\"\",IF(AK316>AL316,AH304,AH328))","v":""}]
[null,null,null,"",null,null,null,{"$f":"BX108","v":0},{"$f":"BY108","v":0},null,null,105,{"$f":"IF(AND(H317=0,I317=0),\"\",IF(H317>I317,F316,F318))","v":""}]
[210,129,23,"",234,{"$f":"IF(Main!$Q$2=3,VLOOKUP(E318,Kura!$A$4:$Z$350,26,0),Ana_Tablo_Kura!L218)","v":{"$error":"#N/A"}},null,null,null,null,null,null,null,null,null,null,null,null,{"$f":"+S312+1","v":57},{"$f":"IF(AND(O319=0,P319=0),\"\",IF(O319>P319,M317,M320))","v":""}]
[211,129,null,"",106,{"$f":"IF(Main!$Q$2=3,VLOOKUP(E319,Kura!$A$4:$Z$350,26,0),Ana_Tablo_Kura!L219)","v":{"$error":"#N/A"}},null,null,null,null,null,null,null,null,{"$f":"BX184","v":0},{"$f":"BY184","v":0},null,null,null,null,null,null,null,null,null,{"$f":"+Z307+1","v":33}]
[null,null,null,"",null,null,null,{"$f":"BX109","v":0},{"$f":"BY109","v":0},null,null,106,{"$f":"IF(AND(H320=0,I320=0),\"\",IF(H320>I320,F319,F321))","v":""}]
[212,65,null,"",151,{"$f":"IF(Main!$Q$2=3,VLOOKUP(E321,Kura!$A$4:$Z$350,26,0),Ana_Tablo_Kura!L220)","v":{"$error":"#N/A"}}]
[213,65,null,"",87,{"$f":"IF(Main!$Q$2=3,VLOOKUP(E322,Kura!$A$4:$Z$350,26,0),Ana_Tablo_Kura!L221)","v":{"$error":"#N/A"}},null,null,null,null,null,null,null,null,null,null,null,null,null,null,null,{"$f":"BX222","v":0},{"$f":"BY222","v":0},null,null,null,{"$f":"IF(AND(V322=0,W322=0),\"\",IF(V322>W322,T318,T325))","v":""}]
[null,null,null,"",null,null,null,{"$f":"BX110","v":0},{"$f":"BY110","v":0},null,null,107,{"$f":"IF(AND(H323=0,I323=0),\"\",IF(H323>I323,F322,F324))","v":""},null,null,null,null,null,null,null,null,null,null,null,null,null,null,null,null,null,null,null,{"$f":"+AG299+1","v":{"$error":"#VALUE!"}}]
[214,129,null,"E3",170,{"$f":"IF(Main!$Q$2=3,VLOOKUP(E324,Kura!$A$4:$Z$350,26,0),Ana_Tablo_Kura!L222)","v":{"$error":"#N/A"}},null,null,null,null,null,null,null,null,null,null,null,null,{"$f":"+S318+1","v":58}]
[215,129,42,"",42,{"$f":"IF(Main!$Q$2=3,VLOOKUP(E325,Kura!$A$4:$Z$350,26,0),Ana_Tablo_Kura!L223)","v":{"$error":"#N/A"}},null,null,null,null,null,null,null,null,{"$f":"BX185","v":0},{"$f":"BY185","v":0},null,null,null,{"$f":"IF(AND(O325=0,P325=0),\"\",IF(O325>P325,M323,M326))","v":""}]
[null,null,null,"",null,null,null,{"$f":"BX111","v":0},{"$f":"BY111","v":0},null,null,108,{"$f":"IF(AND(H326=0,I326=0),\"\",IF(H326>I326,F325,F327))","v":""}]
[216,42,null,"",215,{"$f":"IF(Main!$Q$2=3,VLOOKUP(E327,Kura!$A$4:$Z$350,26,0),Ana_Tablo_Kura!L224)","v":{"$error":"#N/A"}}]
[217,39,null,"",55,{"$f":"IF(Main!$Q$2=3,VLOOKUP(E328,Kura!$A$4:$Z$350,26,0),Ana_Tablo_Kura!L225)","v":{"$error":"#N/A"}},null,null,null,null,null,null,null,null,null,null,null,null,null,null,null,null,null,null,null,null,null,null,null,{"$f":"BX241","v":0},{"$f":"BY241","v":0},null,null,{"$f":"IF(AND(AD328=0,AE328=0),\"\",IF(AD328>AE328,AA322,AA334))","v":""}]
[null,null,null,"",null,null,null,{"$f":"BX112","v":0},{"$f":"BY112","v":0},null,null,109,{"$f":"IF(AND(H329=0,I329=0),\"\",IF(H329>I329,F328,F330))","v":""}]
[218,129,39,"",202,{"$f":"IF(Main!$Q$2=3,VLOOKUP(E330,Kura!$A$4:$Z$350,26,0),Ana_Tablo_Kura!L226)","v":{"$error":"#N/A"}},null,null,null,null,null,null,null,null,null,null,null,null,{"$f":"+S324+1","v":59},{"$f":"IF(AND(O331=0,P331=0),\"\",IF(O331>P331,M329,M332))","v":""}]
[219,129,null,"E19",74,{"$f":"IF(Main!$Q$2=3,VLOOKUP(E331,Kura!$A$4:$Z$350,26,0),Ana_Tablo_Kura!L227)","v":{"$error":"#N/A"}},null,null,null,null,null,null,null,null,{"$f":"BX186","v":0},{"$f":"BY186","v":0},null,null,null,null,null,null,null,null,null,{"$f":"+Z319+1","v":34}]
[null,null,null,"",null,null,null,{"$f":"BX113","v":0},{"$f":"BY113","v":0},null,null,110,{"$f":"IF(AND(H332=0,I332=0),\"\",IF(H332>I332,F331,F333))","v":""}]
[220,65,null,"",183,{"$f":"IF(Main!$Q$2=3,VLOOKUP(E333,Kura!$A$4:$Z$350,26,0),Ana_Tablo_Kura!L228)","v":{"$error":"#N/A"}}]
[221,65,null,"",119,{"$f":"IF(Main!$Q$2=3,VLOOKUP(E334,Kura!$A$4:$Z$350,26,0),Ana_Tablo_Kura!L229)","v":{"$error":"#N/A"}},null,null,null,null,null,null,null,null,null,null,null,null,null,null,null,{"$f":"BX223","v":0},{"$f":"BY223","v":0},null,null,null,{"$f":"IF(AND(V334=0,W334=0),\"\",IF(V334>W334,T330,T337))","v":""}]
[null,null,null,"",null,null,null,{"$f":"BX114","v":0},{"$f":"BY114","v":0},null,null,111,{"$f":"IF(AND(H335=0,I335=0),\"\",IF(H335>I335,F334,F336))","v":""}]
[222,129,null,"",138,{"$f":"IF(Main!$Q$2=3,VLOOKUP(E336,Kura!$A$4:$Z$350,26,0),Ana_Tablo_Kura!L230)","v":{"$error":"#N/A"}},null,null,null,null,null,null,null,null,null,null,null,null,{"$f":"+S330+1","v":60}]
[223,129,10,"",10,{"$f":"IF(Main!$Q$2=3,VLOOKUP(E337,Kura!$A$4:$Z$350,26,0),Ana_Tablo_Kura!L231)","v":{"$error":"#N/A"}},null,null,null,null,null,null,null,null,{"$f":"BX187","v":0},{"$f":"BY187","v":0},null,null,null,{"$f":"IF(AND(O337=0,P337=0),\"\",IF(O337>P337,M335,M338))","v":""}]
[null,null,null,"",null,null,null,{"$f":"BX115","v":0},{"$f":"BY115","v":0},null,null,112,{"$f":"IF(AND(H338=0,I338=0),\"\",IF(H338>I338,F337,F339))","v":""}]
[224,10,null,"",247,{"$f":"IF(Main!$Q$2=3,VLOOKUP(E339,Kura!$A$4:$Z$350,26,0),Ana_Tablo_Kura!L232)","v":{"$error":"#N/A"}}]
[225,15,null,"",15,{"$f":"IF(Main!$Q$2=3,VLOOKUP(E340,Kura!$A$4:$Z$350,26,0),Ana_Tablo_Kura!L233)","v":{"$error":"#N/A"}}]
[null,null,null,"",null,null,null,{"$f":"BX116","v":0},{"$f":"BY116","v":0},null,null,113,{"$f":"IF(AND(H341=0,I341=0),\"\",IF(H341>I341,F340,F342))","v":""}]
[226,129,15,"",242,{"$f":"IF(Main!$Q$2=3,VLOOKUP(E342,Kura!$A$4:$Z$350,26,0),Ana_Tablo_Kura!L234)","v":{"$error":"#N/A"}},null,null,null,null,null,null,null,null,null,null,null,null,{"$f":"+S336+1","v":61},{"$f":"IF(AND(O343=0,P343=0),\"\",IF(O343>P343,M341,M344))","v":""}]
[227,129,null,"E32",114,{"$f":"IF(Main!$Q$2=3,VLOOKUP(E343,Kura!$A$4:$Z$350,26,0),Ana_Tablo_Kura!L235)","v":{"$error":"#N/A"}},null,null,null,null,null,null,null,null,{"$f":"BX188","v":0},{"$f":"BY188","v":0},null,null,null,null,null,null,null,null,null,{"$f":"+Z331+1","v":35}]
[null,null,null,"",null,null,null,{"$f":"BX117","v":0},{"$f":"BY117","v":0},null,null,114,{"$f":"IF(AND(H344=0,I344=0),\"\",IF(H344>I344,F343,F345))","v":""}]
[228,65,null,"",143,{"$f":"IF(Main!$Q$2=3,VLOOKUP(E345,Kura!$A$4:$Z$350,26,0),Ana_Tablo_Kura!L236)","v":{"$error":"#N/A"}}]
[229,65,null,"",79,{"$f":"IF(Main!$Q$2=3,VLOOKUP(E346,Kura!$A$4:$Z$350,26,0),Ana_Tablo_Kura!L237)","v":{"$error":"#N/A"}},null,null,null,null,null,null,null,null,null,null,null,null,null,null,null,{"$f":"BX224","v":0},{"$f":"BY224","v":0},null,null,null,{"$f":"IF(AND(V346=0,W346=0),\"\",IF(V346>W346,T342,T349))","v":""}]
[null,null,null,"",null,null,null,{"$f":"BX118","v":0},{"$f":"BY118","v":0},null,null,115,{"$f":"IF(AND(H347=0,I347=0),\"\",IF(H347>I347,F346,F348))","v":""},null,null,null,null,null,null,null,null,null,null,null,null,null,null,null,null,null,null,null,{"$f":"+AG323+1","v":{"$error":"#VALUE!"}}]
[230,129,null,"E23",178,{"$f":"IF(Main!$Q$2=3,VLOOKUP(E348,Kura!$A$4:$Z$350,26,0),Ana_Tablo_Kura!L238)","v":{"$error":"#N/A"}},null,null,null,null,null,null,null,null,null,null,null,null,{"$f":"+S342+1","v":62}]
[231,129,34,"",50,{"$f":"IF(Main!$Q$2=3,VLOOKUP(E349,Kura!$A$4:$Z$350,26,0),Ana_Tablo_Kura!L239)","v":{"$error":"#N/A"}},null,null,null,null,null,null,null,null,{"$f":"BX189","v":0},{"$f":"BY189","v":0},null,null,null,{"$f":"IF(AND(O349=0,P349=0),\"\",IF(O349>P349,M347,M350))","v":""}]
[null,null,null,"",null,null,null,{"$f":"BX119","v":0},{"$f":"BY119","v":0},null,null,116,{"$f":"IF(AND(H350=0,I350=0),\"\",IF(H350>I350,F349,F351))","v":""}]
[232,34,null,"",207,{"$f":"IF(Main!$Q$2=3,VLOOKUP(E351,Kura!$A$4:$Z$350,26,0),Ana_Tablo_Kura!L240)","v":{"$error":"#N/A"}}]
[233,47,null,"",47,{"$f":"IF(Main!$Q$2=3,VLOOKUP(E352,Kura!$A$4:$Z$350,26,0),Ana_Tablo_Kura!L241)","v":{"$error":"#N/A"}},null,null,null,null,null,null,null,null,null,null,null,null,null,null,null,null,null,null,null,null,null,null,null,{"$f":"BX242","v":0},{"$f":"BY242","v":0},null,null,{"$f":"IF(AND(AD352=0,AE352=0),\"\",IF(AD352>AE352,AA346,AA358))","v":""}]
[null,null,null,"",null,null,null,{"$f":"BX120","v":0},{"$f":"BY120","v":0},null,null,117,{"$f":"IF(AND(H353=0,I353=0),\"\",IF(H353>I353,F352,F354))","v":""},null,null,null,null,null,null,null,null,null,null,null,null,null,null,null,null,null,null,null,null,null,null,null,null,null,null,248]
[234,129,47,"",210,{"$f":"IF(Main!$Q$2=3,VLOOKUP(E354,Kura!$A$4:$Z$350,26,0),Ana_Tablo_Kura!L242)","v":{"$error":"#N/A"}},null,null,null,null,null,null,null,null,null,null,null,null,{"$f":"+S348+1","v":63},{"$f":"IF(AND(O355=0,P355=0),\"\",IF(O355>P355,M353,M356))","v":""}]
[235,129,null,"E7",82,{"$f":"IF(Main!$Q$2=3,VLOOKUP(E355,Kura!$A$4:$Z$350,26,0),Ana_Tablo_Kura!L243)","v":{"$error":"#N/A"}},null,null,null,null,null,null,null,null,{"$f":"BX190","v":0},{"$f":"BY190","v":0},null,null,null,null,null,null,null,null,null,{"$f":"+Z343+1","v":36}]
[null,null,null,"",null,null,null,{"$f":"BX121","v":0},{"$f":"BY121","v":0},null,null,118,{"$f":"IF(AND(H356=0,I356=0),\"\",IF(H356>I356,F355,F357))","v":""}]
[236,65,null,"",175,{"$f":"IF(Main!$Q$2=3,VLOOKUP(E357,Kura!$A$4:$Z$350,26,0),Ana_Tablo_Kura!L244)","v":{"$error":"#N/A"}}]
[237,65,null,"",111,{"$f":"IF(Main!$Q$2=3,VLOOKUP(E358,Kura!$A$4:$Z$350,26,0),Ana_Tablo_Kura!L245)","v":{"$error":"#N/A"}},null,null,null,null,null,null,null,null,null,null,null,null,null,null,null,{"$f":"BX225","v":0},{"$f":"BY225","v":0},null,null,null,{"$f":"IF(AND(V358=0,W358=0),\"\",IF(V358>W358,T354,T361))","v":""}]
[null,null,null,"",null,null,null,{"$f":"BX122","v":0},{"$f":"BY122","v":0},null,null,119,{"$f":"IF(AND(H359=0,I359=0),\"\",IF(H359>I359,F358,F360))","v":""}]
[238,129,null,"",146,{"$f":"IF(Main!$Q$2=3,VLOOKUP(E360,Kura!$A$4:$Z$350,26,0),Ana_Tablo_Kura!L246)","v":{"$error":"#N/A"}},null,null,null,null,null,null,null,null,null,null,null,null,{"$f":"+S354+1","v":64}]
[239,129,18,"",18,{"$f":"IF(Main!$Q$2=3,VLOOKUP(E361,Kura!$A$4:$Z$350,26,0),Ana_Tablo_Kura!L247)","v":{"$error":"#N/A"}},null,null,null,null,null,null,null,null,{"$f":"BX191","v":0},{"$f":"BY191","v":0},null,null,null,{"$f":"IF(AND(O361=0,P361=0),\"\",IF(O361>P361,M359,M362))","v":""}]
[null,null,null,"",null,null,null,{"$f":"BX123","v":0},{"$f":"BY123","v":0},null,null,120,{"$f":"IF(AND(H362=0,I362=0),\"\",IF(H362>I362,F361,F363))","v":""}]
[240,18,null,"",239,{"$f":"IF(Main!$Q$2=3,VLOOKUP(E363,Kura!$A$4:$Z$350,26,0),Ana_Tablo_Kura!L248)","v":{"$error":"#N/A"}}]
[241,31,null,"",31,{"$f":"IF(Main!$Q$2=3,VLOOKUP(E364,Kura!$A$4:$Z$350,26,0),Ana_Tablo_Kura!L249)","v":{"$error":"#N/A"}},null,null,null,null,null,null,null,null,null,null,null,null,null,null,null,null,null,null,null,null,null,null,null,null,null,null,null,null,null,null,{"$f":"BX251","v":0},{"$f":"BY251","v":0},null,null,{"$f":"IF(AND(AK364=0,AL364=0),\"\",IF(AK364>AL364,AH352,AH376))","v":""}]
[null,null,null,"",null,null,null,{"$f":"BX124","v":0},{"$f":"BY124","v":0},null,null,121,{"$f":"IF(AND(H365=0,I365=0),\"\",IF(H365>I365,F364,F366))","v":""}]
[242,129,31,"",226,{"$f":"IF(Main!$Q$2=3,VLOOKUP(E366,Kura!$A$4:$Z$350,26,0),Ana_Tablo_Kura!L250)","v":{"$error":"#N/A"}},null,null,null,null,null,null,null,null,null,null,null,null,{"$f":"+S360+1","v":65},{"$f":"IF(AND(O367=0,P367=0),\"\",IF(O367>P367,M365,M368))","v":""}]
[243,129,null,"",98,{"$f":"IF(Main!$Q$2=3,VLOOKUP(E367,Kura!$A$4:$Z$350,26,0),Ana_Tablo_Kura!L251)","v":{"$error":"#N/A"}},null,null,null,null,null,null,null,null,{"$f":"BX192","v":0},{"$f":"BY192","v":0},null,null,null,null,null,null,null,null,null,{"$f":"+Z355+1","v":37}]
[null,null,null,"",null,null,null,{"$f":"BX125","v":0},{"$f":"BY125","v":0},null,null,122,{"$f":"IF(AND(H368=0,I368=0),\"\",IF(H368>I368,F367,F369))","v":""}]
[244,65,null,"",159,{"$f":"IF(Main!$Q$2=3,VLOOKUP(E369,Kura!$A$4:$Z$350,26,0),Ana_Tablo_Kura!L252)","v":{"$error":"#N/A"}}]
[245,65,null,"",95,{"$f":"IF(Main!$Q$2=3,VLOOKUP(E370,Kura!$A$4:$Z$350,26,0),Ana_Tablo_Kura!L253)","v":{"$error":"#N/A"}},null,null,null,null,null,null,null,null,null,null,null,null,null,null,null,{"$f":"BX226","v":0},{"$f":"BY226","v":0},null,null,null,{"$f":"IF(AND(V370=0,W370=0),\"\",IF(V370>W370,T366,T373))","v":""}]
[null,null,null,"",null,null,null,{"$f":"BX126","v":0},{"$f":"BY126","v":0},null,null,123,{"$f":"IF(AND(H371=0,I371=0),\"\",IF(H371>I371,F370,F372))","v":""},null,null,null,null,null,null,null,null,null,null,null,null,null,null,null,null,null,null,null,{"$f":"+AG347+1","v":{"$error":"#VALUE!"}}]
[246,129,null,"E15",162,{"$f":"IF(Main!$Q$2=3,VLOOKUP(E372,Kura!$A$4:$Z$350,26,0),Ana_Tablo_Kura!L254)","v":{"$error":"#N/A"}},null,null,null,null,null,null,null,null,null,null,null,null,{"$f":"+S366+1","v":66}]
[247,129,50,"",34,{"$f":"IF(Main!$Q$2=3,VLOOKUP(E373,Kura!$A$4:$Z$350,26,0),Ana_Tablo_Kura!L255)","v":{"$error":"#N/A"}},null,null,null,null,null,null,null,null,{"$f":"BX193","v":0},{"$f":"BY193","v":0},null,null,null,{"$f":"IF(AND(O373=0,P373=0),\"\",IF(O373>P373,M371,M374))","v":""}]
[null,null,null,"",null,null,null,{"$f":"BX127","v":0},{"$f":"BY127","v":0},null,null,124,{"$f":"IF(AND(H374=0,I374=0),\"\",IF(H374>I374,F373,F375))","v":""}]
[248,50,null,"",223,{"$f":"IF(Main!$Q$2=3,VLOOKUP(E375,Kura!$A$4:$Z$350,26,0),Ana_Tablo_Kura!L256)","v":{"$error":"#N/A"}}]
[249,63,999,"",63,{"$f":"IF(Main!$Q$2=3,VLOOKUP(E376,Kura!$A$4:$Z$350,26,0),Ana_Tablo_Kura!L257)","v":{"$error":"#N/A"}},null,null,null,null,null,null,null,null,null,null,null,null,null,null,null,null,null,null,null,null,null,null,null,{"$f":"BX243","v":0},{"$f":"BY243","v":0},null,null,{"$f":"IF(AND(AD376=0,AE376=0),\"\",IF(AD376>AE376,AA370,AA382))","v":""}]
[null,null,null,"",null,null,null,{"$f":"BX128","v":0},{"$f":"BY128","v":0},null,null,125,{"$f":"IF(AND(H377=0,I377=0),\"\",IF(H377>I377,F376,F378))","v":""}]
[250,129,999,"",194,{"$f":"IF(Main!$Q$2=3,VLOOKUP(E378,Kura!$A$4:$Z$350,26,0),Ana_Tablo_Kura!L258)","v":{"$error":"#N/A"}},null,null,null,null,null,null,null,null,null,null,null,null,{"$f":"+S372+1","v":67},{"$f":"IF(AND(O379=0,P379=0),\"\",IF(O379>P379,M377,M380))","v":""}]
[251,129,999,"",66,{"$f":"IF(Main!$Q$2=3,VLOOKUP(E379,Kura!$A$4:$Z$350,26,0),Ana_Tablo_Kura!L259)","v":{"$error":"#N/A"}},null,null,null,null,null,null,null,null,{"$f":"BX194","v":0},{"$f":"BY194","v":0},null,null,null,null,null,null,null,null,null,{"$f":"+Z367+1","v":38}]
[null,null,null,"",null,null,null,{"$f":"BX129","v":0},{"$f":"BY129","v":0},null,null,126,{"$f":"IF(AND(H380=0,I380=0),\"\",IF(H380>I380,F379,F381))","v":""}]
[252,65,999,"",191,{"$f":"IF(Main!$Q$2=3,VLOOKUP(E381,Kura!$A$4:$Z$350,26,0),Ana_Tablo_Kura!L260)","v":{"$error":"#N/A"}}]
[253,65,999,"",127,{"$f":"IF(Main!$Q$2=3,VLOOKUP(E382,Kura!$A$4:$Z$350,26,0),Ana_Tablo_Kura!L261)","v":{"$error":"#N/A"}},null,null,null,null,null,null,null,null,null,null,null,null,null,null,null,{"$f":"BX227","v":0},{"$f":"BY227","v":0},null,null,null,{"$f":"IF(AND(V382=0,W382=0),\"\",IF(V382>W382,T378,T385))","v":""}]
[null,null,null,"",null,null,null,{"$f":"BX130","v":0},{"$f":"BY130","v":0},null,null,127,{"$f":"IF(AND(H383=0,I383=0),\"\",IF(H383>I383,F382,F384))","v":""}]
[254,129,999,"",130,{"$f":"IF(Main!$Q$2=3,VLOOKUP(E384,Kura!$A$4:$Z$350,26,0),Ana_Tablo_Kura!L262)","v":{"$error":"#N/A"}},null,null,null,null,null,null,null,null,null,null,null,null,{"$f":"+S378+1","v":68}]
[255,129,999,"",255,{"$f":"IF(Main!$Q$2=3,VLOOKUP(E385,Kura!$A$4:$Z$350,26,0),Ana_Tablo_Kura!L263)","v":{"$error":"#N/A"}},null,null,null,null,null,null,null,null,{"$f":"BX195","v":0},{"$f":"BY195","v":0},null,null,null,{"$f":"IF(AND(O385=0,P385=0),\"\",IF(O385>P385,M383,M386))","v":""}]
[null,null,null,"",null,null,null,{"$f":"BX131","v":0},{"$f":"BY131","v":0},null,null,128,{"$f":"IF(AND(H386=0,I386=0),\"\",IF(H386>I386,F385,F387))","v":""}]
[256,2,null,"",2,{"$f":"IF(Main!$Q$2=3,VLOOKUP(E387,Kura!$A$4:$Z$350,26,0),Ana_Tablo_Kura!L264)","v":"ÇORUM GENÇLİK SPOR (A) (ÇRM)"}]
[]
[]
[1,1,0,0,1,{"$f":"IF(Main!$Q$2=3,VLOOKUP(E390,Kura!$A$4:$Z$350,26,0),Ana_Tablo_Kura!L273)","v":"ÇORUM BLD. SPOR (A) (ÇRM)"},null,null,null,null,null,null,null,null,null,null,null,null,null,null,null,null,null,null,null,null,null,null,null,null,null,null,null,null,null,null,null,null,null,null,null,null,null,null,null,null,null,null,null,null,null,null,null,null,null,null,null,null,1,null,null,null,null,{"$f":"F390","v":"ÇORUM BLD. SPOR (A) (ÇRM)"},{"$f":"F392","v":"BAYBURT GMSK (A) (BYB)"}]
[null,null,null,null,null,null,null,{"$f":"BX390","v":0},{"$f":"BY390","v":0},null,null,1,{"$f":"IF(AND(H391=0,I391=0),\"\",IF(H391>I391,F390,F392))","v":""},null,null,null,null,null,null,null,null,null,null,null,null,null,null,null,null,null,null,null,null,null,null,null,null,null,null,null,null,null,null,null,null,null,null,null,null,null,null,null,null,null,null,null,null,null,2,null,null,null,null,{"$f":"F393","v":"FINDIKLI 1974 SPOR (A) (RİZ)"},{"$f":"F395","v":{"$error":"#N/A"}}]
[2,65,1,"E64",128,{"$f":"IF(Main!$Q$2=3,VLOOKUP(E392,Kura!$A$4:$Z$350,26,0),Ana_Tablo_Kura!L274)","v":"BAYBURT GMSK (A) (BYB)"},null,null,null,null,null,null,null,null,null,null,null,null,65,{"$f":"IF(AND(O393=0,P393=0),\"\",IF(O393>P393,M391,M394))","v":""},null,null,null,null,null,null,null,null,null,null,null,null,null,null,null,null,null,null,null,null,null,null,null,null,null,null,null,null,null,null,null,null,null,null,null,null,null,null,3,null,null,null,null,{"$f":"F396","v":{"$error":"#N/A"}},{"$f":"F398","v":{"$error":"#N/A"}}]
[3,65,33,"E32",64,{"$f":"IF(Main!$Q$2=3,VLOOKUP(E393,Kura!$A$4:$Z$350,26,0),Ana_Tablo_Kura!L275)","v":"FINDIKLI 1974 SPOR (A) (RİZ)"},null,null,null,null,null,null,null,null,{"$f":"BX454","v":0},{"$f":"BY454","v":0},null,null,null,null,null,null,null,null,null,97,null,null,null,null,null,null,null,null,null,null,null,null,null,null,null,null,null,null,null,null,null,null,null,null,null,null,null,null,null,null,null,null,4,null,null,null,null,{"$f":"F399","v":{"$error":"#N/A"}},{"$f":"F401","v":{"$error":"#N/A"}}]
[null,null,null,"",null,null,null,{"$f":"BX391","v":0},{"$f":"BY391","v":0},null,null,2,{"$f":"IF(AND(H394=0,I394=0),\"\",IF(H394>I394,F393,F395))","v":""},null,null,null,null,null,null,null,null,null,null,null,null,null,null,null,null,null,null,null,null,null,null,null,null,null,null,null,null,null,null,null,null,null,null,null,null,null,null,null,null,null,null,null,null,null,5,null,null,null,null,{"$f":"F402","v":{"$error":"#N/A"}},{"$f":"F404","v":{"$error":"#N/A"}}]
[4,33,0,"",65,{"$f":"IF(Main!$Q$2=3,VLOOKUP(E395,Kura!$A$4:$Z$350,26,0),Ana_Tablo_Kura!L276)","v":{"$error":"#N/A"}},null,null,null,null,null,null,null,null,null,null,null,null,null,null,null,null,null,null,null,null,null,null,null,null,null,null,null,null,null,null,null,null,null,null,null,null,null,null,null,null,null,null,null,null,null,null,null,null,null,null,null,null,6,null,null,null,null,{"$f":"F405","v":{"$error":"#N/A"}},{"$f":"F407","v":{"$error":"#N/A"}}]
[5,33,0,"",32,{"$f":"IF(Main!$Q$2=3,VLOOKUP(E396,Kura!$A$4:$Z$350,26,0),Ana_Tablo_Kura!L277)","v":{"$error":"#N/A"}},null,null,null,null,null,null,null,null,null,null,null,null,null,null,null,{"$f":"BX486","v":0},{"$f":"BY486","v":0},null,null,null,{"$f":"IF(AND(V396=0,W396=0),\"\",IF(V396>W396,T392,T399))","v":""},null,null,null,null,null,null,null,null,null,null,null,null,null,null,null,null,null,null,null,null,null,null,null,null,null,null,null,null,null,null,null,7,null,null,null,null,{"$f":"F408","v":{"$error":"#N/A"}},{"$f":"F410","v":{"$error":"#N/A"}}]
[null,null,null,"",null,null,null,{"$f":"BX392","v":0},{"$f":"BY392","v":0},null,null,3,{"$f":"IF(AND(H397=0,I397=0),\"\",IF(H397>I397,F396,F398))","v":""},null,null,null,null,null,null,null,null,null,null,null,null,null,null,null,null,null,null,null,113,null,null,null,null,null,null,null,null,null,null,null,null,null,null,null,null,null,null,null,null,null,null,null,null,null,8,null,null,null,null,{"$f":"F411","v":{"$error":"#N/A"}},{"$f":"F413","v":{"$error":"#N/A"}}]
[6,65,49,"E16",97,{"$f":"IF(Main!$Q$2=3,VLOOKUP(E398,Kura!$A$4:$Z$350,26,0),Ana_Tablo_Kura!L278)","v":{"$error":"#N/A"}},null,null,null,null,null,null,null,null,null,null,null,null,{"$f":"+S392+1","v":66},null,null,null,null,null,null,null,null,null,null,null,null,null,null,null,null,null,null,null,null,null,null,null,null,null,null,null,null,null,null,null,null,null,null,null,null,null,null,null,9,null,null,null,null,{"$f":"F414","v":{"$error":"#N/A"}},{"$f":"F416","v":{"$error":"#N/A"}}]
[7,65,17,"E48",33,{"$f":"IF(Main!$Q$2=3,VLOOKUP(E399,Kura!$A$4:$Z$350,26,0),Ana_Tablo_Kura!L279)","v":{"$error":"#N/A"}},null,null,null,null,null,null,null,null,{"$f":"BX455","v":0},{"$f":"BY455","v":0},null,null,null,{"$f":"IF(AND(O399=0,P399=0),\"\",IF(O399>P399,M397,M400))","v":""},null,null,null,null,null,null,null,null,null,null,null,null,null,null,null,null,null,null,null,null,null,null,null,null,null,null,null,null,null,null,null,null,null,null,null,null,null,null,10,null,null,null,null,{"$f":"F417","v":{"$error":"#N/A"}},{"$f":"F419","v":{"$error":"#N/A"}}]
[null,null,null,"",null,null,null,{"$f":"BX393","v":0},{"$f":"BY393","v":0},null,null,4,{"$f":"IF(AND(H400=0,I400=0),\"\",IF(H400>I400,F399,F401))","v":""},null,null,null,null,null,null,null,null,null,null,null,null,null,null,null,null,null,null,null,null,null,null,null,null,null,null,null,null,null,null,null,null,null,null,null,null,null,null,null,null,null,null,null,null,null,11,null,null,null,null,{"$f":"F420","v":{"$error":"#N/A"}},{"$f":"F422","v":{"$error":"#N/A"}}]
[8,17,0,"",96,{"$f":"IF(Main!$Q$2=3,VLOOKUP(E401,Kura!$A$4:$Z$350,26,0),Ana_Tablo_Kura!L280)","v":{"$error":"#N/A"}},null,null,null,null,null,null,null,null,null,null,null,null,null,null,null,null,null,null,null,null,null,null,null,null,null,null,null,null,null,null,null,null,null,null,null,null,null,null,null,null,null,null,null,null,null,null,null,null,null,null,null,null,12,null,null,null,null,{"$f":"F423","v":{"$error":"#N/A"}},{"$f":"F425","v":{"$error":"#N/A"}}]
[9,17,0,"",16,{"$f":"IF(Main!$Q$2=3,VLOOKUP(E402,Kura!$A$4:$Z$350,26,0),Ana_Tablo_Kura!L281)","v":{"$error":"#N/A"}},null,null,null,null,null,null,null,null,null,null,null,null,null,null,null,null,null,null,null,null,null,null,null,{"$f":"BX502","v":0},{"$f":"BY502","v":0},null,null,{"$f":"IF(AND(AD402=0,AE402=0),\"\",IF(AD402>AE402,AA396,AA408))","v":""},null,null,null,null,null,null,null,null,null,null,null,null,null,null,null,null,null,null,null,null,null,null,null,null,13,null,null,null,null,{"$f":"F426","v":{"$error":"#N/A"}},{"$f":"F428","v":{"$error":"#N/A"}}]
[null,null,null,"",null,null,null,{"$f":"BX394","v":0},{"$f":"BY394","v":0},null,null,5,{"$f":"IF(AND(H403=0,I403=0),\"\",IF(H403>I403,F402,F404))","v":""},null,null,null,null,null,null,null,null,null,null,null,null,null,null,null,null,null,null,null,null,null,null,null,null,null,null,null,null,null,null,null,null,null,null,null,null,null,null,null,null,null,null,null,null,null,14,null,null,null,null,{"$f":"F429","v":{"$error":"#N/A"}},{"$f":"F431","v":{"$error":"#N/A"}}]
[10,65,25,"E40",113,{"$f":"IF(Main!$Q$2=3,VLOOKUP(E404,Kura!$A$4:$Z$350,26,0),Ana_Tablo_Kura!L282)","v":{"$error":"#N/A"}},null,null,null,null,null,null,null,null,null,null,null,null,{"$f":"+S398+1","v":67},{"$f":"IF(AND(O405=0,P405=0),\"\",IF(O405>P405,M403,M406))","v":""},null,null,null,null,null,null,null,null,null,null,null,null,null,null,null,null,null,null,null,null,null,null,null,null,null,null,null,null,null,null,null,null,null,null,null,null,null,null,15,null,null,null,null,{"$f":"F432","v":{"$error":"#N/A"}},{"$f":"F434","v":{"$error":"#N/A"}}]
[11,65,57,"E8",49,{"$f":"IF(Main!$Q$2=3,VLOOKUP(E405,Kura!$A$4:$Z$350,26,0),Ana_Tablo_Kura!L283)","v":{"$error":"#N/A"}},null,null,null,null,null,null,null,null,{"$f":"BX456","v":0},{"$f":"BY456","v":0},null,null,null,null,null,null,null,null,null,{"$f":"+Z393+1","v":98},null,null,null,null,null,null,null,null,null,null,null,null,null,null,null,null,null,null,null,null,null,null,null,null,null,null,null,null,null,null,null,null,16,null,null,null,null,{"$f":"F435","v":{"$error":"#N/A"}},{"$f":"F437","v":{"$error":"#N/A"}}]
[null,null,null,"",null,null,null,{"$f":"BX395","v":0},{"$f":"BY395","v":0},null,null,6,{"$f":"IF(AND(H406=0,I406=0),\"\",IF(H406>I406,F405,F407))","v":""},null,null,null,null,null,null,null,null,null,null,null,null,null,null,null,null,null,null,null,null,null,null,null,null,null,null,null,null,null,null,null,null,null,null,null,null,null,null,null,null,null,null,null,null,null,17,null,null,null,null,{"$f":"F438","v":{"$error":"#N/A"}},{"$f":"F440","v":{"$error":"#N/A"}}]
[12,33,0,"",80,{"$f":"IF(Main!$Q$2=3,VLOOKUP(E407,Kura!$A$4:$Z$350,26,0),Ana_Tablo_Kura!L284)","v":{"$error":"#N/A"}},null,null,null,null,null,null,null,null,null,null,null,null,null,null,null,null,null,null,null,null,null,null,null,null,null,null,null,null,null,null,null,null,null,null,null,null,null,null,null,null,null,null,null,null,null,null,null,null,null,null,null,null,18,null,null,null,null,{"$f":"F441","v":{"$error":"#N/A"}},{"$f":"F443","v":{"$error":"#N/A"}}]
[13,33,0,"",17,{"$f":"IF(Main!$Q$2=3,VLOOKUP(E408,Kura!$A$4:$Z$350,26,0),Ana_Tablo_Kura!L285)","v":{"$error":"#N/A"}},null,null,null,null,null,null,null,null,null,null,null,null,null,null,null,{"$f":"BX487","v":0},{"$f":"BY487","v":0},null,null,null,{"$f":"IF(AND(V408=0,W408=0),\"\",IF(V408>W408,T404,T411))","v":""},null,null,null,null,null,null,null,null,null,null,null,null,null,null,null,null,null,null,null,null,null,null,null,null,null,null,null,null,null,null,null,19,null,null,null,null,{"$f":"F444","v":{"$error":"#N/A"}},{"$f":"F446","v":{"$error":"#N/A"}}]
[null,null,null,"",null,null,null,{"$f":"BX396","v":0},{"$f":"BY396","v":0},null,null,7,{"$f":"IF(AND(H409=0,I409=0),\"\",IF(H409>I409,F408,F410))","v":""},null,null,null,null,null,null,null,null,null,null,null,null,null,null,null,null,null,null,null,null,null,null,null,null,null,null,null,null,null,null,null,null,null,null,null,null,null,null,null,null,null,null,null,null,null,20,null,null,null,null,{"$f":"F447","v":{"$error":"#N/A"}},{"$f":"F449","v":{"$error":"#N/A"}}]
[14,65,41,"E24",112,{"$f":"IF(Main!$Q$2=3,VLOOKUP(E410,Kura!$A$4:$Z$350,26,0),Ana_Tablo_Kura!L286)","v":{"$error":"#N/A"}},null,null,null,null,null,null,null,null,null,null,null,null,{"$f":"+S404+1","v":68},null,null,null,null,null,null,null,null,null,null,null,null,null,null,null,null,null,null,null,null,null,null,null,null,null,null,null,null,null,null,null,null,null,null,null,null,null,null,null,21,null,null,null,null,{"$f":"F450","v":{"$error":"#N/A"}},{"$f":"F452","v":{"$error":"#N/A"}}]
[15,65,9,"E56",48,{"$f":"IF(Main!$Q$2=3,VLOOKUP(E411,Kura!$A$4:$Z$350,26,0),Ana_Tablo_Kura!L287)","v":{"$error":"#N/A"}},null,null,null,null,null,null,null,null,{"$f":"BX457","v":0},{"$f":"BY457","v":0},null,null,null,{"$f":"IF(AND(O411=0,P411=0),\"\",IF(O411>P411,M409,M412))","v":""},null,null,null,null,null,null,null,null,null,null,null,null,null,null,null,null,null,null,null,null,null,null,null,null,null,null,null,null,null,null,null,null,null,null,null,null,null,null,22,null,null,null,null,{"$f":"F453","v":{"$error":"#N/A"}},{"$f":"F455","v":{"$error":"#N/A"}}]
[null,null,null,"",null,null,null,{"$f":"BX397","v":0},{"$f":"BY397","v":0},null,null,8,{"$f":"IF(AND(H412=0,I412=0),\"\",IF(H412>I412,F411,F413))","v":""},null,null,null,null,null,null,null,null,null,null,null,null,null,null,null,null,null,null,null,null,null,null,null,null,null,null,null,null,null,null,null,null,null,null,null,null,null,null,null,null,null,null,null,null,null,23,null,null,null,null,{"$f":"F456","v":{"$error":"#N/A"}},{"$f":"F458","v":{"$error":"#N/A"}}]
[16,9,0,"",81,{"$f":"IF(Main!$Q$2=3,VLOOKUP(E413,Kura!$A$4:$Z$350,26,0),Ana_Tablo_Kura!L288)","v":{"$error":"#N/A"}},null,null,null,null,null,null,null,null,null,null,null,null,null,null,null,null,null,null,null,null,null,null,null,null,null,null,null,null,null,null,null,null,null,null,null,null,null,null,null,null,null,null,null,null,null,null,null,null,null,null,null,null,24,null,null,null,null,{"$f":"F459","v":{"$error":"#N/A"}},{"$f":"F461","v":{"$error":"#N/A"}}]
[17,9,0,"",88,{"$f":"IF(Main!$Q$2=3,VLOOKUP(E414,Kura!$A$4:$Z$350,26,0),Ana_Tablo_Kura!L289)","v":{"$error":"#N/A"}},null,null,null,null,null,null,null,null,null,null,null,null,null,null,null,null,null,null,null,null,null,null,null,null,null,null,null,null,null,null,null,null,null,null,null,null,null,null,null,null,null,null,null,null,null,null,null,null,null,null,null,null,25,null,null,null,null,{"$f":"F462","v":{"$error":"#N/A"}},{"$f":"F464","v":{"$error":"#N/A"}}]
[null,null,null,"",null,null,null,{"$f":"BX398","v":0},{"$f":"BY398","v":0},null,null,9,{"$f":"IF(AND(H415=0,I415=0),\"\",IF(H415>I415,F414,F416))","v":""},null,null,null,null,null,null,null,null,null,null,null,null,null,null,null,null,null,null,null,null,null,null,null,null,null,null,null,null,null,null,null,null,null,null,null,null,null,null,null,null,null,null,null,null,null,26,null,null,null,null,{"$f":"F465","v":{"$error":"#N/A"}},{"$f":"F467","v":{"$error":"#N/A"}}]
[18,65,13,"E52",41,{"$f":"IF(Main!$Q$2=3,VLOOKUP(E416,Kura!$A$4:$Z$350,26,0),Ana_Tablo_Kura!L290)","v":{"$error":"#N/A"}},null,null,null,null,null,null,null,null,null,null,null,null,{"$f":"+S410+1","v":69},{"$f":"IF(AND(O417=0,P417=0),\"\",IF(O417>P417,M415,M418))","v":""},null,null,null,null,null,null,null,null,null,null,null,null,null,null,null,null,null,null,null,null,null,null,null,null,null,null,null,null,null,null,null,null,null,null,null,null,null,null,27,null,null,null,null,{"$f":"F468","v":{"$error":"#N/A"}},{"$f":"F470","v":{"$error":"#N/A"}}]
[19,65,45,"E20",105,{"$f":"IF(Main!$Q$2=3,VLOOKUP(E417,Kura!$A$4:$Z$350,26,0),Ana_Tablo_Kura!L291)","v":{"$error":"#N/A"}},null,null,null,null,null,null,null,null,{"$f":"BX458","v":0},{"$f":"BY458","v":0},null,null,null,null,null,null,null,null,null,{"$f":"+Z405+1","v":99},null,null,null,null,null,null,null,null,null,null,null,null,null,null,null,null,null,null,null,null,null,null,null,null,null,null,null,null,null,null,null,null,28,null,null,null,null,{"$f":"F471","v":{"$error":"#N/A"}},{"$f":"F473","v":{"$error":"#N/A"}}]
[null,null,null,"",null,null,null,{"$f":"BX399","v":0},{"$f":"BY399","v":0},null,null,10,{"$f":"IF(AND(H418=0,I418=0),\"\",IF(H418>I418,F417,F419))","v":""},null,null,null,null,null,null,null,null,null,null,null,null,null,null,null,null,null,null,null,null,null,null,null,null,null,null,null,null,null,null,null,null,null,null,null,null,null,null,null,null,null,null,null,null,null,29,null,null,null,null,{"$f":"F474","v":{"$error":"#N/A"}},{"$f":"F476","v":{"$error":"#N/A"}}]
[20,33,0,"",24,{"$f":"IF(Main!$Q$2=3,VLOOKUP(E419,Kura!$A$4:$Z$350,26,0),Ana_Tablo_Kura!L292)","v":{"$error":"#N/A"}},null,null,null,null,null,null,null,null,null,null,null,null,null,null,null,null,null,null,null,null,null,null,null,null,null,null,null,null,null,null,null,null,null,null,null,null,null,null,null,null,null,null,null,null,null,null,null,null,null,null,null,null,30,null,null,null,null,{"$f":"F477","v":{"$error":"#N/A"}},{"$f":"F479","v":{"$error":"#N/A"}}]
[21,33,0,"",73,{"$f":"IF(Main!$Q$2=3,VLOOKUP(E420,Kura!$A$4:$Z$350,26,0),Ana_Tablo_Kura!L293)","v":{"$error":"#N/A"}},null,null,null,null,null,null,null,null,null,null,null,null,null,null,null,{"$f":"BX488","v":0},{"$f":"BY488","v":0},null,null,null,{"$f":"IF(AND(V420=0,W420=0),\"\",IF(V420>W420,T416,T423))","v":""},null,null,null,null,null,null,null,null,null,null,null,null,null,null,null,null,null,null,null,null,null,null,null,null,null,null,null,null,null,null,null,31,null,null,null,null,{"$f":"F480","v":{"$error":"#N/A"}},{"$f":"F482","v":{"$error":"#N/A"}}]
[null,null,null,"",null,null,null,{"$f":"BX400","v":0},{"$f":"BY400","v":0},null,null,11,{"$f":"IF(AND(H421=0,I421=0),\"\",IF(H421>I421,F420,F422))","v":""},null,null,null,null,null,null,null,null,null,null,null,null,null,null,null,null,null,null,null,{"$f":"+AG397+1","v":114},null,null,null,null,null,null,null,null,null,null,null,null,null,null,null,null,null,null,null,null,null,null,null,null,null,32,null,null,null,null,{"$f":"F483","v":{"$error":"#N/A"}},{"$f":"F485","v":"KUTLUBEY OKULLARI (A) (AMS)"}]
[22,65,61,"E4",56,{"$f":"IF(Main!$Q$2=3,VLOOKUP(E422,Kura!$A$4:$Z$350,26,0),Ana_Tablo_Kura!L294)","v":{"$error":"#N/A"}},null,null,null,null,null,null,null,null,null,null,null,null,{"$f":"+S416+1","v":70},null,null,null,null,null,null,null,null,null,null,null,null,null,null,null,null,null,null,null,null,null,null,null,null,null,null,null,null,null,null,null,null,null,null,null,null,null,null,null,33,null,null,null,null,{"$f":"F486","v":"ŞAFAKTEPE SK (A) (ANK)"},{"$f":"F488","v":"BEŞİKDÜZÜ AYYILDIZ SPOR (A) (TRB)"}]
[23,65,29,"E36",120,{"$f":"IF(Main!$Q$2=3,VLOOKUP(E423,Kura!$A$4:$Z$350,26,0),Ana_Tablo_Kura!L295)","v":{"$error":"#N/A"}},null,null,null,null,null,null,null,null,{"$f":"BX459","v":0},{"$f":"BY459","v":0},null,null,null,{"$f":"IF(AND(O423=0,P423=0),\"\",IF(O423>P423,M421,M424))","v":""},null,null,null,null,null,null,null,null,null,null,null,null,null,null,null,null,null,null,null,null,null,null,null,null,null,null,null,null,null,null,null,null,null,null,null,null,null,null,34,null,null,null,null,{"$f":"F489","v":"YALIKÖY ŞBÇ OO (A) (GRS)"},{"$f":"F491","v":{"$error":"#N/A"}}]
[null,null,null,"",null,null,null,{"$f":"BX401","v":0},{"$f":"BY401","v":0},null,null,12,{"$f":"IF(AND(H424=0,I424=0),\"\",IF(H424>I424,F423,F425))","v":""},null,null,null,null,null,null,null,null,null,null,null,null,null,null,null,null,null,null,null,null,null,null,null,null,null,null,null,null,null,null,null,null,null,null,null,null,null,null,null,null,null,null,null,null,null,35,null,null,null,null,{"$f":"F492","v":{"$error":"#N/A"}},{"$f":"F494","v":{"$error":"#N/A"}}]
[24,17,0,"",9,{"$f":"IF(Main!$Q$2=3,VLOOKUP(E425,Kura!$A$4:$Z$350,26,0),Ana_Tablo_Kura!L296)","v":{"$error":"#N/A"}},null,null,null,null,null,null,null,null,null,null,null,null,null,null,null,null,null,null,null,null,null,null,null,null,null,null,null,null,null,null,null,null,null,null,null,null,null,null,null,null,null,null,null,null,null,null,null,null,null,null,null,null,36,null,null,null,null,{"$f":"F495","v":{"$error":"#N/A"}},{"$f":"F497","v":{"$error":"#N/A"}}]
[25,17,0,"",89,{"$f":"IF(Main!$Q$2=3,VLOOKUP(E426,Kura!$A$4:$Z$350,26,0),Ana_Tablo_Kura!L297)","v":{"$error":"#N/A"}},null,null,null,null,null,null,null,null,null,null,null,null,null,null,null,null,null,null,null,null,null,null,null,{"$f":"BX503","v":0},{"$f":"BY503","v":0},null,null,{"$f":"IF(AND(AD426=0,AE426=0),\"\",IF(AD426>AE426,AA420,AA432))","v":""},null,null,null,null,null,null,null,null,null,null,null,null,null,null,null,null,null,null,null,null,null,null,null,null,37,null,null,null,null,{"$f":"F498","v":{"$error":"#N/A"}},{"$f":"F500","v":{"$error":"#N/A"}}]
[null,null,null,"",null,null,null,{"$f":"BX402","v":0},{"$f":"BY402","v":0},null,null,13,{"$f":"IF(AND(H427=0,I427=0),\"\",IF(H427>I427,F426,F428))","v":""},null,null,null,null,null,null,null,null,null,null,null,null,null,null,null,null,null,null,null,null,null,null,null,null,null,null,null,null,null,null,null,null,null,null,null,null,null,null,null,null,null,null,null,null,null,38,null,null,null,null,{"$f":"F501","v":{"$error":"#N/A"}},{"$f":"F503","v":{"$error":"#N/A"}}]
[26,65,21,"E44",40,{"$f":"IF(Main!$Q$2=3,VLOOKUP(E428,Kura!$A$4:$Z$350,26,0),Ana_Tablo_Kura!L298)","v":{"$error":"#N/A"}},null,null,null,null,null,null,null,null,null,null,null,null,{"$f":"+S422+1","v":71},{"$f":"IF(AND(O429=0,P429=0),\"\",IF(O429>P429,M427,M430))","v":""},null,null,null,null,null,null,null,null,null,null,null,null,null,null,null,null,null,null,null,null,null,null,null,null,null,null,null,null,null,null,null,null,null,null,null,null,null,null,39,null,null,null,null,{"$f":"F504","v":{"$error":"#N/A"}},{"$f":"F506","v":{"$error":"#N/A"}}]
[27,65,53,"E12",104,{"$f":"IF(Main!$Q$2=3,VLOOKUP(E429,Kura!$A$4:$Z$350,26,0),Ana_Tablo_Kura!L299)","v":{"$error":"#N/A"}},null,null,null,null,null,null,null,null,{"$f":"BX460","v":0},{"$f":"BY460","v":0},null,null,null,null,null,null,null,null,null,{"$f":"+Z417+1","v":100},null,null,null,null,null,null,null,null,null,null,null,null,null,null,null,null,null,null,null,null,null,null,null,null,null,null,null,null,null,null,null,null,40,null,null,null,null,{"$f":"F507","v":{"$error":"#N/A"}},{"$f":"F509","v":{"$error":"#N/A"}}]
[null,null,null,"",null,null,null,{"$f":"BX403","v":0},{"$f":"BY403","v":0},null,null,14,{"$f":"IF(AND(H430=0,I430=0),\"\",IF(H430>I430,F429,F431))","v":""},null,null,null,null,null,null,null,null,null,null,null,null,null,null,null,null,null,null,null,null,null,null,null,null,null,null,null,null,null,null,null,null,null,null,null,null,null,null,null,null,null,null,null,null,null,41,null,null,null,null,{"$f":"F510","v":{"$error":"#N/A"}},{"$f":"F512","v":{"$error":"#N/A"}}]
[28,33,0,"",25,{"$f":"IF(Main!$Q$2=3,VLOOKUP(E431,Kura!$A$4:$Z$350,26,0),Ana_Tablo_Kura!L300)","v":{"$error":"#N/A"}},null,null,null,null,null,null,null,null,null,null,null,null,null,null,null,null,null,null,null,null,null,null,null,null,null,null,null,null,null,null,null,null,null,null,null,null,null,null,null,null,null,null,null,null,null,null,null,null,null,null,null,null,42,null,null,null,null,{"$f":"F513","v":{"$error":"#N/A"}},{"$f":"F515","v":{"$error":"#N/A"}}]
[29,33,0,"",72,{"$f":"IF(Main!$Q$2=3,VLOOKUP(E432,Kura!$A$4:$Z$350,26,0),Ana_Tablo_Kura!L301)","v":{"$error":"#N/A"}},null,null,null,null,null,null,null,null,null,null,null,null,null,null,null,{"$f":"BX489","v":0},{"$f":"BY489","v":0},null,null,null,{"$f":"IF(AND(V432=0,W432=0),\"\",IF(V432>W432,T428,T435))","v":""},null,null,null,null,null,null,null,null,null,null,null,null,null,null,null,null,null,null,null,null,null,null,null,null,null,null,null,null,null,null,null,43,null,null,null,null,{"$f":"F516","v":{"$error":"#N/A"}},{"$f":"F518","v":{"$error":"#N/A"}}]
[null,null,null,"",null,null,null,{"$f":"BX404","v":0},{"$f":"BY404","v":0},null,null,15,{"$f":"IF(AND(H433=0,I433=0),\"\",IF(H433>I433,F432,F434))","v":""},null,null,null,null,null,null,null,null,null,null,null,null,null,null,null,null,null,null,null,null,null,null,null,null,null,null,null,null,null,null,null,null,null,null,null,null,null,null,null,null,null,null,null,null,null,44,null,null,null,null,{"$f":"F519","v":{"$error":"#N/A"}},{"$f":"F521","v":{"$error":"#N/A"}}]
[30,65,37,"E28",57,{"$f":"IF(Main!$Q$2=3,VLOOKUP(E434,Kura!$A$4:$Z$350,26,0),Ana_Tablo_Kura!L302)","v":{"$error":"#N/A"}},null,null,null,null,null,null,null,null,null,null,null,null,{"$f":"+S428+1","v":72},null,null,null,null,null,null,null,null,null,null,null,null,null,null,null,null,null,null,null,null,null,null,null,null,null,null,null,null,null,null,null,null,null,null,null,null,null,null,null,45,null,null,null,null,{"$f":"F522","v":{"$error":"#N/A"}},{"$f":"F524","v":{"$error":"#N/A"}}]
[31,65,5,"E60",121,{"$f":"IF(Main!$Q$2=3,VLOOKUP(E435,Kura!$A$4:$Z$350,26,0),Ana_Tablo_Kura!L303)","v":{"$error":"#N/A"}},null,null,null,null,null,null,null,null,{"$f":"BX461","v":0},{"$f":"BY461","v":0},null,null,null,{"$f":"IF(AND(O435=0,P435=0),\"\",IF(O435>P435,M433,M436))","v":""},null,null,null,null,null,null,null,null,null,null,null,null,null,null,null,null,null,null,null,null,null,null,null,null,null,null,null,null,null,null,null,null,null,null,null,null,null,null,46,null,null,null,null,{"$f":"F525","v":{"$error":"#N/A"}},{"$f":"F527","v":{"$error":"#N/A"}}]
[null,null,null,"",null,null,null,{"$f":"BX405","v":0},{"$f":"BY405","v":0},null,null,16,{"$f":"IF(AND(H436=0,I436=0),\"\",IF(H436>I436,F435,F437))","v":""},null,null,null,null,null,null,null,null,null,null,null,null,null,null,null,null,null,null,null,null,null,null,null,null,null,null,null,null,null,null,null,null,null,null,null,null,null,null,null,null,null,null,null,null,null,47,null,null,null,null,{"$f":"F528","v":{"$error":"#N/A"}},{"$f":"F530","v":{"$error":"#N/A"}}]
[32,5,0,"",8,{"$f":"IF(Main!$Q$2=3,VLOOKUP(E437,Kura!$A$4:$Z$350,26,0),Ana_Tablo_Kura!L304)","v":{"$error":"#N/A"}},null,null,null,null,null,null,null,null,null,null,null,null,null,null,null,null,null,null,null,null,null,null,null,null,null,null,null,null,null,null,null,null,null,null,null,null,null,null,null,null,null,null,null,null,null,null,null,null,null,null,null,null,48,null,null,null,null,{"$f":"F531","v":{"$error":"#N/A"}},{"$f":"F533","v":{"$error":"#N/A"}}]
[33,5,0,"",5,{"$f":"IF(Main!$Q$2=3,VLOOKUP(E438,Kura!$A$4:$Z$350,26,0),Ana_Tablo_Kura!L305)","v":{"$error":"#N/A"}},null,null,null,null,null,null,null,null,null,null,null,null,null,null,null,null,null,null,null,null,null,null,null,null,null,null,null,null,null,null,null,null,null,null,null,null,null,null,null,null,null,null,null,null,null,null,null,null,null,null,null,null,49,null,null,null,null,{"$f":"F534","v":{"$error":"#N/A"}},{"$f":"F536","v":{"$error":"#N/A"}}]
[null,null,null,"",null,null,null,{"$f":"BX406","v":0},{"$f":"BY406","v":0},null,null,17,{"$f":"IF(AND(H439=0,I439=0),\"\",IF(H439>I439,F438,F440))","v":""},null,null,null,null,null,null,null,null,null,null,null,null,null,null,null,null,null,null,null,null,null,null,null,null,null,null,null,null,null,null,null,null,null,null,null,null,null,null,null,null,null,null,null,null,null,50,null,null,null,null,{"$f":"F537","v":{"$error":"#N/A"}},{"$f":"F539","v":{"$error":"#N/A"}}]
[34,65,7,"E58",124,{"$f":"IF(Main!$Q$2=3,VLOOKUP(E440,Kura!$A$4:$Z$350,26,0),Ana_Tablo_Kura!L306)","v":{"$error":"#N/A"}},null,null,null,null,null,null,null,null,null,null,null,null,{"$f":"+S434+1","v":73},{"$f":"IF(AND(O441=0,P441=0),\"\",IF(O441>P441,M439,M442))","v":""},null,null,null,null,null,null,null,null,null,null,null,null,null,null,null,null,null,null,null,null,null,null,null,null,null,null,null,null,null,null,null,null,null,null,null,null,null,null,51,null,null,null,null,{"$f":"F540","v":{"$error":"#N/A"}},{"$f":"F542","v":{"$error":"#N/A"}}]
[35,65,39,"E26",60,{"$f":"IF(Main!$Q$2=3,VLOOKUP(E441,Kura!$A$4:$Z$350,26,0),Ana_Tablo_Kura!L307)","v":{"$error":"#N/A"}},null,null,null,null,null,null,null,null,{"$f":"BX462","v":0},{"$f":"BY462","v":0},null,null,null,null,null,null,null,null,null,{"$f":"+Z429+1","v":101},null,null,null,null,null,null,null,null,null,null,null,null,null,null,null,null,null,null,null,null,null,null,null,null,null,null,null,null,null,null,null,null,52,null,null,null,null,{"$f":"F543","v":{"$error":"#N/A"}},{"$f":"F545","v":{"$error":"#N/A"}}]
[null,null,null,"",null,null,null,{"$f":"BX407","v":0},{"$f":"BY407","v":0},null,null,18,{"$f":"IF(AND(H442=0,I442=0),\"\",IF(H442>I442,F441,F443))","v":""},null,null,null,null,null,null,null,null,null,null,null,null,null,null,null,null,null,null,null,null,null,null,null,null,null,null,null,null,null,null,null,null,null,null,null,null,null,null,null,null,null,null,null,null,null,53,null,null,null,null,{"$f":"F546","v":{"$error":"#N/A"}},{"$f":"F548","v":{"$error":"#N/A"}}]
[36,33,0,"",69,{"$f":"IF(Main!$Q$2=3,VLOOKUP(E443,Kura!$A$4:$Z$350,26,0),Ana_Tablo_Kura!L308)","v":{"$error":"#N/A"}},null,null,null,null,null,null,null,null,null,null,null,null,null,null,null,null,null,null,null,null,null,null,null,null,null,null,null,null,null,null,null,null,null,null,null,null,null,null,null,null,null,null,null,null,null,null,null,null,null,null,null,null,54,null,null,null,null,{"$f":"F549","v":{"$error":"#N/A"}},{"$f":"F551","v":{"$error":"#N/A"}}]
[37,33,0,"",28,{"$f":"IF(Main!$Q$2=3,VLOOKUP(E444,Kura!$A$4:$Z$350,26,0),Ana_Tablo_Kura!L309)","v":{"$error":"#N/A"}},null,null,null,null,null,null,null,null,null,null,null,null,null,null,null,{"$f":"BX490","v":0},{"$f":"BY490","v":0},null,null,null,{"$f":"IF(AND(V444=0,W444=0),\"\",IF(V444>W444,T440,T447))","v":""},null,null,null,null,null,null,null,null,null,null,null,null,null,null,null,null,null,null,null,null,null,null,null,null,null,null,null,null,null,null,null,55,null,null,null,null,{"$f":"F552","v":{"$error":"#N/A"}},{"$f":"F554","v":{"$error":"#N/A"}}]
[null,null,null,"",null,null,null,{"$f":"BX408","v":0},{"$f":"BY408","v":0},null,null,19,{"$f":"IF(AND(H445=0,I445=0),\"\",IF(H445>I445,F444,F446))","v":""},null,null,null,null,null,null,null,null,null,null,null,null,null,null,null,null,null,null,null,{"$f":"+AG421+1","v":115},null,null,null,null,null,null,null,null,null,null,null,null,null,null,null,null,null,null,null,null,null,null,null,null,null,56,null,null,null,null,{"$f":"F555","v":{"$error":"#N/A"}},{"$f":"F557","v":{"$error":"#N/A"}}]
[38,65,55,"E10",101,{"$f":"IF(Main!$Q$2=3,VLOOKUP(E446,Kura!$A$4:$Z$350,26,0),Ana_Tablo_Kura!L310)","v":{"$error":"#N/A"}},null,null,null,null,null,null,null,null,null,null,null,null,{"$f":"+S440+1","v":74},null,null,null,null,null,null,null,null,null,null,null,null,null,null,null,null,null,null,null,null,null,null,null,null,null,null,null,null,null,null,null,null,null,null,null,null,null,null,null,57,null,null,null,null,{"$f":"F558","v":{"$error":"#N/A"}},{"$f":"F560","v":{"$error":"#N/A"}}]
[39,65,23,"E42",37,{"$f":"IF(Main!$Q$2=3,VLOOKUP(E447,Kura!$A$4:$Z$350,26,0),Ana_Tablo_Kura!L311)","v":{"$error":"#N/A"}},null,null,null,null,null,null,null,null,{"$f":"BX463","v":0},{"$f":"BY463","v":0},null,null,null,{"$f":"IF(AND(O447=0,P447=0),\"\",IF(O447>P447,M445,M448))","v":""},null,null,null,null,null,null,null,null,null,null,null,null,null,null,null,null,null,null,null,null,null,null,null,null,null,null,null,null,null,null,null,null,null,null,null,null,null,null,58,null,null,null,null,{"$f":"F561","v":{"$error":"#N/A"}},{"$f":"F563","v":{"$error":"#N/A"}}]
[null,null,null,"",null,null,null,{"$f":"BX409","v":0},{"$f":"BY409","v":0},null,null,20,{"$f":"IF(AND(H448=0,I448=0),\"\",IF(H448>I448,F447,F449))","v":""},null,null,null,null,null,null,null,null,null,null,null,null,null,null,null,null,null,null,null,null,null,null,null,null,null,null,null,null,null,null,null,null,null,null,null,null,null,null,null,null,null,null,null,null,null,59,null,null,null,null,{"$f":"F564","v":{"$error":"#N/A"}},{"$f":"F566","v":{"$error":"#N/A"}}]
[40,17,0,"",92,{"$f":"IF(Main!$Q$2=3,VLOOKUP(E449,Kura!$A$4:$Z$350,26,0),Ana_Tablo_Kura!L312)","v":{"$error":"#N/A"}},null,null,null,null,null,null,null,null,null,null,null,null,null,null,null,null,null,null,null,null,null,null,null,null,null,null,null,null,null,null,null,null,null,null,null,null,null,null,null,null,null,null,null,null,null,null,null,null,null,null,null,null,60,null,null,null,null,{"$f":"F567","v":{"$error":"#N/A"}},{"$f":"F569","v":{"$error":"#N/A"}}]
[41,17,0,"",12,{"$f":"IF(Main!$Q$2=3,VLOOKUP(E450,Kura!$A$4:$Z$350,26,0),Ana_Tablo_Kura!L313)","v":{"$error":"#N/A"}},null,null,null,null,null,null,null,null,null,null,null,null,null,null,null,null,null,null,null,null,null,null,null,{"$f":"BX504","v":0},{"$f":"BY504","v":0},null,null,{"$f":"IF(AND(AD450=0,AE450=0),\"\",IF(AD450>AE450,AA444,AA456))","v":""},null,null,null,null,null,null,null,null,null,null,null,null,null,null,null,null,null,null,null,null,null,null,null,null,61,null,null,null,null,{"$f":"F570","v":{"$error":"#N/A"}},{"$f":"F572","v":{"$error":"#N/A"}}]
[null,null,null,"",null,null,null,{"$f":"BX410","v":0},{"$f":"BY410","v":0},null,null,21,{"$f":"IF(AND(H451=0,I451=0),\"\",IF(H451>I451,F450,F452))","v":""},null,null,null,null,null,null,null,null,null,null,null,null,null,null,null,null,null,null,null,null,null,null,null,null,null,null,null,null,null,null,null,null,null,null,null,null,null,null,null,null,null,null,null,null,null,62,null,null,null,null,{"$f":"F573","v":{"$error":"#N/A"}},{"$f":"F575","v":{"$error":"#N/A"}}]
[42,65,31,"E34",117,{"$f":"IF(Main!$Q$2=3,VLOOKUP(E452,Kura!$A$4:$Z$350,26,0),Ana_Tablo_Kura!L314)","v":{"$error":"#N/A"}},null,null,null,null,null,null,null,null,null,null,null,null,{"$f":"+S446+1","v":75},{"$f":"IF(AND(O453=0,P453=0),\"\",IF(O453>P453,M451,M454))","v":""},null,null,null,null,null,null,null,null,null,null,null,null,null,null,null,null,null,null,null,null,null,null,null,null,null,null,null,null,null,null,null,null,null,null,null,null,null,null,63,null,null,null,null,{"$f":"F576","v":{"$error":"#N/A"}},{"$f":"F578","v":{"$error":"#N/A"}}]
[43,65,63,"E2",53,{"$f":"IF(Main!$Q$2=3,VLOOKUP(E453,Kura!$A$4:$Z$350,26,0),Ana_Tablo_Kura!L315)","v":{"$error":"#N/A"}},null,null,null,null,null,null,null,null,{"$f":"BX464","v":0},{"$f":"BY464","v":0},null,null,null,null,null,null,null,null,null,{"$f":"+Z441+1","v":102},null,null,null,null,null,null,null,null,null,null,null,null,null,null,null,null,null,null,null,null,null,null,null,null,null,null,null,null,null,null,null,null,64,null,null,null,null,{"$f":"F579","v":{"$error":"#N/A"}},{"$f":"F581","v":"ÇORUM GENÇLİK SPOR (A) (ÇRM)"}]
[null,null,null,"",null,null,null,{"$f":"BX411","v":0},{"$f":"BY411","v":0},null,null,22,{"$f":"IF(AND(H454=0,I454=0),\"\",IF(H454>I454,F453,F455))","v":""},null,null,null,null,null,null,null,null,null,null,null,null,null,null,null,null,null,null,null,null,null,null,null,null,null,null,null,null,null,null,null,null,null,null,null,null,null,null,null,null,null,null,null,null,null,65,null,null,null,null,{"$f":"M391","v":""},{"$f":"M394","v":""}]
[44,33,0,"",76,{"$f":"IF(Main!$Q$2=3,VLOOKUP(E455,Kura!$A$4:$Z$350,26,0),Ana_Tablo_Kura!L316)","v":{"$error":"#N/A"}},null,null,null,null,null,null,null,null,null,null,null,null,null,null,null,null,null,null,null,null,null,null,null,null,null,null,null,null,null,null,null,null,null,null,null,null,null,null,null,null,null,null,null,null,null,null,null,null,null,null,null,null,66,null,null,null,null,{"$f":"M397","v":""},{"$f":"M400","v":""}]
[45,33,0,"",21,{"$f":"IF(Main!$Q$2=3,VLOOKUP(E456,Kura!$A$4:$Z$350,26,0),Ana_Tablo_Kura!L317)","v":{"$error":"#N/A"}},null,null,null,null,null,null,null,null,null,null,null,null,null,null,null,{"$f":"BX491","v":0},{"$f":"BY491","v":0},null,null,null,{"$f":"IF(AND(V456=0,W456=0),\"\",IF(V456>W456,T452,T459))","v":""},null,null,null,null,null,null,null,null,null,null,null,null,null,null,null,null,null,null,null,null,null,null,null,null,null,null,null,null,null,null,null,67,null,null,null,null,{"$f":"M403","v":""},{"$f":"M406","v":""}]
[null,null,null,"",null,null,null,{"$f":"BX412","v":0},{"$f":"BY412","v":0},null,null,23,{"$f":"IF(AND(H457=0,I457=0),\"\",IF(H457>I457,F456,F458))","v":""},null,null,null,null,null,null,null,null,null,null,null,null,null,null,null,null,null,null,null,null,null,null,null,null,null,null,null,null,null,null,null,null,null,null,null,null,null,null,null,null,null,null,null,null,null,68,null,null,null,null,{"$f":"M409","v":""},{"$f":"M412","v":""}]
[46,65,47,"E18",108,{"$f":"IF(Main!$Q$2=3,VLOOKUP(E458,Kura!$A$4:$Z$350,26,0),Ana_Tablo_Kura!L318)","v":{"$error":"#N/A"}},null,null,null,null,null,null,null,null,null,null,null,null,{"$f":"+S452+1","v":76},null,null,null,null,null,null,null,null,null,null,null,null,null,null,null,null,null,null,null,null,null,null,null,null,null,null,null,null,null,null,null,null,null,null,null,null,null,null,null,69,null,null,null,null,{"$f":"M415","v":""},{"$f":"M418","v":""}]
[47,65,15,"E50",44,{"$f":"IF(Main!$Q$2=3,VLOOKUP(E459,Kura!$A$4:$Z$350,26,0),Ana_Tablo_Kura!L319)","v":{"$error":"#N/A"}},null,null,null,null,null,null,null,null,{"$f":"BX465","v":0},{"$f":"BY465","v":0},null,null,null,{"$f":"IF(AND(O459=0,P459=0),\"\",IF(O459>P459,M457,M460))","v":""},null,null,null,null,null,null,null,null,null,null,null,null,null,null,null,null,null,null,null,null,null,null,null,null,null,null,null,null,null,null,null,null,null,null,null,null,null,null,70,null,null,null,null,{"$f":"M421","v":""},{"$f":"M424","v":""}]
[null,null,null,"",null,null,null,{"$f":"BX413","v":0},{"$f":"BY413","v":0},null,null,24,{"$f":"IF(AND(H460=0,I460=0),\"\",IF(H460>I460,F459,F461))","v":""},null,null,null,null,null,null,null,null,null,null,null,null,null,null,null,null,null,null,null,null,null,null,null,null,null,null,null,null,null,null,null,null,null,null,null,null,null,null,null,null,null,null,null,null,null,71,null,null,null,null,{"$f":"M427","v":""},{"$f":"M430","v":""}]
[48,9,0,"",85,{"$f":"IF(Main!$Q$2=3,VLOOKUP(E461,Kura!$A$4:$Z$350,26,0),Ana_Tablo_Kura!L320)","v":{"$error":"#N/A"}},null,null,null,null,null,null,null,null,null,null,null,null,null,null,null,null,null,null,null,null,null,null,null,null,null,null,null,null,null,null,null,null,null,null,null,null,null,null,null,null,null,null,null,null,null,null,null,null,null,null,null,null,72,null,null,null,null,{"$f":"M433","v":""},{"$f":"M436","v":""}]
[49,9,0,"",84,{"$f":"IF(Main!$Q$2=3,VLOOKUP(E462,Kura!$A$4:$Z$350,26,0),Ana_Tablo_Kura!L321)","v":{"$error":"#N/A"}},null,null,null,null,null,null,null,null,null,null,null,null,null,null,null,null,null,null,null,null,null,null,null,null,null,null,null,null,null,null,null,null,null,null,null,null,null,null,null,null,null,null,null,null,null,null,null,null,null,null,null,null,73,null,null,null,null,{"$f":"M439","v":""},{"$f":"M442","v":""}]
[null,null,null,"",null,null,null,{"$f":"BX414","v":0},{"$f":"BY414","v":0},null,null,25,{"$f":"IF(AND(H463=0,I463=0),\"\",IF(H463>I463,F462,F464))","v":""},null,null,null,null,null,null,null,null,null,null,null,null,null,null,null,null,null,null,null,null,null,null,null,null,null,null,null,null,null,null,null,null,null,null,null,null,null,null,null,null,null,null,null,null,null,74,null,null,null,null,{"$f":"M445","v":""},{"$f":"M448","v":""}]
[50,65,11,"E54",45,{"$f":"IF(Main!$Q$2=3,VLOOKUP(E464,Kura!$A$4:$Z$350,26,0),Ana_Tablo_Kura!L322)","v":{"$error":"#N/A"}},null,null,null,null,null,null,null,null,null,null,null,null,{"$f":"+S458+1","v":77},{"$f":"IF(AND(O465=0,P465=0),\"\",IF(O465>P465,M463,M466))","v":""},null,null,null,null,null,null,null,null,null,null,null,null,null,null,null,null,null,null,null,null,null,null,null,null,null,null,null,null,null,null,null,null,null,null,null,null,null,null,75,null,null,null,null,{"$f":"M451","v":""},{"$f":"M454","v":""}]
[51,65,43,"E22",109,{"$f":"IF(Main!$Q$2=3,VLOOKUP(E465,Kura!$A$4:$Z$350,26,0),Ana_Tablo_Kura!L323)","v":{"$error":"#N/A"}},null,null,null,null,null,null,null,null,{"$f":"BX466","v":0},{"$f":"BY466","v":0},null,null,null,null,null,null,null,null,null,{"$f":"+Z453+1","v":103},null,null,null,null,null,null,null,null,null,null,null,null,null,null,null,null,null,null,null,null,null,null,null,null,null,null,null,null,null,null,null,null,76,null,null,null,null,{"$f":"M457","v":""},{"$f":"M460","v":""}]
[null,null,null,"",null,null,null,{"$f":"BX415","v":0},{"$f":"BY415","v":0},null,null,26,{"$f":"IF(AND(H466=0,I466=0),\"\",IF(H466>I466,F465,F467))","v":""},null,null,null,null,null,null,null,null,null,null,null,null,null,null,null,null,null,null,null,null,null,null,null,null,null,null,null,null,null,null,null,null,null,null,null,null,null,null,null,null,null,null,null,null,null,77,null,null,null,null,{"$f":"M463","v":""},{"$f":"M466","v":""}]
[52,33,0,"",20,{"$f":"IF(Main!$Q$2=3,VLOOKUP(E467,Kura!$A$4:$Z$350,26,0),Ana_Tablo_Kura!L324)","v":{"$error":"#N/A"}},null,null,null,null,null,null,null,null,null,null,null,null,null,null,null,null,null,null,null,null,null,null,null,null,null,null,null,null,null,null,null,null,null,null,null,null,null,null,null,null,null,null,null,null,null,null,null,null,null,null,null,null,78,null,null,null,null,{"$f":"M469","v":""},{"$f":"M472","v":""}]
[53,33,0,"",77,{"$f":"IF(Main!$Q$2=3,VLOOKUP(E468,Kura!$A$4:$Z$350,26,0),Ana_Tablo_Kura!L325)","v":{"$error":"#N/A"}},null,null,null,null,null,null,null,null,null,null,null,null,null,null,null,{"$f":"BX492","v":0},{"$f":"BY492","v":0},null,null,null,{"$f":"IF(AND(V468=0,W468=0),\"\",IF(V468>W468,T464,T471))","v":""},null,null,null,null,null,null,null,null,null,null,null,null,null,null,null,null,null,null,null,null,null,null,null,null,null,null,null,null,null,null,null,79,null,null,null,null,{"$f":"M475","v":""},{"$f":"M478","v":""}]
[null,null,null,"",null,null,null,{"$f":"BX416","v":0},{"$f":"BY416","v":0},null,null,27,{"$f":"IF(AND(H469=0,I469=0),\"\",IF(H469>I469,F468,F470))","v":""},null,null,null,null,null,null,null,null,null,null,null,null,null,null,null,null,null,null,null,{"$f":"+AG445+1","v":116},null,null,null,null,null,null,null,null,null,null,null,null,null,null,null,null,null,null,null,null,null,null,null,null,null,80,null,null,null,null,{"$f":"M481","v":""},{"$f":"M484","v":""}]
[54,65,59,"E6",52,{"$f":"IF(Main!$Q$2=3,VLOOKUP(E470,Kura!$A$4:$Z$350,26,0),Ana_Tablo_Kura!L326)","v":{"$error":"#N/A"}},null,null,null,null,null,null,null,null,null,null,null,null,{"$f":"+S464+1","v":78},null,null,null,null,null,null,null,null,null,null,null,null,null,null,null,null,null,null,null,null,null,null,null,null,null,null,null,null,null,null,null,null,null,null,null,null,null,null,null,81,null,null,null,null,{"$f":"M487","v":""},{"$f":"M490","v":""}]
[55,65,27,"E38",116,{"$f":"IF(Main!$Q$2=3,VLOOKUP(E471,Kura!$A$4:$Z$350,26,0),Ana_Tablo_Kura!L327)","v":{"$error":"#N/A"}},null,null,null,null,null,null,null,null,{"$f":"BX467","v":0},{"$f":"BY467","v":0},null,null,null,{"$f":"IF(AND(O471=0,P471=0),\"\",IF(O471>P471,M469,M472))","v":""},null,null,null,null,null,null,null,null,null,null,null,null,null,null,null,null,null,null,null,null,null,null,null,null,null,null,null,null,null,null,null,null,null,null,null,null,null,null,82,null,null,null,null,{"$f":"M493","v":""},{"$f":"M496","v":""}]
[null,null,null,"",null,null,null,{"$f":"BX417","v":0},{"$f":"BY417","v":0},null,null,28,{"$f":"IF(AND(H472=0,I472=0),\"\",IF(H472>I472,F471,F473))","v":""},null,null,null,null,null,null,null,null,null,null,null,null,null,null,null,null,null,null,null,null,null,null,null,null,null,null,null,null,null,null,null,null,null,null,null,null,null,null,null,null,null,null,null,null,null,83,null,null,null,null,{"$f":"M499","v":""},{"$f":"M502","v":""}]
[56,17,0,"",13,{"$f":"IF(Main!$Q$2=3,VLOOKUP(E473,Kura!$A$4:$Z$350,26,0),Ana_Tablo_Kura!L328)","v":{"$error":"#N/A"}},null,null,null,null,null,null,null,null,null,null,null,null,null,null,null,null,null,null,null,null,null,null,null,null,null,null,null,null,null,null,null,null,null,null,null,null,null,null,null,null,null,null,null,null,null,null,null,null,null,null,null,null,84,null,null,null,null,{"$f":"M505","v":""},{"$f":"M508","v":""}]
[57,17,0,"",93,{"$f":"IF(Main!$Q$2=3,VLOOKUP(E474,Kura!$A$4:$Z$350,26,0),Ana_Tablo_Kura!L329)","v":{"$error":"#N/A"}},null,null,null,null,null,null,null,null,null,null,null,null,null,null,null,null,null,null,null,null,null,null,null,{"$f":"BX505","v":0},{"$f":"BY505","v":0},null,null,{"$f":"IF(AND(AD474=0,AE474=0),\"\",IF(AD474>AE474,AA468,AA480))","v":""},null,null,null,null,null,null,null,null,null,null,null,null,null,null,null,null,null,null,null,null,null,null,null,null,85,null,null,null,null,{"$f":"M511","v":""},{"$f":"M514","v":""}]
[null,null,null,"",null,null,null,{"$f":"BX418","v":0},{"$f":"BY418","v":0},null,null,29,{"$f":"IF(AND(H475=0,I475=0),\"\",IF(H475>I475,F474,F476))","v":""},null,null,null,null,null,null,null,null,null,null,null,null,null,null,null,null,null,null,null,null,null,null,null,null,null,null,null,null,null,null,null,null,null,null,null,null,null,null,null,null,null,null,null,null,null,86,null,null,null,null,{"$f":"M517","v":""},{"$f":"M520","v":""}]
[58,65,19,"E46",36,{"$f":"IF(Main!$Q$2=3,VLOOKUP(E476,Kura!$A$4:$Z$350,26,0),Ana_Tablo_Kura!L330)","v":{"$error":"#N/A"}},null,null,null,null,null,null,null,null,null,null,null,null,{"$f":"+S470+1","v":79},{"$f":"IF(AND(O477=0,P477=0),\"\",IF(O477>P477,M475,M478))","v":""},null,null,null,null,null,null,null,null,null,null,null,null,null,null,null,null,null,null,null,null,null,null,null,null,null,null,null,null,null,null,null,null,null,null,null,null,null,null,87,null,null,null,null,{"$f":"M523","v":""},{"$f":"M526","v":""}]
[59,65,51,"E14",100,{"$f":"IF(Main!$Q$2=3,VLOOKUP(E477,Kura!$A$4:$Z$350,26,0),Ana_Tablo_Kura!L331)","v":{"$error":"#N/A"}},null,null,null,null,null,null,null,null,{"$f":"BX468","v":0},{"$f":"BY468","v":0},null,null,null,null,null,null,null,null,null,{"$f":"+Z465+1","v":104},null,null,null,null,null,null,null,null,null,null,null,null,null,null,null,null,null,null,null,null,null,null,null,null,null,null,null,null,null,null,null,null,88,null,null,null,null,{"$f":"M529","v":""},{"$f":"M532","v":""}]
[null,null,null,"",null,null,null,{"$f":"BX419","v":0},{"$f":"BY419","v":0},null,null,30,{"$f":"IF(AND(H478=0,I478=0),\"\",IF(H478>I478,F477,F479))","v":""},null,null,null,null,null,null,null,null,null,null,null,null,null,null,null,null,null,null,null,null,null,null,null,null,null,null,null,null,null,null,null,null,null,null,null,null,null,null,null,null,null,null,null,null,null,89,null,null,null,null,{"$f":"M535","v":""},{"$f":"M538","v":""}]
[60,33,0,"",29,{"$f":"IF(Main!$Q$2=3,VLOOKUP(E479,Kura!$A$4:$Z$350,26,0),Ana_Tablo_Kura!L332)","v":{"$error":"#N/A"}},null,null,null,null,null,null,null,null,null,null,null,null,null,null,null,null,null,null,null,null,null,null,null,null,null,null,null,null,null,null,null,null,null,null,null,null,null,null,null,null,null,null,null,null,null,null,null,null,null,null,null,null,90,null,null,null,null,{"$f":"M541","v":""},{"$f":"M544","v":""}]
[61,33,0,"",68,{"$f":"IF(Main!$Q$2=3,VLOOKUP(E480,Kura!$A$4:$Z$350,26,0),Ana_Tablo_Kura!L333)","v":{"$error":"#N/A"}},null,null,null,null,null,null,null,null,null,null,null,null,null,null,null,{"$f":"BX493","v":0},{"$f":"BY493","v":0},null,null,null,{"$f":"IF(AND(V480=0,W480=0),\"\",IF(V480>W480,T476,T483))","v":""},null,null,null,null,null,null,null,null,null,null,null,null,null,null,null,null,null,null,null,null,null,null,null,null,null,null,null,null,null,null,null,91,null,null,null,null,{"$f":"M547","v":""},{"$f":"M550","v":""}]
[null,null,null,"",null,null,null,{"$f":"BX420","v":0},{"$f":"BY420","v":0},null,null,31,{"$f":"IF(AND(H481=0,I481=0),\"\",IF(H481>I481,F480,F482))","v":""},null,null,null,null,null,null,null,null,null,null,null,null,null,null,null,null,null,null,null,null,null,null,null,null,null,null,null,null,null,null,null,null,null,null,null,null,null,null,null,null,null,null,null,null,null,92,null,null,null,null,{"$f":"M553","v":""},{"$f":"M556","v":""}]
[62,65,35,"E30",61,{"$f":"IF(Main!$Q$2=3,VLOOKUP(E482,Kura!$A$4:$Z$350,26,0),Ana_Tablo_Kura!L334)","v":{"$error":"#N/A"}},null,null,null,null,null,null,null,null,null,null,null,null,{"$f":"+S476+1","v":80},null,null,null,null,null,null,null,null,null,null,null,null,null,null,null,null,null,null,null,null,null,null,null,null,null,null,null,null,null,null,null,null,null,null,null,null,null,null,null,93,null,null,null,null,{"$f":"M559","v":""},{"$f":"M562","v":""}]
[63,65,3,"E62",125,{"$f":"IF(Main!$Q$2=3,VLOOKUP(E483,Kura!$A$4:$Z$350,26,0),Ana_Tablo_Kura!L335)","v":{"$error":"#N/A"}},null,null,null,null,null,null,null,null,{"$f":"BX469","v":0},{"$f":"BY469","v":0},null,null,null,{"$f":"IF(AND(O483=0,P483=0),\"\",IF(O483>P483,M481,M484))","v":""},null,null,null,null,null,null,null,null,null,null,null,null,null,null,null,null,null,null,null,null,null,null,null,null,null,null,null,null,null,null,null,null,null,null,null,null,null,null,94,null,null,null,null,{"$f":"M565","v":""},{"$f":"M568","v":""}]
[null,null,null,"",null,null,null,{"$f":"BX421","v":0},{"$f":"BY421","v":0},null,null,32,{"$f":"IF(AND(H484=0,I484=0),\"\",IF(H484>I484,F483,F485))","v":""},null,null,null,null,null,null,null,null,null,null,null,null,null,null,null,null,null,null,null,null,null,null,null,null,null,null,null,null,null,null,null,null,null,null,null,null,null,null,null,null,null,null,null,null,null,95,null,null,null,null,{"$f":"M571","v":""},{"$f":"M574","v":""}]
[64,3,0,"",4,{"$f":"IF(Main!$Q$2=3,VLOOKUP(E485,Kura!$A$4:$Z$350,26,0),Ana_Tablo_Kura!L336)","v":"KUTLUBEY OKULLARI (A) (AMS)"},null,null,null,null,null,null,null,null,null,null,null,null,null,null,null,null,null,null,null,null,null,null,null,null,null,null,null,null,null,null,null,null,null,null,null,null,null,null,null,null,null,null,null,null,null,null,null,null,null,null,null,null,96,null,null,null,null,{"$f":"M577","v":""},{"$f":"M580","v":""}]
[65,3,0,"",3,{"$f":"IF(Main!$Q$2=3,VLOOKUP(E486,Kura!$A$4:$Z$350,26,0),Ana_Tablo_Kura!L338)","v":"ŞAFAKTEPE SK (A) (ANK)"},null,null,null,null,null,null,null,null,null,null,null,null,null,null,null,null,null,null,null,null,null,null,null,null,null,null,null,null,null,null,null,null,null,null,null,null,null,null,null,null,null,null,null,null,null,null,null,null,null,null,null,null,97,null,null,null,null,{"$f":"T392","v":""},{"$f":"T399","v":""}]
[null,null,null,"",null,null,null,{"$f":"BX422","v":0},{"$f":"BY422","v":0},null,null,33,{"$f":"IF(AND(H487=0,I487=0),\"\",IF(H487>I487,F486,F488))","v":""},null,null,null,null,null,null,null,null,null,null,null,null,null,null,null,null,null,null,null,null,null,null,null,null,null,null,null,null,null,null,null,null,null,null,null,null,null,null,null,null,null,null,null,null,null,98,null,null,null,null,{"$f":"T404","v":""},{"$f":"T411","v":""}]
[66,65,4,"E61",126,{"$f":"IF(Main!$Q$2=3,VLOOKUP(E488,Kura!$A$4:$Z$350,26,0),Ana_Tablo_Kura!L339)","v":"BEŞİKDÜZÜ AYYILDIZ SPOR (A) (TRB)"},null,null,null,null,null,null,null,null,null,null,null,null,{"$f":"+S482+1","v":81},{"$f":"IF(AND(O489=0,P489=0),\"\",IF(O489>P489,M487,M490))","v":""},null,null,null,null,null,null,null,null,null,null,null,null,null,null,null,null,null,null,null,null,null,null,null,null,null,null,null,null,null,null,null,null,null,null,null,null,null,null,99,null,null,null,null,{"$f":"T416","v":""},{"$f":"T423","v":""}]
[67,65,36,"E29",62,{"$f":"IF(Main!$Q$2=3,VLOOKUP(E489,Kura!$A$4:$Z$350,26,0),Ana_Tablo_Kura!L340)","v":"YALIKÖY ŞBÇ OO (A) (GRS)"},null,null,null,null,null,null,null,null,{"$f":"BX470","v":0},{"$f":"BY470","v":0},null,null,null,null,null,null,null,null,null,{"$f":"+Z477+1","v":105},null,null,null,null,null,null,null,null,null,null,null,null,null,null,null,null,null,null,null,null,null,null,null,null,null,null,null,null,null,null,null,null,100,null,null,null,null,{"$f":"T428","v":""},{"$f":"T435","v":""}]
[null,null,null,"",null,null,null,{"$f":"BX423","v":0},{"$f":"BY423","v":0},null,null,34,{"$f":"IF(AND(H490=0,I490=0),\"\",IF(H490>I490,F489,F491))","v":""},null,null,null,null,null,null,null,null,null,null,null,null,null,null,null,null,null,null,null,null,null,null,null,null,null,null,null,null,null,null,null,null,null,null,null,null,null,null,null,null,null,null,null,null,null,101,null,null,null,null,{"$f":"T440","v":""},{"$f":"T447","v":""}]
[68,33,0,"",67,{"$f":"IF(Main!$Q$2=3,VLOOKUP(E491,Kura!$A$4:$Z$350,26,0),Ana_Tablo_Kura!L341)","v":{"$error":"#N/A"}},null,null,null,null,null,null,null,null,null,null,null,null,null,null,null,null,null,null,null,null,null,null,null,null,null,null,null,null,null,null,null,null,null,null,null,null,null,null,null,null,null,null,null,null,null,null,null,null,null,null,null,null,102,null,null,null,null,{"$f":"T452","v":""},{"$f":"T459","v":""}]
[69,33,0,"",30,{"$f":"IF(Main!$Q$2=3,VLOOKUP(E492,Kura!$A$4:$Z$350,26,0),Ana_Tablo_Kura!L342)","v":{"$error":"#N/A"}},null,null,null,null,null,null,null,null,null,null,null,null,null,null,null,{"$f":"BX494","v":0},{"$f":"BY494","v":0},null,null,null,{"$f":"IF(AND(V492=0,W492=0),\"\",IF(V492>W492,T488,T495))","v":""},null,null,null,null,null,null,null,null,null,null,null,null,null,null,null,null,null,null,null,null,null,null,null,null,null,null,null,null,null,null,null,103,null,null,null,null,{"$f":"T464","v":""},{"$f":"T471","v":""}]
[null,null,null,"",null,null,null,{"$f":"BX424","v":0},{"$f":"BY424","v":0},null,null,35,{"$f":"IF(AND(H493=0,I493=0),\"\",IF(H493>I493,F492,F494))","v":""},null,null,null,null,null,null,null,null,null,null,null,null,null,null,null,null,null,null,null,{"$f":"+AG469+1","v":117},null,null,null,null,null,null,null,null,null,null,null,null,null,null,null,null,null,null,null,null,null,null,null,null,null,104,null,null,null,null,{"$f":"T476","v":""},{"$f":"T483","v":""}]
[70,65,52,"E13",99,{"$f":"IF(Main!$Q$2=3,VLOOKUP(E494,Kura!$A$4:$Z$350,26,0),Ana_Tablo_Kura!L343)","v":{"$error":"#N/A"}},null,null,null,null,null,null,null,null,null,null,null,null,{"$f":"+S488+1","v":82},null,null,null,null,null,null,null,null,null,null,null,null,null,null,null,null,null,null,null,null,null,null,null,null,null,null,null,null,null,null,null,null,null,null,null,null,null,null,null,105,null,null,null,null,{"$f":"T488","v":""},{"$f":"T495","v":""}]
[71,65,20,"E45",35,{"$f":"IF(Main!$Q$2=3,VLOOKUP(E495,Kura!$A$4:$Z$350,26,0),Ana_Tablo_Kura!L344)","v":{"$error":"#N/A"}},null,null,null,null,null,null,null,null,{"$f":"BX471","v":0},{"$f":"BY471","v":0},null,null,null,{"$f":"IF(AND(O495=0,P495=0),\"\",IF(O495>P495,M493,M496))","v":""},null,null,null,null,null,null,null,null,null,null,null,null,null,null,null,null,null,null,null,null,null,null,null,null,null,null,null,null,null,null,null,null,null,null,null,null,null,null,106,null,null,null,null,{"$f":"T500","v":""},{"$f":"T507","v":""}]
[null,null,null,"",null,null,null,{"$f":"BX425","v":0},{"$f":"BY425","v":0},null,null,36,{"$f":"IF(AND(H496=0,I496=0),\"\",IF(H496>I496,F495,F497))","v":""},null,null,null,null,null,null,null,null,null,null,null,null,null,null,null,null,null,null,null,null,null,null,null,null,null,null,null,null,null,null,null,null,null,null,null,null,null,null,null,null,null,null,null,null,null,107,null,null,null,null,{"$f":"T512","v":""},{"$f":"T519","v":""}]
[72,17,0,"",94,{"$f":"IF(Main!$Q$2=3,VLOOKUP(E497,Kura!$A$4:$Z$350,26,0),Ana_Tablo_Kura!L345)","v":{"$error":"#N/A"}},null,null,null,null,null,null,null,null,null,null,null,null,null,null,null,null,null,null,null,null,null,null,null,null,null,null,null,null,null,null,null,null,null,null,null,null,null,null,null,null,null,null,null,null,null,null,null,null,null,null,null,null,108,null,null,null,null,{"$f":"T524","v":""},{"$f":"T531","v":""}]
[73,17,0,"",14,{"$f":"IF(Main!$Q$2=3,VLOOKUP(E498,Kura!$A$4:$Z$350,26,0),Ana_Tablo_Kura!L346)","v":{"$error":"#N/A"}},null,null,null,null,null,null,null,null,null,null,null,null,null,null,null,null,null,null,null,null,null,null,null,{"$f":"BX506","v":0},{"$f":"BY506","v":0},null,null,{"$f":"IF(AND(AD498=0,AE498=0),\"\",IF(AD498>AE498,AA492,AA504))","v":""},null,null,null,null,null,null,null,null,null,null,null,null,null,null,null,null,null,null,null,null,null,null,null,null,109,null,null,null,null,{"$f":"T536","v":""},{"$f":"T543","v":""}]
[null,null,null,"",null,null,null,{"$f":"BX426","v":0},{"$f":"BY426","v":0},null,null,37,{"$f":"IF(AND(H499=0,I499=0),\"\",IF(H499>I499,F498,F500))","v":""},null,null,null,null,null,null,null,null,null,null,null,null,null,null,null,null,null,null,null,null,null,null,null,null,null,null,null,null,null,null,null,null,null,null,null,null,null,null,null,null,null,null,null,null,null,110,null,null,null,null,{"$f":"T548","v":""},{"$f":"T555","v":""}]
[74,65,28,"E37",115,{"$f":"IF(Main!$Q$2=3,VLOOKUP(E500,Kura!$A$4:$Z$350,26,0),Ana_Tablo_Kura!L347)","v":{"$error":"#N/A"}},null,null,null,null,null,null,null,null,null,null,null,null,{"$f":"+S494+1","v":83},{"$f":"IF(AND(O501=0,P501=0),\"\",IF(O501>P501,M499,M502))","v":""},null,null,null,null,null,null,null,null,null,null,null,null,null,null,null,null,null,null,null,null,null,null,null,null,null,null,null,null,null,null,null,null,null,null,null,null,null,null,111,null,null,null,null,{"$f":"T560","v":""},{"$f":"T567","v":""}]
[75,65,60,"E5",51,{"$f":"IF(Main!$Q$2=3,VLOOKUP(E501,Kura!$A$4:$Z$350,26,0),Ana_Tablo_Kura!L348)","v":{"$error":"#N/A"}},null,null,null,null,null,null,null,null,{"$f":"BX472","v":0},{"$f":"BY472","v":0},null,null,null,null,null,null,null,null,null,{"$f":"+Z489+1","v":106},null,null,null,null,null,null,null,null,null,null,null,null,null,null,null,null,null,null,null,null,null,null,null,null,null,null,null,null,null,null,null,null,112,null,null,null,null,{"$f":"T572","v":""},{"$f":"T579","v":""}]
[null,null,null,"",null,null,null,{"$f":"BX427","v":0},{"$f":"BY427","v":0},null,null,38,{"$f":"IF(AND(H502=0,I502=0),\"\",IF(H502>I502,F501,F503))","v":""},null,null,null,null,null,null,null,null,null,null,null,null,null,null,null,null,null,null,null,null,null,null,null,null,null,null,null,null,null,null,null,null,null,null,null,null,null,null,null,null,null,null,null,null,null,113,null,null,null,null,{"$f":"AA396","v":""},{"$f":"AA408","v":""}]
[76,33,0,"",78,{"$f":"IF(Main!$Q$2=3,VLOOKUP(E503,Kura!$A$4:$Z$350,26,0),Ana_Tablo_Kura!L349)","v":{"$error":"#N/A"}},null,null,null,null,null,null,null,null,null,null,null,null,null,null,null,null,null,null,null,null,null,null,null,null,null,null,null,null,null,null,null,null,null,null,null,null,null,null,null,null,null,null,null,null,null,null,null,null,null,null,null,null,114,null,null,null,null,{"$f":"AA420","v":""},{"$f":"AA432","v":""}]
[77,33,0,"",19,{"$f":"IF(Main!$Q$2=3,VLOOKUP(E504,Kura!$A$4:$Z$350,26,0),Ana_Tablo_Kura!L350)","v":{"$error":"#N/A"}},null,null,null,null,null,null,null,null,null,null,null,null,null,null,null,{"$f":"BX495","v":0},{"$f":"BY495","v":0},null,null,null,{"$f":"IF(AND(V504=0,W504=0),\"\",IF(V504>W504,T500,T507))","v":""},null,null,null,null,null,null,null,null,null,null,null,null,null,null,null,null,null,null,null,null,null,null,null,null,null,null,null,null,null,null,null,115,null,null,null,null,{"$f":"AA444","v":""},{"$f":"AA456","v":""}]
[null,null,null,"",null,null,null,{"$f":"BX428","v":0},{"$f":"BY428","v":0},null,null,39,{"$f":"IF(AND(H505=0,I505=0),\"\",IF(H505>I505,F504,F506))","v":""},null,null,null,null,null,null,null,null,null,null,null,null,null,null,null,null,null,null,null,null,null,null,null,null,null,null,null,null,null,null,null,null,null,null,null,null,null,null,null,null,null,null,null,null,null,116,null,null,null,null,{"$f":"AA468","v":""},{"$f":"AA480","v":""}]
[78,65,44,"E21",110,{"$f":"IF(Main!$Q$2=3,VLOOKUP(E506,Kura!$A$4:$Z$350,26,0),Ana_Tablo_Kura!L351)","v":{"$error":"#N/A"}},null,null,null,null,null,null,null,null,null,null,null,null,{"$f":"+S500+1","v":84},null,null,null,null,null,null,null,null,null,null,null,null,null,null,null,null,null,null,null,null,null,null,null,null,null,null,null,null,null,null,null,null,null,null,null,null,null,null,null,117,null,null,null,null,{"$f":"AA492","v":""},{"$f":"AA504","v":""}]
[79,65,12,"E53",46,{"$f":"IF(Main!$Q$2=3,VLOOKUP(E507,Kura!$A$4:$Z$350,26,0),Ana_Tablo_Kura!L352)","v":{"$error":"#N/A"}},null,null,null,null,null,null,null,null,{"$f":"BX473","v":0},{"$f":"BY473","v":0},null,null,null,{"$f":"IF(AND(O507=0,P507=0),\"\",IF(O507>P507,M505,M508))","v":""},null,null,null,null,null,null,null,null,null,null,null,null,null,null,null,null,null,null,null,null,null,null,null,null,null,null,null,null,null,null,null,null,null,null,null,null,null,null,118,null,null,null,null,{"$f":"AA516","v":""},{"$f":"AA528","v":""}]
[null,null,null,"",null,null,null,{"$f":"BX429","v":0},{"$f":"BY429","v":0},null,null,40,{"$f":"IF(AND(H508=0,I508=0),\"\",IF(H508>I508,F507,F509))","v":""},null,null,null,null,null,null,null,null,null,null,null,null,null,null,null,null,null,null,null,null,null,null,null,null,null,null,null,null,null,null,null,null,null,null,null,null,null,null,null,null,null,null,null,null,null,119,null,null,null,null,{"$f":"AA540","v":""},{"$f":"AA552","v":""}]
[80,9,0,"",83,{"$f":"IF(Main!$Q$2=3,VLOOKUP(E509,Kura!$A$4:$Z$350,26,0),Ana_Tablo_Kura!L353)","v":{"$error":"#N/A"}},null,null,null,null,null,null,null,null,null,null,null,null,null,null,null,null,null,null,null,null,null,null,null,null,null,null,null,null,null,null,null,null,null,null,null,null,null,null,null,null,null,null,null,null,null,null,null,null,null,null,null,null,120,null,null,null,null,{"$f":"AA564","v":""},{"$f":"AA576","v":""}]
[81,9,0,"",86,{"$f":"IF(Main!$Q$2=3,VLOOKUP(E510,Kura!$A$4:$Z$350,26,0),Ana_Tablo_Kura!L354)","v":{"$error":"#N/A"}},null,null,null,null,null,null,null,null,null,null,null,null,null,null,null,null,null,null,null,null,null,null,null,null,null,null,null,null,null,null,null,null,null,null,null,null,null,null,null,null,null,null,null,null,null,null,null,null,null,null,null,null,121,null,null,null,null,{"$f":"AH402","v":""},{"$f":"AH426","v":""}]
[null,null,null,"",null,null,null,{"$f":"BX430","v":0},{"$f":"BY430","v":0},null,null,41,{"$f":"IF(AND(H511=0,I511=0),\"\",IF(H511>I511,F510,F512))","v":""},null,null,null,null,null,null,null,null,null,null,null,null,null,null,null,null,null,null,null,null,null,null,null,null,null,null,null,null,null,null,null,null,null,null,null,null,null,null,null,null,null,null,null,null,null,122,null,null,null,null,{"$f":"AH450","v":""},{"$f":"AH474","v":""}]
[82,65,16,"E49",43,{"$f":"IF(Main!$Q$2=3,VLOOKUP(E512,Kura!$A$4:$Z$350,26,0),Ana_Tablo_Kura!L355)","v":{"$error":"#N/A"}},null,null,null,null,null,null,null,null,null,null,null,null,{"$f":"+S506+1","v":85},{"$f":"IF(AND(O513=0,P513=0),\"\",IF(O513>P513,M511,M514))","v":""},null,null,null,null,null,null,null,null,null,null,null,null,null,null,null,null,null,null,null,null,null,null,null,null,null,null,null,null,null,null,null,null,null,null,null,null,null,null,123,null,null,null,null,{"$f":"AH498","v":""},{"$f":"AH522","v":""}]
[83,65,48,"E17",107,{"$f":"IF(Main!$Q$2=3,VLOOKUP(E513,Kura!$A$4:$Z$350,26,0),Ana_Tablo_Kura!L356)","v":{"$error":"#N/A"}},null,null,null,null,null,null,null,null,{"$f":"BX474","v":0},{"$f":"BY474","v":0},null,null,null,null,null,null,null,null,null,{"$f":"+Z501+1","v":107},null,null,null,null,null,null,null,null,null,null,null,null,null,null,null,null,null,null,null,null,null,null,null,null,null,null,null,null,null,null,null,null,124,null,null,null,null,{"$f":"AH546","v":""},{"$f":"AH570","v":""}]
[null,null,null,"",null,null,null,{"$f":"BX431","v":0},{"$f":"BY431","v":0},null,null,42,{"$f":"IF(AND(H514=0,I514=0),\"\",IF(H514>I514,F513,F515))","v":""}]
[84,33,0,"",22,{"$f":"IF(Main!$Q$2=3,VLOOKUP(E515,Kura!$A$4:$Z$350,26,0),Ana_Tablo_Kura!L357)","v":{"$error":"#N/A"}}]
[85,33,0,"",75,{"$f":"IF(Main!$Q$2=3,VLOOKUP(E516,Kura!$A$4:$Z$350,26,0),Ana_Tablo_Kura!L358)","v":{"$error":"#N/A"}},null,null,null,null,null,null,null,null,null,null,null,null,null,null,null,{"$f":"BX496","v":0},{"$f":"BY496","v":0},null,null,null,{"$f":"IF(AND(V516=0,W516=0),\"\",IF(V516>W516,T512,T519))","v":""}]
[null,null,null,"",null,null,null,{"$f":"BX432","v":0},{"$f":"BY432","v":0},null,null,43,{"$f":"IF(AND(H517=0,I517=0),\"\",IF(H517>I517,F516,F518))","v":""},null,null,null,null,null,null,null,null,null,null,null,null,null,null,null,null,null,null,null,{"$f":"+AG493+1","v":118}]
[86,65,64,"E1",54,{"$f":"IF(Main!$Q$2=3,VLOOKUP(E518,Kura!$A$4:$Z$350,26,0),Ana_Tablo_Kura!L359)","v":{"$error":"#N/A"}},null,null,null,null,null,null,null,null,null,null,null,null,{"$f":"+S512+1","v":86}]
[87,65,32,"E33",118,{"$f":"IF(Main!$Q$2=3,VLOOKUP(E519,Kura!$A$4:$Z$350,26,0),Ana_Tablo_Kura!L360)","v":{"$error":"#N/A"}},null,null,null,null,null,null,null,null,{"$f":"BX475","v":0},{"$f":"BY475","v":0},null,null,null,{"$f":"IF(AND(O519=0,P519=0),\"\",IF(O519>P519,M517,M520))","v":""}]
[null,null,null,"",null,null,null,{"$f":"BX433","v":0},{"$f":"BY433","v":0},null,null,44,{"$f":"IF(AND(H520=0,I520=0),\"\",IF(H520>I520,F519,F521))","v":""}]
[88,17,0,"",11,{"$f":"IF(Main!$Q$2=3,VLOOKUP(E521,Kura!$A$4:$Z$350,26,0),Ana_Tablo_Kura!L361)","v":{"$error":"#N/A"}}]
[89,17,0,"",91,{"$f":"IF(Main!$Q$2=3,VLOOKUP(E522,Kura!$A$4:$Z$350,26,0),Ana_Tablo_Kura!L362)","v":{"$error":"#N/A"}},null,null,null,null,null,null,null,null,null,null,null,null,null,null,null,null,null,null,null,null,null,null,null,{"$f":"BX507","v":0},{"$f":"BY507","v":0},null,null,{"$f":"IF(AND(AD522=0,AE522=0),\"\",IF(AD522>AE522,AA516,AA528))","v":""}]
[null,null,null,"",null,null,null,{"$f":"BX434","v":0},{"$f":"BY434","v":0},null,null,45,{"$f":"IF(AND(H523=0,I523=0),\"\",IF(H523>I523,F522,F524))","v":""}]
[90,65,24,"E41",38,{"$f":"IF(Main!$Q$2=3,VLOOKUP(E524,Kura!$A$4:$Z$350,26,0),Ana_Tablo_Kura!L363)","v":{"$error":"#N/A"}},null,null,null,null,null,null,null,null,null,null,null,null,{"$f":"+S518+1","v":87},{"$f":"IF(AND(O525=0,P525=0),\"\",IF(O525>P525,M523,M526))","v":""}]
[91,65,56,"E9",102,{"$f":"IF(Main!$Q$2=3,VLOOKUP(E525,Kura!$A$4:$Z$350,26,0),Ana_Tablo_Kura!L364)","v":{"$error":"#N/A"}},null,null,null,null,null,null,null,null,{"$f":"BX476","v":0},{"$f":"BY476","v":0},null,null,null,null,null,null,null,null,null,{"$f":"+Z513+1","v":108}]
[null,null,null,"",null,null,null,{"$f":"BX435","v":0},{"$f":"BY435","v":0},null,null,46,{"$f":"IF(AND(H526=0,I526=0),\"\",IF(H526>I526,F525,F527))","v":""}]
[92,33,0,"",27,{"$f":"IF(Main!$Q$2=3,VLOOKUP(E527,Kura!$A$4:$Z$350,26,0),Ana_Tablo_Kura!L365)","v":{"$error":"#N/A"}}]
[93,33,0,"",70,{"$f":"IF(Main!$Q$2=3,VLOOKUP(E528,Kura!$A$4:$Z$350,26,0),Ana_Tablo_Kura!L366)","v":{"$error":"#N/A"}},null,null,null,null,null,null,null,null,null,null,null,null,null,null,null,{"$f":"BX497","v":0},{"$f":"BY497","v":0},null,null,null,{"$f":"IF(AND(V528=0,W528=0),\"\",IF(V528>W528,T524,T531))","v":""}]
[null,null,null,"",null,null,null,{"$f":"BX436","v":0},{"$f":"BY436","v":0},null,null,47,{"$f":"IF(AND(H529=0,I529=0),\"\",IF(H529>I529,F528,F530))","v":""}]
[94,65,40,"E25",59,{"$f":"IF(Main!$Q$2=3,VLOOKUP(E530,Kura!$A$4:$Z$350,26,0),Ana_Tablo_Kura!L367)","v":{"$error":"#N/A"}},null,null,null,null,null,null,null,null,null,null,null,null,{"$f":"+S524+1","v":88}]
[95,65,8,"E57",123,{"$f":"IF(Main!$Q$2=3,VLOOKUP(E531,Kura!$A$4:$Z$350,26,0),Ana_Tablo_Kura!L368)","v":{"$error":"#N/A"}},null,null,null,null,null,null,null,null,{"$f":"BX477","v":0},{"$f":"BY477","v":0},null,null,null,{"$f":"IF(AND(O531=0,P531=0),\"\",IF(O531>P531,M529,M532))","v":""}]
[null,null,null,"",null,null,null,{"$f":"BX437","v":0},{"$f":"BY437","v":0},null,null,48,{"$f":"IF(AND(H532=0,I532=0),\"\",IF(H532>I532,F531,F533))","v":""}]
[96,5,0,"",6,{"$f":"IF(Main!$Q$2=3,VLOOKUP(E533,Kura!$A$4:$Z$350,26,0),Ana_Tablo_Kura!L369)","v":{"$error":"#N/A"}}]
[97,5,0,"",7,{"$f":"IF(Main!$Q$2=3,VLOOKUP(E534,Kura!$A$4:$Z$350,26,0),Ana_Tablo_Kura!L370)","v":{"$error":"#N/A"}}]
[null,null,null,"",null,null,null,{"$f":"BX438","v":0},{"$f":"BY438","v":0},null,null,49,{"$f":"IF(AND(H535=0,I535=0),\"\",IF(H535>I535,F534,F536))","v":""}]
[98,65,6,"E59",122,{"$f":"IF(Main!$Q$2=3,VLOOKUP(E536,Kura!$A$4:$Z$350,26,0),Ana_Tablo_Kura!L371)","v":{"$error":"#N/A"}},null,null,null,null,null,null,null,null,null,null,null,null,{"$f":"+S530+1","v":89},{"$f":"IF(AND(O537=0,P537=0),\"\",IF(O537>P537,M535,M538))","v":""}]
[99,65,38,"E27",58,{"$f":"IF(Main!$Q$2=3,VLOOKUP(E537,Kura!$A$4:$Z$350,26,0),Ana_Tablo_Kura!L372)","v":{"$error":"#N/A"}},null,null,null,null,null,null,null,null,{"$f":"BX478","v":0},{"$f":"BY478","v":0},null,null,null,null,null,null,null,null,null,{"$f":"+Z525+1","v":109}]
[null,null,null,"",null,null,null,{"$f":"BX439","v":0},{"$f":"BY439","v":0},null,null,50,{"$f":"IF(AND(H538=0,I538=0),\"\",IF(H538>I538,F537,F539))","v":""}]
[100,33,0,"",71,{"$f":"IF(Main!$Q$2=3,VLOOKUP(E539,Kura!$A$4:$Z$350,26,0),Ana_Tablo_Kura!L373)","v":{"$error":"#N/A"}}]
[101,33,0,"",26,{"$f":"IF(Main!$Q$2=3,VLOOKUP(E540,Kura!$A$4:$Z$350,26,0),Ana_Tablo_Kura!L374)","v":{"$error":"#N/A"}},null,null,null,null,null,null,null,null,null,null,null,null,null,null,null,{"$f":"BX498","v":0},{"$f":"BY498","v":0},null,null,null,{"$f":"IF(AND(V540=0,W540=0),\"\",IF(V540>W540,T536,T543))","v":""}]
[null,null,null,"",null,null,null,{"$f":"BX440","v":0},{"$f":"BY440","v":0},null,null,51,{"$f":"IF(AND(H541=0,I541=0),\"\",IF(H541>I541,F540,F542))","v":""},null,null,null,null,null,null,null,null,null,null,null,null,null,null,null,null,null,null,null,{"$f":"+AG517+1","v":119}]
[102,65,54,"E11",103,{"$f":"IF(Main!$Q$2=3,VLOOKUP(E542,Kura!$A$4:$Z$350,26,0),Ana_Tablo_Kura!L375)","v":{"$error":"#N/A"}},null,null,null,null,null,null,null,null,null,null,null,null,{"$f":"+S536+1","v":90}]
[103,65,22,"E43",39,{"$f":"IF(Main!$Q$2=3,VLOOKUP(E543,Kura!$A$4:$Z$350,26,0),Ana_Tablo_Kura!L376)","v":{"$error":"#N/A"}},null,null,null,null,null,null,null,null,{"$f":"BX479","v":0},{"$f":"BY479","v":0},null,null,null,{"$f":"IF(AND(O543=0,P543=0),\"\",IF(O543>P543,M541,M544))","v":""}]
[null,null,null,"",null,null,null,{"$f":"BX441","v":0},{"$f":"BY441","v":0},null,null,52,{"$f":"IF(AND(H544=0,I544=0),\"\",IF(H544>I544,F543,F545))","v":""}]
[104,17,0,"",90,{"$f":"IF(Main!$Q$2=3,VLOOKUP(E545,Kura!$A$4:$Z$350,26,0),Ana_Tablo_Kura!L377)","v":{"$error":"#N/A"}}]
[105,17,0,"",10,{"$f":"IF(Main!$Q$2=3,VLOOKUP(E546,Kura!$A$4:$Z$350,26,0),Ana_Tablo_Kura!L378)","v":{"$error":"#N/A"}},null,null,null,null,null,null,null,null,null,null,null,null,null,null,null,null,null,null,null,null,null,null,null,{"$f":"BX508","v":0},{"$f":"BY508","v":0},null,null,{"$f":"IF(AND(AD546=0,AE546=0),\"\",IF(AD546>AE546,AA540,AA552))","v":""}]
[null,null,null,"",null,null,null,{"$f":"BX442","v":0},{"$f":"BY442","v":0},null,null,53,{"$f":"IF(AND(H547=0,I547=0),\"\",IF(H547>I547,F546,F548))","v":""}]
[106,65,30,"E35",119,{"$f":"IF(Main!$Q$2=3,VLOOKUP(E548,Kura!$A$4:$Z$350,26,0),Ana_Tablo_Kura!L379)","v":{"$error":"#N/A"}},null,null,null,null,null,null,null,null,null,null,null,null,{"$f":"+S542+1","v":91},{"$f":"IF(AND(O549=0,P549=0),\"\",IF(O549>P549,M547,M550))","v":""}]
[107,65,62,"E3",55,{"$f":"IF(Main!$Q$2=3,VLOOKUP(E549,Kura!$A$4:$Z$350,26,0),Ana_Tablo_Kura!L380)","v":{"$error":"#N/A"}},null,null,null,null,null,null,null,null,{"$f":"BX480","v":0},{"$f":"BY480","v":0},null,null,null,null,null,null,null,null,null,{"$f":"+Z537+1","v":110}]
[null,null,null,"",null,null,null,{"$f":"BX443","v":0},{"$f":"BY443","v":0},null,null,54,{"$f":"IF(AND(H550=0,I550=0),\"\",IF(H550>I550,F549,F551))","v":""}]
[108,33,0,"",74,{"$f":"IF(Main!$Q$2=3,VLOOKUP(E551,Kura!$A$4:$Z$350,26,0),Ana_Tablo_Kura!L381)","v":{"$error":"#N/A"}}]
[109,33,0,"",23,{"$f":"IF(Main!$Q$2=3,VLOOKUP(E552,Kura!$A$4:$Z$350,26,0),Ana_Tablo_Kura!L382)","v":{"$error":"#N/A"}},null,null,null,null,null,null,null,null,null,null,null,null,null,null,null,{"$f":"BX499","v":0},{"$f":"BY499","v":0},null,null,null,{"$f":"IF(AND(V552=0,W552=0),\"\",IF(V552>W552,T548,T555))","v":""}]
[null,null,null,"",null,null,null,{"$f":"BX444","v":0},{"$f":"BY444","v":0},null,null,55,{"$f":"IF(AND(H553=0,I553=0),\"\",IF(H553>I553,F552,F554))","v":""}]
[110,65,46,"E19",106,{"$f":"IF(Main!$Q$2=3,VLOOKUP(E554,Kura!$A$4:$Z$350,26,0),Ana_Tablo_Kura!L383)","v":{"$error":"#N/A"}},null,null,null,null,null,null,null,null,null,null,null,null,{"$f":"+S548+1","v":92}]
[111,65,14,"E51",42,{"$f":"IF(Main!$Q$2=3,VLOOKUP(E555,Kura!$A$4:$Z$350,26,0),Ana_Tablo_Kura!L384)","v":{"$error":"#N/A"}},null,null,null,null,null,null,null,null,{"$f":"BX481","v":0},{"$f":"BY481","v":0},null,null,null,{"$f":"IF(AND(O555=0,P555=0),\"\",IF(O555>P555,M553,M556))","v":""}]
[null,null,null,"",null,null,null,{"$f":"BX445","v":0},{"$f":"BY445","v":0},null,null,56,{"$f":"IF(AND(H556=0,I556=0),\"\",IF(H556>I556,F555,F557))","v":""}]
[112,9,0,"",87,{"$f":"IF(Main!$Q$2=3,VLOOKUP(E557,Kura!$A$4:$Z$350,26,0),Ana_Tablo_Kura!L385)","v":{"$error":"#N/A"}}]
[113,9,0,"",82,{"$f":"IF(Main!$Q$2=3,VLOOKUP(E558,Kura!$A$4:$Z$350,26,0),Ana_Tablo_Kura!L386)","v":{"$error":"#N/A"}}]
[null,null,null,"",null,null,null,{"$f":"BX446","v":0},{"$f":"BY446","v":0},null,null,57,{"$f":"IF(AND(H559=0,I559=0),\"\",IF(H559>I559,F558,F560))","v":""}]
[114,65,10,"E55",47,{"$f":"IF(Main!$Q$2=3,VLOOKUP(E560,Kura!$A$4:$Z$350,26,0),Ana_Tablo_Kura!L387)","v":{"$error":"#N/A"}},null,null,null,null,null,null,null,null,null,null,null,null,{"$f":"+S554+1","v":93},{"$f":"IF(AND(O561=0,P561=0),\"\",IF(O561>P561,M559,M562))","v":""}]
[115,65,42,"E23",111,{"$f":"IF(Main!$Q$2=3,VLOOKUP(E561,Kura!$A$4:$Z$350,26,0),Ana_Tablo_Kura!L388)","v":{"$error":"#N/A"}},null,null,null,null,null,null,null,null,{"$f":"BX482","v":0},{"$f":"BY482","v":0},null,null,null,null,null,null,null,null,null,{"$f":"+Z549+1","v":111}]
[null,null,null,"",null,null,null,{"$f":"BX447","v":0},{"$f":"BY447","v":0},null,null,58,{"$f":"IF(AND(H562=0,I562=0),\"\",IF(H562>I562,F561,F563))","v":""}]
[116,33,0,"",18,{"$f":"IF(Main!$Q$2=3,VLOOKUP(E563,Kura!$A$4:$Z$350,26,0),Ana_Tablo_Kura!L389)","v":{"$error":"#N/A"}}]
[117,33,0,"",79,{"$f":"IF(Main!$Q$2=3,VLOOKUP(E564,Kura!$A$4:$Z$350,26,0),Ana_Tablo_Kura!L390)","v":{"$error":"#N/A"}},null,null,null,null,null,null,null,null,null,null,null,null,null,null,null,{"$f":"BX500","v":0},{"$f":"BY500","v":0},null,null,null,{"$f":"IF(AND(V564=0,W564=0),\"\",IF(V564>W564,T560,T567))","v":""}]
[null,null,null,"",null,null,null,{"$f":"BX448","v":0},{"$f":"BY448","v":0},null,null,59,{"$f":"IF(AND(H565=0,I565=0),\"\",IF(H565>I565,F564,F566))","v":""},null,null,null,null,null,null,null,null,null,null,null,null,null,null,null,null,null,null,null,{"$f":"+AG541+1","v":120}]
[118,65,58,"E7",50,{"$f":"IF(Main!$Q$2=3,VLOOKUP(E566,Kura!$A$4:$Z$350,26,0),Ana_Tablo_Kura!L391)","v":{"$error":"#N/A"}},null,null,null,null,null,null,null,null,null,null,null,null,{"$f":"+S560+1","v":94}]
[119,65,26,"E39",114,{"$f":"IF(Main!$Q$2=3,VLOOKUP(E567,Kura!$A$4:$Z$350,26,0),Ana_Tablo_Kura!L392)","v":{"$error":"#N/A"}},null,null,null,null,null,null,null,null,{"$f":"BX483","v":0},{"$f":"BY483","v":0},null,null,null,{"$f":"IF(AND(O567=0,P567=0),\"\",IF(O567>P567,M565,M568))","v":""}]
[null,null,null,"",null,null,null,{"$f":"BX449","v":0},{"$f":"BY449","v":0},null,null,60,{"$f":"IF(AND(H568=0,I568=0),\"\",IF(H568>I568,F567,F569))","v":""}]
[120,17,0,"",15,{"$f":"IF(Main!$Q$2=3,VLOOKUP(E569,Kura!$A$4:$Z$350,26,0),Ana_Tablo_Kura!L393)","v":{"$error":"#N/A"}}]
[121,17,0,"",95,{"$f":"IF(Main!$Q$2=3,VLOOKUP(E570,Kura!$A$4:$Z$350,26,0),Ana_Tablo_Kura!L394)","v":{"$error":"#N/A"}},null,null,null,null,null,null,null,null,null,null,null,null,null,null,null,null,null,null,null,null,null,null,null,{"$f":"BX509","v":0},{"$f":"BY509","v":0},null,null,{"$f":"IF(AND(AD570=0,AE570=0),\"\",IF(AD570>AE570,AA564,AA576))","v":""}]
[null,null,null,"",null,null,null,{"$f":"BX450","v":0},{"$f":"BY450","v":0},null,null,61,{"$f":"IF(AND(H571=0,I571=0),\"\",IF(H571>I571,F570,F572))","v":""}]
[122,65,18,"E47",34,{"$f":"IF(Main!$Q$2=3,VLOOKUP(E572,Kura!$A$4:$Z$350,26,0),Ana_Tablo_Kura!L395)","v":{"$error":"#N/A"}},null,null,null,null,null,null,null,null,null,null,null,null,{"$f":"+S566+1","v":95},{"$f":"IF(AND(O573=0,P573=0),\"\",IF(O573>P573,M571,M574))","v":""}]
[123,65,50,"E15",98,{"$f":"IF(Main!$Q$2=3,VLOOKUP(E573,Kura!$A$4:$Z$350,26,0),Ana_Tablo_Kura!L396)","v":{"$error":"#N/A"}},null,null,null,null,null,null,null,null,{"$f":"BX484","v":0},{"$f":"BY484","v":0},null,null,null,null,null,null,null,null,null,{"$f":"+Z561+1","v":112}]
[null,null,null,"",null,null,null,{"$f":"BX451","v":0},{"$f":"BY451","v":0},null,null,62,{"$f":"IF(AND(H574=0,I574=0),\"\",IF(H574>I574,F573,F575))","v":""}]
[124,33,0,"",31,{"$f":"IF(Main!$Q$2=3,VLOOKUP(E575,Kura!$A$4:$Z$350,26,0),Ana_Tablo_Kura!L397)","v":{"$error":"#N/A"}}]
[125,33,0,"",66,{"$f":"IF(Main!$Q$2=3,VLOOKUP(E576,Kura!$A$4:$Z$350,26,0),Ana_Tablo_Kura!L398)","v":{"$error":"#N/A"}},null,null,null,null,null,null,null,null,null,null,null,null,null,null,null,{"$f":"BX501","v":0},{"$f":"BY501","v":0},null,null,null,{"$f":"IF(AND(V576=0,W576=0),\"\",IF(V576>W576,T572,T579))","v":""}]
[null,null,null,"",null,null,null,{"$f":"BX452","v":0},{"$f":"BY452","v":0},null,null,63,{"$f":"IF(AND(H577=0,I577=0),\"\",IF(H577>I577,F576,F578))","v":""}]
[126,65,34,"E31",63,{"$f":"IF(Main!$Q$2=3,VLOOKUP(E578,Kura!$A$4:$Z$350,26,0),Ana_Tablo_Kura!L399)","v":{"$error":"#N/A"}},null,null,null,null,null,null,null,null,null,null,null,null,{"$f":"+S572+1","v":96}]
[127,65,2,"E63",127,{"$f":"IF(Main!$Q$2=3,VLOOKUP(E579,Kura!$A$4:$Z$350,26,0),Ana_Tablo_Kura!L400)","v":{"$error":"#N/A"}},null,null,null,null,null,null,null,null,{"$f":"BX485","v":0},{"$f":"BY485","v":0},null,null,null,{"$f":"IF(AND(O579=0,P579=0),\"\",IF(O579>P579,M577,M580))","v":""}]
[null,null,null,null,null,null,null,{"$f":"BX453","v":0},{"$f":"BY453","v":0},null,null,64,{"$f":"IF(AND(H580=0,I580=0),\"\",IF(H580>I580,F579,F581))","v":""}]
[128,2,0,0,2,{"$f":"IF(Main!$Q$2=3,VLOOKUP(E581,Kura!$A$4:$Z$350,26,0),Ana_Tablo_Kura!L401)","v":"ÇORUM GENÇLİK SPOR (A) (ÇRM)"}]
[]
[]
[1,1,0," ",1,{"$f":"IF(Main!$Q$2=3,VLOOKUP(E584,Kura!$A$4:$Z$350,26,0),Ana_Tablo_Kura!L410)","v":"ÇORUM BLD. SPOR (A) (ÇRM)"},null,null,null,null,null,null,null,null,null,null,null,null,null,null,null,null,null,null,null,null,null,null,null,null,null,null,null,null,null,null,null,null,null,null,null,null,null,null,null,null,null,null,null,null,null,null,null,null,null,null,null,null,1,null,null,null,null,{"$f":"F584","v":"ÇORUM BLD. SPOR (A) (ÇRM)"},{"$f":"F586","v":"BAYBURT GMSK (A) (BYB)"}]
[null,null,null,null,null,null,null,{"$f":"BX584","v":0},{"$f":"BY584","v":0},null,null,1,{"$f":"IF(AND(H585=0,I585=0),\"\",IF(H585>I585,F584,F586))","v":""},null,null,null,null,null,null,null,null,null,null,null,null,null,null,null,null,null,null,null,null,null,null,null,null,null,null,null,null,null,null,null,null,null,null,null,null,null,null,null,null,null,null,null,null,null,2,null,null,null,null,{"$f":"F587","v":"FINDIKLI 1974 SPOR (A) (RİZ)"},{"$f":"F589","v":{"$error":"#N/A"}}]
[2,33,1,"E32",64,{"$f":"IF(Main!$Q$2=3,VLOOKUP(E586,Kura!$A$4:$Z$350,26,0),Ana_Tablo_Kura!L411)","v":"BAYBURT GMSK (A) (BYB)"},null,null,null,null,null,null,null,null,null,null,null,null,33,{"$f":"IF(AND(O587=0,P587=0),\"\",IF(O587>P587,M585,M588))","v":""},null,null,null,null,null,null,null,null,null,null,null,null,null,null,null,null,null,null,null,null,null,null,null,null,null,null,null,null,null,null,null,null,null,null,null,null,null,null,3,null,null,null,null,{"$f":"F590","v":{"$error":"#N/A"}},{"$f":"F592","v":{"$error":"#N/A"}}]
[3,33,17,"E16",48,{"$f":"IF(Main!$Q$2=3,VLOOKUP(E587,Kura!$A$4:$Z$350,26,0),Ana_Tablo_Kura!L412)","v":"FINDIKLI 1974 SPOR (A) (RİZ)"},null,null,null,null,null,null,null,null,{"$f":"BX616","v":0},{"$f":"BY616","v":0},null,null,null,null,null,null,null,null,null,49,null,null,null,null,null,null,null,null,null,null,null,null,null,null,null,null,null,null,null,null,null,null,null,null,null,null,null,null,null,null,null,null,4,null,null,null,null,{"$f":"F593","v":{"$error":"#N/A"}},{"$f":"F595","v":{"$error":"#N/A"}}]
[null,null,null,"",null,null,null,{"$f":"BX585","v":0},{"$f":"BY585","v":0},null,null,2,{"$f":"IF(AND(H588=0,I588=0),\"\",IF(H588>I588,F587,F589))","v":""},null,null,null,null,null,null,null,null,null,null,null,null,null,null,null,null,null,null,null,null,null,null,null,null,null,null,null,null,null,null,null,null,null,null,null,null,null,null,null,null,null,null,null,null,null,5,null,null,null,null,{"$f":"F596","v":{"$error":"#N/A"}},{"$f":"F598","v":{"$error":"#N/A"}}]
[4,17,0,"",32,{"$f":"IF(Main!$Q$2=3,VLOOKUP(E589,Kura!$A$4:$Z$350,26,0),Ana_Tablo_Kura!L413)","v":{"$error":"#N/A"}},null,null,null,null,null,null,null,null,null,null,null,null,null,null,null,null,null,null,null,null,null,null,null,null,null,null,null,null,null,null,null,null,null,null,null,null,null,null,null,null,null,null,null,null,null,null,null,null,null,null,null,null,6,null,null,null,null,{"$f":"F599","v":{"$error":"#N/A"}},{"$f":"F601","v":{"$error":"#N/A"}}]
[5,17,0,"",17,{"$f":"IF(Main!$Q$2=3,VLOOKUP(E590,Kura!$A$4:$Z$350,26,0),Ana_Tablo_Kura!L414)","v":{"$error":"#N/A"}},null,null,null,null,null,null,null,null,null,null,null,null,null,null,null,{"$f":"BX632","v":0},{"$f":"BY632","v":0},null,null,null,{"$f":"IF(AND(V590=0,W590=0),\"\",IF(V590>W590,T586,T593))","v":""},null,null,null,null,null,null,null,null,null,null,null,null,null,null,null,null,null,null,null,null,null,null,null,null,null,null,null,null,null,null,null,7,null,null,null,null,{"$f":"F602","v":{"$error":"#N/A"}},{"$f":"F604","v":{"$error":"#N/A"}}]
[null,null,null,"",null,null,null,{"$f":"BX586","v":0},{"$f":"BY586","v":0},null,null,3,{"$f":"IF(AND(H591=0,I591=0),\"\",IF(H591>I591,F590,F592))","v":""},null,null,null,null,null,null,null,null,null,null,null,null,null,null,null,null,null,null,null,null,null,null,null,null,null,null,null,null,null,null,null,null,null,null,null,null,null,null,null,null,null,null,null,null,null,8,null,null,null,null,{"$f":"F605","v":{"$error":"#N/A"}},{"$f":"F607","v":{"$error":"#N/A"}}]
[6,33,25,"E8",33,{"$f":"IF(Main!$Q$2=3,VLOOKUP(E592,Kura!$A$4:$Z$350,26,0),Ana_Tablo_Kura!L415)","v":{"$error":"#N/A"}},null,null,null,null,null,null,null,null,null,null,null,null,{"$f":"+S586+1","v":34},null,null,null,null,null,null,null,null,null,null,null,null,null,null,null,null,null,null,null,null,null,null,null,null,null,null,null,null,null,null,null,null,null,null,null,null,null,null,null,9,null,null,null,null,{"$f":"F608","v":{"$error":"#N/A"}},{"$f":"F610","v":{"$error":"#N/A"}}]
[7,33,9,"E24",49,{"$f":"IF(Main!$Q$2=3,VLOOKUP(E593,Kura!$A$4:$Z$350,26,0),Ana_Tablo_Kura!L416)","v":{"$error":"#N/A"}},null,null,null,null,null,null,null,null,{"$f":"BX617","v":0},{"$f":"BY617","v":0},null,null,null,{"$f":"IF(AND(O593=0,P593=0),\"\",IF(O593>P593,M591,M594))","v":""},null,null,null,null,null,null,null,null,null,null,null,null,null,null,null,null,null,null,null,null,null,null,null,null,null,null,null,null,null,null,null,null,null,null,null,null,null,null,10,null,null,null,null,{"$f":"F611","v":{"$error":"#N/A"}},{"$f":"F613","v":{"$error":"#N/A"}}]
[null,null,null,"",null,null,null,{"$f":"BX587","v":0},{"$f":"BY587","v":0},null,null,4,{"$f":"IF(AND(H594=0,I594=0),\"\",IF(H594>I594,F593,F595))","v":""},null,null,null,null,null,null,null,null,null,null,null,null,null,null,null,null,null,null,null,null,null,null,null,null,null,null,null,null,null,null,null,null,null,null,null,null,null,null,null,null,null,null,null,null,null,11,null,null,null,null,{"$f":"F614","v":{"$error":"#N/A"}},{"$f":"F616","v":{"$error":"#N/A"}}]
[8,9," ","",16,{"$f":"IF(Main!$Q$2=3,VLOOKUP(E595,Kura!$A$4:$Z$350,26,0),Ana_Tablo_Kura!L417)","v":{"$error":"#N/A"}},null,null,null,null,null,null,null,null,null,null,null,null,null,null,null,null,null,null,null,null,null,null,null,null,null,null,null,null,null,null,null,null,null,null,null,null,null,null,null,null,null,null,null,null,null,null,null,null,null,null,null,null,12,null,null,null,null,{"$f":"F617","v":{"$error":"#N/A"}},{"$f":"F619","v":{"$error":"#N/A"}}]
[9,9,0,"",9,{"$f":"IF(Main!$Q$2=3,VLOOKUP(E596,Kura!$A$4:$Z$350,26,0),Ana_Tablo_Kura!L418)","v":{"$error":"#N/A"}},null,null,null,null,null,null,null,null,null,null,null,null,null,null,null,null,null,null,null,null,null,null,null,null,null,null,null,null,null,null,null,null,null,null,null,null,null,null,null,null,null,null,null,null,null,null,null,null,null,null,null,null,13,null,null,null,null,{"$f":"F620","v":{"$error":"#N/A"}},{"$f":"F622","v":{"$error":"#N/A"}}]
[null,null,null,"",null,null,null,{"$f":"BX588","v":0},{"$f":"BY588","v":0},null,null,5,{"$f":"IF(AND(H597=0,I597=0),\"\",IF(H597>I597,F596,F598))","v":""},null,null,null,null,null,null,null,null,null,null,null,null,null,null,null,null,null,null,null,null,null,null,null,null,null,null,null,null,null,null,null,null,null,null,null,null,null,null,null,null,null,null,null,null,null,14,null,null,null,null,{"$f":"F623","v":{"$error":"#N/A"}},{"$f":"F625","v":{"$error":"#N/A"}}]
[10,33,13,"E20",56,{"$f":"IF(Main!$Q$2=3,VLOOKUP(E598,Kura!$A$4:$Z$350,26,0),Ana_Tablo_Kura!L419)","v":{"$error":"#N/A"}},null,null,null,null,null,null,null,null,null,null,null,null,{"$f":"+S592+1","v":35},{"$f":"IF(AND(O599=0,P599=0),\"\",IF(O599>P599,M597,M600))","v":""},null,null,null,null,null,null,null,null,null,null,null,null,null,null,null,null,null,null,null,null,null,null,null,null,null,null,null,null,null,null,null,null,null,null,null,null,null,null,15,null,null,null,null,{"$f":"F626","v":{"$error":"#N/A"}},{"$f":"F628","v":{"$error":"#N/A"}}]
[11,33,29,"E4",40,{"$f":"IF(Main!$Q$2=3,VLOOKUP(E599,Kura!$A$4:$Z$350,26,0),Ana_Tablo_Kura!L420)","v":{"$error":"#N/A"}},null,null,null,null,null,null,null,null,{"$f":"BX618","v":0},{"$f":"BY618","v":0},null,null,null,null,null,null,null,null,null,{"$f":"+Z587+1","v":50},null,null,null,null,null,null,null,null,null,null,null,null,null,null,null,null,null,null,null,null,null,null,null,null,null,null,null,null,null,null,null,null,16,null,null,null,null,{"$f":"F629","v":{"$error":"#N/A"}},{"$f":"F631","v":"KUTLUBEY OKULLARI (A) (AMS)"}]
[null,null,null,"",null,null,null,{"$f":"BX589","v":0},{"$f":"BY589","v":0},null,null,6,{"$f":"IF(AND(H600=0,I600=0),\"\",IF(H600>I600,F599,F601))","v":""},null,null,null,null,null,null,null,null,null,null,null,null,null,null,null,null,null,null,null,null,null,null,null,null,null,null,null,null,null,null,null,null,null,null,null,null,null,null,null,null,null,null,null,null,null,17,null,null,null,null,{"$f":"F632","v":"ŞAFAKTEPE SK (A) (ANK)"},{"$f":"F634","v":"BEŞİKDÜZÜ AYYILDIZ SPOR (A) (TRB)"}]
[12,17,0,"",24,{"$f":"IF(Main!$Q$2=3,VLOOKUP(E601,Kura!$A$4:$Z$350,26,0),Ana_Tablo_Kura!L421)","v":{"$error":"#N/A"}},null,null,null,null,null,null,null,null,null,null,null,null,null,null,null,null,null,null,null,null,null,null,null,null,null,null,null,null,null,null,null,null,null,null,null,null,null,null,null,null,null,null,null,null,null,null,null,null,null,null,null,null,18,null,null,null,null,{"$f":"F635","v":"YALIKÖY ŞBÇ OO (A) (GRS)"},{"$f":"F637","v":{"$error":"#N/A"}}]
[13,17,0,"",25,{"$f":"IF(Main!$Q$2=3,VLOOKUP(E602,Kura!$A$4:$Z$350,26,0),Ana_Tablo_Kura!L422)","v":{"$error":"#N/A"}},null,null,null,null,null,null,null,null,null,null,null,null,null,null,null,{"$f":"BX633","v":0},{"$f":"BY633","v":0},null,null,null,{"$f":"IF(AND(V602=0,W602=0),\"\",IF(V602>W602,T598,T605))","v":""},null,null,null,null,null,null,null,null,null,null,null,null,null,null,null,null,null,null,null,null,null,null,null,null,null,null,null,null,null,null,null,19,null,null,null,null,{"$f":"F638","v":{"$error":"#N/A"}},{"$f":"F640","v":{"$error":"#N/A"}}]
[null,null,null,"",null,null,null,{"$f":"BX590","v":0},{"$f":"BY590","v":0},null,null,7,{"$f":"IF(AND(H603=0,I603=0),\"\",IF(H603>I603,F602,F604))","v":""},null,null,null,null,null,null,null,null,null,null,null,null,null,null,null,null,null,null,null,null,null,null,null,null,null,null,null,null,null,null,null,null,null,null,null,null,null,null,null,null,null,null,null,null,null,20,null,null,null,null,{"$f":"F641","v":{"$error":"#N/A"}},{"$f":"F643","v":{"$error":"#N/A"}}]
[14,33,21,"E12",41,{"$f":"IF(Main!$Q$2=3,VLOOKUP(E604,Kura!$A$4:$Z$350,26,0),Ana_Tablo_Kura!L423)","v":{"$error":"#N/A"}},null,null,null,null,null,null,null,null,null,null,null,null,{"$f":"+S598+1","v":36},null,null,null,null,null,null,null,null,null,null,null,null,null,null,null,null,null,null,null,null,null,null,null,null,null,null,null,null,null,null,null,null,null,null,null,null,null,null,null,21,null,null,null,null,{"$f":"F644","v":{"$error":"#N/A"}},{"$f":"F646","v":{"$error":"#N/A"}}]
[15,33,5,"E28",57,{"$f":"IF(Main!$Q$2=3,VLOOKUP(E605,Kura!$A$4:$Z$350,26,0),Ana_Tablo_Kura!L424)","v":{"$error":"#N/A"}},null,null,null,null,null,null,null,null,{"$f":"BX619","v":0},{"$f":"BY619","v":0},null,null,null,{"$f":"IF(AND(O605=0,P605=0),\"\",IF(O605>P605,M603,M606))","v":""},null,null,null,null,null,null,null,null,null,null,null,null,null,null,null,null,null,null,null,null,null,null,null,null,null,null,null,null,null,null,null,null,null,null,null,null,null,null,22,null,null,null,null,{"$f":"F647","v":{"$error":"#N/A"}},{"$f":"F649","v":{"$error":"#N/A"}}]
[null,null,null,"",null,null,null,{"$f":"BX591","v":0},{"$f":"BY591","v":0},null,null,8,{"$f":"IF(AND(H606=0,I606=0),\"\",IF(H606>I606,F605,F607))","v":""},null,null,null,null,null,null,null,null,null,null,null,null,null,null,null,null,null,null,null,null,null,null,null,null,null,null,null,null,null,null,null,null,null,null,null,null,null,null,null,null,null,null,null,null,null,23,null,null,null,null,{"$f":"F650","v":{"$error":"#N/A"}},{"$f":"F652","v":{"$error":"#N/A"}}]
[16,5," ","",8,{"$f":"IF(Main!$Q$2=3,VLOOKUP(E607,Kura!$A$4:$Z$350,26,0),Ana_Tablo_Kura!L425)","v":{"$error":"#N/A"}},null,null,null,null,null,null,null,null,null,null,null,null,null,null,null,null,null,null,null,null,null,null,null,null,null,null,null,null,null,null,null,null,null,null,null,null,null,null,null,null,null,null,null,null,null,null,null,null,null,null,null,null,24,null,null,null,null,{"$f":"F653","v":{"$error":"#N/A"}},{"$f":"F655","v":{"$error":"#N/A"}}]
[17,5,0,"",5,{"$f":"IF(Main!$Q$2=3,VLOOKUP(E608,Kura!$A$4:$Z$350,26,0),Ana_Tablo_Kura!L426)","v":{"$error":"#N/A"}},null,null,null,null,null,null,null,null,null,null,null,null,null,null,null,null,null,null,null,null,null,null,null,null,null,null,null,null,null,null,null,null,null,null,null,null,null,null,null,null,null,null,null,null,null,null,null,null,null,null,null,null,25,null,null,null,null,{"$f":"F656","v":{"$error":"#N/A"}},{"$f":"F658","v":{"$error":"#N/A"}}]
[null,null,null,"",null,null,null,{"$f":"BX592","v":0},{"$f":"BY592","v":0},null,null,9,{"$f":"IF(AND(H609=0,I609=0),\"\",IF(H609>I609,F608,F610))","v":""},null,null,null,null,null,null,null,null,null,null,null,null,null,null,null,null,null,null,null,null,null,null,null,null,null,null,null,null,null,null,null,null,null,null,null,null,null,null,null,null,null,null,null,null,null,26,null,null,null,null,{"$f":"F659","v":{"$error":"#N/A"}},{"$f":"F661","v":{"$error":"#N/A"}}]
[18,33,7,"E26",60,{"$f":"IF(Main!$Q$2=3,VLOOKUP(E610,Kura!$A$4:$Z$350,26,0),Ana_Tablo_Kura!L427)","v":{"$error":"#N/A"}},null,null,null,null,null,null,null,null,null,null,null,null,{"$f":"+S604+1","v":37},{"$f":"IF(AND(O611=0,P611=0),\"\",IF(O611>P611,M609,M612))","v":""},null,null,null,null,null,null,null,null,null,null,null,null,null,null,null,null,null,null,null,null,null,null,null,null,null,null,null,null,null,null,null,null,null,null,null,null,null,null,27,null,null,null,null,{"$f":"F662","v":{"$error":"#N/A"}},{"$f":"F664","v":{"$error":"#N/A"}}]
[19,33,23,"E10",44,{"$f":"IF(Main!$Q$2=3,VLOOKUP(E611,Kura!$A$4:$Z$350,26,0),Ana_Tablo_Kura!L428)","v":{"$error":"#N/A"}},null,null,null,null,null,null,null,null,{"$f":"BX620","v":0},{"$f":"BY620","v":0},null,null,null,null,null,null,null,null,null,{"$f":"+Z599+1","v":51},null,null,null,null,null,null,null,null,null,null,null,null,null,null,null,null,null,null,null,null,null,null,null,null,null,null,null,null,null,null,null,null,28,null,null,null,null,{"$f":"F665","v":{"$error":"#N/A"}},{"$f":"F667","v":{"$error":"#N/A"}}]
[null,null,null,"",null,null,null,{"$f":"BX593","v":0},{"$f":"BY593","v":0},null,null,10,{"$f":"IF(AND(H612=0,I612=0),\"\",IF(H612>I612,F611,F613))","v":""},null,null,null,null,null,null,null,null,null,null,null,null,null,null,null,null,null,null,null,null,null,null,null,null,null,null,null,null,null,null,null,null,null,null,null,null,null,null,null,null,null,null,null,null,null,29,null,null,null,null,{"$f":"F668","v":{"$error":"#N/A"}},{"$f":"F670","v":{"$error":"#N/A"}}]
[20,17,0,"",28,{"$f":"IF(Main!$Q$2=3,VLOOKUP(E613,Kura!$A$4:$Z$350,26,0),Ana_Tablo_Kura!L429)","v":{"$error":"#N/A"}},null,null,null,null,null,null,null,null,null,null,null,null,null,null,null,null,null,null,null,null,null,null,null,null,null,null,null,null,null,null,null,null,null,null,null,null,null,null,null,null,null,null,null,null,null,null,null,null,null,null,null,null,30,null,null,null,null,{"$f":"F671","v":{"$error":"#N/A"}},{"$f":"F673","v":{"$error":"#N/A"}}]
[21,17,0,"",21,{"$f":"IF(Main!$Q$2=3,VLOOKUP(E614,Kura!$A$4:$Z$350,26,0),Ana_Tablo_Kura!L430)","v":{"$error":"#N/A"}},null,null,null,null,null,null,null,null,null,null,null,null,null,null,null,{"$f":"BX634","v":0},{"$f":"BY634","v":0},null,null,null,{"$f":"IF(AND(V614=0,W614=0),\"\",IF(V614>W614,T610,T617))","v":""},null,null,null,null,null,null,null,null,null,null,null,null,null,null,null,null,null,null,null,null,null,null,null,null,null,null,null,null,null,null,null,31,null,null,null,null,{"$f":"F674","v":{"$error":"#N/A"}},{"$f":"F676","v":{"$error":"#N/A"}}]
[null,null,null,"",null,null,null,{"$f":"BX594","v":0},{"$f":"BY594","v":0},null,null,11,{"$f":"IF(AND(H615=0,I615=0),\"\",IF(H615>I615,F614,F616))","v":""},null,null,null,null,null,null,null,null,null,null,null,null,null,null,null,null,null,null,null,null,null,null,null,null,null,null,null,null,null,null,null,null,null,null,null,null,null,null,null,null,null,null,null,null,null,32,null,null,null,null,{"$f":"F677","v":{"$error":"#N/A"}},{"$f":"F679","v":"ÇORUM GENÇLİK SPOR (A) (ÇRM)"}]
[22,33,31,"E2",37,{"$f":"IF(Main!$Q$2=3,VLOOKUP(E616,Kura!$A$4:$Z$350,26,0),Ana_Tablo_Kura!L431)","v":{"$error":"#N/A"}},null,null,null,null,null,null,null,null,null,null,null,null,{"$f":"+S610+1","v":38},null,null,null,null,null,null,null,null,null,null,null,null,null,null,null,null,null,null,null,null,null,null,null,null,null,null,null,null,null,null,null,null,null,null,null,null,null,null,null,33,null,null,null,null,{"$f":"M585","v":""},{"$f":"M588","v":""}]
[23,33,15,"E18",53,{"$f":"IF(Main!$Q$2=3,VLOOKUP(E617,Kura!$A$4:$Z$350,26,0),Ana_Tablo_Kura!L432)","v":{"$error":"#N/A"}},null,null,null,null,null,null,null,null,{"$f":"BX621","v":0},{"$f":"BY621","v":0},null,null,null,{"$f":"IF(AND(O617=0,P617=0),\"\",IF(O617>P617,M615,M618))","v":""},null,null,null,null,null,null,null,null,null,null,null,null,null,null,null,null,null,null,null,null,null,null,null,null,null,null,null,null,null,null,null,null,null,null,null,null,null,null,34,null,null,null,null,{"$f":"M591","v":""},{"$f":"M594","v":""}]
[null,null,null,"",null,null,null,{"$f":"BX595","v":0},{"$f":"BY595","v":0},null,null,12,{"$f":"IF(AND(H618=0,I618=0),\"\",IF(H618>I618,F617,F619))","v":""},null,null,null,null,null,null,null,null,null,null,null,null,null,null,null,null,null,null,null,null,null,null,null,null,null,null,null,null,null,null,null,null,null,null,null,null,null,null,null,null,null,null,null,null,null,35,null,null,null,null,{"$f":"M597","v":""},{"$f":"M600","v":""}]
[24,9," ","",12,{"$f":"IF(Main!$Q$2=3,VLOOKUP(E619,Kura!$A$4:$Z$350,26,0),Ana_Tablo_Kura!L433)","v":{"$error":"#N/A"}},null,null,null,null,null,null,null,null,null,null,null,null,null,null,null,null,null,null,null,null,null,null,null,null,null,null,null,null,null,null,null,null,null,null,null,null,null,null,null,null,null,null,null,null,null,null,null,null,null,null,null,null,36,null,null,null,null,{"$f":"M603","v":""},{"$f":"M606","v":""}]
[25,9,0,"",13,{"$f":"IF(Main!$Q$2=3,VLOOKUP(E620,Kura!$A$4:$Z$350,26,0),Ana_Tablo_Kura!L434)","v":{"$error":"#N/A"}},null,null,null,null,null,null,null,null,null,null,null,null,null,null,null,null,null,null,null,null,null,null,null,null,null,null,null,null,null,null,null,null,null,null,null,null,null,null,null,null,null,null,null,null,null,null,null,null,null,null,null,null,37,null,null,null,null,{"$f":"M609","v":""},{"$f":"M612","v":""}]
[null,null,null,"",null,null,null,{"$f":"BX596","v":0},{"$f":"BY596","v":0},null,null,13,{"$f":"IF(AND(H621=0,I621=0),\"\",IF(H621>I621,F620,F622))","v":""},null,null,null,null,null,null,null,null,null,null,null,null,null,null,null,null,null,null,null,null,null,null,null,null,null,null,null,null,null,null,null,null,null,null,null,null,null,null,null,null,null,null,null,null,null,38,null,null,null,null,{"$f":"M615","v":""},{"$f":"M618","v":""}]
[26,33,11,"E22",52,{"$f":"IF(Main!$Q$2=3,VLOOKUP(E622,Kura!$A$4:$Z$350,26,0),Ana_Tablo_Kura!L435)","v":{"$error":"#N/A"}},null,null,null,null,null,null,null,null,null,null,null,null,{"$f":"+S616+1","v":39},{"$f":"IF(AND(O623=0,P623=0),\"\",IF(O623>P623,M621,M624))","v":""},null,null,null,null,null,null,null,null,null,null,null,null,null,null,null,null,null,null,null,null,null,null,null,null,null,null,null,null,null,null,null,null,null,null,null,null,null,null,39,null,null,null,null,{"$f":"M621","v":""},{"$f":"M624","v":""}]
[27,33,27,"E6",36,{"$f":"IF(Main!$Q$2=3,VLOOKUP(E623,Kura!$A$4:$Z$350,26,0),Ana_Tablo_Kura!L436)","v":{"$error":"#N/A"}},null,null,null,null,null,null,null,null,{"$f":"BX622","v":0},{"$f":"BY622","v":0},null,null,null,null,null,null,null,null,null,{"$f":"+Z611+1","v":52},null,null,null,null,null,null,null,null,null,null,null,null,null,null,null,null,null,null,null,null,null,null,null,null,null,null,null,null,null,null,null,null,40,null,null,null,null,{"$f":"M627","v":""},{"$f":"M630","v":""}]
[null,null,null,"",null,null,null,{"$f":"BX597","v":0},{"$f":"BY597","v":0},null,null,14,{"$f":"IF(AND(H624=0,I624=0),\"\",IF(H624>I624,F623,F625))","v":""},null,null,null,null,null,null,null,null,null,null,null,null,null,null,null,null,null,null,null,null,null,null,null,null,null,null,null,null,null,null,null,null,null,null,null,null,null,null,null,null,null,null,null,null,null,41,null,null,null,null,{"$f":"M633","v":""},{"$f":"M636","v":""}]
[28,17,0,"",20,{"$f":"IF(Main!$Q$2=3,VLOOKUP(E625,Kura!$A$4:$Z$350,26,0),Ana_Tablo_Kura!L437)","v":{"$error":"#N/A"}},null,null,null,null,null,null,null,null,null,null,null,null,null,null,null,null,null,null,null,null,null,null,null,null,null,null,null,null,null,null,null,null,null,null,null,null,null,null,null,null,null,null,null,null,null,null,null,null,null,null,null,null,42,null,null,null,null,{"$f":"M639","v":""},{"$f":"M642","v":""}]
[29,17,0,"",29,{"$f":"IF(Main!$Q$2=3,VLOOKUP(E626,Kura!$A$4:$Z$350,26,0),Ana_Tablo_Kura!L438)","v":{"$error":"#N/A"}},null,null,null,null,null,null,null,null,null,null,null,null,null,null,null,{"$f":"BX635","v":0},{"$f":"BY635","v":0},null,null,null,{"$f":"IF(AND(V626=0,W626=0),\"\",IF(V626>W626,T622,T629))","v":""},null,null,null,null,null,null,null,null,null,null,null,null,null,null,null,null,null,null,null,null,null,null,null,null,null,null,null,null,null,null,null,43,null,null,null,null,{"$f":"M645","v":""},{"$f":"M648","v":""}]
[null,null,null,"",null,null,null,{"$f":"BX598","v":0},{"$f":"BY598","v":0},null,null,15,{"$f":"IF(AND(H627=0,I627=0),\"\",IF(H627>I627,F626,F628))","v":""},null,null,null,null,null,null,null,null,null,null,null,null,null,null,null,null,null,null,null,null,null,null,null,null,null,null,null,null,null,null,null,null,null,null,null,null,null,null,null,null,null,null,null,null,null,44,null,null,null,null,{"$f":"M651","v":""},{"$f":"M654","v":""}]
[30,33,19,"E14",45,{"$f":"IF(Main!$Q$2=3,VLOOKUP(E628,Kura!$A$4:$Z$350,26,0),Ana_Tablo_Kura!L439)","v":{"$error":"#N/A"}},null,null,null,null,null,null,null,null,null,null,null,null,{"$f":"+S622+1","v":40},null,null,null,null,null,null,null,null,null,null,null,null,null,null,null,null,null,null,null,null,null,null,null,null,null,null,null,null,null,null,null,null,null,null,null,null,null,null,null,45,null,null,null,null,{"$f":"M657","v":""},{"$f":"M660","v":""}]
[31,33,3,"E30",61,{"$f":"IF(Main!$Q$2=3,VLOOKUP(E629,Kura!$A$4:$Z$350,26,0),Ana_Tablo_Kura!L440)","v":{"$error":"#N/A"}},null,null,null,null,null,null,null,null,{"$f":"BX623","v":0},{"$f":"BY623","v":0},null,null,null,{"$f":"IF(AND(O629=0,P629=0),\"\",IF(O629>P629,M627,M630))","v":""},null,null,null,null,null,null,null,null,null,null,null,null,null,null,null,null,null,null,null,null,null,null,null,null,null,null,null,null,null,null,null,null,null,null,null,null,null,null,46,null,null,null,null,{"$f":"M663","v":""},{"$f":"M666","v":""}]
[null,null,null,"",null,null,null,{"$f":"BX599","v":0},{"$f":"BY599","v":0},null,null,16,{"$f":"IF(AND(H630=0,I630=0),\"\",IF(H630>I630,F629,F631))","v":""},null,null,null,null,null,null,null,null,null,null,null,null,null,null,null,null,null,null,null,null,null,null,null,null,null,null,null,null,null,null,null,null,null,null,null,null,null,null,null,null,null,null,null,null,null,47,null,null,null,null,{"$f":"M669","v":""},{"$f":"M672","v":""}]
[32,3," ","",4,{"$f":"IF(Main!$Q$2=3,VLOOKUP(E631,Kura!$A$4:$Z$350,26,0),Ana_Tablo_Kura!L441)","v":"KUTLUBEY OKULLARI (A) (AMS)"},null,null,null,null,null,null,null,null,null,null,null,null,null,null,null,null,null,null,null,null,null,null,null,null,null,null,null,null,null,null,null,null,null,null,null,null,null,null,null,null,null,null,null,null,null,null,null,null,null,null,null,null,48,null,null,null,null,{"$f":"M675","v":""},{"$f":"M678","v":""}]
[33,3,0,"",3,{"$f":"IF(Main!$Q$2=3,VLOOKUP(E632,Kura!$A$4:$Z$350,26,0),Ana_Tablo_Kura!L443)","v":"ŞAFAKTEPE SK (A) (ANK)"},null,null,null,null,null,null,null,null,null,null,null,null,null,null,null,null,null,null,null,null,null,null,null,null,null,null,null,null,null,null,null,null,null,null,null,null,null,null,null,null,null,null,null,null,null,null,null,null,null,null,null,null,49,null,null,null,null,{"$f":"T586","v":""},{"$f":"T593","v":""}]
[null,null,null,"",null,null,null,{"$f":"BX600","v":0},{"$f":"BY600","v":0},null,null,17,{"$f":"IF(AND(H633=0,I633=0),\"\",IF(H633>I633,F632,F634))","v":""},null,null,null,null,null,null,null,null,null,null,null,null,null,null,null,null,null,null,null,null,null,null,null,null,null,null,null,null,null,null,null,null,null,null,null,null,null,null,null,null,null,null,null,null,null,50,null,null,null,null,{"$f":"T598","v":""},{"$f":"T605","v":""}]
[34,33,4,"E29",62,{"$f":"IF(Main!$Q$2=3,VLOOKUP(E634,Kura!$A$4:$Z$350,26,0),Ana_Tablo_Kura!L444)","v":"BEŞİKDÜZÜ AYYILDIZ SPOR (A) (TRB)"},null,null,null,null,null,null,null,null,null,null,null,null,{"$f":"+S628+1","v":41},{"$f":"IF(AND(O635=0,P635=0),\"\",IF(O635>P635,M633,M636))","v":""},null,null,null,null,null,null,null,null,null,null,null,null,null,null,null,null,null,null,null,null,null,null,null,null,null,null,null,null,null,null,null,null,null,null,null,null,null,null,51,null,null,null,null,{"$f":"T610","v":""},{"$f":"T617","v":""}]
[35,33,20,"E13",46,{"$f":"IF(Main!$Q$2=3,VLOOKUP(E635,Kura!$A$4:$Z$350,26,0),Ana_Tablo_Kura!L445)","v":"YALIKÖY ŞBÇ OO (A) (GRS)"},null,null,null,null,null,null,null,null,{"$f":"BX624","v":0},{"$f":"BY624","v":0},null,null,null,null,null,null,null,null,null,{"$f":"+Z623+1","v":53},null,null,null,null,null,null,null,null,null,null,null,null,null,null,null,null,null,null,null,null,null,null,null,null,null,null,null,null,null,null,null,null,52,null,null,null,null,{"$f":"T622","v":""},{"$f":"T629","v":""}]
[null,null,null,"",null,null,null,{"$f":"BX601","v":0},{"$f":"BY601","v":0},null,null,18,{"$f":"IF(AND(H636=0,I636=0),\"\",IF(H636>I636,F635,F637))","v":""},null,null,null,null,null,null,null,null,null,null,null,null,null,null,null,null,null,null,null,null,null,null,null,null,null,null,null,null,null,null,null,null,null,null,null,null,null,null,null,null,null,null,null,null,null,53,null,null,null,null,{"$f":"T634","v":""},{"$f":"T641","v":""}]
[36,17,0,"",30,{"$f":"IF(Main!$Q$2=3,VLOOKUP(E637,Kura!$A$4:$Z$350,26,0),Ana_Tablo_Kura!L446)","v":{"$error":"#N/A"}},null,null,null,null,null,null,null,null,null,null,null,null,null,null,null,null,null,null,null,null,null,null,null,null,null,null,null,null,null,null,null,null,null,null,null,null,null,null,null,null,null,null,null,null,null,null,null,null,null,null,null,null,54,null,null,null,null,{"$f":"T646","v":""},{"$f":"T653","v":""}]
[37,17,0,"",19,{"$f":"IF(Main!$Q$2=3,VLOOKUP(E638,Kura!$A$4:$Z$350,26,0),Ana_Tablo_Kura!L447)","v":{"$error":"#N/A"}},null,null,null,null,null,null,null,null,null,null,null,null,null,null,null,{"$f":"BX636","v":0},{"$f":"BY636","v":0},null,null,null,{"$f":"IF(AND(V638=0,W638=0),\"\",IF(V638>W638,T634,T641))","v":""},null,null,null,null,null,null,null,null,null,null,null,null,null,null,null,null,null,null,null,null,null,null,null,null,null,null,null,null,null,null,null,55,null,null,null,null,{"$f":"T658","v":""},{"$f":"T665","v":""}]
[null,null,null,"",null,null,null,{"$f":"BX602","v":0},{"$f":"BY602","v":0},null,null,19,{"$f":"IF(AND(H639=0,I639=0),\"\",IF(H639>I639,F638,F640))","v":""},null,null,null,null,null,null,null,null,null,null,null,null,null,null,null,null,null,null,null,null,null,null,null,null,null,null,null,null,null,null,null,null,null,null,null,null,null,null,null,null,null,null,null,null,null,56,null,null,null,null,{"$f":"T670","v":""},{"$f":"T677","v":""}]
[38,33,28,"E5",35,{"$f":"IF(Main!$Q$2=3,VLOOKUP(E640,Kura!$A$4:$Z$350,26,0),Ana_Tablo_Kura!L448)","v":{"$error":"#N/A"}},null,null,null,null,null,null,null,null,null,null,null,null,{"$f":"+S634+1","v":42},null,null,null,null,null,null,null,null,null,null,null,null,null,null,null,null,null,null,null,null,null,null,null,null,null,null,null,null,null,null,null,null,null,null,null,null,null,null,null,57,null,null,null,null,{"$f":"AA590","v":""},{"$f":"AA602","v":""}]
[39,33,12,"E21",51,{"$f":"IF(Main!$Q$2=3,VLOOKUP(E641,Kura!$A$4:$Z$350,26,0),Ana_Tablo_Kura!L449)","v":{"$error":"#N/A"}},null,null,null,null,null,null,null,null,{"$f":"BX625","v":0},{"$f":"BY625","v":0},null,null,null,{"$f":"IF(AND(O641=0,P641=0),\"\",IF(O641>P641,M639,M642))","v":""},null,null,null,null,null,null,null,null,null,null,null,null,null,null,null,null,null,null,null,null,null,null,null,null,null,null,null,null,null,null,null,null,null,null,null,null,null,null,58,null,null,null,null,{"$f":"AA614","v":""},{"$f":"AA626","v":""}]
[null,null,null,"",null,null,null,{"$f":"BX603","v":0},{"$f":"BY603","v":0},null,null,20,{"$f":"IF(AND(H642=0,I642=0),\"\",IF(H642>I642,F641,F643))","v":""},null,null,null,null,null,null,null,null,null,null,null,null,null,null,null,null,null,null,null,null,null,null,null,null,null,null,null,null,null,null,null,null,null,null,null,null,null,null,null,null,null,null,null,null,null,59,null,null,null,null,{"$f":"AA638","v":""},{"$f":"AA650","v":""}]
[40,9," ","",14,{"$f":"IF(Main!$Q$2=3,VLOOKUP(E643,Kura!$A$4:$Z$350,26,0),Ana_Tablo_Kura!L450)","v":{"$error":"#N/A"}},null,null,null,null,null,null,null,null,null,null,null,null,null,null,null,null,null,null,null,null,null,null,null,null,null,null,null,null,null,null,null,null,null,null,null,null,null,null,null,null,null,null,null,null,null,null,null,null,null,null,null,null,60,null,null,null,null,{"$f":"AA662","v":""},{"$f":"AA674","v":""}]
[41,9,0,"",11,{"$f":"IF(Main!$Q$2=3,VLOOKUP(E644,Kura!$A$4:$Z$350,26,0),Ana_Tablo_Kura!L451)","v":{"$error":"#N/A"}}]
[null,null,null,"",null,null,null,{"$f":"BX604","v":0},{"$f":"BY604","v":0},null,null,21,{"$f":"IF(AND(H645=0,I645=0),\"\",IF(H645>I645,F644,F646))","v":""}]
[42,33,16,"E17",54,{"$f":"IF(Main!$Q$2=3,VLOOKUP(E646,Kura!$A$4:$Z$350,26,0),Ana_Tablo_Kura!L452)","v":{"$error":"#N/A"}},null,null,null,null,null,null,null,null,null,null,null,null,{"$f":"+S640+1","v":43},{"$f":"IF(AND(O647=0,P647=0),\"\",IF(O647>P647,M645,M648))","v":""}]
[43,33,0,"E1",38,{"$f":"IF(Main!$Q$2=3,VLOOKUP(E647,Kura!$A$4:$Z$350,26,0),Ana_Tablo_Kura!L453)","v":{"$error":"#N/A"}},null,null,null,null,null,null,null,null,{"$f":"BX626","v":0},{"$f":"BY626","v":0},null,null,null,null,null,null,null,null,null,{"$f":"+Z635+1","v":54}]
[null,null,null,"",null,null,null,{"$f":"BX605","v":0},{"$f":"BY605","v":0},null,null,22,{"$f":"IF(AND(H648=0,I648=0),\"\",IF(H648>I648,F647,F649))","v":""}]
[44,17,0,"",22,{"$f":"IF(Main!$Q$2=3,VLOOKUP(E649,Kura!$A$4:$Z$350,26,0),Ana_Tablo_Kura!L454)","v":{"$error":"#N/A"}}]
[45,17,0,"",27,{"$f":"IF(Main!$Q$2=3,VLOOKUP(E650,Kura!$A$4:$Z$350,26,0),Ana_Tablo_Kura!L455)","v":{"$error":"#N/A"}},null,null,null,null,null,null,null,null,null,null,null,null,null,null,null,{"$f":"BX637","v":0},{"$f":"BY637","v":0},null,null,null,{"$f":"IF(AND(V650=0,W650=0),\"\",IF(V650>W650,T646,T653))","v":""}]
[null,null,null,"",null,null,null,{"$f":"BX606","v":0},{"$f":"BY606","v":0},null,null,23,{"$f":"IF(AND(H651=0,I651=0),\"\",IF(H651>I651,F650,F652))","v":""}]
[46,33,24,"E9",43,{"$f":"IF(Main!$Q$2=3,VLOOKUP(E652,Kura!$A$4:$Z$350,26,0),Ana_Tablo_Kura!L456)","v":{"$error":"#N/A"}},null,null,null,null,null,null,null,null,null,null,null,null,{"$f":"+S646+1","v":44}]
[47,33,8,"E25",59,{"$f":"IF(Main!$Q$2=3,VLOOKUP(E653,Kura!$A$4:$Z$350,26,0),Ana_Tablo_Kura!L457)","v":{"$error":"#N/A"}},null,null,null,null,null,null,null,null,{"$f":"BX627","v":0},{"$f":"BY627","v":0},null,null,null,{"$f":"IF(AND(O653=0,P653=0),\"\",IF(O653>P653,M651,M654))","v":""}]
[null,null,null,"",null,null,null,{"$f":"BX607","v":0},{"$f":"BY607","v":0},null,null,24,{"$f":"IF(AND(H654=0,I654=0),\"\",IF(H654>I654,F653,F655))","v":""}]
[48,5," ","",6,{"$f":"IF(Main!$Q$2=3,VLOOKUP(E655,Kura!$A$4:$Z$350,26,0),Ana_Tablo_Kura!L458)","v":{"$error":"#N/A"}}]
[49,5,0,"",7,{"$f":"IF(Main!$Q$2=3,VLOOKUP(E656,Kura!$A$4:$Z$350,26,0),Ana_Tablo_Kura!L459)","v":{"$error":"#N/A"}}]
[null,null,null,"",null,null,null,{"$f":"BX608","v":0},{"$f":"BY608","v":0},null,null,25,{"$f":"IF(AND(H657=0,I657=0),\"\",IF(H657>I657,F656,F658))","v":""}]
[50,33,6,"E27",58,{"$f":"IF(Main!$Q$2=3,VLOOKUP(E658,Kura!$A$4:$Z$350,26,0),Ana_Tablo_Kura!L460)","v":{"$error":"#N/A"}},null,null,null,null,null,null,null,null,null,null,null,null,{"$f":"+S652+1","v":45},{"$f":"IF(AND(O659=0,P659=0),\"\",IF(O659>P659,M657,M660))","v":""}]
[51,33,22,"E11",42,{"$f":"IF(Main!$Q$2=3,VLOOKUP(E659,Kura!$A$4:$Z$350,26,0),Ana_Tablo_Kura!L461)","v":{"$error":"#N/A"}},null,null,null,null,null,null,null,null,{"$f":"BX628","v":0},{"$f":"BY628","v":0},null,null,null,null,null,null,null,null,null,{"$f":"+Z647+1","v":55}]
[null,null,null,"",null,null,null,{"$f":"BX609","v":0},{"$f":"BY609","v":0},null,null,26,{"$f":"IF(AND(H660=0,I660=0),\"\",IF(H660>I660,F659,F661))","v":""}]
[52,17,0,"",26,{"$f":"IF(Main!$Q$2=3,VLOOKUP(E661,Kura!$A$4:$Z$350,26,0),Ana_Tablo_Kura!L462)","v":{"$error":"#N/A"}}]
[53,17,0,"",23,{"$f":"IF(Main!$Q$2=3,VLOOKUP(E662,Kura!$A$4:$Z$350,26,0),Ana_Tablo_Kura!L463)","v":{"$error":"#N/A"}},null,null,null,null,null,null,null,null,null,null,null,null,null,null,null,{"$f":"BX638","v":0},{"$f":"BY638","v":0},null,null,null,{"$f":"IF(AND(V662=0,W662=0),\"\",IF(V662>W662,T658,T665))","v":""}]
[null,null,null,"",null,null,null,{"$f":"BX610","v":0},{"$f":"BY610","v":0},null,null,27,{"$f":"IF(AND(H663=0,I663=0),\"\",IF(H663>I663,F662,F664))","v":""}]
[54,33,14,"E3",39,{"$f":"IF(Main!$Q$2=3,VLOOKUP(E664,Kura!$A$4:$Z$350,26,0),Ana_Tablo_Kura!L464)","v":{"$error":"#N/A"}},null,null,null,null,null,null,null,null,null,null,null,null,{"$f":"+S658+1","v":46}]
[55,33,8,"E19",55,{"$f":"IF(Main!$Q$2=3,VLOOKUP(E665,Kura!$A$4:$Z$350,26,0),Ana_Tablo_Kura!L465)","v":{"$error":"#N/A"}},null,null,null,null,null,null,null,null,{"$f":"BX629","v":0},{"$f":"BY629","v":0},null,null,null,{"$f":"IF(AND(O665=0,P665=0),\"\",IF(O665>P665,M663,M666))","v":""}]
[null,null,null,"",null,null,null,{"$f":"BX611","v":0},{"$f":"BY611","v":0},null,null,28,{"$f":"IF(AND(H666=0,I666=0),\"\",IF(H666>I666,F665,F667))","v":""}]
[56,9," ","",10,{"$f":"IF(Main!$Q$2=3,VLOOKUP(E667,Kura!$A$4:$Z$350,26,0),Ana_Tablo_Kura!L466)","v":{"$error":"#N/A"}}]
[57,9,0,"",15,{"$f":"IF(Main!$Q$2=3,VLOOKUP(E668,Kura!$A$4:$Z$350,26,0),Ana_Tablo_Kura!L467)","v":{"$error":"#N/A"}}]
[null,null,null,"",null,null,null,{"$f":"BX612","v":0},{"$f":"BY612","v":0},null,null,29,{"$f":"IF(AND(H669=0,I669=0),\"\",IF(H669>I669,F668,F670))","v":""}]
[58,33,10,"E23",50,{"$f":"IF(Main!$Q$2=3,VLOOKUP(E670,Kura!$A$4:$Z$350,26,0),Ana_Tablo_Kura!L468)","v":{"$error":"#N/A"}},null,null,null,null,null,null,null,null,null,null,null,null,{"$f":"+S664+1","v":47},{"$f":"IF(AND(O671=0,P671=0),\"\",IF(O671>P671,M669,M672))","v":""}]
[59,33,26,"E7",34,{"$f":"IF(Main!$Q$2=3,VLOOKUP(E671,Kura!$A$4:$Z$350,26,0),Ana_Tablo_Kura!L469)","v":{"$error":"#N/A"}},null,null,null,null,null,null,null,null,{"$f":"BX630","v":0},{"$f":"BY630","v":0},null,null,null,null,null,null,null,null,null,{"$f":"+Z659+1","v":56}]
[null,null,null,"",null,null,null,{"$f":"BX613","v":0},{"$f":"BY613","v":0},null,null,30,{"$f":"IF(AND(H672=0,I672=0),\"\",IF(H672>I672,F671,F673))","v":""}]
[60,17,0,"",18,{"$f":"IF(Main!$Q$2=3,VLOOKUP(E673,Kura!$A$4:$Z$350,26,0),Ana_Tablo_Kura!L470)","v":{"$error":"#N/A"}}]
[61,17,0,"",31,{"$f":"IF(Main!$Q$2=3,VLOOKUP(E674,Kura!$A$4:$Z$350,26,0),Ana_Tablo_Kura!L471)","v":{"$error":"#N/A"}},null,null,null,null,null,null,null,null,null,null,null,null,null,null,null,{"$f":"BX639","v":0},{"$f":"BY639","v":0},null,null,null,{"$f":"IF(AND(V674=0,W674=0),\"\",IF(V674>W674,T670,T677))","v":""}]
[null,null,null,"",null,null,null,{"$f":"BX614","v":0},{"$f":"BY614","v":0},null,null,31,{"$f":"IF(AND(H675=0,I675=0),\"\",IF(H675>I675,F674,F676))","v":""}]
[62,33,18,"E15",47,{"$f":"IF(Main!$Q$2=3,VLOOKUP(E676,Kura!$A$4:$Z$350,26,0),Ana_Tablo_Kura!L472)","v":{"$error":"#N/A"}},null,null,null,null,null,null,null,null,null,null,null,null,{"$f":"+S670+1","v":48}]
[63,33,2,"E31",63,{"$f":"IF(Main!$Q$2=3,VLOOKUP(E677,Kura!$A$4:$Z$350,26,0),Ana_Tablo_Kura!L473)","v":{"$error":"#N/A"}},null,null,null,null,null,null,null,null,{"$f":"BX631","v":0},{"$f":"BY631","v":0},null,null,null,{"$f":"IF(AND(O677=0,P677=0),\"\",IF(O677>P677,M675,M678))","v":""}]
[null,null,null,null,null,null,null,{"$f":"BX615","v":0},{"$f":"BY615","v":0},null,null,32,{"$f":"IF(AND(H678=0,I678=0),\"\",IF(H678>I678,F677,F679))","v":""}]
[64,2," "," ",2,{"$f":"IF(Main!$Q$2=3,VLOOKUP(E679,Kura!$A$4:$Z$350,26,0),Ana_Tablo_Kura!L474)","v":"ÇORUM GENÇLİK SPOR (A) (ÇRM)"}]
[]
[]
[1,1,0,0,1,{"$f":"IF(Main!$Q$2=3,VLOOKUP(E682,Kura!$A$4:$Z$350,26,0),Ana_Tablo_Kura!L483)","v":"ÇORUM BLD. SPOR (A) (ÇRM)"},null,null,null,null,null,null,null,null,null,null,null,null,null,null,null,null,null,null,null,null,null,null,null,null,null,null,null,null,null,null,null,null,null,null,null,null,null,null,null,null,null,null,null,null,null,null,null,null,null,null,null,null,1,null,null,null,null,{"$f":"F682","v":"ÇORUM BLD. SPOR (A) (ÇRM)"},{"$f":"F684","v":"BAYBURT GMSK (A) (BYB)"}]
[null,null,null,null,null,null,null,{"$f":"BX682","v":0},{"$f":"BY682","v":0},null,null,1,{"$f":"IF(AND(H683=0,I683=0),\"\",IF(H683>I683,F682,F684))","v":""},null,null,null,null,null,null,null,null,null,null,null,null,null,null,null,null,null,null,null,null,null,null,null,null,null,null,null,null,null,null,null,null,null,null,null,null,null,null,null,null,null,null,null,null,null,2,null,null,null,null,{"$f":"F685","v":"FINDIKLI 1974 SPOR (A) (RİZ)"},{"$f":"F687","v":{"$error":"#N/A"}}]
[2,17,1,"E16",32,{"$f":"IF(Main!$Q$2=3,VLOOKUP(E684,Kura!$A$4:$Z$350,26,0),Ana_Tablo_Kura!L484)","v":"BAYBURT GMSK (A) (BYB)"},null,null,null,null,null,null,null,null,null,null,null,null,17,{"$f":"IF(AND(O685=0,P685=0),\"\",IF(O685>P685,M683,M686))","v":""},null,null,null,null,null,null,null,null,null,null,null,null,null,null,null,null,null,null,null,null,null,null,null,null,null,null,null,null,null,null,null,null,null,null,null,null,null,null,3,null,null,null,null,{"$f":"F688","v":{"$error":"#N/A"}},{"$f":"F690","v":{"$error":"#N/A"}}]
[3,17,9,"E8",16,{"$f":"IF(Main!$Q$2=3,VLOOKUP(E685,Kura!$A$4:$Z$350,26,0),Ana_Tablo_Kura!L485)","v":"FINDIKLI 1974 SPOR (A) (RİZ)"},null,null,null,null,null,null,null,null,{"$f":"BX698","v":0},{"$f":"BY698","v":0},null,null,null,null,null,null,null,null,null,null,null,null,null,null,null,null,null,null,null,null,null,null,null,null,null,null,null,null,null,null,null,null,null,null,null,null,null,null,null,null,null,null,4,null,null,null,null,{"$f":"F691","v":{"$error":"#N/A"}},{"$f":"F693","v":{"$error":"#N/A"}}]
[null,null,null,"",null,null,null,{"$f":"BX683","v":0},{"$f":"BY683","v":0},null,null,2,{"$f":"IF(AND(H686=0,I686=0),\"\",IF(H686>I686,F685,F687))","v":""},null,null,null,null,null,null,null,null,null,null,null,null,null,null,null,null,null,null,null,null,null,null,null,null,null,null,null,null,null,null,null,null,null,null,null,null,null,null,null,null,null,null,null,null,null,5,null,null,null,null,{"$f":"F694","v":{"$error":"#N/A"}},{"$f":"F696","v":{"$error":"#N/A"}}]
[4,9,0,"",17,{"$f":"IF(Main!$Q$2=3,VLOOKUP(E687,Kura!$A$4:$Z$350,26,0),Ana_Tablo_Kura!L486)","v":{"$error":"#N/A"}},null,null,null,null,null,null,null,null,null,null,null,null,null,null,null,null,null,null,null,null,null,null,null,null,null,null,null,null,null,null,null,null,null,null,null,null,null,null,null,null,null,null,null,null,null,null,null,null,null,null,null,null,6,null,null,null,null,{"$f":"F697","v":{"$error":"#N/A"}},{"$f":"F699","v":{"$error":"#N/A"}}]
[5,9,0,"",9,{"$f":"IF(Main!$Q$2=3,VLOOKUP(E688,Kura!$A$4:$Z$350,26,0),Ana_Tablo_Kura!L487)","v":{"$error":"#N/A"}},null,null,null,null,null,null,null,null,null,null,null,null,null,null,null,null,null,null,null,null,null,null,null,null,null,null,null,null,null,null,null,null,null,null,null,null,null,null,null,null,null,null,null,null,null,null,null,null,null,null,null,null,7,null,null,null,null,{"$f":"F700","v":{"$error":"#N/A"}},{"$f":"F702","v":{"$error":"#N/A"}}]
[null,null,null,"",null,null,null,{"$f":"BX684","v":0},{"$f":"BY684","v":0},null,null,3,{"$f":"IF(AND(H689=0,I689=0),\"\",IF(H689>I689,F688,F690))","v":""},null,null,null,null,null,null,null,null,null,null,null,null,null,null,null,null,null,null,null,null,null,null,null,null,null,null,null,null,null,null,null,null,null,null,null,null,null,null,null,null,null,null,null,null,null,8,null,null,null,null,{"$f":"F703","v":{"$error":"#N/A"}},{"$f":"F705","v":"KUTLUBEY OKULLARI (A) (AMS)"}]
[6,17,13,"E4",24,{"$f":"IF(Main!$Q$2=3,VLOOKUP(E690,Kura!$A$4:$Z$350,26,0),Ana_Tablo_Kura!L488)","v":{"$error":"#N/A"}},null,null,null,null,null,null,null,null,null,null,null,null,{"$f":"+S684+1","v":18},null,null,null,null,null,null,null,null,null,null,null,null,null,null,null,null,null,null,null,null,null,null,null,null,null,null,null,null,null,null,null,null,null,null,null,null,null,null,null,9,null,null,null,null,{"$f":"F706","v":"ŞAFAKTEPE SK (A) (ANK)"},{"$f":"F708","v":"BEŞİKDÜZÜ AYYILDIZ SPOR (A) (TRB)"}]
[7,17,5,"E12",25,{"$f":"IF(Main!$Q$2=3,VLOOKUP(E691,Kura!$A$4:$Z$350,26,0),Ana_Tablo_Kura!L489)","v":{"$error":"#N/A"}},null,null,null,null,null,null,null,null,{"$f":"BX699","v":0},{"$f":"BY699","v":0},null,null,null,{"$f":"IF(AND(O691=0,P691=0),\"\",IF(O691>P691,M689,M692))","v":""},null,null,null,null,null,null,null,null,null,null,null,null,null,null,null,null,null,null,null,null,null,null,null,null,null,null,null,null,null,null,null,null,null,null,null,null,null,null,10,null,null,null,null,{"$f":"F709","v":"YALIKÖY ŞBÇ OO (A) (GRS)"},{"$f":"F711","v":{"$error":"#N/A"}}]
[null,null,null,"",null,null,null,{"$f":"BX685","v":0},{"$f":"BY685","v":0},null,null,4,{"$f":"IF(AND(H692=0,I692=0),\"\",IF(H692>I692,F691,F693))","v":""},null,null,null,null,null,null,null,null,null,null,null,null,null,null,null,null,null,null,null,null,null,null,null,null,null,null,null,null,null,null,null,null,null,null,null,null,null,null,null,null,null,null,null,null,null,11,null,null,null,null,{"$f":"F712","v":{"$error":"#N/A"}},{"$f":"F714","v":{"$error":"#N/A"}}]
[8,5,0,"",8,{"$f":"IF(Main!$Q$2=3,VLOOKUP(E693,Kura!$A$4:$Z$350,26,0),Ana_Tablo_Kura!L490)","v":{"$error":"#N/A"}},null,null,null,null,null,null,null,null,null,null,null,null,null,null,null,null,null,null,null,null,null,null,null,null,null,null,null,null,null,null,null,null,null,null,null,null,null,null,null,null,null,null,null,null,null,null,null,null,null,null,null,null,12,null,null,null,null,{"$f":"F715","v":{"$error":"#N/A"}},{"$f":"F717","v":{"$error":"#N/A"}}]
[9,5,0,"",5,{"$f":"IF(Main!$Q$2=3,VLOOKUP(E694,Kura!$A$4:$Z$350,26,0),Ana_Tablo_Kura!L491)","v":{"$error":"#N/A"}},null,null,null,null,null,null,null,null,null,null,null,null,null,null,null,null,null,null,null,null,null,null,null,null,null,null,null,null,null,null,null,null,null,null,null,null,null,null,null,null,null,null,null,null,null,null,null,null,null,null,null,null,13,null,null,null,null,{"$f":"F718","v":{"$error":"#N/A"}},{"$f":"F720","v":{"$error":"#N/A"}}]
[null,null,null,"",null,null,null,{"$f":"BX686","v":0},{"$f":"BY686","v":0},null,null,5,{"$f":"IF(AND(H695=0,I695=0),\"\",IF(H695>I695,F694,F696))","v":""},null,null,null,null,null,null,null,null,null,null,null,null,null,null,null,null,null,null,null,null,null,null,null,null,null,null,null,null,null,null,null,null,null,null,null,null,null,null,null,null,null,null,null,null,null,14,null,null,null,null,{"$f":"F721","v":{"$error":"#N/A"}},{"$f":"F723","v":{"$error":"#N/A"}}]
[10,17,7,"E10",28,{"$f":"IF(Main!$Q$2=3,VLOOKUP(E696,Kura!$A$4:$Z$350,26,0),Ana_Tablo_Kura!L492)","v":{"$error":"#N/A"}},null,null,null,null,null,null,null,null,null,null,null,null,{"$f":"+S690+1","v":19},{"$f":"IF(AND(O697=0,P697=0),\"\",IF(O697>P697,M695,M698))","v":""},null,null,null,null,null,null,null,null,null,null,null,null,null,null,null,null,null,null,null,null,null,null,null,null,null,null,null,null,null,null,null,null,null,null,null,null,null,null,15,null,null,null,null,{"$f":"F724","v":{"$error":"#N/A"}},{"$f":"F726","v":{"$error":"#N/A"}}]
[11,17,15,"E2",20,{"$f":"IF(Main!$Q$2=3,VLOOKUP(E697,Kura!$A$4:$Z$350,26,0),Ana_Tablo_Kura!L493)","v":{"$error":"#N/A"}},null,null,null,null,null,null,null,null,{"$f":"BX700","v":0},{"$f":"BY700","v":0},null,null,null,null,null,null,null,null,null,null,null,null,null,null,null,null,null,null,null,null,null,null,null,null,null,null,null,null,null,null,null,null,null,null,null,null,null,null,null,null,null,null,16,null,null,null,null,{"$f":"F727","v":{"$error":"#N/A"}},{"$f":"F729","v":"ÇORUM GENÇLİK SPOR (A) (ÇRM)"}]
[null,null,null,"",null,null,null,{"$f":"BX687","v":0},{"$f":"BY687","v":0},null,null,6,{"$f":"IF(AND(H698=0,I698=0),\"\",IF(H698>I698,F697,F699))","v":""},null,null,null,null,null,null,null,null,null,null,null,null,null,null,null,null,null,null,null,null,null,null,null,null,null,null,null,null,null,null,null,null,null,null,null,null,null,null,null,null,null,null,null,null,null,17,null,null,null,null,{"$f":"M683","v":""},{"$f":"M686","v":""}]
[12,9,0,"",12,{"$f":"IF(Main!$Q$2=3,VLOOKUP(E699,Kura!$A$4:$Z$350,26,0),Ana_Tablo_Kura!L494)","v":{"$error":"#N/A"}},null,null,null,null,null,null,null,null,null,null,null,null,null,null,null,null,null,null,null,null,null,null,null,null,null,null,null,null,null,null,null,null,null,null,null,null,null,null,null,null,null,null,null,null,null,null,null,null,null,null,null,null,18,null,null,null,null,{"$f":"M689","v":""},{"$f":"M692","v":""}]
[13,9,0,"",13,{"$f":"IF(Main!$Q$2=3,VLOOKUP(E700,Kura!$A$4:$Z$350,26,0),Ana_Tablo_Kura!L495)","v":{"$error":"#N/A"}},null,null,null,null,null,null,null,null,null,null,null,null,null,null,null,null,null,null,null,null,null,null,null,null,null,null,null,null,null,null,null,null,null,null,null,null,null,null,null,null,null,null,null,null,null,null,null,null,null,null,null,null,19,null,null,null,null,{"$f":"M695","v":""},{"$f":"M698","v":""}]
[null,null,null,"",null,null,null,{"$f":"BX688","v":0},{"$f":"BY688","v":0},null,null,7,{"$f":"IF(AND(H701=0,I701=0),\"\",IF(H701>I701,F700,F702))","v":""},null,null,null,null,null,null,null,null,null,null,null,null,null,null,null,null,null,null,null,null,null,null,null,null,null,null,null,null,null,null,null,null,null,null,null,null,null,null,null,null,null,null,null,null,null,20,null,null,null,null,{"$f":"M701","v":""},{"$f":"M704","v":""}]
[14,17,11,"E6",21,{"$f":"IF(Main!$Q$2=3,VLOOKUP(E702,Kura!$A$4:$Z$350,26,0),Ana_Tablo_Kura!L496)","v":{"$error":"#N/A"}},null,null,null,null,null,null,null,null,null,null,null,null,{"$f":"+S696+1","v":20},null,null,null,null,null,null,null,null,null,null,null,null,null,null,null,null,null,null,null,null,null,null,null,null,null,null,null,null,null,null,null,null,null,null,null,null,null,null,null,21,null,null,null,null,{"$f":"M707","v":""},{"$f":"M710","v":""}]
[15,17,3,"E14",29,{"$f":"IF(Main!$Q$2=3,VLOOKUP(E703,Kura!$A$4:$Z$350,26,0),Ana_Tablo_Kura!L497)","v":{"$error":"#N/A"}},null,null,null,null,null,null,null,null,{"$f":"BX701","v":0},{"$f":"BY701","v":0},null,null,null,{"$f":"IF(AND(O703=0,P703=0),\"\",IF(O703>P703,M701,M704))","v":""},null,null,null,null,null,null,null,null,null,null,null,null,null,null,null,null,null,null,null,null,null,null,null,null,null,null,null,null,null,null,null,null,null,null,null,null,null,null,22,null,null,null,null,{"$f":"M713","v":""},{"$f":"M716","v":""}]
[null,null,null,"",null,null,null,{"$f":"BX689","v":0},{"$f":"BY689","v":0},null,null,8,{"$f":"IF(AND(H704=0,I704=0),\"\",IF(H704>I704,F703,F705))","v":""},null,null,null,null,null,null,null,null,null,null,null,null,null,null,null,null,null,null,null,null,null,null,null,null,null,null,null,null,null,null,null,null,null,null,null,null,null,null,null,null,null,null,null,null,null,23,null,null,null,null,{"$f":"M719","v":""},{"$f":"M722","v":""}]
[16,3,0,"",4,{"$f":"IF(Main!$Q$2=3,VLOOKUP(E705,Kura!$A$4:$Z$350,26,0),Ana_Tablo_Kura!L498)","v":"KUTLUBEY OKULLARI (A) (AMS)"},null,null,null,null,null,null,null,null,null,null,null,null,null,null,null,null,null,null,null,null,null,null,null,null,null,null,null,null,null,null,null,null,null,null,null,null,null,null,null,null,null,null,null,null,null,null,null,null,null,null,null,null,24,null,null,null,null,{"$f":"M725","v":""},{"$f":"M728","v":""}]
[17,3,0,"",3,{"$f":"IF(Main!$Q$2=3,VLOOKUP(E706,Kura!$A$4:$Z$350,26,0),Ana_Tablo_Kura!L500)","v":"ŞAFAKTEPE SK (A) (ANK)"},null,null,null,null,null,null,null,null,null,null,null,null,null,null,null,null,null,null,null,null,null,null,null,null,null,null,null,null,null,null,null,null,null,null,null,null,null,null,null,null,null,null,null,null,null,null,null,null,null,null,null,null,25,null,null,null,null,{"$f":"T684","v":""},{"$f":"T691","v":""}]
[null,null,null,"",null,null,null,{"$f":"BX690","v":0},{"$f":"BY690","v":0},null,null,9,{"$f":"IF(AND(H707=0,I707=0),\"\",IF(H707>I707,F706,F708))","v":""},null,null,null,null,null,null,null,null,null,null,null,null,null,null,null,null,null,null,null,null,null,null,null,null,null,null,null,null,null,null,null,null,null,null,null,null,null,null,null,null,null,null,null,null,null,26,null,null,null,null,{"$f":"T696","v":""},{"$f":"T703","v":""}]
[18,17,4,"E13",30,{"$f":"IF(Main!$Q$2=3,VLOOKUP(E708,Kura!$A$4:$Z$350,26,0),Ana_Tablo_Kura!L501)","v":"BEŞİKDÜZÜ AYYILDIZ SPOR (A) (TRB)"},null,null,null,null,null,null,null,null,null,null,null,null,{"$f":"+S702+1","v":21},{"$f":"IF(AND(O709=0,P709=0),\"\",IF(O709>P709,M707,M710))","v":""},null,null,null,null,null,null,null,null,null,null,null,null,null,null,null,null,null,null,null,null,null,null,null,null,null,null,null,null,null,null,null,null,null,null,null,null,null,null,27,null,null,null,null,{"$f":"T708","v":""},{"$f":"T715","v":""}]
[19,17,12,"E5",22,{"$f":"IF(Main!$Q$2=3,VLOOKUP(E709,Kura!$A$4:$Z$350,26,0),Ana_Tablo_Kura!L502)","v":"YALIKÖY ŞBÇ OO (A) (GRS)"},null,null,null,null,null,null,null,null,{"$f":"BX702","v":0},{"$f":"BY702","v":0},null,null,null,null,null,null,null,null,null,null,null,null,null,null,null,null,null,null,null,null,null,null,null,null,null,null,null,null,null,null,null,null,null,null,null,null,null,null,null,null,null,null,28,null,null,null,null,{"$f":"T720","v":""},{"$f":"T727","v":""}]
[null,null,null,"",null,null,null,{"$f":"BX691","v":0},{"$f":"BY691","v":0},null,null,10,{"$f":"IF(AND(H710=0,I710=0),\"\",IF(H710>I710,F709,F711))","v":""}]
[20,9,0,"",11,{"$f":"IF(Main!$Q$2=3,VLOOKUP(E711,Kura!$A$4:$Z$350,26,0),Ana_Tablo_Kura!L503)","v":{"$error":"#N/A"}}]
[21,9,0,"",14,{"$f":"IF(Main!$Q$2=3,VLOOKUP(E712,Kura!$A$4:$Z$350,26,0),Ana_Tablo_Kura!L504)","v":{"$error":"#N/A"}}]
[null,null,null,"",null,null,null,{"$f":"BX692","v":0},{"$f":"BY692","v":0},null,null,11,{"$f":"IF(AND(H713=0,I713=0),\"\",IF(H713>I713,F712,F714))","v":""}]
[22,17,0,"E1",19,{"$f":"IF(Main!$Q$2=3,VLOOKUP(E714,Kura!$A$4:$Z$350,26,0),Ana_Tablo_Kura!L505)","v":{"$error":"#N/A"}},null,null,null,null,null,null,null,null,null,null,null,null,{"$f":"+S708+1","v":22}]
[23,17,8,"E9",27,{"$f":"IF(Main!$Q$2=3,VLOOKUP(E715,Kura!$A$4:$Z$350,26,0),Ana_Tablo_Kura!L506)","v":{"$error":"#N/A"}},null,null,null,null,null,null,null,null,{"$f":"BX703","v":0},{"$f":"BY703","v":0},null,null,null,{"$f":"IF(AND(O715=0,P715=0),\"\",IF(O715>P715,M713,M716))","v":""}]
[null,null,null,"",null,null,null,{"$f":"BX693","v":0},{"$f":"BY693","v":0},null,null,12,{"$f":"IF(AND(H716=0,I716=0),\"\",IF(H716>I716,F715,F717))","v":""}]
[24,5,0,"",6,{"$f":"IF(Main!$Q$2=3,VLOOKUP(E717,Kura!$A$4:$Z$350,26,0),Ana_Tablo_Kura!L507)","v":{"$error":"#N/A"}}]
[25,5,0,"",7,{"$f":"IF(Main!$Q$2=3,VLOOKUP(E718,Kura!$A$4:$Z$350,26,0),Ana_Tablo_Kura!L508)","v":{"$error":"#N/A"}}]
[null,null,null,"",null,null,null,{"$f":"BX694","v":0},{"$f":"BY694","v":0},null,null,13,{"$f":"IF(AND(H719=0,I719=0),\"\",IF(H719>I719,F718,F720))","v":""}]
[26,17,6,"E11",26,{"$f":"IF(Main!$Q$2=3,VLOOKUP(E720,Kura!$A$4:$Z$350,26,0),Ana_Tablo_Kura!L509)","v":{"$error":"#N/A"}},null,null,null,null,null,null,null,null,null,null,null,null,{"$f":"+S714+1","v":23},{"$f":"IF(AND(O721=0,P721=0),\"\",IF(O721>P721,M719,M722))","v":""}]
[27,17,14,"E3",18,{"$f":"IF(Main!$Q$2=3,VLOOKUP(E721,Kura!$A$4:$Z$350,26,0),Ana_Tablo_Kura!L510)","v":{"$error":"#N/A"}},null,null,null,null,null,null,null,null,{"$f":"BX704","v":0},{"$f":"BY704","v":0}]
[null,null,null,"",null,null,null,{"$f":"BX695","v":0},{"$f":"BY695","v":0},null,null,14,{"$f":"IF(AND(H722=0,I722=0),\"\",IF(H722>I722,F721,F723))","v":""}]
[28,9,0,"",10,{"$f":"IF(Main!$Q$2=3,VLOOKUP(E723,Kura!$A$4:$Z$350,26,0),Ana_Tablo_Kura!L511)","v":{"$error":"#N/A"}}]
[29,9,0,"",15,{"$f":"IF(Main!$Q$2=3,VLOOKUP(E724,Kura!$A$4:$Z$350,26,0),Ana_Tablo_Kura!L512)","v":{"$error":"#N/A"}}]
[null,null,null,"",null,null,null,{"$f":"BX696","v":0},{"$f":"BY696","v":0},null,null,15,{"$f":"IF(AND(H725=0,I725=0),\"\",IF(H725>I725,F724,F726))","v":""}]
[30,17,10,"E7",23,{"$f":"IF(Main!$Q$2=3,VLOOKUP(E726,Kura!$A$4:$Z$350,26,0),Ana_Tablo_Kura!L513)","v":{"$error":"#N/A"}},null,null,null,null,null,null,null,null,null,null,null,null,{"$f":"+S720+1","v":24}]
[31,17,2,"E15",31,{"$f":"IF(Main!$Q$2=3,VLOOKUP(E727,Kura!$A$4:$Z$350,26,0),Ana_Tablo_Kura!L514)","v":{"$error":"#N/A"}},null,null,null,null,null,null,null,null,{"$f":"BX705","v":0},{"$f":"BY705","v":0},null,null,null,{"$f":"IF(AND(O727=0,P727=0),\"\",IF(O727>P727,M725,M728))","v":""}]
[null,null,null,null,null,null,null,{"$f":"BX697","v":0},{"$f":"BY697","v":0},null,null,16,{"$f":"IF(AND(H728=0,I728=0),\"\",IF(H728>I728,F727,F729))","v":""}]
[32,2,0,0,2,{"$f":"IF(Main!$Q$2=3,VLOOKUP(E729,Kura!$A$4:$Z$350,26,0),Ana_Tablo_Kura!L515)","v":"ÇORUM GENÇLİK SPOR (A) (ÇRM)"}]
[]
[]
[1,1,0,0,1,{"$f":"IF(Main!$Q$2=3,VLOOKUP(E732,Kura!$A$4:$Z$350,26,0),Ana_Tablo_Kura!L525)","v":"ÇORUM BLD. SPOR (A) (ÇRM)"},null,null,null,null,null,null,null,null,null,null,null,null,null,null,null,null,null,null,null,null,null,null,null,null,null,null,null,null,null,null,null,null,null,null,null,null,null,null,null,null,null,null,null,null,null,null,null,null,null,null,null,null,1,null,null,null,null,{"$f":"F732","v":"ÇORUM BLD. SPOR (A) (ÇRM)"},{"$f":"F734","v":{"$error":"#N/A"}}]
[null,null,null,null,null,null,null,{"$f":"BX732","v":0},{"$f":"BY732","v":0},null,null,1,{"$f":"IF(AND(H733=0,I733=0),\"\",IF(H733>I733,F732,F734))","v":""},null,null,null,null,null,null,null,null,null,null,null,null,null,null,null,null,null,null,null,null,null,null,null,null,null,null,null,null,null,null,null,null,null,null,null,null,null,null,null,null,null,null,null,null,null,2,null,null,null,null,{"$f":"F735","v":"FINDIKLI 1974 SPOR (A) (RİZ)"},{"$f":"F737","v":{"$error":"#N/A"}}]
[2,9,1,"E8",16,{"$f":"IF(Main!$Q$2=3,VLOOKUP(E734,Kura!$A$4:$Z$350,26,0),Ana_Tablo_Kura!L526)","v":{"$error":"#N/A"}},null,null,null,null,null,null,null,null,null,null,null,null,null,null,null,null,null,null,null,null,null,null,null,null,null,null,null,null,null,null,null,null,null,null,null,null,null,null,null,null,null,null,null,null,null,null,null,null,null,null,null,null,3,null,null,null,null,{"$f":"F738","v":{"$error":"#N/A"}},{"$f":"F740","v":{"$error":"#N/A"}}]
[3,9,5,"E4",12,{"$f":"IF(Main!$Q$2=3,VLOOKUP(E735,Kura!$A$4:$Z$350,26,0),Ana_Tablo_Kura!L527)","v":"FINDIKLI 1974 SPOR (A) (RİZ)"},null,null,null,null,null,null,null,null,null,null,null,null,null,null,null,null,null,null,null,null,null,null,null,null,null,null,null,null,null,null,null,null,null,null,null,null,null,null,null,null,null,null,null,null,null,null,null,null,null,null,null,null,4,null,null,null,null,{"$f":"F741","v":"BAYBURT GMSK (A) (BYB)"},{"$f":"F743","v":"KUTLUBEY OKULLARI (A) (AMS)"}]
[null,null,null,"",null,null,null,{"$f":"BX733","v":0},{"$f":"BY733","v":0},null,null,2,{"$f":"IF(AND(H736=0,I736=0),\"\",IF(H736>I736,F735,F737))","v":""},null,null,null,null,null,null,null,null,null,null,null,null,null,null,null,null,null,null,null,null,null,null,null,null,null,null,null,null,null,null,null,null,null,null,null,null,null,null,null,null,null,null,null,null,null,5,null,null,null,null,{"$f":"F744","v":"ŞAFAKTEPE SK (A) (ANK)"},{"$f":"F746","v":{"$error":"#N/A"}}]
[4,5,0,"",8,{"$f":"IF(Main!$Q$2=3,VLOOKUP(E737,Kura!$A$4:$Z$350,26,0),Ana_Tablo_Kura!L528)","v":{"$error":"#N/A"}},null,null,null,null,null,null,null,null,null,null,null,null,null,null,null,null,null,null,null,null,null,null,null,null,null,null,null,null,null,null,null,null,null,null,null,null,null,null,null,null,null,null,null,null,null,null,null,null,null,null,null,null,6,null,null,null,null,{"$f":"F747","v":{"$error":"#N/A"}},{"$f":"F749","v":{"$error":"#N/A"}}]
[5,5,0,"",6,{"$f":"IF(Main!$Q$2=3,VLOOKUP(E738,Kura!$A$4:$Z$350,26,0),Ana_Tablo_Kura!L529)","v":{"$error":"#N/A"}},null,null,null,null,null,null,null,null,null,null,null,null,null,null,null,null,null,null,null,null,null,null,null,null,null,null,null,null,null,null,null,null,null,null,null,null,null,null,null,null,null,null,null,null,null,null,null,null,null,null,null,null,7,null,null,null,null,{"$f":"F750","v":{"$error":"#N/A"}},{"$f":"F752","v":"YALIKÖY ŞBÇ OO (A) (GRS)"}]
[null,null,null,"",null,null,null,{"$f":"BX734","v":0},{"$f":"BY734","v":0},null,null,3,{"$f":"IF(AND(H739=0,I739=0),\"\",IF(H739>I739,F738,F740))","v":""},null,null,null,null,null,null,null,null,null,null,null,null,null,null,null,null,null,null,null,null,null,null,null,null,null,null,null,null,null,null,null,null,null,null,null,null,null,null,null,null,null,null,null,null,null,8,null,null,null,null,{"$f":"F753","v":"BEŞİKDÜZÜ AYYILDIZ SPOR (A) (TRB)"},{"$f":"F755","v":"ÇORUM GENÇLİK SPOR (A) (ÇRM)"}]
[6,9,7,"E2",10,{"$f":"IF(Main!$Q$2=3,VLOOKUP(E740,Kura!$A$4:$Z$350,26,0),Ana_Tablo_Kura!L530)","v":{"$error":"#N/A"}},null,null,null,null,null,null,null,null,null,null,null,null,null,null,null,null,null,null,null,null,null,null,null,null,null,null,null,null,null,null,null,null,null,null,null,null,null,null,null,null,null,null,null,null,null,null,null,null,null,null,null,null,9,null,null,null,null,{"$f":"M733","v":""},{"$f":"M736","v":""}]
[7,9,3,"E6",14,{"$f":"IF(Main!$Q$2=3,VLOOKUP(E741,Kura!$A$4:$Z$350,26,0),Ana_Tablo_Kura!L531)","v":"BAYBURT GMSK (A) (BYB)"},null,null,null,null,null,null,null,null,null,null,null,null,null,null,null,null,null,null,null,null,null,null,null,null,null,null,null,null,null,null,null,null,null,null,null,null,null,null,null,null,null,null,null,null,null,null,null,null,null,null,null,null,10,null,null,null,null,{"$f":"M739","v":""},{"$f":"M742","v":""}]
[null,null,null,"",null,null,null,{"$f":"BX735","v":0},{"$f":"BY735","v":0},null,null,4,{"$f":"IF(AND(H742=0,I742=0),\"\",IF(H742>I742,F741,F743))","v":""},null,null,null,null,null,null,null,null,null,null,null,null,null,null,null,null,null,null,null,null,null,null,null,null,null,null,null,null,null,null,null,null,null,null,null,null,null,null,null,null,null,null,null,null,null,11,null,null,null,null,{"$f":"M745","v":""},{"$f":"M748","v":""}]
[8,3,0,"",4,{"$f":"IF(Main!$Q$2=3,VLOOKUP(E743,Kura!$A$4:$Z$350,26,0),Ana_Tablo_Kura!L532)","v":"KUTLUBEY OKULLARI (A) (AMS)"},null,null,null,null,null,null,null,null,null,null,null,null,null,null,null,null,null,null,null,null,null,null,null,null,null,null,null,null,null,null,null,null,null,null,null,null,null,null,null,null,null,null,null,null,null,null,null,null,null,null,null,null,12,null,null,null,null,{"$f":"M751","v":""},{"$f":"M754","v":""}]
[9,3,0,"",3,{"$f":"IF(Main!$Q$2=3,VLOOKUP(E744,Kura!$A$4:$Z$350,26,0),Ana_Tablo_Kura!L534)","v":"ŞAFAKTEPE SK (A) (ANK)"}]
[null,null,null,"",null,null,null,{"$f":"BX736","v":0},{"$f":"BY736","v":0},null,null,5,{"$f":"IF(AND(H745=0,I745=0),\"\",IF(H745>I745,F744,F746))","v":""}]
[10,9,4,"E5",13,{"$f":"IF(Main!$Q$2=3,VLOOKUP(E746,Kura!$A$4:$Z$350,26,0),Ana_Tablo_Kura!L535)","v":{"$error":"#N/A"}}]
[11,9,0,"E1",9,{"$f":"IF(Main!$Q$2=3,VLOOKUP(E747,Kura!$A$4:$Z$350,26,0),Ana_Tablo_Kura!L536)","v":{"$error":"#N/A"}}]
[null,null,null,"",null,null,null,{"$f":"BX737","v":0},{"$f":"BY737","v":0},null,null,6,{"$f":"IF(AND(H748=0,I748=0),\"\",IF(H748>I748,F747,F749))","v":""}]
[12,5,0,"",5,{"$f":"IF(Main!$Q$2=3,VLOOKUP(E749,Kura!$A$4:$Z$350,26,0),Ana_Tablo_Kura!L537)","v":{"$error":"#N/A"}}]
[13,5,0,"",7,{"$f":"IF(Main!$Q$2=3,VLOOKUP(E750,Kura!$A$4:$Z$350,26,0),Ana_Tablo_Kura!L538)","v":{"$error":"#N/A"}}]
[null,null,null,"",null,null,null,{"$f":"BX738","v":0},{"$f":"BY738","v":0},null,null,7,{"$f":"IF(AND(H751=0,I751=0),\"\",IF(H751>I751,F750,F752))","v":""}]
[14,9,6,"E3",11,{"$f":"IF(Main!$Q$2=3,VLOOKUP(E752,Kura!$A$4:$Z$350,26,0),Ana_Tablo_Kura!L539)","v":"YALIKÖY ŞBÇ OO (A) (GRS)"}]
[15,9,2,"E7",15,{"$f":"IF(Main!$Q$2=3,VLOOKUP(E753,Kura!$A$4:$Z$350,26,0),Ana_Tablo_Kura!L540)","v":"BEŞİKDÜZÜ AYYILDIZ SPOR (A) (TRB)"}]
[null,null,null,null,null,null,null,{"$f":"BX739","v":0},{"$f":"BY739","v":0},null,null,8,{"$f":"IF(AND(H754=0,I754=0),\"\",IF(H754>I754,F753,F755))","v":""}]
[16,2,0,0,2,{"$f":"IF(Main!$Q$2=3,VLOOKUP(E755,Kura!$A$4:$Z$350,26,0),Ana_Tablo_Kura!L541)","v":"ÇORUM GENÇLİK SPOR (A) (ÇRM)"}]
[]
[]
[1,1,0,0,1,{"$f":"IF(Main!$Q$2=3,VLOOKUP(E758,Kura!$A$4:$Z$350,26,0),Ana_Tablo_Kura!L551)","v":"ÇORUM BLD. SPOR (A) (ÇRM)"},null,null,null,null,null,null,null,null,null,null,null,null,null,null,null,null,null,null,null,null,null,null,null,null,null,null,null,null,null,null,null,null,null,null,null,null,null,null,null,null,null,null,null,null,null,null,null,null,null,null,null,null,1,null,null,null,null,{"$f":"F758","v":"ÇORUM BLD. SPOR (A) (ÇRM)"},{"$f":"F760","v":"BAYBURT GMSK (A) (BYB)"}]
[null,null,null,null,null,null,null,{"$f":"BX758","v":0},{"$f":"BY758","v":0},null,null,1,{"$f":"IF(AND(H759=0,I759=0),\"\",IF(H759>I759,F758,F760))","v":""},null,null,null,null,null,null,null,null,null,null,null,null,null,null,null,null,null,null,null,null,null,null,null,null,null,null,null,null,null,null,null,null,null,null,null,null,null,null,null,null,null,null,null,null,null,2,null,null,null,null,{"$f":"F761","v":"FINDIKLI 1974 SPOR (A) (RİZ)"},{"$f":"F763","v":"KUTLUBEY OKULLARI (A) (AMS)"}]
[2,9,1,"E8",16,{"$f":"IF(Main!$Q$2=3,VLOOKUP(E760,Kura!$A$4:$Z$350,26,0),Ana_Tablo_Kura!L552)","v":"BAYBURT GMSK (A) (BYB)"},null,null,null,null,null,null,null,null,null,null,null,null,null,null,null,null,null,null,null,null,null,null,null,null,null,null,null,null,null,null,null,null,null,null,null,null,null,null,null,null,null,null,null,null,null,null,null,null,null,null,null,null,3,null,null,null,null,{"$f":"F764","v":"ŞAFAKTEPE SK (A) (ANK)"},{"$f":"F766","v":"BEŞİKDÜZÜ AYYILDIZ SPOR (A) (TRB)"}]
[3,9,5,"E4",12,{"$f":"IF(Main!$Q$2=3,VLOOKUP(E761,Kura!$A$4:$Z$350,26,0),Ana_Tablo_Kura!L553)","v":"FINDIKLI 1974 SPOR (A) (RİZ)"},null,null,null,null,null,null,null,null,null,null,null,null,null,null,null,null,null,null,null,null,null,null,null,null,null,null,null,null,null,null,null,null,null,null,null,null,null,null,null,null,null,null,null,null,null,null,null,null,null,null,null,null,4,null,null,null,null,{"$f":"F767","v":"YALIKÖY ŞBÇ OO (A) (GRS)"},{"$f":"F769","v":"ÇORUM GENÇLİK SPOR (A) (ÇRM)"}]
[null,null,null,"",null,null,null,{"$f":"BX759","v":0},{"$f":"BY759","v":0},null,null,2,{"$f":"IF(AND(H762=0,I762=0),\"\",IF(H762>I762,F761,F763))","v":""},null,null,null,null,null,null,null,null,null,null,null,null,null,null,null,null,null,null,null,null,null,null,null,null,null,null,null,null,null,null,null,null,null,null,null,null,null,null,null,null,null,null,null,null,null,5,null,null,null,null,{"$f":"M759","v":""},{"$f":"M762","v":""}]
[4,5,0,"",8,{"$f":"IF(Main!$Q$2=3,VLOOKUP(E763,Kura!$A$4:$Z$350,26,0),Ana_Tablo_Kura!L554)","v":"KUTLUBEY OKULLARI (A) (AMS)"},null,null,null,null,null,null,null,null,null,null,null,null,null,null,null,null,null,null,null,null,null,null,null,null,null,null,null,null,null,null,null,null,null,null,null,null,null,null,null,null,null,null,null,null,null,null,null,null,null,null,null,null,6,null,null,null,null,{"$f":"M765","v":""},{"$f":"M768","v":""}]
[5,5,0,"",6,{"$f":"IF(Main!$Q$2=3,VLOOKUP(E764,Kura!$A$4:$Z$350,26,0),Ana_Tablo_Kura!L556)","v":"ŞAFAKTEPE SK (A) (ANK)"}]
[null,null,null,"",null,null,null,{"$f":"BX760","v":0},{"$f":"BY760","v":0},null,null,3,{"$f":"IF(AND(H765=0,I765=0),\"\",IF(H765>I765,F764,F766))","v":""}]
[6,9,7,"E2",10,{"$f":"IF(Main!$Q$2=3,VLOOKUP(E766,Kura!$A$4:$Z$350,26,0),Ana_Tablo_Kura!L557)","v":"BEŞİKDÜZÜ AYYILDIZ SPOR (A) (TRB)"}]
[7,9,3,"E6",14,{"$f":"IF(Main!$Q$2=3,VLOOKUP(E767,Kura!$A$4:$Z$350,26,0),Ana_Tablo_Kura!L558)","v":"YALIKÖY ŞBÇ OO (A) (GRS)"}]
[null,null,null,"",null,null,null,{"$f":"BX761","v":0},{"$f":"BY761","v":0},null,null,4,{"$f":"IF(AND(H768=0,I768=0),\"\",IF(H768>I768,F767,F769))","v":""}]
[8,3,0,"",4,{"$f":"IF(Main!$Q$2=3,VLOOKUP(E769,Kura!$A$4:$Z$350,26,0),Ana_Tablo_Kura!L559)","v":"ÇORUM GENÇLİK SPOR (A) (ÇRM)"}]

{"sheet":"32DE","index":7,"n_rows":98,"n_cols":105,"rows_kept":98,"cut":false,"hidden":true,"merged":[[4,88,4,89],[4,90,4,91],[4,92,4,93],[4,94,4,95],[4,96,4,97],[4,98,4,99],[94,36,94,42],[95,43,95,49],[96,36,96,42],[87,50,87,56],[89,50,89,56],[83,50,83,56],[85,50,85,56],[60,57,60,63],[54,64,54,70],[48,57,48,63],[38,71,38,77],[37,50,37,56],[12,50,12,56],[97,43,97,49],[3,24,4,45],[90,29,90,35],[91,29,91,35],[91,43,91,49],[92,36,92,42],[93,29,93,35],[93,43,93,49],[86,43,86,49],[48,29,48,35],[48,43,48,49],[88,29,88,35],[88,43,88,49],[89,36,89,42],[82,36,82,42],[83,36,83,42],[84,43,84,49],[85,36,85,42],[79,15,79,21],[79,43,79,49],[80,8,80,14],[80,36,80,42],[80,50,80,56],[81,43,81,49],[76,8,76,14],[76,29,76,35],[76,57,76,63],[77,15,77,21],[77,43,77,49],[78,8,78,14],[78,22,78,28],[78,50,78,56],[74,8,74,14],[74,22,74,28],[74,36,74,42],[74,57,74,63],[75,15,75,21],[75,50,75,56],[70,57,70,63],[71,15,71,21],[71,43,71,49],[72,8,72,14],[72,29,72,35],[73,15,73,21],[73,50,73,56],[67,15,67,21],[68,8,68,14],[68,29,68,35],[68,50,68,56],[69,15,69,21],[70,8,70,14],[70,22,70,28],[64,8,64,14],[64,29,64,35],[64,43,64,49],[65,15,65,21],[66,8,66,14],[66,22,66,28],[66,36,66,42],[61,15,61,21],[62,8,62,14],[62,22,62,28],[62,64,62,70],[63,15,63,21],[58,8,58,14],[58,22,58,28],[58,36,58,42],[59,15,59,21],[60,8,60,14],[60,29,60,35],[55,15,55,21],[56,8,56,14],[56,29,56,35],[56,71,56,77],[57,15,57,21],[51,15,51,21],[51,50,51,56],[52,8,52,14],[52,29,52,35],[53,15,53,21],[54,8,54,14],[54,22,54,28],[54,43,54,49],[49,15,49,21],[50,8,50,14],[50,22,50,28],[50,36,50,42],[43,8,43,14],[44,1,44,7],[44,15,44,21],[45,1,45,7],[46,8,46,14],[47,1,47,7],[39,1,39,7],[39,15,39,21],[40,8,40,14],[41,1,41,7],[42,1,42,7],[42,29,42,35],[34,8,34,14],[35,1,35,7],[36,1,36,7],[37,8,37,14],[38,1,38,7],[30,1,30,7],[31,8,31,14],[31,29,31,35],[32,1,32,7],[32,15,32,21],[33,1,33,7],[25,8,25,14],[26,1,26,7],[27,1,27,7],[27,15,27,21],[28,8,28,14],[29,1,29,7],[21,1,21,7],[22,8,22,14],[23,1,23,7],[24,1,24,7],[24,64,24,70],[17,1,17,7],[17,29,17,35],[18,1,18,7],[18,22,18,28],[19,8,19,14],[20,1,20,7],[20,15,20,21],[13,8,13,14],[14,1,14,7],[15,1,15,7],[15,15,15,21],[16,8,16,14],[8,1,8,7],[8,15,8,21],[9,1,9,7],[10,8,10,14],[11,1,11,7],[12,1,12,7],[4,8,4,14],[5,1,5,7],[6,1,6,7],[6,29,6,35],[7,8,7,14],[0,1,0,7],[1,8,1,14],[2,1,2,7],[3,1,3,7],[3,15,3,21],[0,24,2,45]]}
[1,{"$f":"IF(Main!R2=2,Eleme!BL228,IF(Main!R2=3,Eleme!BL486,IF(Main!R2=4,Eleme!BL616,IF(Main!R2=5,Eleme!BL682))))","v":false},null,null,null,null,null,null,null,null,null,null,null,null,null,null,null,null,null,null,null,null,null,null,{"$f":"+Kura!A1","v":"TÜRKİYE MASA TENİSİ FEDERASYONU\nGENÇLER TAKIM KUZEYDOĞU BÖLGE YARIŞMALARI"},null,null,null,null,null,null,null,null,null,null,null,null,null,null,null,null,null,null,null,null,null,null,null,null,null,null,null,null,null,null,null,null,null,null,null,null,null,null,null,null,null,null,null,null,null,null,null,null,null,null,null,null,null,null,null,null,null,null,null,null,null,null,null,null,null,null,null,null,null,null,null,null,null,null,null,null,null,null,"1st Round",1]
[null,null,null,{"$f":"CU6","v":0},{"$f":"CV6","v":0},"Y1",null,1,{"$f":"IF(AND(D2=0,E2=0),\"\",IF(D2>E2,B1,B3))","v":""},null,null,null,null,null,null,null,null,null,null,null,null,null,null,null,null,null,null,null,null,null,null,null,null,null,null,null,null,null,null,null,null,null,null,null,null,null,null,null,null,null,null,null,null,null,null,null,null,null,null,null,null,null,null,null,null,null,null,null,null,null,null,null,null,null,null,null,null,null,null,null,null,null,null,null,null,null,null,null,null,null,null,null,null,null,null,null,null,null,null,null,null,null,null,"2sn Round"]
[2,{"$f":"IF(Main!R2=2,Eleme!BM228,IF(Main!R2=3,Eleme!BM486,IF(Main!R2=4,Eleme!BM616,IF(Main!R2=5,Eleme!BM682))))","v":false},null,null,null,null,null,null,null,null,null,null,null,null,17,null,null,null,null,null,null,null,null,null,null,null,null,null,null,null,null,null,null,null,null,null,null,null,null,null,null,null,null,null,null,null,null,null,null,null,null,null,null,null,null,null,null,null,null,null,null,null,null,null,null,null,null,null,null,null,null,null,null,null,null,null,null,null,null,null,null,null,null,null,null,null,null,null,null,null,null,null,null,null,null,null,null,null,null,null,null,null,null,"3th Round"]
[3,{"$f":"IF(Main!R2=2,Eleme!BL229,IF(Main!R2=3,Eleme!BL487,IF(Main!R2=4,Eleme!BL617,IF(Main!R2=5,Eleme!BL683))))","v":false},null,null,null,null,null,null,null,null,{"$f":"CU22","v":0},{"$f":"CV22","v":0},"Y17",null,null,{"$f":"IF(AND(K4=0,L4=0),\"\",IF(K4>L4,I2,I5))","v":""},null,null,null,null,null,null,null,null,{"$f":"Kura!AC2&\" \"&Kura!AE3","v":"KIZ TAKIM  [15-16 Mart 2025 TRABZON] [ Ana Tablo ]"},null,null,null,null,null,null,null,null,null,null,null,null,null,null,null,null,null,null,null,null,null,null,null,null,null,null,null,null,null,null,null,null,null,null,null,null,null,null,null,null,null,null,null,null,null,null,null,null,null,null,null,null,null,null,null,null,null,null,null,null,null,null,null,null,null,null,null,null,null,null,null,null,null,null,null,null,null,null,"4th Round"]
[null,null,null,{"$f":"CU7","v":0},{"$f":"CV7","v":0},"Y2",null,2,{"$f":"IF(AND(D5=0,E5=0),\"\",IF(D5>E5,B4,B6))","v":""},null,null,null,null,null,null,null,null,null,null,null,null,33,null,null,null,null,null,null,null,null,null,null,null,null,null,null,null,null,null,null,null,null,null,null,null,null,null,null,null,null,null,null,null,null,null,null,null,null,null,null,null,null,null,null,null,null,null,null,null,null,null,null,null,null,null,null,null,null,null,null,null,"#","Date","Time","Table","Competition","Player A","Player B","Set1",null,"Set2",null,"Set3",null,"Set4",null,"Set5",null,"Result",null,null,null,null,"5th Round"]
[4,{"$f":"IF(Main!R2=2,Eleme!BM229,IF(Main!R2=3,Eleme!BM487,IF(Main!R2=4,Eleme!BM617,IF(Main!R2=5,Eleme!BM683))))","v":false},null,null,null,null,null,null,null,null,null,null,null,null,null,null,null,null,null,null,null,null,null,null,null,null,null,null,null,null,null,null,null,null,null,null,null,null,null,null,null,null,null,null,null,null,null,null,null,null,null,null,null,null,null,null,null,null,null,null,null,null,null,null,null,null,null,null,null,null,null,null,null,null,null,null,null,null,null,null,null,1,null,null,null,null,{"$f":"B1","v":false},{"$f":"B3","v":false},null,null,null,null,null,null,null,null,null,null,null,null,null,null,null,"6th Round"]
[5,{"$f":"IF(Main!R2=2,Eleme!BL230,IF(Main!R2=3,Eleme!BL488,IF(Main!R2=4,Eleme!BL618,IF(Main!R2=5,Eleme!BL684))))","v":false},null,null,null,null,null,null,null,null,null,null,null,null,null,null,null,{"$f":"CU38","v":0},{"$f":"CV38","v":0},"Y25",null,null,null,null,null,null,null,null,null,{"$f":"IF(AND(R7=0,S7=0),\"\",IF(R7>S7,P4,P9))","v":""},null,null,null,null,null,null,null,null,null,null,null,null,null,null,null,null,null,null,null,null,null,null,null,null,null,null,null,null,null,null,null,null,null,null,null,null,null,null,null,null,null,null,null,null,null,null,null,null,null,null,null,2,null,null,null,null,{"$f":"B4","v":false},{"$f":"B6","v":false},null,null,null,null,null,null,null,null,null,null,null,null,null,null,null,"7th Round"]
[null,null,null,{"$f":"CU8","v":0},{"$f":"CV8","v":0},"Y3",null,3,{"$f":"IF(AND(D8=0,E8=0),\"\",IF(D8>E8,B7,B9))","v":""},null,null,null,null,null,null,null,null,null,null,null,null,null,null,null,null,null,null,null,null,null,null,null,null,null,null,49,null,null,null,null,null,null,null,null,null,null,null,null,null,null,null,null,null,null,null,null,null,null,null,null,null,null,null,null,null,null,null,null,null,null,null,null,null,null,null,null,null,null,null,null,null,3,null,null,null,null,{"$f":"B7","v":false},{"$f":"B9","v":false},null,null,null,null,null,null,null,null,null,null,null,null,null,null,null,"8th Round"]
[6,{"$f":"IF(Main!R2=2,Eleme!BM230,IF(Main!R2=3,Eleme!BM488,IF(Main!R2=4,Eleme!BM618,IF(Main!R2=5,Eleme!BM684))))","v":false},null,null,null,null,null,null,null,null,null,null,null,null,18,{"$f":"IF(AND(K10=0,L10=0),\"\",IF(K10>L10,I8,I11))","v":""},null,null,null,null,null,null,null,null,null,null,null,null,null,null,null,null,null,null,null,null,null,null,null,null,null,null,null,null,null,null,null,null,null,null,null,null,null,null,null,null,null,null,null,null,null,null,null,null,null,null,null,null,null,null,null,null,null,null,null,null,null,null,null,null,null,4,null,null,null,null,{"$f":"B10","v":false},{"$f":"B12","v":false},null,null,null,null,null,null,null,null,null,null,null,null,null,null,null,"9th Round"]
[7,{"$f":"IF(Main!R2=2,Eleme!BL231,IF(Main!R2=3,Eleme!BL489,IF(Main!R2=4,Eleme!BL619,IF(Main!R2=5,Eleme!BL685))))","v":false},null,null,null,null,null,null,null,null,{"$f":"CU23","v":0},{"$f":"CV23","v":0},"Y18",null,null,null,null,null,null,null,null,null,null,null,null,null,null,null,null,null,null,null,null,null,null,null,null,null,null,null,null,null,null,null,null,null,null,null,null,null,null,null,null,null,null,null,null,null,null,null,null,null,null,null,null,null,null,null,null,null,null,null,null,null,null,null,null,null,null,null,null,5,null,null,null,null,{"$f":"B13","v":false},{"$f":"B15","v":false},null,null,null,null,null,null,null,null,null,null,null,null,null,null,null,"10th Round"]
[null,null,null,{"$f":"CU9","v":0},{"$f":"CV9","v":0},"Y4",null,4,{"$f":"IF(AND(D11=0,E11=0),\"\",IF(D11>E11,B10,B12))","v":""},null,null,null,null,null,null,null,null,null,null,null,null,null,null,null,null,null,null,null,null,null,null,null,null,null,null,null,null,null,null,null,null,null,null,null,null,null,null,null,null,null,null,null,null,null,null,null,null,null,null,null,null,null,null,null,null,null,null,null,null,null,null,null,null,null,null,null,null,null,null,null,null,6,null,null,null,null,{"$f":"B16","v":false},{"$f":"B18","v":false}]
[8,{"$f":"IF(Main!R2=2,Eleme!BM231,IF(Main!R2=3,Eleme!BM489,IF(Main!R2=4,Eleme!BM619,IF(Main!R2=5,Eleme!BM685))))","v":false},null,null,null,null,null,null,null,null,null,null,null,null,null,null,null,null,null,null,null,null,null,null,null,null,null,null,null,null,null,null,null,null,null,null,null,null,null,null,null,null,null,null,null,null,null,null,null,null,null,null,null,null,null,null,null,null,null,null,null,null,null,null,null,null,null,null,null,null,null,null,null,null,null,null,null,null,null,null,null,7,null,null,null,null,{"$f":"B19","v":false},{"$f":"B21","v":false}]
[9,{"$f":"IF(Main!R2=2,Eleme!BL232,IF(Main!R2=3,Eleme!BL490,IF(Main!R2=4,Eleme!BL620,IF(Main!R2=5,Eleme!BL686))))","v":false},null,null,null,null,null,null,null,null,null,null,null,null,null,null,null,null,null,null,null,null,null,null,null,null,null,null,null,null,null,{"$f":"CU54","v":0},{"$f":"CV54","v":0},"Y29",null,null,null,null,null,null,null,null,null,null,null,null,null,null,null,null,{"$f":"IF(AND(AF13=0,AG13=0),\"\",IF(AF13>AG13,AD7,AD18))","v":""},null,null,null,null,null,null,null,null,null,null,null,null,null,null,null,null,null,null,null,null,null,null,null,null,null,null,null,null,null,null,8,null,null,null,null,{"$f":"B22","v":false},{"$f":"B24","v":false}]
[null,null,null,{"$f":"CU10","v":0},{"$f":"CV10","v":0},"Y5",null,5,{"$f":"IF(AND(D14=0,E14=0),\"\",IF(D14>E14,B13,B15))","v":""},null,null,null,null,null,null,null,null,null,null,null,null,null,null,null,null,null,null,null,null,null,null,null,null,null,null,null,null,null,null,null,null,null,null,null,null,null,null,null,null,null,null,null,null,null,null,null,68,null,null,null,null,null,null,null,null,null,null,null,null,null,null,null,null,null,null,null,null,null,null,null,null,9,null,null,null,null,{"$f":"B25","v":false},{"$f":"B27","v":false}]
[10,{"$f":"IF(Main!R2=2,Eleme!BM232,IF(Main!R2=3,Eleme!BM490,IF(Main!R2=4,Eleme!BM620,IF(Main!R2=5,Eleme!BM686))))","v":false},null,null,null,null,null,null,null,null,null,null,null,null,19,null,null,null,null,null,null,null,null,null,null,null,null,null,null,null,null,null,null,null,null,null,null,null,null,null,null,null,null,null,null,null,null,null,null,null,null,null,null,null,null,null,null,null,null,null,null,null,null,null,null,null,null,null,null,null,null,null,null,null,null,null,null,null,null,null,null,10,null,null,null,null,{"$f":"B28","v":false},{"$f":"B30","v":false}]
[11,{"$f":"IF(Main!R2=2,Eleme!BL233,IF(Main!R2=3,Eleme!BL491,IF(Main!R2=4,Eleme!BL621,IF(Main!R2=5,Eleme!BL687))))","v":false},null,null,null,null,null,null,null,null,{"$f":"CU24","v":0},{"$f":"CV24","v":0},"Y19",null,null,{"$f":"IF(AND(K16=0,L16=0),\"\",IF(K16>L16,I14,I17))","v":""},null,null,null,null,null,null,null,null,null,null,null,null,null,null,null,null,null,null,null,null,null,null,null,null,null,null,null,null,null,null,null,null,null,null,null,null,null,null,null,null,null,null,null,null,null,null,null,null,null,null,null,null,null,null,null,null,null,null,null,null,null,null,null,null,null,11,null,null,null,null,{"$f":"B31","v":false},{"$f":"B33","v":false}]
[null,null,null,{"$f":"CU11","v":0},{"$f":"CV11","v":0},"Y6",null,6,{"$f":"IF(AND(D17=0,E17=0),\"\",IF(D17>E17,B16,B18))","v":""},null,null,null,null,null,null,null,null,null,null,null,null,34,null,null,null,null,null,null,null,null,null,null,null,null,null,null,null,null,null,null,null,null,null,null,null,null,null,null,null,null,null,null,null,null,null,null,null,null,null,null,null,null,null,null,null,null,null,null,null,null,null,null,null,null,null,null,null,null,null,null,null,12,null,null,null,null,{"$f":"B34","v":false},{"$f":"B36","v":false}]
[12,{"$f":"IF(Main!R2=2,Eleme!BM233,IF(Main!R2=3,Eleme!BM491,IF(Main!R2=4,Eleme!BM621,IF(Main!R2=5,Eleme!BM687))))","v":false},null,null,null,null,null,null,null,null,null,null,null,null,null,null,null,null,null,null,null,null,null,null,null,null,null,null,null,{"$f":"IF(AND(R19=0,S19=0),\"\",IF(R19>S19,P16,P21))","v":""},null,null,null,null,null,null,null,null,null,null,null,null,null,null,null,null,null,null,null,null,null,null,null,null,null,null,null,null,null,null,null,null,null,null,null,null,null,null,null,null,null,null,null,null,null,null,null,null,null,null,null,13,null,null,null,null,{"$f":"B37","v":false},{"$f":"B39","v":false}]
[13,{"$f":"IF(Main!R2=2,Eleme!BL234,IF(Main!R2=3,Eleme!BL492,IF(Main!R2=4,Eleme!BL622,IF(Main!R2=5,Eleme!BL688))))","v":false},null,null,null,null,null,null,null,null,null,null,null,null,null,null,null,{"$f":"CU39","v":0},{"$f":"CV39","v":0},"Y26",null,null,null,null,null,null,null,null,null,null,null,null,null,null,null,null,null,null,null,null,null,null,null,null,null,null,null,null,null,null,null,null,null,null,null,null,null,null,null,null,null,null,null,null,null,null,null,null,null,null,null,null,null,null,null,null,null,null,null,null,null,14,null,null,null,null,{"$f":"B40","v":false},{"$f":"B42","v":false}]
[null,null,null,{"$f":"CU12","v":0},{"$f":"CV12","v":0},"Y7",null,7,{"$f":"IF(AND(D20=0,E20=0),\"\",IF(D20>E20,B19,B21))","v":""},null,null,null,null,null,null,null,null,null,null,null,null,null,null,null,null,null,null,null,null,null,null,null,null,null,null,null,null,null,null,null,null,null,null,null,null,null,null,null,null,null,null,null,null,null,null,null,null,null,null,null,null,null,null,null,null,null,null,null,null,null,null,null,null,null,null,null,null,null,null,null,null,15,null,null,null,null,{"$f":"B43","v":false},{"$f":"B45","v":false}]
[14,{"$f":"IF(Main!R2=2,Eleme!BM234,IF(Main!R2=3,Eleme!BM492,IF(Main!R2=4,Eleme!BM622,IF(Main!R2=5,Eleme!BM688))))","v":false},null,null,null,null,null,null,null,null,null,null,null,null,20,{"$f":"IF(AND(K22=0,L22=0),\"\",IF(K22>L22,I20,I23))","v":""},null,null,null,null,null,null,null,null,null,null,null,null,null,null,null,null,null,null,null,null,null,null,null,null,null,null,null,null,null,null,null,null,null,null,null,null,null,null,null,null,null,null,null,null,null,null,null,null,null,null,null,null,null,null,null,null,null,null,null,null,null,null,null,null,null,16,null,null,null,null,{"$f":"B46","v":false},{"$f":"B48","v":false}]
[15,{"$f":"IF(Main!R2=2,Eleme!BL235,IF(Main!R2=3,Eleme!BL493,IF(Main!R2=4,Eleme!BL623,IF(Main!R2=5,Eleme!BL689))))","v":false},null,null,null,null,null,null,null,null,{"$f":"CU25","v":0},{"$f":"CV25","v":0},"Y20",null,null,null,null,null,null,null,null,null,null,null,null,null,null,null,null,null,null,null,null,null,null,null,null,null,null,null,null,null,null,null,null,null,null,null,null,null,null,null,null,null,null,null,null,null,null,null,null,null,null,null,null,null,null,null,null,null,null,null,null,null,null,null,null,null,null,null,null,17,null,null,null,null,{"$f":"I2","v":""},{"$f":"I5","v":""}]
[null,null,null,{"$f":"CU13","v":0},{"$f":"CV13","v":0},"Y8",null,8,{"$f":"IF(AND(D23=0,E23=0),\"\",IF(D23>E23,B22,B24))","v":""},null,null,null,null,null,null,null,null,null,null,null,null,null,null,null,null,null,null,null,null,null,null,null,null,null,null,null,null,null,null,null,null,null,null,null,null,null,null,null,null,null,null,null,null,null,null,null,null,null,null,null,null,null,null,null,null,null,null,null,null,null,null,null,null,null,null,null,null,null,null,null,null,18,null,null,null,null,{"$f":"I8","v":""},{"$f":"I11","v":""}]
[16,{"$f":"IF(Main!R2=2,Eleme!BM235,IF(Main!R2=3,Eleme!BM493,IF(Main!R2=4,Eleme!BM623,IF(Main!R2=5,Eleme!BM689))))","v":false},null,null,null,null,null,null,null,null,null,null,null,null,null,null,null,null,null,null,null,null,null,null,null,null,null,null,null,null,null,null,null,null,null,null,null,null,null,null,null,null,null,null,null,null,null,null,null,null,null,null,null,null,null,null,null,null,null,null,null,null,null,null,null,null,null,null,null,null,null,null,null,null,null,null,null,null,null,null,null,19,null,null,null,null,{"$f":"I14","v":""},{"$f":"I17","v":""}]
[17,{"$f":"IF(Main!R2=2,Eleme!BL236,IF(Main!R2=3,Eleme!BL494,IF(Main!R2=4,Eleme!BL624,IF(Main!R2=5,Eleme!BL690))))","v":false},null,null,null,null,null,null,null,null,null,null,null,null,null,{"$f":"IF(AND(K22=0,L22=0),\"\",IF(K22<L22,I20,I23))","v":""},null,null,null,null,null,null,null,null,null,null,null,null,null,null,null,null,null,null,null,null,null,null,null,null,null,null,null,null,null,null,null,null,null,null,null,null,{"$f":"CU73","v":0},{"$f":"CV73","v":0},"Y31",null,null,null,null,null,null,null,null,null,{"$f":"IF(AND(BA25=0,BB25=0),\"\",IF(BA25>BB25,AY13,AY38))","v":""},null,null,null,null,null,null,null,null,null,null,null,null,null,null,null,null,20,null,null,null,null,{"$f":"I20","v":""},{"$f":"I23","v":""}]
[null,null,null,{"$f":"CU14","v":0},{"$f":"CV14","v":0},"Y9",null,9,{"$f":"IF(AND(D26=0,E26=0),\"\",IF(D26>E26,B25,B27))","v":""},null,null,null,null,null,null,null,null,null,null,null,null,null,null,null,null,null,null,null,null,null,null,null,null,null,null,null,null,null,null,null,null,null,null,null,null,null,null,null,null,null,null,null,null,null,null,null,null,null,null,null,null,null,null,null,null,null,null,null,null,null,72,null,null,null,null,null,null,null,null,null,null,21,null,null,null,null,{"$f":"I26","v":""},{"$f":"I29","v":""}]
[18,{"$f":"IF(Main!R2=2,Eleme!BM236,IF(Main!R2=3,Eleme!BM494,IF(Main!R2=4,Eleme!BM624,IF(Main!R2=5,Eleme!BM690))))","v":false},null,null,null,null,null,null,null,null,null,null,null,null,21,null,null,null,null,null,null,null,null,null,null,null,null,null,null,null,null,null,null,null,null,null,null,null,null,null,null,null,null,null,null,null,null,null,null,null,null,null,null,null,null,null,null,null,null,null,null,null,null,null,null,null,null,null,null,null,null,null,null,null,null,null,null,null,null,null,null,22,null,null,null,null,{"$f":"I32","v":""},{"$f":"I35","v":""}]
[19,{"$f":"IF(Main!R2=2,Eleme!BL237,IF(Main!R2=3,Eleme!BL495,IF(Main!R2=4,Eleme!BL625,IF(Main!R2=5,Eleme!BL691))))","v":false},null,null,null,null,null,null,null,null,{"$f":"CU26","v":0},{"$f":"CV26","v":0},"Y21",null,null,{"$f":"IF(AND(K28=0,L28=0),\"\",IF(K28>L28,I26,I29))","v":""},null,null,null,null,null,null,null,null,null,null,null,null,null,null,null,null,null,null,null,null,null,null,null,null,null,null,null,null,null,null,null,null,null,null,null,null,null,null,null,null,null,null,null,null,null,null,null,null,null,null,null,null,null,null,null,null,null,null,null,null,null,null,null,null,null,23,null,null,null,null,{"$f":"I38","v":""},{"$f":"I41","v":""}]
[null,null,null,{"$f":"CU15","v":0},{"$f":"CV15","v":0},"Y10",null,10,{"$f":"IF(AND(D29=0,E29=0),\"\",IF(D29>E29,B28,B30))","v":""},null,null,null,null,null,null,null,null,null,null,null,null,35,null,null,null,null,null,null,null,null,null,null,null,null,null,null,null,null,null,null,null,null,null,null,null,null,null,null,null,null,null,null,null,null,null,null,null,null,null,null,null,null,null,null,null,null,null,null,null,null,null,null,null,null,null,null,null,null,null,null,null,24,null,null,null,null,{"$f":"I44","v":""},{"$f":"I47","v":""}]
[20,{"$f":"IF(Main!R2=2,Eleme!BM237,IF(Main!R2=3,Eleme!BM495,IF(Main!R2=4,Eleme!BM625,IF(Main!R2=5,Eleme!BM691))))","v":false},null,null,null,null,null,null,null,null,null,null,null,null,null,null,null,null,null,null,null,null,null,null,null,null,null,null,null,null,null,null,null,null,null,null,null,null,null,null,null,null,null,null,null,null,null,null,null,null,null,null,null,null,null,null,null,null,null,null,null,null,null,null,null,null,null,null,null,null,null,null,null,null,null,null,null,null,null,null,null,25,null,null,null,null,{"$f":"I51","v":""},{"$f":"I53","v":""}]
[21,{"$f":"IF(Main!R2=2,Eleme!BL238,IF(Main!R2=3,Eleme!BL496,IF(Main!R2=4,Eleme!BL626,IF(Main!R2=5,Eleme!BL692))))","v":false},null,null,null,null,null,null,null,null,null,null,null,null,null,null,null,{"$f":"CU40","v":0},{"$f":"CV40","v":0},"Y27",null,null,null,null,null,null,null,null,null,null,null,null,null,null,null,null,null,null,null,null,null,null,null,null,null,null,null,null,null,null,null,null,null,null,null,null,null,null,null,null,null,null,null,null,null,null,null,null,null,null,null,null,null,null,null,null,null,null,null,null,null,26,null,null,null,null,{"$f":"I55","v":""},{"$f":"I57","v":""}]
[null,null,null,{"$f":"CU16","v":0},{"$f":"CV16","v":0},"Y11",null,11,{"$f":"IF(AND(D32=0,E32=0),\"\",IF(D32>E32,B31,B33))","v":""},null,null,null,null,null,null,null,null,null,null,null,null,null,null,null,null,null,null,null,null,{"$f":"IF(AND(R31=0,S31=0),\"\",IF(R31>S31,P28,P33))","v":""},null,null,null,null,null,null,null,null,null,null,null,null,null,null,null,null,null,null,null,null,null,null,null,null,null,null,null,null,null,null,null,null,null,null,null,null,null,null,null,null,null,null,null,null,null,null,null,null,null,null,null,27,null,null,null,null,{"$f":"I59","v":""},{"$f":"I61","v":""}]
[22,{"$f":"IF(Main!R2=2,Eleme!BM238,IF(Main!R2=3,Eleme!BM496,IF(Main!R2=4,Eleme!BM626,IF(Main!R2=5,Eleme!BM692))))","v":false},null,null,null,null,null,null,null,null,null,null,null,null,22,{"$f":"IF(AND(K34=0,L34=0),\"\",IF(K34>L34,I32,I35))","v":""},null,null,null,null,null,null,null,null,null,null,null,null,null,null,null,null,null,null,null,50,null,null,null,null,null,null,null,null,null,null,null,null,null,null,null,null,null,null,null,null,null,null,null,null,null,null,null,null,null,null,null,null,null,null,null,null,null,null,null,null,null,null,null,null,null,28,null,null,null,null,{"$f":"I63","v":""},{"$f":"I65","v":""}]
[23,{"$f":"IF(Main!R2=2,Eleme!BL239,IF(Main!R2=3,Eleme!BL497,IF(Main!R2=4,Eleme!BL627,IF(Main!R2=5,Eleme!BL693))))","v":false},null,null,null,null,null,null,null,null,{"$f":"CU27","v":0},{"$f":"CV27","v":0},"Y22",null,null,null,null,null,null,null,null,null,null,null,null,null,null,null,null,null,null,null,null,null,null,null,null,null,null,null,null,null,null,null,null,null,null,null,null,null,null,null,null,null,null,null,null,null,null,null,null,null,null,null,null,null,null,null,null,null,null,null,null,null,null,null,null,null,null,null,null,29,null,null,null,null,{"$f":"I67","v":""},{"$f":"I69","v":""}]
[null,null,null,{"$f":"CU17","v":0},{"$f":"CV17","v":0},"Y12",null,12,{"$f":"IF(AND(D35=0,E35=0),\"\",IF(D35>E35,B34,B36))","v":""},null,null,null,null,null,null,null,null,null,null,null,null,null,null,null,null,null,null,null,null,null,null,null,null,null,null,null,null,null,null,null,null,null,null,null,null,null,null,null,null,null,null,null,null,null,null,null,null,null,null,null,null,null,null,null,null,null,null,null,null,null,null,null,null,null,null,null,null,null,null,null,null,30,null,null,null,null,{"$f":"I71","v":""},{"$f":"I73","v":""}]
[24,{"$f":"IF(Main!R2=2,Eleme!BM239,IF(Main!R2=3,Eleme!BM497,IF(Main!R2=4,Eleme!BM627,IF(Main!R2=5,Eleme!BM693))))","v":false},null,null,null,null,null,null,null,null,null,null,null,null,null,null,null,null,null,null,null,null,null,null,null,null,null,null,null,null,null,null,null,null,null,null,null,null,null,null,null,null,null,null,null,null,null,null,null,null,null,null,null,null,null,null,null,null,null,null,null,null,null,null,null,null,null,null,null,null,null,null,null,null,null,null,null,null,null,null,null,31,null,null,null,null,{"$f":"I75","v":""},{"$f":"I77","v":""}]
[25,{"$f":"IF(Main!R2=2,Eleme!BL240,IF(Main!R2=3,Eleme!BL498,IF(Main!R2=4,Eleme!BL628,IF(Main!R2=5,Eleme!BL694))))","v":false},null,null,null,null,null,null,null,null,null,null,null,null,null,null,null,null,null,null,null,null,null,null,null,null,null,null,null,null,null,null,null,null,null,null,null,null,null,null,null,null,null,null,null,null,null,null,null,null,null,null,null,null,null,null,null,null,null,null,null,null,null,null,null,null,null,null,null,null,null,null,null,null,null,null,null,null,null,null,null,32,null,null,null,null,{"$f":"I79","v":""},{"$f":"I81","v":""}]
[null,null,null,{"$f":"CU18","v":0},{"$f":"CV18","v":0},"Y13",null,13,{"$f":"IF(AND(D38=0,E38=0),\"\",IF(D38>E38,B37,B39))","v":""},null,null,null,null,null,null,null,null,null,null,null,null,null,null,null,null,null,null,null,null,null,null,{"$f":"CU55","v":0},{"$f":"CV55","v":0},"Y30",null,null,null,null,null,null,null,null,null,null,null,null,null,null,null,null,{"$f":"IF(AND(AF38=0,AG38=0),\"\",IF(AF38>AG38,AD32,AD43))","v":""},null,null,null,null,null,null,null,null,null,null,null,null,null,null,null,null,null,null,null,null,null,null,null,null,null,null,null,null,null,null,33,null,null,null,null,{"$f":"P4","v":""},{"$f":"P9","v":""}]
[26,{"$f":"IF(Main!R2=2,Eleme!BM240,IF(Main!R2=3,Eleme!BM498,IF(Main!R2=4,Eleme!BM628,IF(Main!R2=5,Eleme!BM694))))","v":false},null,null,null,null,null,null,null,null,null,null,null,null,23,null,null,null,null,null,null,null,null,null,null,null,null,null,null,null,null,null,null,null,null,null,null,null,null,null,null,null,null,null,null,null,null,null,null,null,null,null,null,null,null,null,null,null,null,null,null,null,null,null,null,null,{"$f":"CU77","v":0},{"$f":"CV77","v":0},"Y32",null,null,{"$f":"IF(AND(BO39=0,BP39=0),\"\",IF(BO39>BP39,BM25,BM55))","v":""},null,null,null,null,null,null,"1.",null,null,34,null,null,null,null,{"$f":"P16","v":""},{"$f":"P21","v":""}]
[27,{"$f":"IF(Main!R2=2,Eleme!BL241,IF(Main!R2=3,Eleme!BL499,IF(Main!R2=4,Eleme!BL629,IF(Main!R2=5,Eleme!BL695))))","v":false},null,null,null,null,null,null,null,null,{"$f":"CU28","v":0},{"$f":"CV28","v":0},"Y23",null,null,{"$f":"IF(AND(K40=0,L40=0),\"\",IF(K40>L40,I38,I41))","v":""},null,null,null,null,null,null,null,null,null,null,null,null,null,null,null,null,null,null,null,null,null,null,null,null,null,null,null,null,null,null,null,null,null,null,null,null,null,null,null,null,null,null,null,null,null,null,null,null,null,null,null,null,null,null,null,null,null,null,null,null,null,null,null,null,null,35,null,null,null,null,{"$f":"P28","v":""},{"$f":"P33","v":""}]
[null,null,null,{"$f":"CU19","v":0},{"$f":"CV19","v":0},"Y14",null,14,{"$f":"IF(AND(D41=0,E41=0),\"\",IF(D41>E41,B40,B42))","v":""},null,null,null,null,null,null,null,null,null,null,null,null,36,null,null,null,null,null,null,null,null,null,null,null,null,null,null,null,null,null,null,null,null,null,null,null,null,null,null,null,null,null,null,null,null,null,null,null,null,null,null,null,null,null,null,null,null,null,null,null,null,null,null,null,null,null,null,null,null,null,null,null,36,null,null,null,null,{"$f":"P40","v":""},{"$f":"P45","v":""}]
[28,{"$f":"IF(Main!R2=2,Eleme!BM241,IF(Main!R2=3,Eleme!BM499,IF(Main!R2=4,Eleme!BM629,IF(Main!R2=5,Eleme!BM695))))","v":false},null,null,null,null,null,null,null,null,null,null,null,null,null,null,null,null,null,null,null,null,null,null,null,null,null,null,null,null,null,null,null,null,null,null,null,null,null,null,null,null,null,null,null,null,null,null,null,null,null,null,null,null,null,null,null,null,null,null,null,null,null,null,null,null,null,null,null,null,null,null,null,null,null,null,null,null,null,null,null,37,null,null,null,null,{"$f":"P50","v":""},{"$f":"P52","v":""}]
[29,{"$f":"IF(Main!R2=2,Eleme!BL242,IF(Main!R2=3,Eleme!BL500,IF(Main!R2=4,Eleme!BL630,IF(Main!R2=5,Eleme!BL696))))","v":false},null,null,null,null,null,null,null,null,null,null,null,null,null,null,null,{"$f":"CU41","v":0},{"$f":"CV41","v":0},"Y28",null,null,null,null,null,null,null,null,null,{"$f":"IF(AND(R43=0,S43=0),\"\",IF(R43>S43,P40,P45))","v":""},null,null,null,null,null,null,null,null,null,null,null,null,null,null,null,null,null,null,null,null,null,null,null,null,null,null,null,null,null,null,null,null,null,null,null,null,null,null,null,null,null,null,null,null,null,null,null,null,null,null,null,38,null,null,null,null,{"$f":"P54","v":""},{"$f":"P56","v":""}]
[null,null,null,{"$f":"CU20","v":0},{"$f":"CV20","v":0},"Y15",null,15,{"$f":"IF(AND(D44=0,E44=0),\"\",IF(D44>E44,B43,B45))","v":""},null,null,null,null,null,null,null,null,null,null,null,null,null,null,null,null,null,null,null,null,null,null,null,null,null,null,null,null,null,null,null,null,null,null,null,null,null,null,null,null,null,null,null,null,null,null,null,null,null,null,null,null,null,null,null,null,null,null,null,null,null,null,null,null,null,null,null,null,null,null,null,null,39,null,null,null,null,{"$f":"P58","v":""},{"$f":"P60","v":""}]
[30,{"$f":"IF(Main!R2=2,Eleme!BM242,IF(Main!R2=3,Eleme!BM500,IF(Main!R2=4,Eleme!BM630,IF(Main!R2=5,Eleme!BM696))))","v":false},null,null,null,null,null,null,null,null,null,null,null,null,24,{"$f":"IF(AND(K46=0,L46=0),\"\",IF(K46>L46,I44,I47))","v":""},null,null,null,null,null,null,null,null,null,null,null,null,null,null,null,null,null,null,null,null,null,null,null,null,null,null,null,null,null,null,null,null,null,null,null,null,null,null,null,null,null,null,null,null,null,null,null,null,null,null,null,null,null,null,null,null,null,null,null,null,null,null,null,null,null,40,null,null,null,null,{"$f":"P62","v":""},{"$f":"P64","v":""}]
[31,{"$f":"IF(Main!R2=2,Eleme!BL243,IF(Main!R2=3,Eleme!BL501,IF(Main!R2=4,Eleme!BL631,IF(Main!R2=5,Eleme!BL697))))","v":false},null,null,null,null,null,null,null,null,{"$f":"CU29","v":0},{"$f":"CV29","v":0},"Y24",null,null,null,null,null,null,null,null,null,null,null,null,null,null,null,null,null,null,null,null,null,null,null,null,null,null,null,null,null,null,null,null,null,null,null,null,null,null,null,null,null,null,null,null,null,null,null,null,null,null,null,null,null,null,null,null,null,null,null,null,null,null,null,null,null,null,null,null,41,null,null,null,null,{"$f":"P66","v":""},{"$f":"P68","v":""}]
[null,null,null,{"$f":"CU21","v":0},{"$f":"CV21","v":0},"Y16",null,16,{"$f":"IF(AND(D47=0,E47=0),\"\",IF(D47>E47,B46,B48))","v":""},null,null,null,null,null,null,null,null,null,null,null,null,null,null,null,null,null,null,null,null,null,null,null,null,null,null,null,null,null,null,null,null,null,null,null,null,null,null,null,null,null,null,null,null,null,null,null,null,null,null,null,null,null,null,null,null,null,null,null,null,null,null,null,null,null,null,null,null,null,null,null,null,42,null,null,null,null,{"$f":"P70","v":""},{"$f":"P72","v":""}]
[32,{"$f":"IF(Main!R2=2,Eleme!BM243,IF(Main!R2=3,Eleme!BM501,IF(Main!R2=4,Eleme!BM631,IF(Main!R2=5,Eleme!BM697))))","v":false},null,null,null,null,null,null,null,null,null,null,null,null,null,null,null,null,null,null,null,null,null,null,null,null,null,null,null,null,null,null,null,null,null,null,null,null,null,null,null,null,null,null,null,null,null,null,null,null,null,null,null,null,null,null,null,null,null,null,null,null,null,null,null,null,null,null,null,null,null,null,null,null,null,null,null,null,null,null,null,43,null,null,null,null,{"$f":"P74","v":""},{"$f":"P76","v":""}]
[null,null,null,null,null,null,null,null,null,null,null,null,null,null,null,null,null,null,null,null,null,null,null,null,null,null,null,null,"Y25",{"$f":"IF(AND(R7=0,S7=0),\"\",IF(R7<S7,P4,P9))","v":""},null,null,null,null,null,null,null,null,null,null,null,null,"Y30",{"$f":"IF(AND(AF38=0,AG38=0),\"\",IF(AF38<AG38,AD32,AD43))","v":""},null,null,null,null,null,null,null,null,null,null,null,null,"Y31",{"$f":"IF(AND(BA25=0,BB25=0),\"\",IF(BA25<BB25,AY13,AY38))","v":""},null,null,null,null,null,null,null,null,null,null,null,null,null,null,null,null,null,null,null,null,null,null,null,44,null,null,null,null,{"$f":"P78","v":""},{"$f":"P80","v":""}]
[null,null,null,null,null,null,null,null,null,null,null,null,null,null,"Y24",{"$f":"IF(AND(K46=0,L46=0),\"\",IF(K46<L46,I44,I47))","v":""},null,null,null,null,null,null,null,null,null,null,null,null,null,null,null,null,null,null,null,51,null,null,null,null,null,null,null,null,null,null,null,null,null,63,null,null,null,null,null,null,null,null,null,null,null,null,null,71,null,null,null,null,null,null,null,null,null,null,null,null,null,null,null,null,null,45,null,null,null,null,{"$f":"W51","v":""},{"$f":"W55","v":""}]
[null,null,null,null,null,null,null,"Y1",{"$f":"IF(AND(D2=0,E2=0),\"\",IF(D2<E2,B1,B3))","v":""},null,null,null,null,null,null,null,null,{"$f":"CU42","v":0},{"$f":"CV42","v":0},"YE",null,37,{"$f":"IF(AND(R51=0,S51=0),\"\",IF(R51>S51,P50,P52))","v":""},null,null,null,null,null,null,null,null,{"$f":"CU56","v":0},{"$f":"CV56","v":0},"Y37",null,null,{"$f":"IF(AND(AF51=0,AG51=0),\"\",IF(AF51>AG51,AD49,AD53))","v":""},null,null,null,null,null,null,null,null,null,null,null,null,null,null,null,null,null,null,null,null,null,null,null,null,null,null,null,null,null,null,null,null,null,null,null,null,null,null,null,null,null,null,null,null,46,null,null,null,null,{"$f":"W59","v":""},{"$f":"W63","v":""}]
[null,null,null,null,null,null,null,null,null,null,{"$f":"CU30","v":0},{"$f":"CV30","v":0},"Y.Elenir",null,25,{"$f":"IF(AND(K52=0,L52=0),\"\",IF(K52>L52,I51,I53))","v":""},null,null,null,null,null,null,null,null,null,null,null,null,45,null,null,null,null,null,null,null,null,null,null,null,null,null,57,null,null,null,null,null,null,null,{"$f":"IF(AND(AT53=0,AU53=0),\"\",IF(AT53>AU53,AR49,AR55))","v":""},null,null,null,null,null,null,null,null,null,null,null,null,null,null,null,null,null,null,null,null,null,null,null,null,null,null,null,null,null,null,47,null,null,null,null,{"$f":"W67","v":""},{"$f":"W71","v":""}]
[null,null,null,null,null,null,null,"Y2",{"$f":"IF(AND(D5=0,E5=0),\"\",IF(D5<E5,B4,B6))","v":""},null,null,null,null,null,null,null,null,null,null,null,null,null,null,null,null,{"$f":"CU50","v":0},{"$f":"CV50","v":0},"Y33",null,{"$f":"IF(AND(Z53=0,AA53=0),\"\",IF(Z53>AA53,W51,W55))","v":""},null,null,null,null,null,null,null,null,null,null,null,null,null,null,null,{"$f":"CU68","v":0},{"$f":"CV68","v":0},"Y43",null,null,null,null,null,null,null,null,69,null,null,null,null,null,null,null,null,null,null,null,null,null,null,null,null,null,null,null,null,null,null,null,null,48,null,null,null,null,{"$f":"W75","v":""},{"$f":"W79","v":""}]
[null,null,null,null,null,null,null,null,null,null,null,null,null,null,"Y23",{"$f":"IF(AND(K40=0,L40=0),\"\",IF(K40<L40,I38,I41))","v":""},null,null,null,null,null,null,null,null,null,null,null,null,null,null,null,null,null,null,null,null,null,null,null,null,null,null,null,null,null,null,null,null,null,null,null,null,null,null,null,null,null,null,null,null,null,null,null,null,null,null,null,null,null,null,null,null,null,null,null,null,null,null,null,null,null,49,null,null,null,null,{"$f":"AD7","v":""},{"$f":"AD18","v":""}]
[null,null,null,null,null,null,null,"Y3",{"$f":"IF(AND(D8=0,E8=0),\"\",IF(D8<E8,B7,B9))","v":""},null,null,null,null,null,null,null,null,{"$f":"CU43","v":0},{"$f":"CV43","v":0},"YE",null,38,{"$f":"IF(AND(R55=0,S55=0),\"\",IF(R55>S55,P54,P56))","v":""},null,null,null,null,null,null,null,null,null,null,null,null,null,null,null,null,null,null,null,null,{"$f":"IF(AND(AM56=0,AN56=0),\"\",IF(AM56>AN56,AK51,AK59))","v":""},null,null,null,null,null,null,null,null,null,null,null,null,null,null,null,null,{"$f":"CU76","v":0},{"$f":"CV76","v":0},"Y46",null,{"$f":"IF(AND(BI55=0,BJ55=0),\"\",IF(BI55>BJ55,BF49,BF61))","v":""},null,null,null,null,null,null,null,null,null,null,null,null,null,null,null,null,50,null,null,null,null,{"$f":"AD32","v":""},{"$f":"AD43","v":""}]
[null,null,null,null,null,null,null,null,null,null,{"$f":"CU31","v":0},{"$f":"CV31","v":0},"YE",null,26,{"$f":"IF(AND(K56=0,L56=0),\"\",IF(K56>L56,I55,I57))","v":""},null,null,null,null,null,null,null,null,null,null,null,null,null,null,null,null,null,null,null,null,null,null,{"$f":"CU62","v":0},{"$f":"CV62","v":0},"Y41",null,null,null,null,null,null,null,null,null,null,null,null,null,null,null,null,null,null,null,null,null,null,null,null,null,null,null,null,null,null,null,null,null,null,null,null,null,null,null,null,51,null,null,null,null,{"$f":"AD49","v":""},{"$f":"AD53","v":""}]
[null,null,null,null,null,null,null,"Y4",{"$f":"IF(AND(D11=0,E11=0),\"\",IF(D11<E11,B10,B12))","v":""},null,null,null,null,null,null,null,null,null,null,null,null,null,null,null,null,null,null,null,"Y26",{"$f":"IF(AND(R19=0,S19=0),\"\",IF(R19<S19,P16,P21))","v":""},null,null,null,null,null,null,null,null,null,null,null,null,null,null,null,null,null,null,null,null,null,null,null,null,null,null,null,null,null,null,null,null,null,null,null,null,null,null,null,null,"Y32",{"$f":"IF(AND(BO39=0,BP39=0),\"\",IF(BO39<BP39,BM25,BM55))","v":""},null,null,null,null,null,null,"2.",null,null,52,null,null,null,null,{"$f":"AD57","v":""},{"$f":"AD61","v":""}]
[null,null,null,null,null,null,null,null,null,null,null,null,null,null,"Y22",{"$f":"IF(AND(K34=0,L34=0),\"\",IF(K34<L34,I32,I35))","v":""},null,null,null,null,null,null,null,null,null,null,null,null,null,null,null,null,null,null,null,52,null,null,null,null,null,null,null,null,null,null,null,null,null,null,null,null,null,null,null,null,null,null,null,null,null,null,null,null,null,null,null,null,null,null,null,null,null,null,null,null,null,null,null,null,null,53,null,null,null,null,{"$f":"AD65","v":""},{"$f":"AD69","v":""}]
[null,null,null,null,null,null,null,"Y5",{"$f":"IF(AND(D14=0,E14=0),\"\",IF(D14<E14,B13,B15))","v":""},null,null,null,null,null,null,null,null,{"$f":"CU44","v":0},{"$f":"CV44","v":0},"YE",null,39,{"$f":"IF(AND(R59=0,S59=0),\"\",IF(R59>S59,P58,P60))","v":""},null,null,null,null,null,null,null,null,{"$f":"CU57","v":0},{"$f":"CV57","v":0},"Y38",null,null,{"$f":"IF(AND(AF59=0,AG59=0),\"\",IF(AF59>AG59,AD57,AD61))","v":""},null,null,null,null,null,null,null,null,null,null,null,null,null,null,null,null,null,null,null,null,null,null,null,null,null,null,null,null,null,null,null,null,null,null,null,null,null,null,null,null,null,null,null,null,54,null,null,null,null,{"$f":"AD73","v":""},{"$f":"AD77","v":""}]
[null,null,null,null,null,null,null,null,null,null,{"$f":"CU32","v":0},{"$f":"CV32","v":0},"YE",null,27,{"$f":"IF(AND(K60=0,L60=0),\"\",IF(K60>L60,I59,I61))","v":""},null,null,null,null,null,null,null,null,null,null,null,null,46,null,null,null,null,null,null,null,null,null,null,null,null,null,null,null,null,null,null,null,null,null,null,null,null,null,null,null,null,null,null,null,null,null,null,null,null,null,null,null,null,null,null,null,null,null,null,null,null,null,null,null,null,55,null,null,null,null,{"$f":"AD89","v":""},{"$f":"AD91","v":""}]
[null,null,null,null,null,null,null,"Y6",{"$f":"IF(AND(D17=0,E17=0),\"\",IF(D17<E17,B16,B18))","v":""},null,null,null,null,null,null,null,null,null,null,null,null,null,null,null,null,{"$f":"CU51","v":0},{"$f":"CV51","v":0},"Y34",null,{"$f":"IF(AND(Z61=0,AA61=0),\"\",IF(Z61>AA61,W59,W63))","v":""},null,null,null,null,null,null,null,null,null,null,null,null,null,null,null,null,null,null,null,null,null,null,{"$f":"CU74","v":0},{"$f":"CV74","v":0},"Y45",null,null,{"$f":"IF(AND(BA61=0,BB61=0),\"\",IF(BA61>BB61,AY52,AY69))","v":""},null,null,null,null,null,null,null,null,null,null,null,null,null,null,null,null,null,null,null,null,null,null,null,56,null,null,null,null,{"$f":"AD92","v":""},{"$f":"AD94","v":""}]
[null,null,null,null,null,null,null,null,null,null,null,null,null,null,"Y21",{"$f":"IF(AND(K28=0,L28=0),\"\",IF(K28<L28,I26,I29))","v":""},null,null,null,null,null,null,null,null,null,null,null,null,null,null,null,null,null,null,null,null,null,null,null,null,null,null,null,null,null,null,null,null,null,null,null,null,null,null,null,null,null,null,null,null,null,null,null,null,null,null,null,null,null,null,null,null,null,null,null,null,null,null,null,null,null,57,null,null,null,null,{"$f":"AK51","v":""},{"$f":"AK59","v":""}]
[null,null,null,null,null,null,null,"Y7",{"$f":"IF(AND(D20=0,E20=0),\"\",IF(D20<E20,B19,B21))","v":""},null,null,null,null,null,null,null,null,{"$f":"CU45","v":0},{"$f":"CV45","v":0},"YE",null,40,{"$f":"IF(AND(R63=0,S63=0),\"\",IF(R63>S63,P62,P64))","v":""},null,null,null,null,null,null,null,null,null,null,null,null,null,null,null,null,null,null,null,null,null,null,null,null,null,null,null,null,null,null,null,null,null,null,null,null,null,null,null,null,"Y46",{"$f":"IF(AND(BI55=0,BJ55=0),\"\",IF(BI55<BJ55,BF49,BF61))","v":""},null,null,null,null,null,null,"3.",null,null,null,null,null,null,null,null,null,58,null,null,null,null,{"$f":"AK67","v":""},{"$f":"AK75","v":""}]
[null,null,null,null,null,null,null,null,null,null,{"$f":"CU33","v":0},{"$f":"CV33","v":0},"YE",null,28,{"$f":"IF(AND(K64=0,L64=0),\"\",IF(K64>L64,I63,I65))","v":""},null,null,null,null,null,null,null,null,null,null,null,null,null,null,null,null,null,null,null,null,null,null,null,null,null,null,null,null,null,null,null,null,null,null,null,null,null,null,null,null,null,null,null,null,null,null,null,null,null,null,null,null,null,null,null,null,null,null,null,null,null,null,null,null,null,59,null,null,null,null,{"$f":"AK81","v":""},{"$f":"AK83","v":""}]
[null,null,null,null,null,null,null,"Y8",{"$f":"IF(AND(D23=0,E23=0),\"\",IF(D23<E23,B22,B24))","v":""},null,null,null,null,null,null,null,null,null,null,null,null,null,null,null,null,null,null,null,"Y27",{"$f":"IF(AND(R31=0,S31=0),\"\",IF(R31<S31,P28,P33))","v":""},null,null,null,null,null,null,null,null,null,null,null,null,"Y29",{"$f":"IF(AND(AF13=0,AG13=0),\"\",IF(AF13<AG13,AD7,AD18))","v":""},null,null,null,null,null,null,null,null,null,null,null,null,null,null,null,null,null,null,null,null,null,null,null,null,null,null,null,null,null,null,null,null,null,null,null,null,null,60,null,null,null,null,{"$f":"AK84","v":""},{"$f":"AK86","v":""}]
[null,null,null,null,null,null,null,null,null,null,null,null,null,null,"Y20",{"$f":"IF(AND(K22=0,L22=0),\"\",IF(K22<L22,I20,I23))","v":""},null,null,null,null,null,null,null,null,null,null,null,null,null,null,null,null,null,null,null,53,null,null,null,null,null,null,null,null,null,null,null,null,null,64,null,null,null,null,null,null,null,null,null,null,null,null,null,null,null,null,null,null,null,null,null,null,null,null,null,null,null,null,null,null,null,61,null,null,null,null,{"$f":"AK90","v":""},{"$f":"AK93","v":""}]
[null,null,null,null,null,null,null,"Y9",{"$f":"IF(AND(D26=0,E26=0),\"\",IF(D26<E26,B25,B27))","v":""},null,null,null,null,null,null,null,null,{"$f":"CU46","v":0},{"$f":"CV46","v":0},"YE",null,41,{"$f":"IF(AND(R67=0,S67=0),\"\",IF(R67>S67,P66,P68))","v":""},null,null,null,null,null,null,null,null,{"$f":"CU58","v":0},{"$f":"CV58","v":0},"Y39",null,null,{"$f":"IF(AND(AF67=0,AG67=0),\"\",IF(AF67>AG67,AD65,AD69))","v":""},null,null,null,null,null,null,null,null,null,null,null,null,null,null,null,null,null,null,null,null,null,null,null,null,null,null,null,null,null,null,null,null,null,null,null,null,null,null,null,null,null,null,null,null,62,null,null,null,null,{"$f":"AK95","v":""},{"$f":"AK97","v":""}]
[null,null,null,null,null,null,null,null,null,null,{"$f":"CU34","v":0},{"$f":"CV34","v":0},"YE",null,29,{"$f":"IF(AND(K68=0,L68=0),\"\",IF(K68>L68,I67,I69))","v":""},null,null,null,null,null,null,null,null,null,null,null,null,47,null,null,null,null,null,null,null,null,null,null,null,null,null,null,null,null,null,null,null,null,null,null,null,null,null,null,null,null,null,null,null,null,null,null,null,null,null,null,null,null,null,null,null,null,null,null,null,null,null,null,null,null,63,null,null,null,null,{"$f":"AR49","v":""},{"$f":"AR55","v":""}]
[null,null,null,null,null,null,null,"Y10",{"$f":"IF(AND(D29=0,E29=0),\"\",IF(D29<E29,B28,B30))","v":""},null,null,null,null,null,null,null,null,null,null,null,null,null,null,null,null,{"$f":"CU52","v":0},{"$f":"CV52","v":0},"Y35",null,{"$f":"IF(AND(Z69=0,AA69=0),\"\",IF(Z69>AA69,W67,W71))","v":""},null,null,null,null,null,null,null,null,null,null,null,null,58,null,null,{"$f":"CU69","v":0},{"$f":"CV69","v":0},"Y44",null,null,{"$f":"IF(AND(AT69=0,AU69=0),\"\",IF(AT69>AU69,AR65,AR72))","v":""},null,null,null,null,null,null,null,null,null,null,null,null,null,null,null,null,null,null,null,null,null,null,null,null,null,null,null,null,null,null,64,null,null,null,null,{"$f":"AR65","v":""},{"$f":"AR72","v":""}]
[null,null,null,null,null,null,null,null,null,null,null,null,null,null,"Y19",{"$f":"IF(AND(K16=0,L16=0),\"\",IF(K16<L16,I14,I17))","v":""},null,null,null,null,null,null,null,null,null,null,null,null,null,null,null,null,null,null,null,null,null,null,null,null,null,null,null,null,null,null,null,null,null,null,null,null,null,null,null,null,null,null,null,null,null,null,null,null,null,null,null,null,null,null,null,null,null,null,null,null,null,null,null,null,null,65,null,null,null,null,{"$f":"AR78","v":""},{"$f":"AR80","v":""}]
[null,null,null,null,null,null,null,"Y11",{"$f":"IF(AND(D32=0,E32=0),\"\",IF(D32<E32,B31,B33))","v":""},null,null,null,null,null,null,null,null,{"$f":"CU47","v":0},{"$f":"CV47","v":0},"YE",null,42,{"$f":"IF(AND(R71=0,S71=0),\"\",IF(R71>S71,P70,P72))","v":""},null,null,null,null,null,null,null,null,null,null,null,null,null,null,null,null,null,null,null,null,null,null,null,null,null,null,null,null,null,null,null,null,null,"Y45",{"$f":"IF(AND(BA61=0,BB61=0),\"\",IF(BA61<BB61,AY52,AY69))","v":""},null,null,null,null,null,null,"4.",null,null,null,null,null,null,null,null,null,null,null,null,null,null,null,null,66,null,null,null,null,{"$f":"AR82","v":""},{"$f":"AR85","v":""}]
[null,null,null,null,null,null,null,null,null,null,{"$f":"CU35","v":0},{"$f":"CV35","v":0},"YE",null,30,{"$f":"IF(AND(K72=0,L72=0),\"\",IF(K72>L72,I71,I73))","v":""},null,null,null,null,null,null,null,null,null,null,null,null,null,null,null,null,null,null,null,null,null,null,{"$f":"CU63","v":0},{"$f":"CV63","v":0},"Y42",null,null,{"$f":"IF(AND(AM72=0,AN72=0),\"\",IF(AM72>AN72,AK67,AK75))","v":""},null,null,null,null,null,null,null,null,null,null,null,null,null,null,null,null,null,null,null,null,null,null,null,null,null,null,null,null,null,null,null,null,null,null,null,null,null,67,null,null,null,null,{"$f":"AR87","v":""},{"$f":"AR89","v":""}]
[null,null,null,null,null,null,null,"Y12",{"$f":"IF(AND(D35=0,E35=0),\"\",IF(D35<E35,B34,B36))","v":""},null,null,null,null,null,null,null,null,null,null,null,null,null,null,null,null,null,null,null,"Y28",{"$f":"IF(AND(R43=0,S43=0),\"\",IF(R43<S43,P40,P45))","v":""},null,null,null,null,null,null,null,null,null,null,null,null,null,null,null,null,null,null,null,null,null,null,null,null,null,null,null,null,null,null,null,null,null,null,null,null,null,null,null,null,null,null,null,null,null,null,null,null,null,null,null,68,null,null,null,null,{"$f":"AY13","v":""},{"$f":"AY38","v":""}]
[null,null,null,null,null,null,null,null,null,null,null,null,null,null,"Y18",{"$f":"IF(AND(K10=0,L10=0),\"\",IF(K10<L10,I8,I11))","v":""},null,null,null,null,null,null,null,null,null,null,null,null,null,null,null,null,null,null,null,54,null,null,null,null,null,null,null,null,null,null,null,null,null,"Y43",{"$f":"IF(AND(AT53=0,AU53=0),\"\",IF(AT53<AU53,AR49,AR55))","v":""},null,null,null,null,null,null,null,null,null,null,null,null,null,null,null,null,null,null,null,null,null,null,null,null,null,null,null,null,null,null,69,null,null,null,null,{"$f":"AY52","v":""},{"$f":"AY69","v":""}]
[null,null,null,null,null,null,null,"Y13",{"$f":"IF(AND(D38=0,E38=0),\"\",IF(D38<E38,B37,B39))","v":""},null,null,null,null,null,null,null,null,{"$f":"CU48","v":0},{"$f":"CV48","v":0},"YE",null,43,{"$f":"IF(AND(R75=0,S75=0),\"\",IF(R75>S75,P74,P76))","v":""},null,null,null,null,null,null,null,null,{"$f":"CU59","v":0},{"$f":"CV59","v":0},"Y40",null,null,{"$f":"IF(AND(AF75=0,AG75=0),\"\",IF(AF75>AG75,AD73,AD77))","v":""},null,null,null,null,null,null,null,null,null,null,null,null,null,null,null,{"$f":"CU75","v":0},{"$f":"CV75","v":0},"Y56",null,70,{"$f":"IF(AND(BA75=0,BB75=0),\"\",IF(BA75>BB75,AY74,AY76))","v":""},null,null,null,null,null,null,"5.",null,null,null,null,null,null,null,null,null,null,null,null,null,null,null,null,70,null,null,null,null,{"$f":"AY74","v":""},{"$f":"AY76","v":""}]
[null,null,null,null,null,null,null,null,null,null,{"$f":"CU36","v":0},{"$f":"CV36","v":0},"YE",null,31,{"$f":"IF(AND(K76=0,L76=0),\"\",IF(K76>L76,I75,I77))","v":""},null,null,null,null,null,null,null,null,null,null,null,null,48,null,null,null,null,null,null,null,null,null,null,null,null,null,null,null,null,null,null,null,null,"Y44",{"$f":"IF(AND(AT69=0,AU69=0),\"\",IF(AT69<AU69,AR65,AR72))","v":""},null,null,null,null,null,null,null,null,null,null,null,null,null,null,null,null,null,null,null,null,null,null,null,null,null,null,null,null,null,null,71,null,null,null,null,{"$f":"BF49","v":""},{"$f":"BF61","v":""}]
[null,null,null,null,null,null,null,"Y14",{"$f":"IF(AND(D41=0,E41=0),\"\",IF(D41<E41,B40,B42))","v":""},null,null,null,null,null,null,null,null,null,null,null,null,null,null,null,null,{"$f":"CU53","v":0},{"$f":"CV53","v":0},"Y36",null,{"$f":"IF(AND(Z77=0,AA77=0),\"\",IF(Z77>AA77,W75,W79))","v":""},null,null,null,null,null,null,null,null,null,null,null,null,null,null,null,null,null,null,null,null,null,null,null,null,null,null,"Y56",{"$f":"IF(AND(BA75=0,BB75=0),\"\",IF(BA75<BB75,AY74,AY76))","v":""},null,null,null,null,null,null,"6.",null,null,null,null,null,null,null,null,null,null,null,null,null,null,null,null,72,null,null,null,null,{"$f":"BM25","v":""},{"$f":"BM55","v":""}]
[null,null,null,null,null,null,null,null,null,null,null,null,null,null,"Y17",{"$f":"IF(AND(K4=0,L4=0),\"\",IF(K4<L4,I2,I5))","v":""},null,null,null,null,null,null,null,null,null,null,null,null,null,null,null,null,null,null,null,null,null,null,null,null,null,null,"Y41",{"$f":"IF(AND(AM56=0,AN56=0),\"\",IF(AM56<AN56,AK51,AK59))","v":""}]
[null,null,null,null,null,null,null,"Y15",{"$f":"IF(AND(D44=0,E44=0),\"\",IF(D44<E44,B43,B45))","v":""},null,null,null,null,null,null,null,null,{"$f":"CU49","v":0},{"$f":"CV49","v":0},"YE",null,44,{"$f":"IF(AND(R79=0,S79=0),\"\",IF(R79>S79,P78,P80))","v":""},null,null,null,null,null,null,null,null,null,null,null,null,null,null,null,null,null,null,null,null,null,null,{"$f":"CU70","v":0},{"$f":"CV70","v":0},"Y53",null,65,{"$f":"IF(AND(AT79=0,AU79=0),\"\",IF(AT79>AU79,AR78,AR80))","v":""},null,null,null,null,null,null,"7."]
[null,null,null,null,null,null,null,null,null,null,{"$f":"CU37","v":0},{"$f":"CV37","v":0},"YE",null,32,{"$f":"IF(AND(K80=0,L80=0),\"\",IF(K80>L80,I79,I81))","v":""},null,null,null,null,null,null,null,null,null,null,null,null,null,null,null,null,null,null,null,null,null,null,null,null,null,null,"Y42",{"$f":"IF(AND(AM72=0,AN72=0),\"\",IF(AM72<AN72,AK67,AK75))","v":""}]
[null,null,null,null,null,null,null,"Y16",{"$f":"IF(AND(D47=0,E47=0),\"\",IF(D47<E47,B46,B48))","v":""},null,null,null,null,null,null,null,null,null,null,null,null,null,null,null,null,null,null,null,null,null,null,null,null,null,null,"Y37",{"$f":"IF(AND(AF51=0,AG51=0),\"\",IF(AF51<AG51,AD49,AD53))","v":""},null,null,null,null,null,null,null,null,null,null,null,null,"Y53",{"$f":"IF(AND(AT79=0,AU79=0),\"\",IF(AT79<AU79,AR78,AR80))","v":""},null,null,null,null,null,null,"8."]
[null,null,null,null,null,null,null,null,null,null,null,null,null,null,null,null,null,null,null,null,null,null,null,null,null,null,null,null,null,null,null,null,null,null,null,null,null,null,{"$f":"CU64","v":0},{"$f":"CV64","v":0},"Y49",null,59,{"$f":"IF(AND(AM82=0,AN82=0),\"\",IF(AM82>AN82,AK81,AK83))","v":""}]
[null,null,null,null,null,null,null,null,null,null,null,null,null,null,null,null,null,null,null,null,null,null,null,null,null,null,null,null,null,null,null,null,null,null,null,"Y38",{"$f":"IF(AND(AF59=0,AG59=0),\"\",IF(AF59<AG59,AD57,AD61))","v":""},null,null,null,null,null,null,null,null,null,null,null,null,66]
[null,null,null,null,null,null,null,null,null,null,null,null,null,null,null,null,null,null,null,null,null,null,null,null,null,null,null,null,null,null,null,null,null,null,null,"Y39",{"$f":"IF(AND(AF67=0,AG67=0),\"\",IF(AF67<AG67,AD65,AD69))","v":""},null,null,null,null,null,null,null,null,{"$f":"CU71","v":0},{"$f":"CV71","v":0},"Y54",null,null,{"$f":"IF(AND(AT84=0,AU84=0),\"\",IF(AT84>AU84,AR82,AR85))","v":""},null,null,null,null,null,null,"9."]
[null,null,null,null,null,null,null,null,null,null,null,null,null,null,null,null,null,null,null,null,null,null,null,null,null,null,null,null,null,null,null,null,null,null,null,null,null,null,{"$f":"CU65","v":0},{"$f":"CV65","v":0},"Y50",null,60,{"$f":"IF(AND(AM85=0,AN85=0),\"\",IF(AM85>AN85,AK84,AK86))","v":""}]
[null,null,null,null,null,null,null,null,null,null,null,null,null,null,null,null,null,null,null,null,null,null,null,null,null,null,null,null,null,null,null,null,null,null,null,"Y40",{"$f":"IF(AND(AF75=0,AG75=0),\"\",IF(AF75<AG75,AD73,AD77))","v":""},null,null,null,null,null,null,null,null,null,null,null,null,"Y54",{"$f":"IF(AND(AT84=0,AU84=0),\"\",IF(AT84<AU84,AR82,AR85))","v":""},null,null,null,null,null,null,"10."]
[null,null,null,null,null,null,null,null,null,null,null,null,null,null,null,null,null,null,null,null,null,null,null,null,null,null,null,null,null,null,null,null,null,null,null,null,null,null,null,null,null,null,"Y49",{"$f":"IF(AND(AM82=0,AN82=0),\"\",IF(AM82<AN82,AK81,AK83))","v":""}]
[null,null,null,null,null,null,null,null,null,null,null,null,null,null,null,null,null,null,null,null,null,null,null,null,null,null,null,null,null,null,null,null,null,null,null,null,null,null,null,null,null,null,null,null,null,{"$f":"CU72","v":0},{"$f":"CV72","v":0},"Y55",null,67,{"$f":"IF(AND(AT88=0,AU88=0),\"\",IF(AT88>AU88,AR87,AR89))","v":""},null,null,null,null,null,null,"11."]
[null,null,null,null,null,null,null,null,null,null,null,null,null,null,null,null,null,null,null,null,null,null,null,null,null,null,null,null,"Y33",{"$f":"IF(AND(Z53=0,AA53=0),\"\",IF(Z53<AA53,W51,W55))","v":""},null,null,null,null,null,null,null,null,null,null,null,null,"Y50",{"$f":"IF(AND(AM85=0,AN85=0),\"\",IF(AM85<AN85,AK84,AK86))","v":""}]
[null,null,null,null,null,null,null,null,null,null,null,null,null,null,null,null,null,null,null,null,null,null,null,null,null,null,null,null,null,null,null,{"$f":"CU60","v":0},{"$f":"CV60","v":0},"Y47",null,55,{"$f":"IF(AND(AF90=0,AG90=0),\"\",IF(AF90>AG90,AD89,AD91))","v":""},null,null,null,null,null,null,null,null,null,null,null,null,"Y55",{"$f":"IF(AND(AT88=0,AU88=0),\"\",IF(AT88<AU88,AR87,AR89))","v":""},null,null,null,null,null,null,"12."]
[null,null,null,null,null,null,null,null,null,null,null,null,null,null,null,null,null,null,null,null,null,null,null,null,null,null,null,null,"Y34",{"$f":"IF(AND(Z61=0,AA61=0),\"\",IF(Z61<AA61,W59,W63))","v":""},null,null,null,null,null,null,null,null,null,null,null,null,61]
[null,null,null,null,null,null,null,null,null,null,null,null,null,null,null,null,null,null,null,null,null,null,null,null,null,null,null,null,"Y35",{"$f":"IF(AND(Z69=0,AA69=0),\"\",IF(Z69<AA69,W67,W71))","v":""},null,null,null,null,null,null,null,null,{"$f":"CU66","v":0},{"$f":"CV66","v":0},"Y51",null,null,{"$f":"IF(AND(AM92=0,AN92=0),\"\",IF(AM92>AN92,AK90,AK93))","v":""},null,null,null,null,null,null,"13."]
[null,null,null,null,null,null,null,null,null,null,null,null,null,null,null,null,null,null,null,null,null,null,null,null,null,null,null,null,null,null,null,{"$f":"CU61","v":0},{"$f":"CV61","v":0},"Y48",null,56,{"$f":"IF(AND(AF93=0,AG93=0),\"\",IF(AF93>AG93,AD92,AD94))","v":""}]
[null,null,null,null,null,null,null,null,null,null,null,null,null,null,null,null,null,null,null,null,null,null,null,null,null,null,null,null,"Y36",{"$f":"IF(AND(Z77=0,AA77=0),\"\",IF(Z77<AA77,W75,W79))","v":""},null,null,null,null,null,null,null,null,null,null,null,null,"Y51",{"$f":"IF(AND(AM92=0,AN92=0),\"\",IF(AM92<AN92,AK90,AK93))","v":""},null,null,null,null,null,null,"14."]
[null,null,null,null,null,null,null,null,null,null,null,null,null,null,null,null,null,null,null,null,null,null,null,null,null,null,null,null,null,null,null,null,null,null,null,"Y47",{"$f":"IF(AND(AF90=0,AG90=0),\"\",IF(AF90<AG90,AD89,AD91))","v":""}]
[null,null,null,null,null,null,null,null,null,null,null,null,null,null,null,null,null,null,null,null,null,null,null,null,null,null,null,null,null,null,null,null,null,null,null,null,null,null,{"$f":"CU67","v":0},{"$f":"CV67","v":0},"Y52",null,62,{"$f":"IF(AND(AM96=0,AN96=0),\"\",IF(AM96>AN96,AK95,AK97))","v":""},null,null,null,null,null,null,"15."]
[null,null,null,null,null,null,null,null,null,null,null,null,null,null,null,null,null,null,null,null,null,null,null,null,null,null,null,null,null,null,null,null,null,null,null,"Y48",{"$f":"IF(AND(AF93=0,AG93=0),\"\",IF(AF93<AG93,AD92,AD94))","v":""}]
[null,null,null,null,null,null,null,null,null,null,null,null,null,null,null,null,null,null,null,null,null,null,null,null,null,null,null,null,null,null,null,null,null,null,null,null,null,null,null,null,null,null,"Y52",{"$f":"IF(AND(AM96=0,AN96=0),\"\",IF(AM96<AN96,AK95,AK97))","v":""},null,null,null,null,null,null,"16."]

{"sheet":"32DE(16)","index":8,"n_rows":84,"n_cols":105,"rows_kept":84,"cut":false,"hidden":true,"merged":[[39,36,39,42],[59,22,59,28],[0,24,2,43],[3,24,4,43],[82,29,82,35],[83,36,83,42],[45,29,45,35],[46,36,46,42],[48,22,48,28],[51,36,51,42],[53,29,53,35],[54,36,54,42],[61,29,61,35],[47,29,47,35],[48,36,48,42],[49,29,49,35],[50,22,50,28],[81,36,81,42],[79,36,79,42],[78,29,78,35],[79,22,79,28],[80,29,80,35],[77,22,77,28],[75,22,75,28],[76,36,76,42],[73,22,73,28],[73,36,73,42],[74,29,74,35],[69,15,69,21],[70,29,70,35],[71,36,71,42],[66,15,66,21],[66,29,66,35],[67,15,67,21],[67,36,67,42],[56,36,56,42],[57,29,57,35],[54,22,54,28],[55,29,55,35],[68,22,68,28],[72,29,72,35],[52,22,52,28],[45,1,45,7],[46,8,46,14],[47,1,47,7],[64,15,64,21],[65,22,65,28],[63,15,63,21],[64,36,64,42],[60,15,60,21],[61,15,61,21],[62,22,62,28],[58,36,58,42],[58,15,58,21],[40,8,40,14],[41,1,41,7],[42,1,42,7],[42,22,42,28],[43,8,43,14],[44,1,44,7],[44,15,44,21],[36,1,36,7],[37,8,37,14],[37,29,37,35],[38,1,38,7],[39,1,39,7],[39,15,39,21],[31,22,31,28],[32,1,32,7],[32,15,32,21],[33,1,33,7],[34,8,34,14],[35,1,35,7],[27,1,27,7],[27,15,27,21],[28,8,28,14],[29,1,29,7],[30,1,30,7],[31,8,31,14],[22,8,22,14],[23,1,23,7],[24,1,24,7],[24,36,24,42],[25,8,25,14],[26,1,26,7],[18,1,18,7],[19,8,19,14],[20,1,20,7],[20,15,20,21],[21,1,21,7],[14,1,14,7],[15,1,15,7],[15,15,15,21],[16,8,16,14],[17,1,17,7],[17,22,17,28],[9,1,9,7],[10,8,10,14],[11,1,11,7],[12,1,12,7],[12,29,12,35],[13,8,13,14],[5,1,5,7],[6,1,6,7],[6,22,6,28],[7,8,7,14],[8,1,8,7],[8,15,8,21],[4,88,4,89],[4,90,4,91],[4,92,4,93],[4,94,4,95],[4,96,4,97],[4,98,4,99],[0,1,0,7],[1,8,1,14],[2,1,2,7],[3,1,3,7],[3,15,3,21],[4,8,4,14]]}
[1,{"$f":"IF(Main!R2=2,Eleme!BL228,IF(Main!R2=3,Eleme!BL486,IF(Main!R2=4,Eleme!BL616,IF(Main!R2=5,Eleme!BL682))))","v":false},null,null,null,null,null,null,null,null,null,null,null,null,null,null,null,null,null,null,null,null,null,null,{"$f":"+Kura!A1","v":"TÜRKİYE MASA TENİSİ FEDERASYONU\nGENÇLER TAKIM KUZEYDOĞU BÖLGE YARIŞMALARI"},null,null,null,null,null,null,null,null,null,null,null,null,null,null,null,null,null,null,null,null,null,null,null,null,null,null,null,null,null,null,null,null,null,null,null,null,null,null,null,null,null,null,null,null,null,null,null,null,null,null,null,null,null,null,null,null,null,null,null,null,null,null,null,null,null,null,null,null,null,null,null,null,null,null,null,null,null,null,"1st Round",1]
[null,null,null,{"$f":"CU6","v":0},{"$f":"CV6","v":0},null,null,1,{"$f":"IF(AND(D2=0,E2=0),\"\",IF(D2>E2,B1,B3))","v":""},null,null,null,null,null,null,null,null,null,null,null,null,null,null,null,null,null,null,null,null,null,null,null,null,null,null,null,null,null,null,null,null,null,null,null,null,null,null,null,null,null,null,null,null,null,null,null,null,null,null,null,null,null,null,null,null,null,null,null,null,null,null,null,null,null,null,null,null,null,null,null,null,null,null,null,null,null,null,null,null,null,null,null,null,null,null,null,null,null,null,null,null,null,null,"2sn Round"]
[2,{"$f":"IF(Main!R2=2,Eleme!BM228,IF(Main!R2=3,Eleme!BM486,IF(Main!R2=4,Eleme!BM616,IF(Main!R2=5,Eleme!BM682))))","v":false},null,null,null,null,null,null,null,null,null,null,null,null,17,null,null,null,null,null,null,null,null,null,null,null,null,null,null,null,null,null,null,null,null,null,null,null,null,null,null,null,null,null,null,null,null,null,null,null,null,null,null,null,null,null,null,null,null,null,null,null,null,null,null,null,null,null,null,null,null,null,null,null,null,null,null,null,null,null,null,null,null,null,null,null,null,null,null,null,null,null,null,null,null,null,null,null,null,null,null,null,null,"3th Round"]
[3,{"$f":"IF(Main!R2=2,Eleme!BL229,IF(Main!R2=3,Eleme!BL487,IF(Main!R2=4,Eleme!BL617,IF(Main!R2=5,Eleme!BL683))))","v":false},null,null,null,null,null,null,null,null,{"$f":"CU22","v":0},{"$f":"CV22","v":0},"Y-1",null,null,{"$f":"IF(AND(K4=0,L4=0),\"\",IF(K4>L4,I2,I5))","v":""},null,null,null,null,null,null,null,null,{"$f":"Kura!AC2&\" \"&Kura!AE3","v":"KIZ TAKIM  [15-16 Mart 2025 TRABZON] [ Ana Tablo ]"},null,null,null,null,null,null,null,null,null,null,null,null,null,null,null,null,null,null,null,null,null,null,null,null,null,null,null,null,null,null,null,null,null,null,null,null,null,null,null,null,null,null,null,null,null,null,null,null,null,null,null,null,null,null,null,null,null,null,null,null,null,null,null,null,null,null,null,null,null,null,null,null,null,null,null,null,null,null,"4th Round"]
[null,null,null,{"$f":"CU7","v":0},{"$f":"CV7","v":0},null,null,2,{"$f":"IF(AND(D5=0,E5=0),\"\",IF(D5>E5,B4,B6))","v":""},null,null,null,null,null,null,null,null,null,null,null,null,25,null,null,null,null,null,null,null,null,null,null,null,null,null,null,null,null,null,null,null,null,null,null,null,null,null,null,null,null,null,null,null,null,null,null,null,null,null,null,null,null,null,null,null,null,null,null,null,null,null,null,null,null,null,null,null,null,null,null,null,"#","Date","Time","Table","Competition","Player A","Player B","Set1",null,"Set2",null,"Set3",null,"Set4",null,"Set5",null,"Result",null,null,null,null,"5th Round"]
[4,{"$f":"IF(Main!R2=2,Eleme!BM229,IF(Main!R2=3,Eleme!BM487,IF(Main!R2=4,Eleme!BM617,IF(Main!R2=5,Eleme!BM683))))","v":false},null,null,null,null,null,null,null,null,null,null,null,null,null,null,null,null,null,null,null,null,null,null,null,null,null,null,null,null,null,null,null,null,null,null,null,null,null,null,null,null,null,null,null,null,null,null,null,null,null,null,null,null,null,null,null,null,null,null,null,null,null,null,null,null,null,null,null,null,null,null,null,null,null,null,null,null,null,null,null,1,null,null,null,null,{"$f":"B1","v":false},{"$f":"B3","v":false},null,null,null,null,null,null,null,null,null,null,null,null,null,null,null,"6th Round"]
[5,{"$f":"IF(Main!R2=2,Eleme!BL230,IF(Main!R2=3,Eleme!BL488,IF(Main!R2=4,Eleme!BL618,IF(Main!R2=5,Eleme!BL684))))","v":false},null,null,null,null,null,null,null,null,null,null,null,null,null,null,null,{"$f":"CU30","v":0},{"$f":"CV30","v":0},"Y-9",null,null,{"$f":"IF(AND(R7=0,S7=0),\"\",IF(R7>S7,P4,P9))","v":""},null,null,null,null,null,null,null,null,null,null,null,null,null,null,null,null,null,null,null,null,null,null,null,null,null,null,null,null,null,null,null,null,null,null,null,null,null,null,null,null,null,null,null,null,null,null,null,null,null,null,null,null,null,null,null,null,null,null,2,null,null,null,null,{"$f":"B4","v":false},{"$f":"B6","v":false},null,null,null,null,null,null,null,null,null,null,null,null,null,null,null,"7th Round"]
[null,null,null,{"$f":"CU8","v":0},{"$f":"CV8","v":0},null,null,3,{"$f":"IF(AND(D8=0,E8=0),\"\",IF(D8>E8,B7,B9))","v":""},null,null,null,null,null,null,null,null,null,null,null,null,null,null,null,null,null,null,null,33,null,null,null,null,null,null,null,null,null,null,null,null,null,null,null,null,null,null,null,null,null,null,null,null,null,null,null,null,null,null,null,null,null,null,null,null,null,null,null,null,null,null,null,null,null,null,null,null,null,null,null,null,3,null,null,null,null,{"$f":"B7","v":false},{"$f":"B9","v":false},null,null,null,null,null,null,null,null,null,null,null,null,null,null,null,"8th Round"]
[6,{"$f":"IF(Main!R2=2,Eleme!BM230,IF(Main!R2=3,Eleme!BM488,IF(Main!R2=4,Eleme!BM618,IF(Main!R2=5,Eleme!BM684))))","v":false},null,null,null,null,null,null,null,null,null,null,null,null,18,{"$f":"IF(AND(K10=0,L10=0),\"\",IF(K10>L10,I8,I11))","v":""},null,null,null,null,null,null,null,null,null,null,null,null,null,null,null,null,null,null,null,null,null,null,null,null,null,null,null,null,null,null,null,null,null,null,null,null,null,null,null,null,null,null,null,null,null,null,null,null,null,null,null,null,null,null,null,null,null,null,null,null,null,null,null,null,null,4,null,null,null,null,{"$f":"B10","v":false},{"$f":"B12","v":false},null,null,null,null,null,null,null,null,null,null,null,null,null,null,null,"9th Round"]
[7,{"$f":"IF(Main!R2=2,Eleme!BL231,IF(Main!R2=3,Eleme!BL489,IF(Main!R2=4,Eleme!BL619,IF(Main!R2=5,Eleme!BL685))))","v":false},null,null,null,null,null,null,null,null,{"$f":"CU23","v":0},{"$f":"CV23","v":0},"Y-2",null,null,null,null,null,null,null,null,null,null,null,null,null,null,null,null,null,null,null,null,null,null,null,null,null,null,null,null,null,null,null,null,null,null,null,null,null,null,null,null,null,null,null,null,null,null,null,null,null,null,null,null,null,null,null,null,null,null,null,null,null,null,null,null,null,null,null,null,5,null,null,null,null,{"$f":"B13","v":false},{"$f":"B15","v":false},null,null,null,null,null,null,null,null,null,null,null,null,null,null,null,"10th Round"]
[null,null,null,{"$f":"CU9","v":0},{"$f":"CV9","v":0},null,null,4,{"$f":"IF(AND(D11=0,E11=0),\"\",IF(D11>E11,B10,B12))","v":""},null,null,null,null,null,null,null,null,null,null,null,null,null,null,null,null,null,null,null,null,null,null,null,null,null,null,null,null,null,null,null,null,null,null,null,null,null,null,null,null,null,null,null,null,null,null,null,null,null,null,null,null,null,null,null,null,null,null,null,null,null,null,null,null,null,null,null,null,null,null,null,null,6,null,null,null,null,{"$f":"B16","v":false},{"$f":"B18","v":false}]
[8,{"$f":"IF(Main!R2=2,Eleme!BM231,IF(Main!R2=3,Eleme!BM489,IF(Main!R2=4,Eleme!BM619,IF(Main!R2=5,Eleme!BM685))))","v":false},null,null,null,null,null,null,null,null,null,null,null,null,null,null,null,null,null,null,null,null,null,null,null,null,null,null,null,null,null,null,null,null,null,null,null,null,null,null,null,null,null,null,null,null,null,null,null,null,null,null,null,null,null,null,null,null,null,null,null,null,null,null,null,null,null,null,null,null,null,null,null,null,null,null,null,null,null,null,null,7,null,null,null,null,{"$f":"B19","v":false},{"$f":"B21","v":false}]
[9,{"$f":"IF(Main!R2=2,Eleme!BL232,IF(Main!R2=3,Eleme!BL490,IF(Main!R2=4,Eleme!BL620,IF(Main!R2=5,Eleme!BL686))))","v":false},null,null,null,null,null,null,null,null,null,null,null,null,null,null,null,null,null,null,null,null,null,null,{"$f":"CU38","v":0},{"$f":"CV38","v":0},"Y-17",null,null,{"$f":"IF(AND(Y13=0,Z13=0),\"\",IF(Y13>Z13,W7,W18))","v":""},null,null,null,null,null,null,null,null,null,null,null,null,null,null,null,null,null,null,null,null,null,null,null,null,null,null,null,null,null,null,null,null,null,null,null,null,null,null,null,null,null,null,null,null,null,null,null,null,null,null,null,8,null,null,null,null,{"$f":"B22","v":false},{"$f":"B24","v":false}]
[null,null,null,{"$f":"CU10","v":0},{"$f":"CV10","v":0},null,null,5,{"$f":"IF(AND(D14=0,E14=0),\"\",IF(D14>E14,B13,B15))","v":""},null,null,null,null,null,null,null,null,null,null,null,null,null,null,null,null,null,null,null,null,null,null,null,null,null,null,41,null,null,null,null,null,null,null,null,null,null,null,null,null,null,null,null,null,null,null,null,null,null,null,null,null,null,null,null,null,null,null,null,null,null,null,null,null,null,null,null,null,null,null,null,null,9,null,null,null,null,{"$f":"B25","v":false},{"$f":"B27","v":false}]
[10,{"$f":"IF(Main!R2=2,Eleme!BM232,IF(Main!R2=3,Eleme!BM490,IF(Main!R2=4,Eleme!BM620,IF(Main!R2=5,Eleme!BM686))))","v":false},null,null,null,null,null,null,null,null,null,null,null,null,19,null,null,null,null,null,null,null,null,null,null,null,null,null,null,null,null,null,null,null,null,null,null,null,null,null,null,null,null,null,null,null,null,null,null,null,null,null,null,null,null,null,null,null,null,null,null,null,null,null,null,null,null,null,null,null,null,null,null,null,null,null,null,null,null,null,null,10,null,null,null,null,{"$f":"B28","v":false},{"$f":"B30","v":false}]
[11,{"$f":"IF(Main!R2=2,Eleme!BL233,IF(Main!R2=3,Eleme!BL491,IF(Main!R2=4,Eleme!BL621,IF(Main!R2=5,Eleme!BL687))))","v":false},null,null,null,null,null,null,null,null,{"$f":"CU24","v":0},{"$f":"CV24","v":0},"Y-3",null,null,{"$f":"IF(AND(K16=0,L16=0),\"\",IF(K16>L16,I14,I17))","v":""},null,null,null,null,null,null,null,null,null,null,null,null,null,null,null,null,null,null,null,null,null,null,null,null,null,null,null,null,null,null,null,null,null,null,null,null,null,null,null,null,null,null,null,null,null,null,null,null,null,null,null,null,null,null,null,null,null,null,null,null,null,null,null,null,null,11,null,null,null,null,{"$f":"B31","v":false},{"$f":"B33","v":false}]
[null,null,null,{"$f":"CU11","v":0},{"$f":"CV11","v":0},null,null,6,{"$f":"IF(AND(D17=0,E17=0),\"\",IF(D17>E17,B16,B18))","v":""},null,null,null,null,null,null,null,null,null,null,null,null,26,null,null,null,null,null,null,null,null,null,null,null,null,null,null,null,null,null,null,null,null,null,null,null,null,null,null,null,null,null,null,null,null,null,null,null,null,null,null,null,null,null,null,null,null,null,null,null,null,null,null,null,null,null,null,null,null,null,null,null,12,null,null,null,null,{"$f":"B34","v":false},{"$f":"B36","v":false}]
[12,{"$f":"IF(Main!R2=2,Eleme!BM233,IF(Main!R2=3,Eleme!BM491,IF(Main!R2=4,Eleme!BM621,IF(Main!R2=5,Eleme!BM687))))","v":false},null,null,null,null,null,null,null,null,null,null,null,null,null,null,null,null,null,null,null,null,{"$f":"IF(AND(R19=0,S19=0),\"\",IF(R19>S19,P16,P21))","v":""},null,null,null,null,null,null,null,null,null,null,null,null,null,null,null,null,null,null,null,null,null,null,null,null,null,null,null,null,null,null,null,null,null,null,null,null,null,null,null,null,null,null,null,null,null,null,null,null,null,null,null,null,null,null,null,null,null,null,13,null,null,null,null,{"$f":"B37","v":false},{"$f":"B39","v":false}]
[13,{"$f":"IF(Main!R2=2,Eleme!BL234,IF(Main!R2=3,Eleme!BL492,IF(Main!R2=4,Eleme!BL622,IF(Main!R2=5,Eleme!BL688))))","v":false},null,null,null,null,null,null,null,null,null,null,null,null,null,null,null,{"$f":"CU31","v":0},{"$f":"CV31","v":0},"Y-10",null,null,null,null,null,null,null,null,null,null,null,null,null,null,null,null,null,null,null,null,null,null,null,null,null,null,null,null,null,null,null,null,null,null,null,null,null,null,null,null,null,null,null,null,null,null,null,null,null,null,null,null,null,null,null,null,null,null,null,null,null,14,null,null,null,null,{"$f":"B40","v":false},{"$f":"B42","v":false}]
[null,null,null,{"$f":"CU12","v":0},{"$f":"CV12","v":0},null,null,7,{"$f":"IF(AND(D20=0,E20=0),\"\",IF(D20>E20,B19,B21))","v":""},null,null,null,null,null,null,null,null,null,null,null,null,null,null,null,null,null,null,null,null,null,null,null,null,null,null,null,null,null,null,null,null,null,null,null,null,null,null,null,null,null,null,null,null,null,null,null,null,null,null,null,null,null,null,null,null,null,null,null,null,null,null,null,null,null,null,null,null,null,null,null,null,15,null,null,null,null,{"$f":"B43","v":false},{"$f":"B45","v":false}]
[14,{"$f":"IF(Main!R2=2,Eleme!BM234,IF(Main!R2=3,Eleme!BM492,IF(Main!R2=4,Eleme!BM622,IF(Main!R2=5,Eleme!BM688))))","v":false},null,null,null,null,null,null,null,null,null,null,null,null,20,{"$f":"IF(AND(K22=0,L22=0),\"\",IF(K22>L22,I20,I23))","v":""},null,null,null,null,null,null,null,null,null,null,null,null,null,null,null,null,null,null,null,null,null,null,null,null,null,null,null,null,null,null,null,null,null,null,null,null,null,null,null,null,null,null,null,null,null,null,null,null,null,null,null,null,null,null,null,null,null,null,null,null,null,null,null,null,null,16,null,null,null,null,{"$f":"B46","v":false},{"$f":"B48","v":false}]
[15,{"$f":"IF(Main!R2=2,Eleme!BL235,IF(Main!R2=3,Eleme!BL493,IF(Main!R2=4,Eleme!BL623,IF(Main!R2=5,Eleme!BL689))))","v":false},null,null,null,null,null,null,null,null,{"$f":"CU25","v":0},{"$f":"CV25","v":0},"Y-4",null,null,null,null,null,null,null,null,null,null,null,null,null,null,null,null,null,null,null,null,null,null,null,null,null,null,null,null,null,null,null,null,null,null,null,null,null,null,null,null,null,null,null,null,null,null,null,null,null,null,null,null,null,null,null,null,null,null,null,null,null,null,null,null,null,null,null,null,17,null,null,null,null,{"$f":"I2","v":""},{"$f":"I5","v":""}]
[null,null,null,{"$f":"CU13","v":0},{"$f":"CV13","v":0},null,null,8,{"$f":"IF(AND(D23=0,E23=0),\"\",IF(D23>E23,B22,B24))","v":""},null,null,null,null,null,null,null,null,null,null,null,null,null,null,null,null,null,null,null,null,null,null,null,null,null,null,null,null,null,null,null,null,null,null,null,null,null,null,null,null,null,null,null,null,null,null,null,null,null,null,null,null,null,null,null,null,null,null,null,null,null,null,null,null,null,null,null,null,null,null,null,null,18,null,null,null,null,{"$f":"I8","v":""},{"$f":"I11","v":""}]
[16,{"$f":"IF(Main!R2=2,Eleme!BM235,IF(Main!R2=3,Eleme!BM493,IF(Main!R2=4,Eleme!BM623,IF(Main!R2=5,Eleme!BM689))))","v":false},null,null,null,null,null,null,null,null,null,null,null,null,null,null,null,null,null,null,null,null,null,null,null,null,null,null,null,null,null,null,null,null,null,null,null,null,null,null,null,null,null,null,null,null,null,null,null,null,null,null,null,null,null,null,null,null,null,null,null,null,null,null,null,null,null,null,null,null,null,null,null,null,null,null,null,null,null,null,null,19,null,null,null,null,{"$f":"I14","v":""},{"$f":"I17","v":""}]
[17,{"$f":"IF(Main!R2=2,Eleme!BL236,IF(Main!R2=3,Eleme!BL494,IF(Main!R2=4,Eleme!BL624,IF(Main!R2=5,Eleme!BL690))))","v":false},null,null,null,null,null,null,null,null,null,null,null,null,null,{"$f":"IF(AND(K22=0,L22=0),\"\",IF(K22<L22,I20,I23))","v":""},null,null,null,null,null,null,null,null,null,null,null,null,null,null,null,{"$f":"CU46","v":0},{"$f":"CV46","v":0},"Y-25",null,null,{"$f":"IF(AND(AF25=0,AG25=0),\"\",IF(AF25>AG25,AD13,AD38))","v":""},null,null,null,null,null,null,"1.",null,null,null,null,null,null,null,null,null,null,null,null,null,null,null,null,null,null,null,null,null,null,null,null,null,null,null,null,null,null,null,null,null,null,null,null,null,20,null,null,null,null,{"$f":"I20","v":""},{"$f":"I23","v":""}]
[null,null,null,{"$f":"CU14","v":0},{"$f":"CV14","v":0},null,null,9,{"$f":"IF(AND(D26=0,E26=0),\"\",IF(D26>E26,B25,B27))","v":""},null,null,null,null,null,null,null,null,null,null,null,null,null,null,null,null,null,null,null,null,null,null,null,null,null,null,null,null,null,null,null,null,null,null,null,null,null,null,null,null,null,null,null,null,null,null,null,null,null,null,null,null,null,null,null,null,null,null,null,null,null,null,null,null,null,null,null,null,null,null,null,null,21,null,null,null,null,{"$f":"I26","v":""},{"$f":"I29","v":""}]
[18,{"$f":"IF(Main!R2=2,Eleme!BM236,IF(Main!R2=3,Eleme!BM494,IF(Main!R2=4,Eleme!BM624,IF(Main!R2=5,Eleme!BM690))))","v":false},null,null,null,null,null,null,null,null,null,null,null,null,21,null,null,null,null,null,null,null,null,null,null,null,null,null,null,null,null,null,null,null,null,null,null,null,null,null,null,null,null,null,null,null,null,null,null,null,null,null,null,null,null,null,null,null,null,null,null,null,null,null,null,null,null,null,null,null,null,null,null,null,null,null,null,null,null,null,null,22,null,null,null,null,{"$f":"I32","v":""},{"$f":"I35","v":""}]
[19,{"$f":"IF(Main!R2=2,Eleme!BL237,IF(Main!R2=3,Eleme!BL495,IF(Main!R2=4,Eleme!BL625,IF(Main!R2=5,Eleme!BL691))))","v":false},null,null,null,null,null,null,null,null,{"$f":"CU26","v":0},{"$f":"CV26","v":0},"Y-5",null,null,{"$f":"IF(AND(K28=0,L28=0),\"\",IF(K28>L28,I26,I29))","v":""},null,null,null,null,null,null,null,null,null,null,null,null,null,null,null,null,null,null,null,null,null,null,null,null,null,null,null,null,null,null,null,null,null,null,null,null,null,null,null,null,null,null,null,null,null,null,null,null,null,null,null,null,null,null,null,null,null,null,null,null,null,null,null,null,null,23,null,null,null,null,{"$f":"I38","v":""},{"$f":"I41","v":""}]
[null,null,null,{"$f":"CU15","v":0},{"$f":"CV15","v":0},null,null,10,{"$f":"IF(AND(D29=0,E29=0),\"\",IF(D29>E29,B28,B30))","v":""},null,null,null,null,null,null,null,null,null,null,null,null,27,null,null,null,null,null,null,null,null,null,null,null,null,null,null,null,null,null,null,null,null,null,null,null,null,null,null,null,null,null,null,null,null,null,null,null,null,null,null,null,null,null,null,null,null,null,null,null,null,null,null,null,null,null,null,null,null,null,null,null,24,null,null,null,null,{"$f":"I44","v":""},{"$f":"I47","v":""}]
[20,{"$f":"IF(Main!R2=2,Eleme!BM237,IF(Main!R2=3,Eleme!BM495,IF(Main!R2=4,Eleme!BM625,IF(Main!R2=5,Eleme!BM691))))","v":false},null,null,null,null,null,null,null,null,null,null,null,null,null,null,null,null,null,null,null,null,null,null,null,null,null,null,null,null,null,null,null,null,null,null,null,null,null,null,null,null,null,null,null,null,null,null,null,null,null,null,null,null,null,null,null,null,null,null,null,null,null,null,null,null,null,null,null,null,null,null,null,null,null,null,null,null,null,null,null,25,null,null,null,null,{"$f":"P4","v":""},{"$f":"P9","v":""}]
[21,{"$f":"IF(Main!R2=2,Eleme!BL238,IF(Main!R2=3,Eleme!BL496,IF(Main!R2=4,Eleme!BL626,IF(Main!R2=5,Eleme!BL692))))","v":false},null,null,null,null,null,null,null,null,null,null,null,null,null,null,null,{"$f":"CU32","v":0},{"$f":"CV32","v":0},"Y-11",null,null,null,null,null,null,null,null,null,null,null,null,null,null,null,null,null,null,null,null,null,null,null,null,null,null,null,null,null,null,null,null,null,null,null,null,null,null,null,null,null,null,null,null,null,null,null,null,null,null,null,null,null,null,null,null,null,null,null,null,null,26,null,null,null,null,{"$f":"P16","v":""},{"$f":"P21","v":""}]
[null,null,null,{"$f":"CU16","v":0},{"$f":"CV16","v":0},null,null,11,{"$f":"IF(AND(D32=0,E32=0),\"\",IF(D32>E32,B31,B33))","v":""},null,null,null,null,null,null,null,null,null,null,null,null,null,{"$f":"IF(AND(R31=0,S31=0),\"\",IF(R31>S31,P28,P33))","v":""},null,null,null,null,null,null,null,null,null,null,null,null,null,null,null,null,null,null,null,null,null,null,null,null,null,null,null,null,null,null,null,null,null,null,null,null,null,null,null,null,null,null,null,null,null,null,null,null,null,null,null,null,null,null,null,null,null,null,27,null,null,null,null,{"$f":"P28","v":""},{"$f":"P33","v":""}]
[22,{"$f":"IF(Main!R2=2,Eleme!BM238,IF(Main!R2=3,Eleme!BM496,IF(Main!R2=4,Eleme!BM626,IF(Main!R2=5,Eleme!BM692))))","v":false},null,null,null,null,null,null,null,null,null,null,null,null,22,{"$f":"IF(AND(K34=0,L34=0),\"\",IF(K34>L34,I32,I35))","v":""},null,null,null,null,null,null,null,null,null,null,null,null,34,null,null,null,null,null,null,null,null,null,null,null,null,null,null,null,null,null,null,null,null,null,null,null,null,null,null,null,null,null,null,null,null,null,null,null,null,null,null,null,null,null,null,null,null,null,null,null,null,null,null,null,null,28,null,null,null,null,{"$f":"P40","v":""},{"$f":"P45","v":""}]
[23,{"$f":"IF(Main!R2=2,Eleme!BL239,IF(Main!R2=3,Eleme!BL497,IF(Main!R2=4,Eleme!BL627,IF(Main!R2=5,Eleme!BL693))))","v":false},null,null,null,null,null,null,null,null,{"$f":"CU27","v":0},{"$f":"CV27","v":0},"Y-6",null,null,null,null,null,null,null,null,null,null,null,null,null,null,null,null,null,null,null,null,null,null,null,null,null,null,null,null,null,null,null,null,null,null,null,null,null,null,null,null,null,null,null,null,null,null,null,null,null,null,null,null,null,null,null,null,null,null,null,null,null,null,null,null,null,null,null,null,29,null,null,null,null,{"$f":"P59","v":""},{"$f":"P61","v":""}]
[null,null,null,{"$f":"CU17","v":0},{"$f":"CV17","v":0},null,null,12,{"$f":"IF(AND(D35=0,E35=0),\"\",IF(D35>E35,B34,B36))","v":""},null,null,null,null,null,null,null,null,null,null,null,null,null,null,null,null,null,null,null,null,null,null,null,null,null,null,null,null,null,null,null,null,null,null,null,null,null,null,null,null,null,null,null,null,null,null,null,null,null,null,null,null,null,null,null,null,null,null,null,null,null,null,null,null,null,null,null,null,null,null,null,null,30,null,null,null,null,{"$f":"P62","v":""},{"$f":"P64","v":""}]
[24,{"$f":"IF(Main!R2=2,Eleme!BM239,IF(Main!R2=3,Eleme!BM497,IF(Main!R2=4,Eleme!BM627,IF(Main!R2=5,Eleme!BM693))))","v":false},null,null,null,null,null,null,null,null,null,null,null,null,null,null,null,null,null,null,null,null,null,null,null,null,null,null,null,null,null,null,null,null,null,null,null,null,null,null,null,null,null,null,null,null,null,null,null,null,null,null,null,null,null,null,null,null,null,null,null,null,null,null,null,null,null,null,null,null,null,null,null,null,null,null,null,null,null,null,null,31,null,null,null,null,{"$f":"P65","v":""},{"$f":"P67","v":""}]
[25,{"$f":"IF(Main!R2=2,Eleme!BL240,IF(Main!R2=3,Eleme!BL498,IF(Main!R2=4,Eleme!BL628,IF(Main!R2=5,Eleme!BL694))))","v":false},null,null,null,null,null,null,null,null,null,null,null,null,null,null,null,null,null,null,null,null,null,null,null,null,null,null,null,null,null,null,null,null,null,null,null,null,null,null,null,null,null,null,null,null,null,null,null,null,null,null,null,null,null,null,null,null,null,null,null,null,null,null,null,null,null,null,null,null,null,null,null,null,null,null,null,null,null,null,null,32,null,null,null,null,{"$f":"P68","v":""},{"$f":"P70","v":""}]
[null,null,null,{"$f":"CU18","v":0},{"$f":"CV18","v":0},null,null,13,{"$f":"IF(AND(D38=0,E38=0),\"\",IF(D38>E38,B37,B39))","v":""},null,null,null,null,null,null,null,null,null,null,null,null,null,null,null,{"$f":"CU39","v":0},{"$f":"CV39","v":0},"Y-18",null,null,{"$f":"IF(AND(Y38=0,Z38=0),\"\",IF(Y38>Z38,W32,W43))","v":""},null,null,null,null,null,null,null,null,null,null,null,null,null,null,null,null,null,null,null,null,null,null,null,null,null,null,null,null,null,null,null,null,null,null,null,null,null,null,null,null,null,null,null,null,null,null,null,null,null,null,null,33,null,null,null,null,{"$f":"W7","v":""},{"$f":"W18","v":""}]
[26,{"$f":"IF(Main!R2=2,Eleme!BM240,IF(Main!R2=3,Eleme!BM498,IF(Main!R2=4,Eleme!BM628,IF(Main!R2=5,Eleme!BM694))))","v":false},null,null,null,null,null,null,null,null,null,null,null,null,23,null,null,null,null,null,null,null,null,null,null,null,null,null,null,null,null,null,null,null,null,null,null,null,null,null,null,null,null,null,null,null,null,null,null,null,null,null,null,null,null,null,null,null,null,null,null,null,null,null,null,null,null,null,null,null,null,null,null,null,null,null,null,null,null,null,null,34,null,null,null,null,{"$f":"W32","v":""},{"$f":"W43","v":""}]
[27,{"$f":"IF(Main!R2=2,Eleme!BL241,IF(Main!R2=3,Eleme!BL499,IF(Main!R2=4,Eleme!BL629,IF(Main!R2=5,Eleme!BL695))))","v":false},null,null,null,null,null,null,null,null,{"$f":"CU28","v":0},{"$f":"CV28","v":0},"Y-7",null,null,{"$f":"IF(AND(K40=0,L40=0),\"\",IF(K40>L40,I38,I41))","v":""},null,null,null,null,null,null,null,null,null,null,null,null,null,null,null,null,null,null,null,25,{"$f":"IF(AND(AF25=0,AG25=0),\"\",IF(AF25<AG25,AD13,AD38))","v":""},null,null,null,null,null,null,"2.",null,null,null,null,null,null,null,null,null,null,null,null,null,null,null,null,null,null,null,null,null,null,null,null,null,null,null,null,null,null,null,null,null,null,null,null,null,35,null,null,null,null,{"$f":"W49","v":""},{"$f":"W51","v":""}]
[null,null,null,{"$f":"CU19","v":0},{"$f":"CV19","v":0},null,null,14,{"$f":"IF(AND(D41=0,E41=0),\"\",IF(D41>E41,B40,B42))","v":""},null,null,null,null,null,null,null,null,null,null,null,null,28,null,null,null,null,null,null,null,null,null,null,null,null,null,null,null,null,null,null,null,null,null,null,null,null,null,null,null,null,null,null,null,null,null,null,null,null,null,null,null,null,null,null,null,null,null,null,null,null,null,null,null,null,null,null,null,null,null,null,null,36,null,null,null,null,{"$f":"W53","v":""},{"$f":"W55","v":""}]
[28,{"$f":"IF(Main!R2=2,Eleme!BM241,IF(Main!R2=3,Eleme!BM499,IF(Main!R2=4,Eleme!BM629,IF(Main!R2=5,Eleme!BM695))))","v":false},null,null,null,null,null,null,null,null,null,null,null,null,null,null,null,null,null,null,null,null,null,null,null,null,null,null,null,null,null,null,null,null,null,null,null,null,null,null,null,null,null,null,null,null,null,null,null,null,null,null,null,null,null,null,null,null,null,null,null,null,null,null,null,null,null,null,null,null,null,null,null,null,null,null,null,null,null,null,null,37,null,null,null,null,{"$f":"W60","v":""},{"$f":"W63","v":""}]
[29,{"$f":"IF(Main!R2=2,Eleme!BL242,IF(Main!R2=3,Eleme!BL500,IF(Main!R2=4,Eleme!BL630,IF(Main!R2=5,Eleme!BL696))))","v":false},null,null,null,null,null,null,null,null,null,null,null,null,null,null,null,{"$f":"CU33","v":0},{"$f":"CV33","v":0},"Y-12",null,null,{"$f":"IF(AND(R43=0,S43=0),\"\",IF(R43>S43,P40,P45))","v":""},null,null,null,null,null,null,null,null,null,null,null,null,null,null,null,null,null,null,null,null,null,null,null,null,null,null,null,null,null,null,null,null,null,null,null,null,null,null,null,null,null,null,null,null,null,null,null,null,null,null,null,null,null,null,null,null,null,null,38,null,null,null,null,{"$f":"W66","v":""},{"$f":"W69","v":""}]
[null,null,null,{"$f":"CU20","v":0},{"$f":"CV20","v":0},null,null,15,{"$f":"IF(AND(D44=0,E44=0),\"\",IF(D44>E44,B43,B45))","v":""},null,null,null,null,null,null,null,null,null,null,null,null,null,null,null,null,null,null,null,null,null,null,null,null,null,null,null,null,null,null,null,null,null,null,null,null,null,null,null,null,null,null,null,null,null,null,null,null,null,null,null,null,null,null,null,null,null,null,null,null,null,null,null,null,null,null,null,null,null,null,null,null,39,null,null,null,null,{"$f":"W74","v":""},{"$f":"W76","v":""}]
[30,{"$f":"IF(Main!R2=2,Eleme!BM242,IF(Main!R2=3,Eleme!BM500,IF(Main!R2=4,Eleme!BM630,IF(Main!R2=5,Eleme!BM696))))","v":false},null,null,null,null,null,null,null,null,null,null,null,null,24,{"$f":"IF(AND(K46=0,L46=0),\"\",IF(K46>L46,I44,I47))","v":""},null,null,null,null,null,null,null,null,null,null,null,null,null,null,null,null,null,null,null,null,null,null,null,null,null,null,null,null,null,null,null,null,null,null,null,null,null,null,null,null,null,null,null,null,null,null,null,null,null,null,null,null,null,null,null,null,null,null,null,null,null,null,null,null,null,40,null,null,null,null,{"$f":"W78","v":""},{"$f":"W80","v":""}]
[31,{"$f":"IF(Main!R2=2,Eleme!BL243,IF(Main!R2=3,Eleme!BL501,IF(Main!R2=4,Eleme!BL631,IF(Main!R2=5,Eleme!BL697))))","v":false},null,null,null,null,null,null,null,null,{"$f":"CU29","v":0},{"$f":"CV29","v":0},"Y-8",null,null,null,null,null,null,null,null,null,null,null,null,null,null,null,17,{"$f":"IF(AND(Y13=0,Z13=0),\"\",IF(Y13<Z13,W7,W18))","v":""},null,null,null,null,null,null,null,null,null,null,null,null,null,null,null,null,null,null,null,null,null,null,null,null,null,null,null,null,null,null,null,null,null,null,null,null,null,null,null,null,null,null,null,null,null,null,null,null,null,null,null,41,null,null,null,null,{"$f":"AD13","v":""},{"$f":"AD38","v":""}]
[null,null,null,{"$f":"CU21","v":0},{"$f":"CV21","v":0},null,null,16,{"$f":"IF(AND(D47=0,E47=0),\"\",IF(D47>E47,B46,B48))","v":""},null,null,null,null,null,null,null,null,null,null,null,null,null,null,null,null,null,null,null,null,null,null,{"$f":"CU47","v":0},{"$f":"+CV47","v":0},"Y-26",null,42,{"$f":"IF(AND(AF47=0,AG47=0),\"\",IF(AF47>AG47,AD46,AD48))","v":""},null,null,null,null,null,null,"3.",null,null,null,null,null,null,null,null,null,null,null,null,null,null,null,null,null,null,null,null,null,null,null,null,null,null,null,null,null,null,null,null,null,null,null,null,null,42,null,null,null,null,{"$f":"AD46","v":""},{"$f":"AD48","v":""}]
[32,{"$f":"IF(Main!R2=2,Eleme!BM243,IF(Main!R2=3,Eleme!BM501,IF(Main!R2=4,Eleme!BM631,IF(Main!R2=5,Eleme!BM697))))","v":false},null,null,null,null,null,null,null,null,null,null,null,null,null,null,null,null,null,null,null,null,null,null,null,null,null,null,18,{"$f":"IF(AND(Y38=0,Z38=0),\"\",IF(Y38<Z38,W32,W43))","v":""},null,null,null,null,null,null,null,null,null,null,null,null,null,null,null,null,null,null,null,null,null,null,null,null,null,null,null,null,null,null,null,null,null,null,null,null,null,null,null,null,null,null,null,null,null,null,null,null,null,null,null,43,null,null,null,null,{"$f":"AD50","v":""},{"$f":"AD54","v":""}]
[null,null,null,null,null,null,null,null,null,null,null,null,null,null,null,null,null,null,null,null,null,9,{"$f":"IF(AND(R7=0,S7=0),\"\",IF(R7<S7,P4,P9))","v":""},null,null,null,null,null,null,null,null,null,null,null,null,26,{"$f":"IF(AND(AF47=0,AG47=0),\"\",IF(AF47<AG47,AD46,AD48))","v":""},null,null,null,null,null,null,"4.",null,null,null,null,null,null,null,null,null,null,null,null,null,null,null,null,null,null,null,null,null,null,null,null,null,null,null,null,null,null,null,null,null,null,null,null,null,44,null,null,null,null,{"$f":"AD56","v":""},{"$f":"AD58","v":""}]
[null,null,null,null,null,null,null,null,null,null,null,null,null,null,null,null,null,null,null,null,null,null,null,null,{"$f":"CU40","v":0},{"$f":"+CV40","v":0},"Y-19",null,35,{"$f":"IF(AND(Y50=0,Z50=0),\"\",IF(Y50>Z50,W49,W51))","v":""},null,null,null,null,null,null,null,null,null,null,null,null,null,null,null,null,null,null,null,null,null,null,null,null,null,null,null,null,null,null,null,null,null,null,null,null,null,null,null,null,null,null,null,null,null,null,null,null,null,null,null,45,null,null,null,null,{"$f":"AD62","v":""},{"$f":"AD67","v":""}]
[null,null,null,null,null,null,null,null,null,null,null,null,null,null,null,null,null,null,null,null,null,10,{"$f":"IF(AND(R19=0,S19=0),\"\",IF(R19<S19,P16,P21))","v":""},null,null,null,null,null,null,null,null,null,null,null,null,43,null,null,null,null,null,null,null,null,null,null,null,null,null,null,null,null,null,null,null,null,null,null,null,null,null,null,null,null,null,null,null,null,null,null,null,null,null,null,null,null,null,null,null,null,null,46,null,null,null,null,{"$f":"AD71","v":""},{"$f":"AD73","v":""}]
[null,null,null,null,null,null,null,null,null,null,null,null,null,null,null,null,null,null,null,null,null,null,null,null,null,null,null,null,null,null,null,{"$f":"CU48","v":0},{"$f":"+CV48","v":0},"Y-27",null,null,{"$f":"IF(AND(AF52=0,AG52=0),\"\",IF(AF52>AG52,AD50,AD54))","v":""},null,null,null,null,null,null,"5.",null,null,null,null,null,null,null,null,null,null,null,null,null,null,null,null,null,null,null,null,null,null,null,null,null,null,null,null,null,null,null,null,null,null,null,null,null,47,null,null,null,null,{"$f":"AD75","v":""},{"$f":"AD79","v":""}]
[null,null,null,null,null,null,null,null,null,null,null,null,null,null,null,null,null,null,null,null,null,11,{"$f":"IF(AND(R31=0,S31=0),\"\",IF(R31<S31,P28,P33))","v":""},null,null,null,null,null,null,null,null,null,null,null,null,null,null,null,null,null,null,null,null,null,null,null,null,null,null,null,null,null,null,null,null,null,null,null,null,null,null,null,null,null,null,null,null,null,null,null,null,null,null,null,null,null,null,null,null,null,null,48,null,null,null,null,{"$f":"AD81","v":""},{"$f":"AD83","v":""}]
[null,null,null,null,null,null,null,null,null,null,null,null,null,null,null,null,null,null,null,null,null,null,null,null,{"$f":"CU41","v":0},{"$f":"+CV41","v":0},"Y-20",null,36,{"$f":"IF(AND(Y54=0,Z54=0),\"\",IF(Y54>Z54,W53,W55))","v":""}]
[null,null,null,null,null,null,null,null,null,null,null,null,null,null,null,null,null,null,null,null,null,12,{"$f":"IF(AND(R43=0,S43=0),\"\",IF(R43<S43,P40,P45))","v":""},null,null,null,null,null,null,null,null,null,null,null,null,27,{"$f":"IF(AND(AF52=0,AG52=0),\"\",IF(AF52<AG52,AD50,AD54))","v":""},null,null,null,null,null,null,"6."]
[null,null,null,null,null,null,null,null,null,null,null,null,null,null,null,null,null,null,null,null,null,null,null,null,null,null,null,null,19,{"$f":"IF(AND(Y50=0,Z50=0),\"\",IF(Y50<Z50,W49,W51))","v":""}]
[null,null,null,null,null,null,null,null,null,null,null,null,null,null,null,null,null,null,null,null,null,null,null,null,null,null,null,null,null,null,null,{"$f":"CU49","v":0},{"$f":"+CV49","v":0},"Y-28",null,44,{"$f":"IF(AND(AF57=0,AG57=0),\"\",IF(AF57>AG57,AD56,AD58))","v":""},null,null,null,null,null,null,"7."]
[null,null,null,null,null,null,null,null,null,null,null,null,null,null,null,null,null,null,null,null,null,null,null,null,null,null,null,null,20,{"$f":"IF(AND(Y54=0,Z54=0),\"\",IF(Y54<Z54,W53,W55))","v":""}]
[null,null,null,null,null,null,null,null,null,null,null,null,null,null,1,{"$f":"IF(AND(K4=0,L4=0),\"\",IF(K4<L4,I2,I5))","v":""},null,null,null,null,null,null,null,null,null,null,null,null,null,null,null,null,null,null,null,28,{"$f":"IF(AND(AF57=0,AG57=0),\"\",IF(AF57<AG57,AD56,AD58))","v":""},null,null,null,null,null,null,"8."]
[null,null,null,null,null,null,null,null,null,null,null,null,null,null,null,null,null,{"$f":"CU34","v":0},{"$f":"CV34","v":0},"Y-13",null,29,{"$f":"IF(AND(R60=0,S60=0),\"\",IF(R60>S60,P59,P61))","v":""}]
[null,null,null,null,null,null,null,null,null,null,null,null,null,null,2,{"$f":"IF(AND(K10=0,L10=0),\"\",IF(K10<L10,I8,I11))","v":""},null,null,null,null,null,null,null,null,null,null,null,null,37]
[null,null,null,null,null,null,null,null,null,null,null,null,null,null,3,{"$f":"IF(AND(K16=0,L16=0),\"\",IF(K16<L16,I14,I17))","v":""},null,null,null,null,null,null,null,null,{"$f":"CU42","v":0},{"$f":"CV42","v":0},"Y-21",null,null,{"$f":"IF(AND(Y62=0,Z62=0),\"\",IF(Y62>Z62,W60,W63))","v":""}]
[null,null,null,null,null,null,null,null,null,null,null,null,null,null,null,null,null,{"$f":"CU35","v":0},{"$f":"CV35","v":0},"Y-14",null,30,{"$f":"IF(AND(R63=0,S63=0),\"\",IF(R63>S63,P62,P64))","v":""},null,null,null,null,null,null,null,null,null,null,null,null,45]
[null,null,null,null,null,null,null,null,null,null,null,null,null,null,4,{"$f":"IF(AND(K22=0,L22=0),\"\",IF(K22<L22,I20,I23))","v":""}]
[null,null,null,null,null,null,null,null,null,null,null,null,null,null,5,{"$f":"IF(AND(K28=0,L28=0),\"\",IF(K28<L28,I26,I29))","v":""},null,null,null,null,null,null,null,null,null,null,null,null,null,null,null,{"$f":"CU50","v":0},{"$f":"+CV50","v":0},"Y-29",null,null,{"$f":"IF(AND(AF65=0,AG65=0),\"\",IF(AF65>AG65,AD62,AD67))","v":""},null,null,null,null,null,null,"9."]
[null,null,null,null,null,null,null,null,null,null,null,null,null,null,null,null,null,{"$f":"CU36","v":0},{"$f":"CV36","v":0},"Y-15",null,31,{"$f":"IF(AND(R66=0,S66=0),\"\",IF(R66>S66,P65,P67))","v":""}]
[null,null,null,null,null,null,null,null,null,null,null,null,null,null,6,{"$f":"IF(AND(K34=0,L34=0),\"\",IF(K34<L34,I32,I35))","v":""},null,null,null,null,null,null,null,null,null,null,null,null,38,{"$f":"IF(AND(Y68=0,Z68=0),\"\",IF(Y68>Z68,W66,W69))","v":""}]
[null,null,null,null,null,null,null,null,null,null,null,null,null,null,7,{"$f":"IF(AND(K40=0,L40=0),\"\",IF(K40<L40,I38,I41))","v":""},null,null,null,null,null,null,null,null,{"$f":"CU43","v":0},{"$f":"CV43","v":0},"Y-22",null,null,null,null,null,null,null,null,29,{"$f":"IF(AND(AF65=0,AG65=0),\"\",IF(AF65<AG65,AD62,AD67))","v":""},null,null,null,null,null,null,"10."]
[null,null,null,null,null,null,null,null,null,null,null,null,null,null,null,null,null,{"$f":"CU37","v":0},{"$f":"CV37","v":0},"Y-16",null,32,{"$f":"IF(AND(R69=0,S69=0),\"\",IF(R69>S69,P68,P70))","v":""}]
[null,null,null,null,null,null,null,null,null,null,null,null,null,null,8,{"$f":"IF(AND(K46=0,L46=0),\"\",IF(K46<L46,I44,I47))","v":""}]
[null,null,null,null,null,null,null,null,null,null,null,null,null,null,null,null,null,null,null,null,null,null,null,null,null,null,null,null,21,{"$f":"IF(AND(Y62=0,Z62=0),\"\",IF(Y62<Z62,W60,W63))","v":""}]
[null,null,null,null,null,null,null,null,null,null,null,null,null,null,null,null,null,null,null,null,null,null,null,null,null,null,null,null,null,null,null,{"$f":"CU51","v":0},{"$f":"+CV51","v":0},"Y-30",null,46,{"$f":"IF(AND(AF72=0,AG72=0),\"\",IF(AF72>AG72,AD71,AD73))","v":""},null,null,null,null,null,null,"11."]
[null,null,null,null,null,null,null,null,null,null,null,null,null,null,null,null,null,null,null,null,null,null,null,null,null,null,null,null,22,{"$f":"IF(AND(Y68=0,Z68=0),\"\",IF(Y68<Z68,W66,W69))","v":""}]
[null,null,null,null,null,null,null,null,null,null,null,null,null,null,null,null,null,null,null,null,null,13,{"$f":"IF(AND(R60=0,S60=0),\"\",IF(R60<S60,P59,P61))","v":""},null,null,null,null,null,null,null,null,null,null,null,null,30,{"$f":"IF(AND(AF72=0,AG72=0),\"\",IF(AF72<AG72,AD71,AD73))","v":""},null,null,null,null,null,null,"12."]
[null,null,null,null,null,null,null,null,null,null,null,null,null,null,null,null,null,null,null,null,null,null,null,null,{"$f":"CU44","v":0},{"$f":"+CV44","v":0},"Y-23",null,39,{"$f":"IF(AND(Y75=0,Z75=0),\"\",IF(Y75>Z75,W74,W76))","v":""}]
[null,null,null,null,null,null,null,null,null,null,null,null,null,null,null,null,null,null,null,null,null,14,{"$f":"IF(AND(R63=0,S63=0),\"\",IF(R63<S63,P62,P64))","v":""},null,null,null,null,null,null,null,null,null,null,null,null,47]
[null,null,null,null,null,null,null,null,null,null,null,null,null,null,null,null,null,null,null,null,null,null,null,null,null,null,null,null,null,null,null,{"$f":"CU52","v":0},{"$f":"+CV52","v":0},"Y-31",null,null,{"$f":"IF(AND(AF77=0,AG77=0),\"\",IF(AF77>AG77,AD75,AD79))","v":""},null,null,null,null,null,null,"13."]
[null,null,null,null,null,null,null,null,null,null,null,null,null,null,null,null,null,null,null,null,null,15,{"$f":"IF(AND(R66=0,S66=0),\"\",IF(R66<S66,P65,P67))","v":""}]
[null,null,null,null,null,null,null,null,null,null,null,null,null,null,null,null,null,null,null,null,null,null,null,null,{"$f":"CU45","v":0},{"$f":"+CV45","v":0},"Y-24",null,40,{"$f":"IF(AND(Y79=0,Z79=0),\"\",IF(Y79>Z79,W78,W80))","v":""}]
[null,null,null,null,null,null,null,null,null,null,null,null,null,null,null,null,null,null,null,null,null,16,{"$f":"IF(AND(R69=0,S69=0),\"\",IF(R69<S69,P68,P70))","v":""},null,null,null,null,null,null,null,null,null,null,null,null,31,{"$f":"IF(AND(AF77=0,AG77=0),\"\",IF(AF77<AG77,AD75,AD79))","v":""},null,null,null,null,null,null,"14."]
[null,null,null,null,null,null,null,null,null,null,null,null,null,null,null,null,null,null,null,null,null,null,null,null,null,null,null,null,23,{"$f":"IF(AND(Y75=0,Z75=0),\"\",IF(Y75<Z75,W74,W76))","v":""}]
[null,null,null,null,null,null,null,null,null,null,null,null,null,null,null,null,null,null,null,null,null,null,null,null,null,null,null,null,null,null,null,{"$f":"CU53","v":0},{"$f":"+CV53","v":0},"Y-32",null,48,{"$f":"IF(AND(AF82=0,AG82=0),\"\",IF(AF82>AG82,AD81,AD83))","v":""},null,null,null,null,null,null,"15."]
[null,null,null,null,null,null,null,null,null,null,null,null,null,null,null,null,null,null,null,null,null,null,null,null,null,null,null,null,24,{"$f":"IF(AND(Y79=0,Z79=0),\"\",IF(Y79<Z79,W78,W80))","v":""}]
[null,null,null,null,null,null,null,null,null,null,null,null,null,null,null,null,null,null,null,null,null,null,null,null,null,null,null,null,null,null,null,null,null,null,null,32,{"$f":"IF(AND(AF82=0,AG82=0),\"\",IF(AF82<AG82,AD81,AD83))","v":""},null,null,null,null,null,null,"16"]

{"sheet":"16","index":9,"n_rows":63,"n_cols":1217,"rows_kept":63,"cut":false,"hidden":true,"merged":[[61,22,61,28],[62,29,62,35],[56,15,56,21],[57,22,57,28],[58,15,58,21],[58,29,58,35],[59,22,59,28],[60,29,60,35],[55,29,55,35],[46,8,46,14],[46,29,46,35],[47,15,47,21],[48,8,48,14],[49,22,49,28],[50,29,50,35],[51,22,51,28],[52,15,52,21],[52,29,52,35],[53,22,53,28],[54,15,54,21],[45,8,45,14],[45,22,45,28],[36,29,36,35],[37,8,37,14],[38,15,38,21],[39,8,39,14],[40,8,40,14],[40,22,40,28],[41,15,41,21],[42,8,42,14],[43,8,43,14],[43,29,43,35],[44,15,44,21],[35,22,35,28],[26,15,26,21],[26,29,26,35],[27,22,27,28],[28,15,28,21],[29,29,29,35],[30,15,30,21],[31,22,31,28],[32,15,32,21],[32,29,32,35],[33,22,33,28],[34,29,34,35],[25,22,25,28],[18,1,18,7],[18,22,18,28],[18,29,18,35],[19,8,19,14],[20,1,20,7],[20,15,20,21],[21,1,21,7],[22,8,22,14],[23,1,23,7],[23,22,23,28],[24,29,24,35],[17,22,17,28],[9,1,9,7],[10,8,10,14],[11,1,11,7],[12,1,12,7],[14,1,14,7],[15,1,15,7],[15,15,15,21],[16,8,16,14],[17,1,17,7],[12,29,12,35],[13,8,13,14],[5,1,5,7],[6,1,6,7],[6,22,6,28],[7,8,7,14],[8,1,8,7],[8,15,8,21],[1,81,1,82],[1,83,1,84],[1,85,1,86],[2,1,2,7],[3,1,3,7],[3,15,3,21],[3,23,4,36],[4,8,4,14],[1,79,1,80],[0,1,0,7],[0,23,2,36],[1,8,1,14],[1,75,1,76],[1,77,1,78]]}
[1,{"$f":"IF(Main!R2=2,Eleme!BL244,IF(Main!R2=3,Eleme!BL502,IF(Main!R2=4,Eleme!BL632,IF(Main!R2=5,Eleme!BL698,IF(Main!R2=6,Eleme!BL732)))))","v":false},null,null,null,null,null,null,null,null,null,null,null,null,null,null,null,null,null,null,null,null,null,{"$f":"Kura!AC1","v":"TÜRKİYE MASA TENİSİ FEDERASYONU\nGENÇLER TAKIM KUZEYDOĞU BÖLGE YARIŞMALARI"},null,null,null,null,null,null,null,null,null,null,null,null,null,null,null,null,null,null,null,null,null,null,null,null,null,null,null,null,null,null,null,null,null,null,null,null,null,null,null,null,null,null,null,null,null,null,null,null,null,null,null,null,null,null,null,null,null,null,null,null,null,null,null,null,null,null,null,null,null,null,null,null,null,null,null,null,null,null,null,"1st Round",1]
[null,null,null,{"$f":"CH3","v":0},{"$f":"CI3","v":0},"Y1",null,1,{"$f":"IF(AND(D2=0,E2=0),\"\",IF(D2>E2,B1,B3))","v":""},null,null,null,null,null,null,null,null,null,null,null,null,null,null,null,null,null,null,null,null,null,null,null,null,null,null,null,null,null,null,null,null,null,null,null,null,null,null,null,null,null,null,null,null,null,null,null,null,null,null,null,null,null,null,null,null,null,null,null,"#","Date","Time","Table","Competition","Player A","Player B","Set1",null,"Set2",null,"Set3",null,"Set4",null,"Set5",null,"Result",null,null,null,null,null,null,null,null,null,null,null,null,null,null,null,null,null,"2sn Round"]
[2,{"$f":"IF(Main!R2=2,Eleme!BM244,IF(Main!R2=3,Eleme!BM502,IF(Main!R2=4,Eleme!BM632,IF(Main!R2=5,Eleme!BM698,IF(Main!R2=6,Eleme!BM732)))))","v":false},null,null,null,null,null,null,null,null,null,null,null,null,9,null,null,null,null,null,null,null,null,null,null,null,null,null,null,null,null,null,null,null,null,null,null,null,null,null,null,null,null,null,null,null,null,null,null,null,null,null,null,null,null,null,null,null,null,null,null,null,null,null,null,null,null,null,1,null,null,null,null,{"$f":"B1","v":false},{"$f":"B3","v":false},null,null,null,null,null,null,null,null,null,null,null,null,null,null,null,null,null,null,null,null,null,null,null,null,null,null,null,null,"3th Round"]
[3,{"$f":"IF(Main!R2=2,Eleme!BL245,IF(Main!R2=3,Eleme!BL503,IF(Main!R2=4,Eleme!BL633,IF(Main!R2=5,Eleme!BL699,IF(Main!R2=6,Eleme!BL733)))))","v":false},null,null,null,null,null,null,null,null,{"$f":"CH11","v":0},{"$f":"CI11","v":0},"Y-A",null,null,{"$f":"IF(AND(K4=0,L4=0),\"\",IF(K4>L4,I2,I5))","v":""},null,null,null,null,null,null,null,{"$f":"Kura!AC2&\" \"&Kura!AE3","v":"KIZ TAKIM  [15-16 Mart 2025 TRABZON] [ Ana Tablo ]"},null,null,null,null,null,null,null,null,null,null,null,null,null,null,null,null,null,null,null,null,null,null,null,null,null,null,null,null,null,null,null,null,null,null,null,null,null,null,null,null,null,null,null,null,2,null,null,null,null,{"$f":"B4","v":false},{"$f":"B6","v":false},null,null,null,null,null,null,null,null,null,null,null,null,null,null,null,null,null,null,null,null,null,null,null,null,null,null,null,null,"4th Round"]
[null,null,null,{"$f":"CH4","v":0},{"$f":"CI4","v":0},"Y2",null,2,{"$f":"IF(AND(D5=0,E5=0),\"\",IF(D5>E5,B4,B6))","v":""},null,null,null,null,null,null,null,null,null,null,null,null,17,null,null,null,null,null,null,null,null,null,null,null,null,null,null,null,null,null,null,null,null,null,null,null,null,null,null,null,null,null,null,null,null,null,null,null,null,null,null,null,null,null,null,null,null,null,null,3,null,null,null,null,{"$f":"B7","v":false},{"$f":"B9","v":false}]
[4,{"$f":"IF(Main!R2=2,Eleme!BM245,IF(Main!R2=3,Eleme!BM503,IF(Main!R2=4,Eleme!BM633,IF(Main!R2=5,Eleme!BM699,IF(Main!R2=6,Eleme!BM733)))))","v":false},null,null,null,null,null,null,null,null,null,null,null,null,null,null,null,null,null,null,null,null,null,null,null,null,null,null,null,null,null,null,null,null,null,null,null,null,null,null,null,null,null,null,null,null,null,null,null,null,null,null,null,null,null,null,null,null,null,null,null,null,null,null,null,null,null,null,4,null,null,null,null,{"$f":"B10","v":false},{"$f":"B12","v":false}]
[5,{"$f":"IF(Main!R2=2,Eleme!BL246,IF(Main!R2=3,Eleme!BL504,IF(Main!R2=4,Eleme!BL634,IF(Main!R2=5,Eleme!BL700,IF(Main!R2=6,Eleme!BL734)))))","v":false},null,null,null,null,null,null,null,null,null,null,null,null,null,null,null,{"$f":"CH19","v":0},{"$f":"CI19","v":0},"Y-E",null,null,{"$f":"IF(AND(R7=0,S7=0),\"\",IF(R7>S7,P4,P9))","v":""},null,null,null,null,null,null,null,null,null,null,null,null,null,null,null,null,null,null,null,null,null,null,null,null,null,null,null,null,null,null,null,null,null,null,null,null,null,null,null,null,null,null,null,null,null,5,null,null,null,null,{"$f":"B13","v":false},{"$f":"B15","v":false}]
[null,null,null,{"$f":"CH5","v":0},{"$f":"CI5","v":0},"Y3",null,3,{"$f":"IF(AND(D8=0,E8=0),\"\",IF(D8>E8,B7,B9))","v":""},null,null,null,null,null,null,null,null,null,null,null,null,null,null,null,null,null,null,null,25,null,null,null,null,null,null,null,null,null,null,null,null,null,null,null,null,null,null,null,null,null,null,null,null,null,null,null,null,null,null,null,null,null,null,null,null,null,null,null,6,null,null,null,null,{"$f":"B16","v":false},{"$f":"B18","v":false}]
[6,{"$f":"IF(Main!R2=2,Eleme!BM246,IF(Main!R2=3,Eleme!BM504,IF(Main!R2=4,Eleme!BM634,IF(Main!R2=5,Eleme!BM700,IF(Main!R2=6,Eleme!BM734)))))","v":false},null,null,null,null,null,null,null,null,null,null,null,null,10,{"$f":"IF(AND(K10=0,L10=0),\"\",IF(K10>L10,I8,I11))","v":""},null,null,null,null,null,null,null,null,null,null,null,null,null,null,null,null,null,null,null,null,null,null,null,null,null,null,null,null,null,null,null,null,null,null,null,null,null,null,null,null,null,null,null,null,null,null,null,null,null,null,null,null,7,null,null,null,null,{"$f":"B19","v":false},{"$f":"B21","v":false}]
[7,{"$f":"IF(Main!R2=2,Eleme!BL247,IF(Main!R2=3,Eleme!BL505,IF(Main!R2=4,Eleme!BL635,IF(Main!R2=5,Eleme!BL701,IF(Main!R2=6,Eleme!BL735)))))","v":false},null,null,null,null,null,null,null,null,{"$f":"CH12","v":0},{"$f":"CI12","v":0},"Y-B",null,null,null,null,null,null,null,null,null,null,null,null,null,null,null,null,null,null,null,null,null,null,null,null,null,null,null,null,null,null,null,null,null,null,null,null,null,null,null,null,null,null,null,null,null,null,null,null,null,null,null,null,null,null,null,8,null,null,null,null,{"$f":"B22","v":false},{"$f":"B24","v":false}]
[null,null,null,{"$f":"CH6","v":0},{"$f":"CI6","v":0},"Y4",null,4,{"$f":"IF(AND(D11=0,E11=0),\"\",IF(D11>E11,B10,B12))","v":""},null,null,null,null,null,null,null,null,null,null,null,null,null,null,null,null,null,null,null,null,null,null,null,null,null,null,null,null,null,null,null,null,null,null,null,null,null,null,null,null,null,null,null,null,null,null,null,null,null,null,null,null,null,null,null,null,null,null,null,9,null,null,null,null,{"$f":"I2","v":""},{"$f":"I5","v":""}]
[8,{"$f":"IF(Main!R2=2,Eleme!BM247,IF(Main!R2=3,Eleme!BM505,IF(Main!R2=4,Eleme!BM635,IF(Main!R2=5,Eleme!BM701,IF(Main!R2=6,Eleme!BM735)))))","v":false},null,null,null,null,null,null,null,null,null,null,null,null,null,null,null,null,null,null,null,null,null,null,null,null,null,null,null,null,null,null,null,null,null,null,null,null,null,null,null,null,null,null,null,null,null,null,null,null,null,null,null,null,null,null,null,null,null,null,null,null,null,null,null,null,null,null,10,null,null,null,null,{"$f":"I8","v":""},{"$f":"I11","v":""}]
[9,{"$f":"IF(Main!R2=2,Eleme!BL248,IF(Main!R2=3,Eleme!BL506,IF(Main!R2=4,Eleme!BL636,IF(Main!R2=5,Eleme!BL702,IF(Main!R2=6,Eleme!BL736)))))","v":false},null,null,null,null,null,null,null,null,null,null,null,null,null,null,null,null,null,null,null,null,null,null,{"$f":"CH27","v":0},{"$f":"+CI27","v":0},"Y-I",null,null,{"$f":"IF(AND(Y13=0,Z13=0),\"\",IF(Y13>Z13,W7,W18))","v":""},null,null,null,null,null,null,"1.",null,null,null,null,null,null,null,null,null,null,null,null,null,null,null,null,null,null,null,null,null,null,null,null,null,null,null,null,null,null,null,11,null,null,null,null,{"$f":"I14","v":""},{"$f":"I17","v":""}]
[null,null,null,{"$f":"CH7","v":0},{"$f":"CI7","v":0},"Y5",null,5,{"$f":"IF(AND(D14=0,E14=0),\"\",IF(D14>E14,B13,B15))","v":""},null,null,null,null,null,null,null,null,null,null,null,null,null,null,null,null,null,null,null,null,null,null,null,null,null,null,null,null,null,null,null,null,null,null,null,null,null,null,null,null,null,null,null,null,null,null,null,null,null,null,null,null,null,null,null,null,null,null,null,12,null,null,null,null,{"$f":"I20","v":""},{"$f":"I23","v":""}]
[10,{"$f":"IF(Main!R2=2,Eleme!BM248,IF(Main!R2=3,Eleme!BM506,IF(Main!R2=4,Eleme!BM636,IF(Main!R2=5,Eleme!BM702,IF(Main!R2=6,Eleme!BM736)))))","v":false},null,null,null,null,null,null,null,null,null,null,null,null,11,null,null,null,null,null,null,null,null,null,null,null,null,null,null,null,null,null,null,null,null,null,null,null,null,null,null,null,null,null,null,null,null,null,null,null,null,null,null,null,null,null,null,null,null,null,null,null,null,null,null,null,null,null,13,null,null,null,null,{"$f":"+I38","v":""},{"$f":"+I40","v":""}]
[11,{"$f":"IF(Main!R2=2,Eleme!BL249,IF(Main!R2=3,Eleme!BL507,IF(Main!R2=4,Eleme!BL637,IF(Main!R2=5,Eleme!BL703,IF(Main!R2=6,Eleme!BL737)))))","v":false},null,null,null,null,null,null,null,null,{"$f":"CH13","v":0},{"$f":"CI13","v":0},"Y-C",null,null,{"$f":"IF(AND(K16=0,L16=0),\"\",IF(K16>L16,I14,I17))","v":""},null,null,null,null,null,null,null,null,null,null,null,null,null,null,null,null,null,null,null,null,null,null,null,null,null,null,null,null,null,null,null,null,null,null,null,null,null,null,null,null,null,null,null,null,null,null,null,null,null,null,null,null,14,null,null,null,null,{"$f":"+I41","v":""},{"$f":"+I43","v":""}]
[null,null,null,{"$f":"CH8","v":0},{"$f":"CI8","v":0},"Y6",null,6,{"$f":"IF(AND(D17=0,E17=0),\"\",IF(D17>E17,B16,B18))","v":""},null,null,null,null,null,null,null,null,null,null,null,null,18,null,null,null,null,null,null,null,null,null,null,null,null,null,null,null,null,null,null,null,null,null,null,null,null,null,null,null,null,null,null,null,null,null,null,null,null,null,null,null,null,null,null,null,null,null,null,15,null,null,null,null,{"$f":"+I44","v":""},{"$f":"+I46","v":""}]
[12,{"$f":"IF(Main!R2=2,Eleme!BM249,IF(Main!R2=3,Eleme!BM507,IF(Main!R2=4,Eleme!BM637,IF(Main!R2=5,Eleme!BM703,IF(Main!R2=6,Eleme!BM737)))))","v":false},null,null,null,null,null,null,null,null,null,null,null,null,null,null,null,null,null,null,null,null,{"$f":"IF(AND(R19=0,S19=0),\"\",IF(R19>S19,P16,P21))","v":""},null,null,null,null,null,null,null,null,null,null,null,null,null,null,null,null,null,null,null,null,null,null,null,null,null,null,null,null,null,null,null,null,null,null,null,null,null,null,null,null,null,null,null,null,null,16,null,null,null,null,{"$f":"+I49","v":""},{"$f":"+I49","v":""}]
[13,{"$f":"IF(Main!R2=2,Eleme!BL250,IF(Main!R2=3,Eleme!BL508,IF(Main!R2=4,Eleme!BL638,IF(Main!R2=5,Eleme!BL704,IF(Main!R2=6,Eleme!BL738)))))","v":false},null,null,null,null,null,null,null,null,null,null,null,null,null,null,null,{"$f":"CH20","v":0},{"$f":"CI20","v":0},"Y-F",null,null,null,null,null,null,null,null,null,{"$f":"IF(AND(Y13=0,Z13=0),\"\",IF(Y13<Z13,W7,W18))","v":""},null,null,null,null,null,null,"2.",null,null,null,null,null,null,null,null,null,null,null,null,null,null,null,null,null,null,null,null,null,null,null,null,null,null,null,null,null,null,null,17,null,null,null,null,{"$f":"P4","v":""},{"$f":"P9","v":""}]
[null,null,null,{"$f":"CH9","v":0},{"$f":"CI9","v":0},"Y7",null,7,{"$f":"IF(AND(D20=0,E20=0),\"\",IF(D20>E20,B19,B21))","v":""},null,null,null,null,null,null,null,null,null,null,null,null,null,null,null,null,null,null,null,null,null,null,null,null,null,null,null,null,null,null,null,null,null,null,null,null,null,null,null,null,null,null,null,null,null,null,null,null,null,null,null,null,null,null,null,null,null,null,null,18,null,null,null,null,{"$f":"P16","v":""},{"$f":"P21","v":""}]
[14,{"$f":"IF(Main!R2=2,Eleme!BM250,IF(Main!R2=3,Eleme!BM508,IF(Main!R2=4,Eleme!BM638,IF(Main!R2=5,Eleme!BM704,IF(Main!R2=6,Eleme!BM738)))))","v":false},null,null,null,null,null,null,null,null,null,null,null,null,12,{"$f":"IF(AND(K22=0,L22=0),\"\",IF(K22>L22,I20,I23))","v":""},null,null,null,null,null,null,null,null,null,null,null,null,null,null,null,null,null,null,null,null,null,null,null,null,null,null,null,null,null,null,null,null,null,null,null,null,null,null,null,null,null,null,null,null,null,null,null,null,null,null,null,null,19,null,null,null,null,{"$f":"P27","v":""},{"$f":"P29","v":""}]
[15,{"$f":"IF(Main!R2=2,Eleme!BL251,IF(Main!R2=3,Eleme!BL509,IF(Main!R2=4,Eleme!BL639,IF(Main!R2=5,Eleme!BL705,IF(Main!R2=6,Eleme!BL739)))))","v":false},null,null,null,null,null,null,null,null,{"$f":"CH14","v":0},{"$f":"CI14","v":0},"Y-D",null,null,null,null,null,null,null,null,null,null,null,null,null,null,null,null,null,null,null,null,null,null,null,null,null,null,null,null,null,null,null,null,null,null,null,null,null,null,null,null,null,null,null,null,null,null,null,null,null,null,null,null,null,null,null,20,null,null,null,null,{"$f":"P31","v":""},{"$f":"P33","v":""}]
[null,null,null,{"$f":"CH10","v":0},{"$f":"CI10","v":0},"Y8",null,8,{"$f":"IF(AND(D23=0,E23=0),\"\",IF(D23>E23,B22,B24))","v":""},null,null,null,null,null,null,null,null,null,null,null,null,null,null,null,null,null,null,null,null,null,null,null,null,null,null,null,null,null,null,null,null,null,null,null,null,null,null,null,null,null,null,null,null,null,null,null,null,null,null,null,null,null,null,null,null,null,null,null,21,null,null,null,null,{"$f":"P39","v":""},{"$f":"P42","v":""}]
[16,{"$f":"IF(Main!R2=2,Eleme!BM251,IF(Main!R2=3,Eleme!BM509,IF(Main!R2=4,Eleme!BM639,IF(Main!R2=5,Eleme!BM705,IF(Main!R2=6,Eleme!BM739)))))","v":false},null,null,null,null,null,null,null,null,null,null,null,null,null,null,null,null,null,null,null,"E",{"$f":"IF(AND(R7=0,S7=0),\"\",IF(R7<S7,P4,P9))","v":""},null,null,null,null,null,null,null,null,null,null,null,null,null,null,null,null,null,null,null,null,null,null,null,null,null,null,null,null,null,null,null,null,null,null,null,null,null,null,null,null,null,null,null,null,null,22,null,null,null,null,{"$f":"P45","v":""},{"$f":"P48","v":""}]
[null,null,null,null,null,null,null,null,null,null,null,null,null,null,null,null,null,null,null,null,null,null,null,null,{"$f":"CH28","v":0},{"$f":"+CI28","v":0},"Y-J",null,26,{"$f":"IF(AND(Y25=0,Z25=0),\"\",IF(Y25>Z25,W24,W26))","v":""},null,null,null,null,null,null,"3.",null,null,null,null,null,null,null,null,null,null,null,null,null,null,null,null,null,null,null,null,null,null,null,null,null,null,null,null,null,null,null,23,null,null,null,null,{"$f":"P53","v":""},{"$f":"P55","v":""},null,null,null,null,null,null,null,null,null,null,null,null,null,null,null,null,null,null,null,null,null,null,null,null,null,null,null,null,null,null,null,null,null,null,null,null,null,null,null,null,null,null,null,null,null,null,null,null,null,null,null,null,null,null,null,null,null,null,null,null,null,null,null,null,null,null,null,null,null,null,null,null,null,null,null,null,null,null,null,null,null,null,null,null,null,null,null,null,null,null,null,null,null,null,null,null,null,null,null,null,null,null,null,null,null,null,null,null,null,null,null,null,null,null,null,null,null,null,null,null,null,null,null,null,null,null,null,null,null,null,null,null,null,null,null,null,null,null,null,null,null,null,null,null,null,null,null,null,null,null,null,null,null,null,null,null,null,null,null,null,null,null,null,null,null,null,null,null,null,null,null,null,null,null,null,null,null,null,null,null,null,null,null,null,null,null,null,null,null,null,null,null,null,null,null,null,null,null,null,null,null,null,null,null,null,null,null,null,null,null,null,null,null,null,null,null,null,null,null,null,null,null,null,null,null,null,null,null,null,null,null,null,null,null,null,null,null,null,null,null,null,null,null,null,null,null,null,null,null,null,null,null,null,null,null,null,null,null,null,null,null,null,null,null,null,null,null,null,null,null,null,null,null,null,null,null,null,null,null,null,null,null,null,null,null,null,null,null,null,null,null,null,null,null,null,null,null,null,null,null,null,null,null,null,null,null,null,null,null,null,null,null,null,null,null,null,null,null,null,null,null,null,null,null,null,null,null,null,null,null,null,null,null,null,null,null,null,null,null,null,null,null,null,null,null,null,null,null,null,null,null,null,null,null,null,null,null,null,null,null,null,null,null,null,null,null,null,null,null,null,null,null,null,null,null,null,null,null,null,null,null,null,null,null,null,null,null,null,null,null,null,null,null,null,null,null,null,null,null,null,null,null,null,null,null,null,null,null,null,null,null,null,null,null,null,null,null,null,null,null,null,null,null,null,null,null,null,null,null,null,null,null,null,null,null,null,null,null,null,null,null,null,null,null,null,null,null,null,null,null,null,null,null,null,null,null,null,null,null,null,null,null,null,null,null,null,null,null,null,null,null,null,null,null,null,null,null,null,null,null,null,null,null,null,null,null,null,null,null,null,null,null,null,null,null,null,null,null,null,null,null,null,null,null,null,null,null,null,null,null,null,null,null,null,null,null,null,null,null,null,null,null,null,null,null,null,null,null,null,null,null,null,null,null,null,null,null,null,null,null,null,null,null,null,null,null,null,null,null,null,null,null,null,null,null,null,null,null,null,null,null,null,null,null,null,null,null,null,null,null,null,null,null,null,null,null,null,null,null,null,null,null,null,null,null,null,null,null,null,null,null,null,null,null,null,null,null,null,null,null,null,null,null,null,null,null,null,null,null,null,null,null,null,null,null,null,null,null,null,null,null,null,null,null,null,null,null,null,null,null,null,null,null,null,null,null,null,null,null,null,null,null,null,null,null,null,null,null,null,null,null,null,null,null,null,null,null,null,null,null,null,null,null,null,null,null,null,null,null,null,null,null,null,null,null,null,null,null,null,null,null,null,null,null,null,null,null,null,null,null,null,null,null,null,null,null,null,null,null,null,null,null,null,null,null,null,null,null,null,null,null,null,null,null,null,null,null,null,null,null,null,null,null,null,null,null,null,null,null,null,null,null,null,null,null,null,null,null,null,null,null,null,null,null,null,null,null,null,null,null,null,null,null,null,null,null,null,null,null,null,null,null,null,null,null,null,null,null,null,null,null,null,null,null,null,null,null,null,null,null,null,null,null,null,null,null,null,null,null,null,null,null,null,null,null,null,null,null,null,null,null,null,null,null,null,null,null,null,null,null,null,null,null,null,null,null,null,null,null,null,null,null,null,null,null,null,null,null,null,null,null,null,null,null,null,null,null,null,null,null,null,null,null,null,null,null,null,null,null,null,null,null,null,null,null,null,null,null,null,null,null,null,null,null,null,null,null,null,null,null,null,null,null,null,null,null,null,null,null,null,null,null,null,null,null,null,null,null,null,null,null,null,null,null,null,null,null,null,null,null,null,null,null,null,null,null,null,null,null,null,null,null,null,null,null,null,null,null,null,null,null,null,null,null,null,null,null,null,null,null,null,null,null,null,null,null,null,null,null,null,null,null,null,null,null,null,null,null,null,null,null,null,null,null,null,null,null,null,null,null,null,null,null,null,null,null,null,null,null,null,null,null,null,null,null,null,null,null,null,null,null,null,null,null,null,null,null,null,null,null,null,null,null,null,null,null,null,null,null,null,null,null,null,null,null,null,null,null,null,null,null,null,null,null,null,null,null,null,null,null,null,null,null,null,null,null,null,null,null,null,null,null,null,null,null,null,null,null,null,null,null,null,null,null,null,null,null,null,null,null,null,null,null,null,null,null,null,null,null,null,null,null,null,null,null,null,null,null,null,null,null,null,null,null,null,null,null,null,null,null,null,null,null,null,null,null,null,null,null,null,null,null,null,null,null,null,null,null,null,null,null,null,null,null,null,null,null,null,null,null,null,null,null,null,null,null,null,null,null,null,null,null,null,null,null,null,null,null,null,null,null,null,null,null,null,null,null,null,null,null,null,0]
[null,null,null,null,null,null,null,null,null,null,null,null,null,null,null,null,null,null,null,null,null,"F",{"$f":"IF(AND(R19=0,S19=0),\"\",IF(R19<S19,P16,P21))","v":""},null,null,null,null,null,null,null,null,null,null,null,null,null,null,null,null,null,null,null,null,null,null,null,null,null,null,null,null,null,null,null,null,null,null,null,null,null,null,null,null,null,null,null,null,null,24,null,null,null,null,{"$f":"P57","v":""},{"$f":"P59","v":""}]
[null,null,null,null,null,null,null,null,null,null,null,null,null,null,"A",{"$f":"IF(AND(K4=0,L4=0),\"\",IF(K4<L4,I2,I5))","v":""},null,null,null,null,null,null,null,null,null,null,null,null,"J",{"$f":"IF(AND(Y25=0,Z25=0),\"\",IF(Y25<Z25,W24,W26))","v":""},null,null,null,null,null,null,"4.",null,null,null,null,null,null,null,null,null,null,null,null,null,null,null,null,null,null,null,null,null,null,null,null,null,null,null,null,null,null,null,25,null,null,null,null,{"$f":"W7","v":""},{"$f":"W18","v":""}]
[null,null,null,null,null,null,null,null,null,null,null,null,null,null,null,null,null,{"$f":"CH21","v":0},{"$f":"+CI21","v":0},"Y-G",null,19,{"$f":"IF(AND(R28=0,S28=0),\"\",IF(R28>S28,P27,P29))","v":""},null,null,null,null,null,null,null,null,null,null,null,null,null,null,null,null,null,null,null,null,null,null,null,null,null,null,null,null,null,null,null,null,null,null,null,null,null,null,null,null,null,null,null,null,null,26,null,null,null,null,{"$f":"W24","v":""},{"$f":"W26","v":""}]
[null,null,null,null,null,null,null,null,null,null,null,null,null,null,"B",{"$f":"IF(AND(K10=0,L10=0),\"\",IF(K10<L10,I8,I11))","v":""},null,null,null,null,null,null,null,null,null,null,null,null,27,null,null,null,null,null,null,null,null,null,null,null,null,null,null,null,null,null,null,null,null,null,null,null,null,null,null,null,null,null,null,null,null,null,null,null,null,null,null,null,27,null,null,null,null,{"$f":"W28","v":""},{"$f":"W32","v":""}]
[null,null,null,null,null,null,null,null,null,null,null,null,null,null,null,null,null,null,null,null,null,null,null,null,{"$f":"CH29","v":0},{"$f":"+CI29","v":0},"Y-K",null,null,{"$f":"IF(AND(Y30=0,Z30=0),\"\",IF(Y30>Z30,W28,W32))","v":""},null,null,null,null,null,null,"5.",null,null,null,null,null,null,null,null,null,null,null,null,null,null,null,null,null,null,null,null,null,null,null,null,null,null,null,null,null,null,null,28,null,null,null,null,{"$f":"W34","v":""},{"$f":"W36","v":""}]
[null,null,null,null,null,null,null,null,null,null,null,null,null,null,"C",{"$f":"IF(AND(K16=0,L16=0),\"\",IF(K16<L16,I14,I17))","v":""},null,null,null,null,null,null,null,null,null,null,null,null,null,null,null,null,null,null,null,null,null,null,null,null,null,null,null,null,null,null,null,null,null,null,null,null,null,null,null,null,null,null,null,null,null,null,null,null,null,null,null,null,29,null,null,null,null,{"$f":"W41","v":""},{"$f":"W46","v":""}]
[null,null,null,null,null,null,null,null,null,null,null,null,null,null,null,null,null,{"$f":"CH22","v":0},{"$f":"+CI22","v":0},"Y-H",null,20,{"$f":"IF(AND(R32=0,S32=0),\"\",IF(R32>S32,P31,P33))","v":""},null,null,null,null,null,null,null,null,null,null,null,null,null,null,null,null,null,null,null,null,null,null,null,null,null,null,null,null,null,null,null,null,null,null,null,null,null,null,null,null,null,null,null,null,null,30,null,null,null,null,{"$f":"W50","v":""},{"$f":"W52","v":""}]
[null,null,null,null,null,null,null,null,null,null,null,null,null,null,"D",{"$f":"IF(AND(K22=0,L22=0),\"\",IF(K22<L22,I20,I23))","v":""},null,null,null,null,null,null,null,null,null,null,null,null,"K",{"$f":"IF(AND(Y30=0,Z30=0),\"\",IF(Y30<Z30,W28,W32))","v":""},null,null,null,null,null,null,"6.",null,null,null,null,null,null,null,null,null,null,null,null,null,null,null,null,null,null,null,null,null,null,null,null,null,null,null,null,null,null,null,31,null,null,null,null,{"$f":"W54","v":""},{"$f":"W58","v":""}]
[null,null,null,null,null,null,null,null,null,null,null,null,null,null,null,null,null,null,null,null,null,"G",{"$f":"IF(AND(R28=0,S28=0),\"\",IF(R28<S28,P27,P29))","v":""},null,null,null,null,null,null,null,null,null,null,null,null,null,null,null,null,null,null,null,null,null,null,null,null,null,null,null,null,null,null,null,null,null,null,null,null,null,null,null,null,null,null,null,null,null,32,null,null,null,null,{"$f":"W60","v":""},{"$f":"W62","v":""}]
[null,null,null,null,null,null,null,null,null,null,null,null,null,null,null,null,null,null,null,null,null,null,null,null,{"$f":"CH30","v":0},{"$f":"+CI30","v":0},"Y-L",null,28,{"$f":"IF(AND(Y35=0,Z35=0),\"\",IF(Y35>Z35,W34,W36))","v":""},null,null,null,null,null,null,"7."]
[null,null,null,null,null,null,null,null,null,null,null,null,null,null,null,null,null,null,null,null,null,"H",{"$f":"IF(AND(R32=0,S32=0),\"\",IF(R32<S32,P31,P33))","v":""}]
[null,null,null,null,null,null,null,null,null,null,null,null,null,null,null,null,null,null,null,null,null,null,null,null,null,null,null,null,"L",{"$f":"IF(AND(Y35=0,Z35=0),\"\",IF(Y35<Z35,W34,W36))","v":""},null,null,null,null,null,null,"8."]
[null,null,null,null,null,null,null,"Y1",{"$f":"IF(AND(D2=0,E2=0),\"\",IF(D2<E2,B1,B3))","v":""}]
[null,null,null,null,null,null,null,null,null,null,{"$f":"CH15","v":0},{"$f":"CI15","v":0},"Y9",null,13,{"$f":"IF(AND(K39=0,L39=0),\"\",IF(K39>L39,I38,I40))","v":""}]
[null,null,null,null,null,null,null,"Y2",{"$f":"IF(AND(D5=0,E5=0),\"\",IF(D5<E5,B4,B6))","v":""},null,null,null,null,null,null,null,null,null,null,null,null,21]
[null,null,null,null,null,null,null,"Y3",{"$f":"IF(AND(D8=0,E8=0),\"\",IF(D8<E8,B7,B9))","v":""},null,null,null,null,null,null,null,null,{"$f":"CH23","v":0},{"$f":"CI23","v":0},"Y13",null,null,{"$f":"IF(AND(R41=0,S41=0),\"\",IF(R41>S41,P39,P42))","v":""}]
[null,null,null,null,null,null,null,null,null,null,{"$f":"CH16","v":0},{"$f":"CI16","v":0},"Y10",null,14,{"$f":"IF(AND(K42=0,L42=0),\"\",IF(K42>L42,I41,I43))","v":""},null,null,null,null,null,null,null,null,null,null,null,null,29]
[null,null,null,null,null,null,null,"Y4",{"$f":"IF(AND(D11=0,E11=0),\"\",IF(D11<E11,B10,B12))","v":""}]
[null,null,null,null,null,null,null,"Y5",{"$f":"IF(AND(D14=0,E14=0),\"\",IF(D14<E14,B13,B15))","v":""},null,null,null,null,null,null,null,null,null,null,null,null,null,null,null,{"$f":"CH31","v":0},{"$f":"CI31","v":0},"Y17",null,null,{"$f":"IF(AND(Y44=0,Z44=0),\"\",IF(Y44>Z44,W41,W46))","v":""},null,null,null,null,null,null,"9."]
[null,null,null,null,null,null,null,null,null,null,{"$f":"CH17","v":0},{"$f":"CI17","v":0},"Y11",null,15,{"$f":"IF(AND(K45=0,L45=0),\"\",IF(K45>L45,I44,I46))","v":""}]
[null,null,null,null,null,null,null,"Y6",{"$f":"IF(AND(D17=0,E17=0),\"\",IF(D17<E17,B16,B18))","v":""},null,null,null,null,null,null,null,null,null,null,null,null,22,{"$f":"IF(AND(R47=0,S47=0),\"\",IF(R47>S47,P45,P48))","v":""}]
[null,null,null,null,null,null,null,"Y7",{"$f":"IF(AND(D20=0,E20=0),\"\",IF(D20<E20,B19,B21))","v":""},null,null,null,null,null,null,null,null,{"$f":"CH24","v":0},{"$f":"CI24","v":0},"Y14",null,null,null,null,null,null,null,null,"Y17",{"$f":"IF(AND(Y44=0,Z44=0),\"\",IF(Y44<Z44,W41,W46))","v":""},null,null,null,null,null,null,"10."]
[null,null,null,null,null,null,null,null,null,null,{"$f":"CH18","v":0},{"$f":"CI18","v":0},"Y12",null,16,{"$f":"IF(AND(K48=0,L48=0),\"\",IF(K48>L48,I47,I49))","v":""}]
[null,null,null,null,null,null,null,"Y8",{"$f":"IF(AND(D23=0,E23=0),\"\",IF(D23<E23,B22,B24))","v":""}]
[null,null,null,null,null,null,null,null,null,null,null,null,null,null,null,null,null,null,null,null,null,"E",{"$f":"IF(AND(R41=0,S41=0),\"\",IF(R41<S41,P39,P42))","v":""}]
[null,null,null,null,null,null,null,null,null,null,null,null,null,null,null,null,null,null,null,null,null,null,null,null,{"$f":"CH32","v":0},{"$f":"+CI32","v":0},"Y18",null,30,{"$f":"IF(AND(Y51=0,Z51=0),\"\",IF(Y51>Z51,W50,W52))","v":""},null,null,null,null,null,null,"11."]
[null,null,null,null,null,null,null,null,null,null,null,null,null,null,null,null,null,null,null,null,null,"F",{"$f":"IF(AND(R47=0,S47=0),\"\",IF(R47<S47,P45,P48))","v":""}]
[null,null,null,null,null,null,null,null,null,null,null,null,null,null,"Y1",{"$f":"IF(AND(K39=0,L39=0),\"\",IF(K39<L39,I38,I40))","v":""},null,null,null,null,null,null,null,null,null,null,null,null,"Y18",{"$f":"IF(AND(Y51=0,Z51=0),\"\",IF(Y51<Z51,W50,W52))","v":""},null,null,null,null,null,null,"12."]
[null,null,null,null,null,null,null,null,null,null,null,null,null,null,null,null,null,{"$f":"CH25","v":0},{"$f":"+CI25","v":0},"Y15",null,23,{"$f":"IF(AND(R54=0,S54=0),\"\",IF(R54>S54,P53,P55))","v":""}]
[null,null,null,null,null,null,null,null,null,null,null,null,null,null,"Y2",{"$f":"IF(AND(K42=0,L42=0),\"\",IF(K42<L42,I41,I43))","v":""},null,null,null,null,null,null,null,null,null,null,null,null,31]
[null,null,null,null,null,null,null,null,null,null,null,null,null,null,null,null,null,null,null,null,null,null,null,null,{"$f":"CH33","v":0},{"$f":"+CI33","v":0},"Y19",null,null,{"$f":"IF(AND(Y56=0,Z56=0),\"\",IF(Y56>Z56,W54,W58))","v":""},null,null,null,null,null,null,"13."]
[null,null,null,null,null,null,null,null,null,null,null,null,null,null,"Y3",{"$f":"IF(AND(K45=0,L45=0),\"\",IF(K45<L45,I44,I46))","v":""}]
[null,null,null,null,null,null,null,null,null,null,null,null,null,null,null,null,null,{"$f":"CH26","v":0},{"$f":"+CI26","v":0},"Y16",null,24,{"$f":"IF(AND(R58=0,S58=0),\"\",IF(R58>S58,P57,P59))","v":""}]
[null,null,null,null,null,null,null,null,null,null,null,null,null,null,"Y4",{"$f":"IF(AND(K48=0,L48=0),\"\",IF(K48<L48,I47,I49))","v":""},null,null,null,null,null,null,null,null,null,null,null,null,"Y19",{"$f":"IF(AND(Y56=0,Z56=0),\"\",IF(Y56<Z56,W54,W58))","v":""},null,null,null,null,null,null,"14."]
[null,null,null,null,null,null,null,null,null,null,null,null,null,null,null,null,null,null,null,null,null,"Y15",{"$f":"IF(AND(R54=0,S54=0),\"\",IF(R54<S54,P53,P55))","v":""}]
[null,null,null,null,null,null,null,null,null,null,null,null,null,null,null,null,null,null,null,null,null,null,null,null,{"$f":"CH34","v":0},{"$f":"+CI34","v":0},"Y20",null,32,{"$f":"IF(AND(Y61=0,Z61=0),\"\",IF(Y61>Z61,W60,W62))","v":""},null,null,null,null,null,null,"15."]
[null,null,null,null,null,null,null,null,null,null,null,null,null,null,null,null,null,null,null,null,null,"Y16",{"$f":"IF(AND(R58=0,S58=0),\"\",IF(R58<S58,P57,P59))","v":""}]
[null,null,null,null,null,null,null,null,null,null,null,null,null,null,null,null,null,null,null,null,null,null,null,null,null,null,null,null,"Y20",{"$f":"IF(AND(Y61=0,Z61=0),\"\",IF(Y61<Z61,W60,W62))","v":""},null,null,null,null,null,null,"16"]

{"sheet":"16DE","index":10,"n_rows":63,"n_cols":1217,"rows_kept":63,"cut":false,"hidden":true,"merged":[[8,1,8,7],[8,15,8,21],[9,1,9,7],[10,8,10,14],[11,1,11,7],[7,8,7,14],[0,1,0,7],[0,24,2,46],[1,8,1,14],[2,1,2,7],[3,1,3,7],[3,15,3,21],[4,8,4,14],[5,1,5,7],[6,1,6,7],[6,22,6,28],[3,24,4,46],[19,8,19,14],[19,43,19,49],[12,50,12,56],[13,8,13,14],[14,1,14,7],[15,1,15,7],[15,15,15,21],[16,8,16,14],[12,1,12,7],[17,1,17,7],[17,22,17,28],[18,1,18,7],[18,22,18,28],[20,1,20,7],[20,15,20,21],[21,1,21,7],[22,8,22,14],[23,1,23,7],[23,29,23,35],[24,15,24,21],[24,50,24,56],[25,8,25,14],[25,22,25,28],[25,36,25,42],[30,15,30,21],[30,50,30,55],[31,8,31,14],[31,29,31,35],[32,15,32,21],[26,15,26,21],[27,8,27,14],[27,29,27,35],[28,15,28,21],[29,8,29,14],[29,22,29,28],[38,15,38,21],[38,36,38,42],[33,8,33,14],[33,22,33,28],[33,36,33,42],[34,15,34,21],[36,15,36,21],[36,36,36,42],[37,8,37,14],[37,22,37,28],[35,8,35,14],[35,29,35,35],[39,8,39,14],[39,43,39,49],[40,29,40,35],[41,36,41,42],[42,29,42,35],[43,22,43,28],[43,36,43,42],[44,29,44,35],[45,22,45,28],[62,29,62,35],[54,15,54,21],[55,29,55,35],[56,15,56,21],[57,22,57,28],[58,15,58,21],[58,29,58,35],[50,29,50,35],[51,36,51,42],[52,15,52,21],[52,29,52,35],[53,22,53,28],[53,36,53,42],[1,85,1,86],[1,75,1,76],[1,77,1,78],[1,79,1,80],[1,81,1,82],[1,83,1,84],[59,22,59,28],[60,29,60,35],[61,22,61,28],[37,43,37,49],[49,22,49,28],[49,36,49,42],[46,36,46,42],[47,22,47,28],[48,29,48,35],[34,43,34,49],[29,43,29,49],[18,57,18,63],[25,57,25,63]]}
[1,{"$f":"IF(Main!R2=2,Eleme!BL244,IF(Main!R2=3,Eleme!BL502,IF(Main!R2=4,Eleme!BL632,IF(Main!R2=5,Eleme!BL698,IF(Main!R2=6,Eleme!BL732)))))","v":false},null,null,null,null,null,null,null,null,null,null,null,null,null,null,null,null,null,null,null,null,null,null,{"$f":"Kura!AC1","v":"TÜRKİYE MASA TENİSİ FEDERASYONU\nGENÇLER TAKIM KUZEYDOĞU BÖLGE YARIŞMALARI"},null,null,null,null,null,null,null,null,null,null,null,null,null,null,null,null,null,null,null,null,null,null,null,null,null,null,null,null,null,null,null,null,null,null,null,null,null,null,null,null,null,null,null,null,null,null,null,null,null,null,null,null,null,null,null,null,null,null,null,null,null,null,null,null,null,null,null,null,null,null,null,null,null,null,null,null,null,null,"1st Round",1]
[null,null,null,{"$f":"CH3","v":0},{"$f":"CI3","v":0},"Y1",null,1,{"$f":"IF(AND(D2=0,E2=0),\"\",IF(D2>E2,B1,B3))","v":""},null,null,null,null,null,null,null,null,null,null,null,null,null,null,null,null,null,null,null,null,null,null,null,null,null,null,null,null,null,null,null,null,null,null,null,null,null,null,null,null,null,null,null,null,null,null,null,null,null,null,null,null,null,null,null,null,null,null,null,"#","Date","Time","Table","Competition","Player A","Player B","Set1",null,"Set2",null,"Set3",null,"Set4",null,"Set5",null,"Result",null,null,null,null,null,null,null,null,null,null,null,null,null,null,null,null,null,"2sn Round"]
[2,{"$f":"IF(Main!R2=2,Eleme!BM244,IF(Main!R2=3,Eleme!BM502,IF(Main!R2=4,Eleme!BM632,IF(Main!R2=5,Eleme!BM698,IF(Main!R2=6,Eleme!BM732)))))","v":false},null,null,null,null,null,null,null,null,null,null,null,null,9,null,null,null,null,null,null,null,null,null,null,null,null,null,null,null,null,null,null,null,null,null,null,null,null,null,null,null,null,null,null,null,null,null,null,null,null,null,null,null,null,null,null,null,null,null,null,null,null,null,null,null,null,null,1,null,null,null,null,{"$f":"B1","v":false},{"$f":"B3","v":false},null,null,null,null,null,null,null,null,null,null,null,null,null,null,null,null,null,null,null,null,null,null,null,null,null,null,null,null,"3th Round"]
[3,{"$f":"IF(Main!R2=2,Eleme!BL245,IF(Main!R2=3,Eleme!BL503,IF(Main!R2=4,Eleme!BL633,IF(Main!R2=5,Eleme!BL699,IF(Main!R2=6,Eleme!BL733)))))","v":false},null,null,null,null,null,null,null,null,{"$f":"CH11","v":0},{"$f":"CI11","v":0},"Y9",null,null,{"$f":"IF(AND(K4=0,L4=0),\"\",IF(K4>L4,I2,I5))","v":""},null,null,null,null,null,null,null,null,{"$f":"Kura!AC2&\" \"&Kura!AE3","v":"KIZ TAKIM  [15-16 Mart 2025 TRABZON] [ Ana Tablo ]"},null,null,null,null,null,null,null,null,null,null,null,null,null,null,null,null,null,null,null,null,null,null,null,null,null,null,null,null,null,null,null,null,null,null,null,null,null,null,null,null,null,null,null,2,null,null,null,null,{"$f":"B4","v":false},{"$f":"B6","v":false},null,null,null,null,null,null,null,null,null,null,null,null,null,null,null,null,null,null,null,null,null,null,null,null,null,null,null,null,"4th Round"]
[null,null,null,{"$f":"CH4","v":0},{"$f":"CI4","v":0},"Y2",null,2,{"$f":"IF(AND(D5=0,E5=0),\"\",IF(D5>E5,B4,B6))","v":""},null,null,null,null,null,null,null,null,null,null,null,null,17,null,null,null,null,null,null,null,null,null,null,null,null,null,null,null,null,null,null,null,null,null,null,null,null,null,null,null,null,null,null,null,null,null,null,null,null,null,null,null,null,null,null,null,null,null,null,3,null,null,null,null,{"$f":"B7","v":false},{"$f":"B9","v":false},null,null,null,null,null,null,null,null,null,null,null,null,null,null,null,null,null,null,null,null,null,null,null,null,null,null,null,null,"5th Round"]
[4,{"$f":"IF(Main!R2=2,Eleme!BM245,IF(Main!R2=3,Eleme!BM503,IF(Main!R2=4,Eleme!BM633,IF(Main!R2=5,Eleme!BM699,IF(Main!R2=6,Eleme!BM733)))))","v":false},null,null,null,null,null,null,null,null,null,null,null,null,null,null,null,null,null,null,null,null,null,null,null,null,null,null,null,null,null,null,null,null,null,null,null,null,null,null,null,null,null,null,null,null,null,null,null,null,null,null,null,null,null,null,null,null,null,null,null,null,null,null,null,null,null,null,4,null,null,null,null,{"$f":"B10","v":false},{"$f":"B12","v":false},null,null,null,null,null,null,null,null,null,null,null,null,null,null,null,null,null,null,null,null,null,null,null,null,null,null,null,null,"6th Round"]
[5,{"$f":"IF(Main!R2=2,Eleme!BL246,IF(Main!R2=3,Eleme!BL504,IF(Main!R2=4,Eleme!BL634,IF(Main!R2=5,Eleme!BL700,IF(Main!R2=6,Eleme!BL734)))))","v":false},null,null,null,null,null,null,null,null,null,null,null,null,null,null,null,{"$f":"CH19","v":0},{"$f":"CI19","v":0},"Y17",null,null,{"$f":"IF(AND(R7=0,S7=0),\"\",IF(R7>S7,P4,P9))","v":""},null,null,null,null,null,null,null,null,null,null,null,null,null,null,null,null,null,null,null,null,null,null,null,null,null,null,null,null,null,null,null,null,null,null,null,null,null,null,null,null,null,null,null,null,null,5,null,null,null,null,{"$f":"B13","v":false},{"$f":"B15","v":false},null,null,null,null,null,null,null,null,null,null,null,null,null,null,null,null,null,null,null,null,null,null,null,null,null,null,null,null,"7th Round"]
[null,null,null,{"$f":"CH5","v":0},{"$f":"CI5","v":0},"Y3",null,3,{"$f":"IF(AND(D8=0,E8=0),\"\",IF(D8>E8,B7,B9))","v":""},null,null,null,null,null,null,null,null,null,null,null,null,null,null,null,null,null,null,null,25,null,null,null,null,null,null,null,null,null,null,null,null,null,null,null,null,null,null,null,null,null,null,null,null,null,null,null,null,null,null,null,null,null,null,null,null,null,null,null,6,null,null,null,null,{"$f":"B16","v":false},{"$f":"B18","v":false},null,null,null,null,null,null,null,null,null,null,null,null,null,null,null,null,null,null,null,null,null,null,null,null,null,null,null,null,"8th Round"]
[6,{"$f":"IF(Main!R2=2,Eleme!BM246,IF(Main!R2=3,Eleme!BM504,IF(Main!R2=4,Eleme!BM634,IF(Main!R2=5,Eleme!BM700,IF(Main!R2=6,Eleme!BM734)))))","v":false},null,null,null,null,null,null,null,null,null,null,null,null,10,{"$f":"IF(AND(K10=0,L10=0),\"\",IF(K10>L10,I8,I11))","v":""},null,null,null,null,null,null,null,null,null,null,null,null,null,null,null,null,null,null,null,null,null,null,null,null,null,null,null,null,null,null,null,null,null,null,null,null,null,null,null,null,null,null,null,null,null,null,null,null,null,null,null,null,7,null,null,null,null,{"$f":"B19","v":false},{"$f":"B21","v":false}]
[7,{"$f":"IF(Main!R2=2,Eleme!BL247,IF(Main!R2=3,Eleme!BL505,IF(Main!R2=4,Eleme!BL635,IF(Main!R2=5,Eleme!BL701,IF(Main!R2=6,Eleme!BL735)))))","v":false},null,null,null,null,null,null,null,null,{"$f":"CH12","v":0},{"$f":"CI12","v":0},"Y10",null,null,null,null,null,null,null,null,null,null,null,null,null,null,null,null,null,null,null,null,null,null,null,null,null,null,null,null,null,null,null,null,null,null,null,null,null,null,null,null,null,null,null,null,null,null,null,null,null,null,null,null,null,null,null,8,null,null,null,null,{"$f":"B22","v":false},{"$f":"B24","v":false}]
[null,null,null,{"$f":"CH6","v":0},{"$f":"CI6","v":0},"Y4",null,4,{"$f":"IF(AND(D11=0,E11=0),\"\",IF(D11>E11,B10,B12))","v":""},null,null,null,null,null,null,null,null,null,null,null,null,null,null,null,null,null,null,null,null,null,null,null,null,null,null,null,null,null,null,null,null,null,null,null,null,null,null,null,null,null,null,null,null,null,null,null,null,null,null,null,null,null,null,null,null,null,null,null,9,null,null,null,null,{"$f":"I2","v":""},{"$f":"I5","v":""}]
[8,{"$f":"IF(Main!R2=2,Eleme!BM247,IF(Main!R2=3,Eleme!BM505,IF(Main!R2=4,Eleme!BM635,IF(Main!R2=5,Eleme!BM701,IF(Main!R2=6,Eleme!BM735)))))","v":false},null,null,null,null,null,null,null,null,null,null,null,null,null,null,null,null,null,null,null,null,null,null,null,null,null,null,null,null,null,null,null,null,null,null,null,null,null,null,null,null,null,null,null,null,null,null,null,null,null,null,null,null,null,null,null,null,null,null,null,null,null,null,null,null,null,null,10,null,null,null,null,{"$f":"I8","v":""},{"$f":"I11","v":""}]
[9,{"$f":"IF(Main!R2=2,Eleme!BL248,IF(Main!R2=3,Eleme!BL506,IF(Main!R2=4,Eleme!BL636,IF(Main!R2=5,Eleme!BL702,IF(Main!R2=6,Eleme!BL736)))))","v":false},null,null,null,null,null,null,null,null,null,null,null,null,null,null,null,null,null,null,null,null,null,null,{"$f":"CH27","v":0},{"$f":"+CI27","v":0},"Y25",null,null,null,null,null,null,null,null,null,null,null,null,null,null,null,null,null,null,null,null,null,null,null,{"$f":"IF(AND(Y13=0,Z13=0),\"\",IF(Y13>Z13,W7,W18))","v":""},null,null,null,null,null,null,null,null,null,null,null,null,null,null,null,null,null,11,null,null,null,null,{"$f":"I14","v":""},{"$f":"I17","v":""}]
[null,null,null,{"$f":"CH7","v":0},{"$f":"CI7","v":0},"Y5",null,5,{"$f":"IF(AND(D14=0,E14=0),\"\",IF(D14>E14,B13,B15))","v":""},null,null,null,null,null,null,null,null,null,null,null,null,null,null,null,null,null,null,null,null,null,null,null,null,null,null,null,null,null,null,null,null,null,null,null,null,null,null,null,null,null,null,null,null,null,null,null,40,null,null,null,null,null,null,null,null,null,null,null,12,null,null,null,null,{"$f":"I20","v":""},{"$f":"I23","v":""}]
[10,{"$f":"IF(Main!R2=2,Eleme!BM248,IF(Main!R2=3,Eleme!BM506,IF(Main!R2=4,Eleme!BM636,IF(Main!R2=5,Eleme!BM702,IF(Main!R2=6,Eleme!BM736)))))","v":false},null,null,null,null,null,null,null,null,null,null,null,null,11,null,null,null,null,null,null,null,null,null,null,null,null,null,null,null,null,null,null,null,null,null,null,null,null,null,null,null,null,null,null,null,null,null,null,null,null,null,null,null,null,null,null,null,null,null,null,null,null,null,null,null,null,null,13,null,null,null,null,{"$f":"I26","v":""},{"$f":"I28","v":""}]
[11,{"$f":"IF(Main!R2=2,Eleme!BL249,IF(Main!R2=3,Eleme!BL507,IF(Main!R2=4,Eleme!BL637,IF(Main!R2=5,Eleme!BL703,IF(Main!R2=6,Eleme!BL737)))))","v":false},null,null,null,null,null,null,null,null,{"$f":"CH13","v":0},{"$f":"CI13","v":0},"Y11",null,null,{"$f":"IF(AND(K16=0,L16=0),\"\",IF(K16>L16,I14,I17))","v":""},null,null,null,null,null,null,null,null,null,null,null,null,null,null,null,null,null,null,null,null,null,null,null,null,null,null,null,null,null,null,null,null,null,null,null,null,null,null,null,null,null,null,null,null,null,null,null,null,null,null,null,null,14,null,null,null,null,{"$f":"I30","v":""},{"$f":"I32","v":""}]
[null,null,null,{"$f":"CH8","v":0},{"$f":"CI8","v":0},"Y6",null,6,{"$f":"IF(AND(D17=0,E17=0),\"\",IF(D17>E17,B16,B18))","v":""},null,null,null,null,null,null,null,null,null,null,null,null,18,null,null,null,null,null,null,null,null,null,null,null,null,null,null,null,null,null,null,null,null,null,null,null,null,null,null,null,null,null,null,null,null,null,null,null,null,null,null,null,null,null,null,null,null,null,null,15,null,null,null,null,{"$f":"I34","v":""},{"$f":"I36","v":""}]
[12,{"$f":"IF(Main!R2=2,Eleme!BM249,IF(Main!R2=3,Eleme!BM507,IF(Main!R2=4,Eleme!BM637,IF(Main!R2=5,Eleme!BM703,IF(Main!R2=6,Eleme!BM737)))))","v":false},null,null,null,null,null,null,null,null,null,null,null,null,null,null,null,null,null,null,null,null,{"$f":"IF(AND(R19=0,S19=0),\"\",IF(R19>S19,P16,P21))","v":""},null,null,null,null,null,null,null,null,null,null,null,null,null,null,null,null,null,null,null,null,null,null,null,null,null,null,null,null,null,null,null,null,null,null,null,null,null,null,null,null,null,null,null,null,null,16,null,null,null,null,{"$f":"I38","v":""},{"$f":"I40","v":""}]
[13,{"$f":"IF(Main!R2=2,Eleme!BL250,IF(Main!R2=3,Eleme!BL508,IF(Main!R2=4,Eleme!BL638,IF(Main!R2=5,Eleme!BL704,IF(Main!R2=6,Eleme!BL738)))))","v":false},null,null,null,null,null,null,null,null,null,null,null,null,null,null,null,{"$f":"CH20","v":0},{"$f":"CI20","v":0},"Y18",null,null,null,null,null,null,null,null,null,null,null,null,null,null,null,null,null,null,null,null,null,null,null,null,null,null,null,null,null,null,null,null,{"$f":"CH42","v":0},{"$f":"CI42","v":0},"Y40",null,null,{"$f":"IF(AND(BA19=0,BB19=0),\"\",IF(BA19>BB19,AY13,AY25))","v":""},null,null,null,null,null,null,"1.",null,null,null,17,null,null,null,null,{"$f":"P4","v":""},{"$f":"P9","v":""}]
[null,null,null,{"$f":"CH9","v":0},{"$f":"CI9","v":0},"Y7",null,7,{"$f":"IF(AND(D20=0,E20=0),\"\",IF(D20>E20,B19,B21))","v":""},null,null,null,null,null,null,null,null,null,null,null,null,null,null,null,null,null,null,null,null,null,null,null,null,null,null,null,null,null,null,null,null,null,"Y25",{"$f":"IF(AND(Y13=0,Z13=0),\"\",IF(Y13<Z13,W7,W18))","v":""},null,null,null,null,null,null,null,null,null,null,null,null,null,null,null,null,null,null,null,null,null,null,null,null,18,null,null,null,null,{"$f":"P16","v":""},{"$f":"P21","v":""}]
[14,{"$f":"IF(Main!R2=2,Eleme!BM250,IF(Main!R2=3,Eleme!BM508,IF(Main!R2=4,Eleme!BM638,IF(Main!R2=5,Eleme!BM704,IF(Main!R2=6,Eleme!BM738)))))","v":false},null,null,null,null,null,null,null,null,null,null,null,null,12,{"$f":"IF(AND(K22=0,L22=0),\"\",IF(K22>L22,I20,I23))","v":""},null,null,null,null,null,null,null,null,null,null,null,null,null,null,null,null,null,null,null,null,null,null,null,null,null,null,null,null,null,null,null,null,null,39,null,null,null,null,null,null,null,null,null,null,null,null,null,null,null,null,null,null,19,null,null,null,null,{"$f":"P25","v":""},{"$f":"P27","v":""}]
[15,{"$f":"IF(Main!R2=2,Eleme!BL251,IF(Main!R2=3,Eleme!BL509,IF(Main!R2=4,Eleme!BL639,IF(Main!R2=5,Eleme!BL705,IF(Main!R2=6,Eleme!BL739)))))","v":false},null,null,null,null,null,null,null,null,{"$f":"CH14","v":0},{"$f":"CI14","v":0},"Y12",null,null,null,null,null,null,null,null,null,null,null,null,null,null,null,null,null,null,null,null,null,null,null,null,null,null,null,null,null,null,null,null,null,null,null,null,null,null,null,null,null,null,null,null,null,null,null,null,null,null,null,null,null,null,null,20,null,null,null,null,{"$f":"P29","v":""},{"$f":"P31","v":""}]
[null,null,null,{"$f":"CH10","v":0},{"$f":"CI10","v":0},"Y8",null,8,{"$f":"IF(AND(D23=0,E23=0),\"\",IF(D23>E23,B22,B24))","v":""},null,null,null,null,null,null,null,null,null,null,null,null,null,null,null,null,null,null,null,null,null,null,null,null,null,null,null,null,null,null,null,null,null,null,null,null,null,null,null,null,null,null,null,null,null,null,null,null,null,null,null,null,null,null,null,null,null,null,null,21,null,null,null,null,{"$f":"P33","v":""},{"$f":"P35","v":""}]
[16,{"$f":"IF(Main!R2=2,Eleme!BM251,IF(Main!R2=3,Eleme!BM509,IF(Main!R2=4,Eleme!BM639,IF(Main!R2=5,Eleme!BM705,IF(Main!R2=6,Eleme!BM739)))))","v":false},null,null,null,null,null,null,null,null,null,null,null,null,null,null,null,null,null,null,null,null,null,null,null,null,null,null,"Y17",{"$f":"IF(AND(R7=0,S7=0),\"\",IF(R7<S7,P4,P9))","v":""},null,null,null,null,null,null,null,null,null,null,null,null,null,null,null,null,null,null,null,null,null,null,null,null,null,null,null,null,null,null,null,null,null,null,null,null,null,null,22,null,null,null,null,{"$f":"P37","v":""},{"$f":"P39","v":""}]
[null,null,null,null,null,null,null,null,null,null,null,null,null,null,"Y12",{"$f":"IF(AND(K22=0,L22=0),\"\",IF(K22<L22,I20,I23))","v":""},null,null,null,null,null,null,null,null,null,null,null,null,null,null,null,null,null,null,null,32,null,null,null,null,null,null,null,null,null,{"$f":"CH41","v":0},{"$f":"+CI41","v":0},"Y39",null,null,{"$f":"IF(AND(AT25=0,AU25=0),\"\",IF(AT25>AU25,AR20,AR30))","v":""},null,null,null,null,null,null,null,null,null,null,null,null,null,null,null,null,null,23,null,null,null,null,{"$f":"P53","v":""},{"$f":"P55","v":""},null,null,null,null,null,null,null,null,null,null,null,null,null,null,null,null,null,null,null,null,null,null,null,null,null,null,null,null,null,null,null,null,null,null,null,null,null,null,null,null,null,null,null,null,null,null,null,null,null,null,null,null,null,null,null,null,null,null,null,null,null,null,null,null,null,null,null,null,null,null,null,null,null,null,null,null,null,null,null,null,null,null,null,null,null,null,null,null,null,null,null,null,null,null,null,null,null,null,null,null,null,null,null,null,null,null,null,null,null,null,null,null,null,null,null,null,null,null,null,null,null,null,null,null,null,null,null,null,null,null,null,null,null,null,null,null,null,null,null,null,null,null,null,null,null,null,null,null,null,null,null,null,null,null,null,null,null,null,null,null,null,null,null,null,null,null,null,null,null,null,null,null,null,null,null,null,null,null,null,null,null,null,null,null,null,null,null,null,null,null,null,null,null,null,null,null,null,null,null,null,null,null,null,null,null,null,null,null,null,null,null,null,null,null,null,null,null,null,null,null,null,null,null,null,null,null,null,null,null,null,null,null,null,null,null,null,null,null,null,null,null,null,null,null,null,null,null,null,null,null,null,null,null,null,null,null,null,null,null,null,null,null,null,null,null,null,null,null,null,null,null,null,null,null,null,null,null,null,null,null,null,null,null,null,null,null,null,null,null,null,null,null,null,null,null,null,null,null,null,null,null,null,null,null,null,null,null,null,null,null,null,null,null,null,null,null,null,null,null,null,null,null,null,null,null,null,null,null,null,null,null,null,null,null,null,null,null,null,null,null,null,null,null,null,null,null,null,null,null,null,null,null,null,null,null,null,null,null,null,null,null,null,null,null,null,null,null,null,null,null,null,null,null,null,null,null,null,null,null,null,null,null,null,null,null,null,null,null,null,null,null,null,null,null,null,null,null,null,null,null,null,null,null,null,null,null,null,null,null,null,null,null,null,null,null,null,null,null,null,null,null,null,null,null,null,null,null,null,null,null,null,null,null,null,null,null,null,null,null,null,null,null,null,null,null,null,null,null,null,null,null,null,null,null,null,null,null,null,null,null,null,null,null,null,null,null,null,null,null,null,null,null,null,null,null,null,null,null,null,null,null,null,null,null,null,null,null,null,null,null,null,null,null,null,null,null,null,null,null,null,null,null,null,null,null,null,null,null,null,null,null,null,null,null,null,null,null,null,null,null,null,null,null,null,null,null,null,null,null,null,null,null,null,null,null,null,null,null,null,null,null,null,null,null,null,null,null,null,null,null,null,null,null,null,null,null,null,null,null,null,null,null,null,null,null,null,null,null,null,null,null,null,null,null,null,null,null,null,null,null,null,null,null,null,null,null,null,null,null,null,null,null,null,null,null,null,null,null,null,null,null,null,null,null,null,null,null,null,null,null,null,null,null,null,null,null,null,null,null,null,null,null,null,null,null,null,null,null,null,null,null,null,null,null,null,null,null,null,null,null,null,null,null,null,null,null,null,null,null,null,null,null,null,null,null,null,null,null,null,null,null,null,null,null,null,null,null,null,null,null,null,null,null,null,null,null,null,null,null,null,null,null,null,null,null,null,null,null,null,null,null,null,null,null,null,null,null,null,null,null,null,null,null,null,null,null,null,null,null,null,null,null,null,null,null,null,null,null,null,null,null,null,null,null,null,null,null,null,null,null,null,null,null,null,null,null,null,null,null,null,null,null,null,null,null,null,null,null,null,null,null,null,null,null,null,null,null,null,null,null,null,null,null,null,null,null,null,null,null,null,null,null,null,null,null,null,null,null,null,null,null,null,null,null,null,null,null,null,null,null,null,null,null,null,null,null,null,null,null,null,null,null,null,null,null,null,null,null,null,null,null,null,null,null,null,null,null,null,null,null,null,null,null,null,null,null,null,null,null,null,null,null,null,null,null,null,null,null,null,null,null,null,null,null,null,null,null,null,null,null,null,null,null,null,null,null,null,null,null,null,null,null,null,null,null,null,null,null,null,null,null,null,null,null,null,null,null,null,null,null,null,null,null,null,null,null,null,null,null,null,null,null,null,null,null,null,null,null,null,null,null,null,null,null,null,null,null,null,null,null,null,null,null,null,null,null,null,null,null,null,null,null,null,null,null,null,null,null,null,null,null,null,null,null,null,null,null,null,null,null,null,null,null,null,null,null,null,null,null,null,null,null,null,null,null,null,null,null,null,null,null,null,null,null,null,null,null,null,null,null,null,null,null,null,null,null,null,null,null,null,null,null,null,null,null,null,null,null,null,null,null,null,null,null,null,null,null,null,null,null,null,null,null,null,null,null,null,null,null,null,null,null,null,null,null,null,null,null,null,null,null,null,null,null,null,null,null,null,null,null,null,null,null,null,null,null,null,null,null,null,null,null,null,null,null,null,null,null,null,null,null,null,null,null,null,null,null,null,null,null,null,null,null,null,null,null,null,null,null,null,null,null,null,null,null,null,null,null,null,null,null,null,null,null,null,null,null,null,null,null,null,null,null,null,null,null,null,null,null,null,null,null,null,null,null,null,null,null,null,null,null,null,null,null,null,null,null,null,null,null,null,null,null,null,null,null,null,null,null,null,null,null,null,null,null,null,null,null,null,null,null,0]
[null,null,null,null,null,null,null,"Y1",{"$f":"IF(AND(D2=0,E2=0),\"\",IF(D2<E2,B1,B3))","v":""},null,null,null,null,null,null,null,null,{"$f":"CH21","v":0},{"$f":"CI21","v":0},"Y19",null,19,{"$f":"IF(AND(R26=0,S26=0),\"\",IF(R26>S26,P25,P27))","v":""},null,null,null,null,null,null,null,null,{"$f":"CH34","v":0},{"$f":"+CI34","v":0},"Y32",null,null,{"$f":"IF(AND(AF26=0,AG26=0),\"\",IF(AF26>AG26,AD24,AD28))","v":""},null,null,null,null,null,null,null,null,null,null,null,null,null,null,null,null,null,null,null,"Y40",{"$f":"IF(AND(BA19=0,BB19=0),\"\",IF(BA19<BB19,AY13,AY25))","v":""},null,null,null,null,null,null,"2.",null,null,null,24,null,null,null,null,{"$f":"P57","v":""},{"$f":"P59","v":""}]
[null,null,null,null,null,null,null,null,null,null,{"$f":"CH15","v":0},{"$f":"CI15","v":0},"Y13",null,13,{"$f":"IF(AND(K27=0,L27=0),\"\",IF(K27>L27,I26,I28))","v":""},null,null,null,null,null,null,null,null,null,null,null,null,26,null,null,null,null,null,null,null,null,null,null,null,null,null,37,null,null,null,null,null,null,null,null,null,null,null,null,null,null,null,null,null,null,null,null,null,null,null,null,null,25,null,null,null,null,{"$f":"W7","v":""},{"$f":"W18","v":""}]
[null,null,null,null,null,null,null,"Y2",{"$f":"IF(AND(D5=0,E5=0),\"\",IF(D5<E5,B4,B6))","v":""},null,null,null,null,null,null,null,null,null,null,null,null,null,null,null,{"$f":"CH28","v":0},{"$f":"+CI28","v":0},"Y26",null,null,{"$f":"IF(AND(Y28=0,Z28=0),\"\",IF(Y28>Z28,W26,W30))","v":""},null,null,null,null,null,null,null,null,null,null,null,null,null,null,null,null,null,null,null,null,null,null,null,null,null,null,null,null,null,null,null,null,null,null,null,null,null,null,26,null,null,null,null,{"$f":"W26","v":""},{"$f":"W30","v":""}]
[null,null,null,null,null,null,null,null,null,null,null,null,null,null,"Y11",{"$f":"IF(AND(K16=0,L16=0),\"\",IF(K16<L16,I14,I17))","v":""},null,null,null,null,null,null,null,null,null,null,null,null,null,null,null,null,null,null,null,null,null,null,null,null,null,null,null,null,null,null,null,null,null,null,null,null,null,null,null,null,null,null,null,null,null,null,null,null,null,null,null,null,27,null,null,null,null,{"$f":"W34","v":""},{"$f":"W38","v":""}]
[null,null,null,null,null,null,null,"Y3",{"$f":"IF(AND(D8=0,E8=0),\"\",IF(D8<E8,B7,B9))","v":""},null,null,null,null,null,null,null,null,{"$f":"CH22","v":0},{"$f":"CI22","v":0},"Y20",null,20,{"$f":"IF(AND(R30=0,S30=0),\"\",IF(R30>S30,P29,P31))","v":""},null,null,null,null,null,null,null,null,null,null,null,null,null,null,null,{"$f":"CH39","v":0},{"$f":"+CI39","v":0},"Y37",null,null,{"$f":"IF(AND(AM30=0,AN30=0),\"\",IF(AM30>AN30,AK26,AK34))","v":""},null,null,null,null,null,null,null,null,null,null,null,null,null,null,null,null,null,null,null,null,null,null,null,null,28,null,null,null,null,{"$f":"W44","v":""},{"$f":"W46","v":""}]
[null,null,null,null,null,null,null,null,null,null,{"$f":"CH16","v":0},{"$f":"CI16","v":0},"Y14",null,14,{"$f":"IF(AND(K31=0,L31=0),\"\",IF(K31>L31,I30,I32))","v":""},null,null,null,null,null,null,null,null,null,null,null,null,null,null,null,null,null,null,null,null,null,null,null,null,null,null,null,null,null,null,null,null,null,"Y39",{"$f":"IF(AND(AT25=0,AU25=0),\"\",IF(AT25<AU25,AR20,AR30))","v":""},null,null,null,null,null,"3.",null,null,null,null,null,null,null,null,null,null,null,29,null,null,null,null,{"$f":"W48","v":""},{"$f":"W50","v":""}]
[null,null,null,null,null,null,null,"Y4",{"$f":"IF(AND(D11=0,E11=0),\"\",IF(D11<E11,B10,B12))","v":""},null,null,null,null,null,null,null,null,null,null,null,null,null,null,null,null,null,null,null,"Y18",{"$f":"IF(AND(R19=0,S19=0),\"\",IF(R19<S19,P16,P21))","v":""},null,null,null,null,null,null,null,null,null,null,null,null,null,null,null,null,null,null,null,null,null,null,null,null,null,null,null,null,null,null,null,null,null,null,null,null,null,null,30,null,null,null,null,{"$f":"W54","v":""},{"$f":"W58","v":""}]
[null,null,null,null,null,null,null,null,null,null,null,null,null,null,"Y10",{"$f":"IF(AND(K10=0,L10=0),\"\",IF(K10<L10,I8,I11))","v":""},null,null,null,null,null,null,null,null,null,null,null,null,null,null,null,null,null,null,null,33,null,null,null,null,null,null,null,null,null,null,null,null,null,null,null,null,null,null,null,null,null,null,null,null,null,null,null,null,null,null,null,null,31,null,null,null,null,{"$f":"W60","v":""},{"$f":"W62","v":""}]
[null,null,null,null,null,null,null,"Y5",{"$f":"IF(AND(D14=0,E14=0),\"\",IF(D14<E14,B13,B15))","v":""},null,null,null,null,null,null,null,null,{"$f":"CH23","v":0},{"$f":"CI23","v":0},"Y21",null,21,{"$f":"IF(AND(R34=0,S34=0),\"\",IF(R34>S34,P33,P35))","v":""},null,null,null,null,null,null,null,null,{"$f":"CH35","v":0},{"$f":"+CI35","v":0},"Y33",null,null,{"$f":"IF(AND(AF34=0,AG34=0),\"\",IF(AF34>AG34,AD32,AD36))","v":""},null,null,null,null,null,null,null,null,null,null,null,null,null,null,null,null,null,null,null,null,null,null,null,null,null,null,null,null,null,null,null,32,null,null,null,null,{"$f":"AD24","v":""},{"$f":"AD28","v":""}]
[null,null,null,null,null,null,null,null,null,null,{"$f":"CH17","v":0},{"$f":"CI17","v":0},"Y15",null,15,{"$f":"IF(AND(K35=0,L35=0),\"\",IF(K35>L35,I34,I36))","v":""},null,null,null,null,null,null,null,null,null,null,null,null,27,null,null,null,null,null,null,null,null,null,null,null,null,null,"Y37",{"$f":"IF(AND(AM30=0,AN30=0),\"\",IF(AM30<AN30,AK26,AK34))","v":""},null,null,null,null,null,null,"4.",null,null,null,null,null,null,null,null,null,null,null,null,null,null,null,null,null,33,null,null,null,null,{"$f":"AD32","v":""},{"$f":"AD36","v":""}]
[null,null,null,null,null,null,null,"Y6",{"$f":"IF(AND(D17=0,E17=0),\"\",IF(D17<E17,B16,B18))","v":""},null,null,null,null,null,null,null,null,null,null,null,null,null,null,null,{"$f":"CH29","v":0},{"$f":"+CI29","v":0},"Y27",null,null,{"$f":"IF(AND(Y36=0,Z36=0),\"\",IF(Y36>Z36,W34,W38))","v":""},null,null,null,null,null,null,null,null,null,null,null,null,null,null,null,null,null,null,null,null,null,null,null,null,null,null,null,null,null,null,null,null,null,null,null,null,null,null,34,null,null,null,null,{"$f":"AD41","v":""},{"$f":"AD43","v":""}]
[null,null,null,null,null,null,null,null,null,null,null,null,null,null,"Y9",{"$f":"IF(AND(K4=0,L4=0),\"\",IF(K4<L4,I2,I5))","v":""},null,null,null,null,null,null,null,null,null,null,null,null,null,null,null,null,null,null,null,"Y32",{"$f":"IF(AND(AF26=0,AG26=0),\"\",IF(AF26<AG26,AD24,AD28))","v":""},null,null,null,null,null,null,null,null,null,null,null,null,null,null,null,null,null,null,null,null,null,null,null,null,null,null,null,null,null,null,null,35,null,null,null,null,{"$f":"AD45","v":""},{"$f":"AD49","v":""}]
[null,null,null,null,null,null,null,"Y7",{"$f":"IF(AND(D20=0,E20=0),\"\",IF(D20<E20,B19,B21))","v":""},null,null,null,null,null,null,null,null,{"$f":"CH24","v":0},{"$f":"CI24","v":0},"Y22",null,22,{"$f":"IF(AND(R38=0,S38=0),\"\",IF(R38>S38,P37,P39))","v":""},null,null,null,null,null,null,null,null,null,null,null,null,null,null,null,{"$f":"CH40","v":0},{"$f":"+CI40","v":0},"Y38",null,38,{"$f":"IF(AND(AM38=0,AN38=0),\"\",IF(AM38>AN38,AK37,AK39))","v":""},null,null,null,null,null,null,"5.",null,null,null,null,null,null,null,null,null,null,null,null,null,null,null,null,null,36,null,null,null,null,{"$f":"AD51","v":""},{"$f":"AD53","v":""}]
[null,null,null,null,null,null,null,null,null,null,{"$f":"CH18","v":0},{"$f":"CI18","v":0},"Y16",null,16,{"$f":"IF(AND(K39=0,L39=0),\"\",IF(K39>L39,I38,I40))","v":""},null,null,null,null,null,null,null,null,null,null,null,null,null,null,null,null,null,null,null,"Y33",{"$f":"IF(AND(AF34=0,AG34=0),\"\",IF(AF34<AG34,AD32,AD36))","v":""},null,null,null,null,null,null,null,null,null,null,null,null,null,null,null,null,null,null,null,null,null,null,null,null,null,null,null,null,null,null,null,37,null,null,null,null,{"$f":"AK26","v":""},{"$f":"AK34","v":""}]
[null,null,null,null,null,null,null,"Y8",{"$f":"IF(AND(D23=0,E23=0),\"\",IF(D23<E23,B22,B24))","v":""},null,null,null,null,null,null,null,null,null,null,null,null,null,null,null,null,null,null,null,null,null,null,null,null,null,null,null,null,null,null,null,null,null,"Y38",{"$f":"IF(AND(AM38=0,AN38=0),\"\",IF(AM38<AN38,AK37,AK39))","v":""},null,null,null,null,null,null,"6.",null,null,null,null,null,null,null,null,null,null,null,null,null,null,null,null,null,38,null,null,null,null,{"$f":"AK37","v":""},{"$f":"AK39","v":""}]
[null,null,null,null,null,null,null,null,null,null,null,null,null,null,null,null,null,null,null,null,null,null,null,null,null,null,null,null,"Y26",{"$f":"IF(AND(Y28=0,Z28=0),\"\",IF(Y28<Z28,W26,W30))","v":""},null,null,null,null,null,null,null,null,null,null,null,null,null,null,null,null,null,null,null,null,null,null,null,null,null,null,null,null,null,null,null,null,null,null,null,null,null,null,39,null,null,null,null,{"$f":"AR20","v":""},{"$f":"AR30","v":""}]
[null,null,null,null,null,null,null,null,null,null,null,null,null,null,null,null,null,null,null,null,null,null,null,null,null,null,null,null,null,null,null,{"$f":"CH36","v":0},{"$f":"+CI36","v":0},"Y34",null,34,{"$f":"IF(AND(AF42=0,AG42=0),\"\",IF(AF42>AG42,AD41,AD43))","v":""},null,null,null,null,null,null,"7.",null,null,null,null,null,null,null,null,null,null,null,null,null,null,null,null,null,null,null,null,null,null,null,null,40,null,null,null,null,{"$f":"AY13","v":""},{"$f":"AY25","v":""}]
[null,null,null,null,null,null,null,null,null,null,null,null,null,null,null,null,null,null,null,null,null,null,null,null,null,null,null,null,"Y27",{"$f":"IF(AND(Y36=0,Z36=0),\"\",IF(Y36<Z36,W34,W38))","v":""}]
[null,null,null,null,null,null,null,null,null,null,null,null,null,null,null,null,null,null,null,null,null,"Y19",{"$f":"IF(AND(R26=0,S26=0),\"\",IF(R26<S26,P25,P27))","v":""},null,null,null,null,null,null,null,null,null,null,null,null,"Y34",{"$f":"IF(AND(AF42=0,AG42=0),\"\",IF(AF42<AG42,AD41,AD43))","v":""},null,null,null,null,null,null,"8."]
[null,null,null,null,null,null,null,null,null,null,null,null,null,null,null,null,null,null,null,null,null,null,null,null,{"$f":"CH30","v":0},{"$f":"+CI30","v":0},"Y28",null,28,{"$f":"IF(AND(Y45=0,Z45=0),\"\",IF(Y45>Z45,W44,W46))","v":""}]
[null,null,null,null,null,null,null,null,null,null,null,null,null,null,null,null,null,null,null,null,null,"Y20",{"$f":"IF(AND(R30=0,S30=0),\"\",IF(R30<S30,P29,P31))","v":""},null,null,null,null,null,null,null,null,null,null,null,null,35]
[null,null,null,null,null,null,null,null,null,null,null,null,null,null,null,null,null,null,null,null,null,null,null,null,null,null,null,null,null,null,null,{"$f":"CH37","v":0},{"$f":"+CI37","v":0},"Y35",null,null,{"$f":"IF(AND(AF47=0,AG47=0),\"\",IF(AF47>AG47,AD45,AD49))","v":""},null,null,null,null,null,null,"9."]
[null,null,null,null,null,null,null,null,null,null,null,null,null,null,null,null,null,null,null,null,null,"Y21",{"$f":"IF(AND(R34=0,S34=0),\"\",IF(R34<S34,P33,P35))","v":""}]
[null,null,null,null,null,null,null,null,null,null,null,null,null,null,null,null,null,null,null,null,null,null,null,null,{"$f":"CH31","v":0},{"$f":"+CI31","v":0},"Y29",null,29,{"$f":"IF(AND(Y49=0,Z49=0),\"\",IF(Y49>Z49,W48,W50))","v":""}]
[null,null,null,null,null,null,null,null,null,null,null,null,null,null,null,null,null,null,null,null,null,"Y22",{"$f":"IF(AND(R38=0,S38=0),\"\",IF(R38<S38,P37,P39))","v":""},null,null,null,null,null,null,null,null,null,null,null,null,"Y35",{"$f":"IF(AND(AF47=0,AG47=0),\"\",IF(AF47<AG47,AD45,AD49))","v":""},null,null,null,null,null,null,"10."]
[null,null,null,null,null,null,null,null,null,null,null,null,null,null,null,null,null,null,null,null,null,null,null,null,null,null,null,null,"Y28",{"$f":"IF(AND(Y45=0,Z45=0),\"\",IF(Y45<Z45,W44,W46))","v":""}]
[null,null,null,null,null,null,null,null,null,null,null,null,null,null,null,null,null,null,null,null,null,null,null,null,null,null,null,null,null,null,null,{"$f":"CH38","v":0},{"$f":"+CI38","v":0},"Y36",null,36,{"$f":"IF(AND(AF52=0,AG52=0),\"\",IF(AF52>AG52,AD51,AD53))","v":""},null,null,null,null,null,null,"11."]
[null,null,null,null,null,null,null,null,null,null,null,null,null,null,"Y13",{"$f":"IF(AND(K27=0,L27=0),\"\",IF(K27<L27,I26,I28))","v":""},null,null,null,null,null,null,null,null,null,null,null,null,"Y29",{"$f":"IF(AND(Y49=0,Z49=0),\"\",IF(Y49<Z49,W48,W50))","v":""}]
[null,null,null,null,null,null,null,null,null,null,null,null,null,null,null,null,null,{"$f":"CH25","v":0},{"$f":"CI25","v":0},"Y23",null,23,{"$f":"IF(AND(R54=0,S54=0),\"\",IF(R54>S54,P53,P55))","v":""},null,null,null,null,null,null,null,null,null,null,null,null,"Y36",{"$f":"IF(AND(AF52=0,AG52=0),\"\",IF(AF52<AG52,AD51,AD53))","v":""},null,null,null,null,null,null,"12."]
[null,null,null,null,null,null,null,null,null,null,null,null,null,null,"Y14",{"$f":"IF(AND(K31=0,L31=0),\"\",IF(K31<L31,I30,I32))","v":""},null,null,null,null,null,null,null,null,null,null,null,null,30]
[null,null,null,null,null,null,null,null,null,null,null,null,null,null,null,null,null,null,null,null,null,null,null,null,{"$f":"CH32","v":0},{"$f":"+CI32","v":0},"Y30",null,null,{"$f":"IF(AND(Y56=0,Z56=0),\"\",IF(Y56>Z56,W54,W58))","v":""},null,null,null,null,null,null,"13."]
[null,null,null,null,null,null,null,null,null,null,null,null,null,null,"Y15",{"$f":"IF(AND(K35=0,L35=0),\"\",IF(K35<L35,I34,I36))","v":""}]
[null,null,null,null,null,null,null,null,null,null,null,null,null,null,null,null,null,{"$f":"CH26","v":0},{"$f":"CI26","v":0},"Y24",null,24,{"$f":"IF(AND(R58=0,S58=0),\"\",IF(R58>S58,P57,P59))","v":""}]
[null,null,null,null,null,null,null,null,null,null,null,null,null,null,"Y16",{"$f":"IF(AND(K39=0,L39=0),\"\",IF(K39<L39,I38,I40))","v":""},null,null,null,null,null,null,null,null,null,null,null,null,"Y30",{"$f":"IF(AND(Y56=0,Z56=0),\"\",IF(Y56<Z56,W54,W58))","v":""},null,null,null,null,null,null,"14."]
[null,null,null,null,null,null,null,null,null,null,null,null,null,null,null,null,null,null,null,null,null,"Y23",{"$f":"IF(AND(R54=0,S54=0),\"\",IF(R54<S54,P53,P55))","v":""}]
[null,null,null,null,null,null,null,null,null,null,null,null,null,null,null,null,null,null,null,null,null,null,null,null,{"$f":"CH33","v":0},{"$f":"+CI33","v":0},"Y31",null,31,{"$f":"IF(AND(Y61=0,Z61=0),\"\",IF(Y61>Z61,W60,W62))","v":""},null,null,null,null,null,null,"15."]
[null,null,null,null,null,null,null,null,null,null,null,null,null,null,null,null,null,null,null,null,null,"Y24",{"$f":"IF(AND(R58=0,S58=0),\"\",IF(R58<S58,P57,P59))","v":""}]
[null,null,null,null,null,null,null,null,null,null,null,null,null,null,null,null,null,null,null,null,null,null,null,null,null,null,null,null,"Y31",{"$f":"IF(AND(Y61=0,Z61=0),\"\",IF(Y61<Z61,W60,W62))","v":""},null,null,null,null,null,null,"16."]

{"sheet":"16(8DE)","index":11,"n_rows":41,"n_cols":105,"rows_kept":41,"cut":false,"hidden":true,"merged":[[32,15,32,21],[37,22,37,28],[39,22,39,28],[28,22,28,28],[40,29,40,35],[35,36,35,42],[38,29,38,35],[31,22,31,28],[20,1,20,7],[20,15,20,21],[21,1,21,7],[22,8,22,14],[27,36,27,42],[24,29,24,35],[26,15,26,21],[30,15,30,21],[29,29,29,35],[22,36,22,42],[23,1,23,7],[22,22,22,28],[24,15,24,21],[19,8,19,14],[12,1,12,7],[17,1,17,7],[17,22,17,28],[18,1,18,7],[18,22,18,28],[13,8,13,14],[14,1,14,7],[15,1,15,7],[15,15,15,21],[16,8,16,14],[8,1,8,7],[8,15,8,21],[9,1,9,7],[10,8,10,14],[11,1,11,7],[4,8,4,14],[5,1,5,7],[6,1,6,7],[6,22,6,28],[7,8,7,14],[3,26,4,48],[0,1,0,7],[1,8,1,14],[2,1,2,7],[3,1,3,7],[3,15,3,21],[0,26,2,48],[26,50,26,56],[32,29,32,35],[33,36,33,42],[34,29,34,35],[30,36,30,42],[28,43,28,49],[18,50,18,56],[12,43,12,49],[25,43,25,49],[25,22,25,28],[1,77,1,78],[1,67,1,68],[1,69,1,70],[1,71,1,72],[1,73,1,74],[1,75,1,76]]}
[1,{"$f":"IF(Main!R2=2,Eleme!BL244,IF(Main!R2=3,Eleme!BL502,IF(Main!R2=4,Eleme!BL632,IF(Main!R2=5,Eleme!BL698,IF(Main!R2=6,Eleme!BL732)))))","v":false},null,null,null,null,null,null,null,null,null,null,null,null,null,null,null,null,null,null,null,null,null,null,null,null,{"$f":"Kura!AC1","v":"TÜRKİYE MASA TENİSİ FEDERASYONU\nGENÇLER TAKIM KUZEYDOĞU BÖLGE YARIŞMALARI"},null,null,null,null,null,null,null,null,null,null,null,null,null,null,null,null,null,null,null,null,null,null,null,null,null,null,null,null,null,null,null,null,null,null,null,null,null,null,null,null,null,null,null,null,null,null,null,null,null,null,null,null,null,null,null,null,null,null,null,null,null,null,null,null,null,null,null,null,null,null,null,null,null,null,null,null,"1st Round",1]
[null,null,null,{"$f":"BZ3","v":0},{"$f":"CA3","v":0},null,null,1,{"$f":"IF(AND(D2=0,E2=0),\"\",IF(D2>E2,B1,B3))","v":""},null,null,null,null,null,null,null,null,null,null,null,null,null,null,null,null,null,null,null,null,null,null,null,null,null,null,null,null,null,null,null,null,null,null,null,null,null,null,null,null,null,null,null,null,null,null,null,null,null,null,null,"#","Date","Time","Table","Competition","Player A","Player B","Set1",null,"Set2",null,"Set3",null,"Set4",null,"Set5",null,"Result",null,null,null,null,null,null,null,null,null,null,null,null,null,null,null,null,null,null,null,null,null,null,null,null,null,"2sn Round"]
[2,{"$f":"IF(Main!R2=2,Eleme!BM244,IF(Main!R2=3,Eleme!BM502,IF(Main!R2=4,Eleme!BM632,IF(Main!R2=5,Eleme!BM698,IF(Main!R2=6,Eleme!BM732)))))","v":false},null,null,null,null,null,null,null,null,null,null,null,null,9,null,null,null,null,null,null,null,null,null,null,null,null,null,null,null,null,null,null,null,null,null,null,null,null,null,null,null,null,null,null,null,null,null,null,null,null,null,null,null,null,null,null,null,null,null,1,null,null,null,null,{"$f":"B1","v":false},{"$f":"B3","v":false},null,null,null,null,null,null,null,null,null,null,null,null,null,null,null,null,null,null,null,null,null,null,null,null,null,null,null,null,null,null,null,null,null,null,null,null,"3th Round"]
[3,{"$f":"IF(Main!R2=2,Eleme!BL245,IF(Main!R2=3,Eleme!BL503,IF(Main!R2=4,Eleme!BL633,IF(Main!R2=5,Eleme!BL699,IF(Main!R2=6,Eleme!BL733)))))","v":false},null,null,null,null,null,null,null,null,{"$f":"+BZ11","v":0},{"$f":"+CA11","v":0},"Y1",null,null,{"$f":"IF(AND(K4=0,L4=0),\"\",IF(K4>L4,I2,I5))","v":""},null,null,null,null,null,null,null,null,null,null,{"$f":"Kura!AC2&\" \"&Kura!AE3","v":"KIZ TAKIM  [15-16 Mart 2025 TRABZON] [ Ana Tablo ]"},null,null,null,null,null,null,null,null,null,null,null,null,null,null,null,null,null,null,null,null,null,null,null,null,null,null,null,null,null,null,null,null,null,2,null,null,null,null,{"$f":"B4","v":false},{"$f":"B6","v":false},null,null,null,null,null,null,null,null,null,null,null,null,null,null,null,null,null,null,null,null,null,null,null,null,null,null,null,null,null,null,null,null,null,null,null,null,"4th Round"]
[null,null,null,{"$f":"BZ4","v":0},{"$f":"CA4","v":0},null,null,2,{"$f":"IF(AND(D5=0,E5=0),\"\",IF(D5>E5,B4,B6))","v":""},null,null,null,null,null,null,null,null,null,null,null,null,13,null,null,null,null,null,null,null,null,null,null,null,null,null,null,null,null,null,null,null,null,null,null,null,null,null,null,null,null,null,null,null,null,null,null,null,null,null,null,3,null,null,null,null,{"$f":"B7","v":false},{"$f":"B9","v":false},null,null,null,null,null,null,null,null,null,null,null,null,null,null,null,null,null,null,null,null,null,null,null,null,null,null,null,null,null,null,null,null,null,null,null,null,"5th Round"]
[4,{"$f":"IF(Main!R2=2,Eleme!BM245,IF(Main!R2=3,Eleme!BM503,IF(Main!R2=4,Eleme!BM633,IF(Main!R2=5,Eleme!BM699,IF(Main!R2=6,Eleme!BM733)))))","v":false},null,null,null,null,null,null,null,null,null,null,null,null,null,null,null,null,null,null,null,null,null,null,null,null,null,null,null,null,null,null,null,null,null,null,null,null,null,null,null,null,null,null,null,null,null,null,null,null,null,null,null,null,null,null,null,null,null,null,4,null,null,null,null,{"$f":"B10","v":false},{"$f":"B12","v":false},null,null,null,null,null,null,null,null,null,null,null,null,null,null,null,null,null,null,null,null,null,null,null,null,null,null,null,null,null,null,null,null,null,null,null,null,"6th Round"]
[5,{"$f":"IF(Main!R2=2,Eleme!BL246,IF(Main!R2=3,Eleme!BL504,IF(Main!R2=4,Eleme!BL634,IF(Main!R2=5,Eleme!BL700,IF(Main!R2=6,Eleme!BL734)))))","v":false},null,null,null,null,null,null,null,null,null,null,null,null,null,null,null,{"$f":"+BZ15","v":0},{"$f":"+CA15","v":0},"Y5",null,null,{"$f":"IF(AND(R7=0,S7=0),\"\",IF(R7>S7,P4,P9))","v":""},null,null,null,null,null,null,null,null,null,null,null,null,null,null,null,null,null,null,null,null,null,null,null,null,null,null,null,null,null,null,null,null,null,null,null,null,null,5,null,null,null,null,{"$f":"B13","v":false},{"$f":"B15","v":false},null,null,null,null,null,null,null,null,null,null,null,null,null,null,null,null,null,null,null,null,null,null,null,null,null,null,null,null,null,null,null,null,null,null,null,null,"7th Round"]
[null,null,null,{"$f":"BZ5","v":0},{"$f":"CA5","v":0},null,null,3,{"$f":"IF(AND(D8=0,E8=0),\"\",IF(D8>E8,B7,B9))","v":""},null,null,null,null,null,null,null,null,null,null,null,null,null,null,null,null,null,null,null,17,null,null,null,null,null,null,null,null,null,null,null,null,null,null,null,null,null,null,null,null,null,null,null,null,null,null,null,null,null,null,null,6,null,null,null,null,{"$f":"B16","v":false},{"$f":"B18","v":false}]
[6,{"$f":"IF(Main!R2=2,Eleme!BM246,IF(Main!R2=3,Eleme!BM504,IF(Main!R2=4,Eleme!BM634,IF(Main!R2=5,Eleme!BM700,IF(Main!R2=6,Eleme!BM734)))))","v":false},null,null,null,null,null,null,null,null,null,null,null,null,10,{"$f":"IF(AND(K10=0,L10=0),\"\",IF(K10>L10,I8,I11))","v":""},null,null,null,null,null,null,null,null,null,null,null,null,null,null,null,null,null,null,null,null,null,null,null,null,null,null,null,null,null,null,null,null,null,null,null,null,null,null,null,null,null,null,null,null,7,null,null,null,null,{"$f":"B19","v":false},{"$f":"B21","v":false}]
[7,{"$f":"IF(Main!R2=2,Eleme!BL247,IF(Main!R2=3,Eleme!BL505,IF(Main!R2=4,Eleme!BL635,IF(Main!R2=5,Eleme!BL701,IF(Main!R2=6,Eleme!BL735)))))","v":false},null,null,null,null,null,null,null,null,{"$f":"+BZ12","v":0},{"$f":"+CA12","v":0},"Y2",null,null,null,null,null,null,null,null,null,null,null,null,null,null,null,null,null,null,null,null,null,null,null,null,null,null,null,null,null,null,null,null,null,null,null,null,null,null,null,null,null,null,null,null,null,null,null,8,null,null,null,null,{"$f":"B22","v":false},{"$f":"B24","v":false}]
[null,null,null,{"$f":"BZ6","v":0},{"$f":"CA6","v":0},null,null,4,{"$f":"IF(AND(D11=0,E11=0),\"\",IF(D11>E11,B10,B12))","v":""},null,null,null,null,null,null,null,null,null,null,null,null,null,null,null,null,null,null,null,null,null,null,null,null,null,null,null,null,null,null,null,null,null,null,null,null,null,null,null,null,null,null,null,null,null,null,null,null,null,null,null,9,null,null,null,null,{"$f":"I2","v":""},{"$f":"I5","v":""}]
[8,{"$f":"IF(Main!R2=2,Eleme!BM247,IF(Main!R2=3,Eleme!BM505,IF(Main!R2=4,Eleme!BM635,IF(Main!R2=5,Eleme!BM701,IF(Main!R2=6,Eleme!BM735)))))","v":false},null,null,null,null,null,null,null,null,null,null,null,null,null,null,null,null,null,null,null,null,null,null,null,null,null,null,null,null,null,null,null,null,null,null,null,null,null,null,null,null,null,null,null,null,null,null,null,null,null,null,null,null,null,null,null,null,null,null,10,null,null,null,null,{"$f":"I8","v":""},{"$f":"I11","v":""}]
[9,{"$f":"IF(Main!R2=2,Eleme!BL248,IF(Main!R2=3,Eleme!BL506,IF(Main!R2=4,Eleme!BL636,IF(Main!R2=5,Eleme!BL702,IF(Main!R2=6,Eleme!BL736)))))","v":false},null,null,null,null,null,null,null,null,null,null,null,null,null,null,null,null,null,null,null,null,null,null,{"$f":"+BZ19","v":0},{"$f":"+CA19","v":0},"Y9",null,null,null,null,null,null,null,null,null,null,null,null,null,null,null,null,{"$f":"IF(AND(Y13=0,Z13=0),\"\",IF(Y13>Z13,W7,W18))","v":""},null,null,null,null,null,null,null,null,null,null,null,null,null,null,null,null,11,null,null,null,null,{"$f":"I14","v":""},{"$f":"I17","v":""}]
[null,null,null,{"$f":"BZ7","v":0},{"$f":"CA7","v":0},null,null,5,{"$f":"IF(AND(D14=0,E14=0),\"\",IF(D14>E14,B13,B15))","v":""},null,null,null,null,null,null,null,null,null,null,null,null,null,null,null,null,null,null,null,null,null,null,null,null,null,null,null,null,null,null,null,null,null,null,null,null,null,null,null,null,24,null,null,null,null,null,null,null,null,null,null,12,null,null,null,null,{"$f":"I20","v":""},{"$f":"I23","v":""}]
[10,{"$f":"IF(Main!R2=2,Eleme!BM248,IF(Main!R2=3,Eleme!BM506,IF(Main!R2=4,Eleme!BM636,IF(Main!R2=5,Eleme!BM702,IF(Main!R2=6,Eleme!BM736)))))","v":false},null,null,null,null,null,null,null,null,null,null,null,null,11,null,null,null,null,null,null,null,null,null,null,null,null,null,null,null,null,null,null,null,null,null,null,null,null,null,null,null,null,null,null,null,null,null,null,null,null,null,null,null,null,null,null,null,null,null,13,null,null,null,null,{"$f":"P4","v":""},{"$f":"P9","v":""}]
[11,{"$f":"IF(Main!R2=2,Eleme!BL249,IF(Main!R2=3,Eleme!BL507,IF(Main!R2=4,Eleme!BL637,IF(Main!R2=5,Eleme!BL703,IF(Main!R2=6,Eleme!BL737)))))","v":false},null,null,null,null,null,null,null,null,{"$f":"+BZ13","v":0},{"$f":"+CA13","v":0},"Y3",null,null,{"$f":"IF(AND(K16=0,L16=0),\"\",IF(K16>L16,I14,I17))","v":""},null,null,null,null,null,null,null,null,null,null,null,null,null,null,null,null,null,null,null,null,null,null,null,null,null,null,null,null,null,null,null,null,null,null,null,null,null,null,null,null,null,null,null,null,14,null,null,null,null,{"$f":"P16","v":""},{"$f":"P21","v":""}]
[null,null,null,{"$f":"BZ8","v":0},{"$f":"CA8","v":0},null,null,6,{"$f":"IF(AND(D17=0,E17=0),\"\",IF(D17>E17,B16,B18))","v":""},null,null,null,null,null,null,null,null,null,null,null,null,14,null,null,null,null,null,null,null,null,null,null,null,null,null,null,null,null,null,null,null,null,null,null,null,null,null,null,null,null,null,null,null,null,null,null,null,null,null,null,15,null,null,null,null,{"$f":"P25","v":""},{"$f":"P27","v":""}]
[12,{"$f":"IF(Main!R2=2,Eleme!BM249,IF(Main!R2=3,Eleme!BM507,IF(Main!R2=4,Eleme!BM637,IF(Main!R2=5,Eleme!BM703,IF(Main!R2=6,Eleme!BM737)))))","v":false},null,null,null,null,null,null,null,null,null,null,null,null,null,null,null,null,null,null,null,null,{"$f":"IF(AND(R19=0,S19=0),\"\",IF(R19>S19,P16,P21))","v":""},null,null,null,null,null,null,null,null,null,null,null,null,null,null,null,null,null,null,null,null,null,null,null,null,null,null,null,null,null,null,null,null,null,null,null,null,null,16,null,null,null,null,{"$f":"P31","v":""},{"$f":"P33","v":""}]
[13,{"$f":"IF(Main!R2=2,Eleme!BL250,IF(Main!R2=3,Eleme!BL508,IF(Main!R2=4,Eleme!BL638,IF(Main!R2=5,Eleme!BL704,IF(Main!R2=6,Eleme!BL738)))))","v":false},null,null,null,null,null,null,null,null,null,null,null,null,null,null,null,{"$f":"+BZ16","v":0},{"$f":"+CA16","v":0},"Y6",null,null,null,null,null,null,null,null,null,null,null,null,null,null,null,null,null,null,null,null,null,null,null,null,null,{"$f":"+BZ26","v":0},{"$f":"+CA26","v":0},"Y16",null,null,{"$f":"IF(AND(AT19=0,AU19=0),\"\",IF(AT19>AU19,AR13,AR26))","v":""},null,null,null,null,null,null,"1.",null,null,17,null,null,null,null,{"$f":"W7","v":""},{"$f":"W18","v":""}]
[null,null,null,{"$f":"BZ9","v":0},{"$f":"CA9","v":0},null,null,7,{"$f":"IF(AND(D20=0,E20=0),\"\",IF(D20>E20,B19,B21))","v":""},null,null,null,null,null,null,null,null,null,null,null,null,null,null,null,null,null,null,null,null,null,null,null,null,null,null,null,null,null,null,null,null,null,null,null,null,null,null,null,null,null,null,null,null,null,null,null,null,null,null,null,18,null,null,null,null,{"$f":"W23","v":""},{"$f":"W26","v":""}]
[14,{"$f":"IF(Main!R2=2,Eleme!BM250,IF(Main!R2=3,Eleme!BM508,IF(Main!R2=4,Eleme!BM638,IF(Main!R2=5,Eleme!BM704,IF(Main!R2=6,Eleme!BM738)))))","v":false},null,null,null,null,null,null,null,null,null,null,null,null,12,{"$f":"IF(AND(K22=0,L22=0),\"\",IF(K22>L22,I20,I23))","v":""},null,null,null,null,null,null,null,null,null,null,null,null,null,null,null,null,null,null,null,null,null,null,null,null,null,null,null,null,null,null,null,null,null,null,null,null,null,null,null,null,null,null,null,null,19,null,null,null,null,{"$f":"W29","v":""},{"$f":"W32","v":""}]
[15,{"$f":"IF(Main!R2=2,Eleme!BL251,IF(Main!R2=3,Eleme!BL509,IF(Main!R2=4,Eleme!BL639,IF(Main!R2=5,Eleme!BL705,IF(Main!R2=6,Eleme!BL739)))))","v":false},null,null,null,null,null,null,null,null,{"$f":"+BZ14","v":0},{"$f":"+CA14","v":0},"Y4",null,null,null,null,null,null,null,null,null,null,null,null,null,null,null,null,null,null,null,null,null,null,null,null,null,null,null,null,null,null,null,null,null,null,null,null,null,null,null,null,null,null,null,null,null,null,null,20,null,null,null,null,{"$f":"W38","v":""},{"$f":"W40","v":""}]
[null,null,null,{"$f":"BZ10","v":0},{"$f":"CA10","v":0},null,null,8,{"$f":"IF(AND(D23=0,E23=0),\"\",IF(D23>E23,B22,B24))","v":""},null,null,null,null,null,null,null,null,null,null,null,null,"Y6",{"$f":"IF(AND(R19=0,S19=0),\"\",IF(R19<S19,P16,P21))","v":""},null,null,null,null,null,null,null,null,null,null,null,null,"Y9",{"$f":"IF(AND(Y13=0,Z13=0),\"\",IF(Y13<Z13,W7,W18))","v":""},null,null,null,null,null,null,null,null,null,null,null,null,null,null,null,null,null,null,null,null,null,null,null,21,null,null,null,null,{"$f":"AD25","v":""},{"$f":"AD30","v":""}]
[16,{"$f":"IF(Main!R2=2,Eleme!BM251,IF(Main!R2=3,Eleme!BM509,IF(Main!R2=4,Eleme!BM639,IF(Main!R2=5,Eleme!BM705,IF(Main!R2=6,Eleme!BM739)))))","v":false},null,null,null,null,null,null,null,null,null,null,null,null,null,null,null,null,null,null,null,null,null,null,null,null,null,null,18,null,null,null,null,null,null,null,null,null,null,null,null,null,23,null,null,null,null,null,null,null,null,null,null,null,null,null,null,null,null,null,22,null,null,null,null,{"$f":"AD33","v":""},{"$f":"AD35","v":""}]
[null,null,null,null,null,null,null,null,null,null,null,null,null,null,"Y1",{"$f":"IF(AND(K4=0,L4=0),\"\",IF(K4<L4,I2,I5))","v":""},null,null,null,null,null,null,null,null,{"$f":"+BZ20","v":0},{"$f":"+CA20","v":0},"Y10",null,null,{"$f":"IF(AND(Y25=0,Z25=0),\"\",IF(Y25>Z25,W23,W26))","v":""},null,null,null,null,null,null,null,null,null,null,null,null,null,null,null,null,null,null,null,null,null,null,null,null,null,null,null,null,null,null,23,null,null,null,null,{"$f":"AK23","v":""},{"$f":"AK28","v":""}]
[null,null,null,null,null,null,null,null,null,null,null,null,null,null,null,null,null,{"$f":"+BZ17","v":0},{"$f":"+CA17","v":0},"Y7",null,15,{"$f":"IF(AND(R26=0,S26=0),\"\",IF(R26>S26,P25,P27))","v":""},null,null,null,null,null,null,null,null,null,null,null,null,21,null,null,{"$f":"+BZ25","v":0},{"$f":"+CA25","v":0},"Y15",null,null,{"$f":"IF(AND(AM26=0,AN26=0),\"\",IF(AM26>AN26,AK23,AK28))","v":""},null,null,null,null,null,null,null,null,null,null,null,null,null,null,null,null,24,null,null,null,null,{"$f":"AR13","v":""},{"$f":"AR26","v":""}]
[null,null,null,null,null,null,null,null,null,null,null,null,null,null,"Y2",{"$f":"IF(AND(K10=0,L10=0),\"\",IF(K10<L10,I8,I11))","v":""},null,null,null,null,null,null,null,null,null,null,null,null,null,null,null,null,null,null,null,null,null,null,null,null,null,null,null,null,null,null,null,null,null,"Y16",{"$f":"IF(AND(AT19=0,AU19=0),\"\",IF(AT19<AU19,AR13,AR26))","v":""},null,null,null,null,null,null,"2."]
[null,null,null,null,null,null,null,null,null,null,null,null,null,null,null,null,null,null,null,null,null,null,null,null,null,null,null,null,null,null,null,{"$f":"+BZ23","v":0},{"$f":"+CA23","v":0},"Y13",null,null,{"$f":"IF(AND(AF28=0,AG28=0),\"\",IF(AF28>AG28,AD25,AD30))","v":""}]
[null,null,null,null,null,null,null,null,null,null,null,null,null,null,null,null,null,null,null,null,null,"Y5",{"$f":"IF(AND(R7=0,S7=0),\"\",IF(R7<S7,P4,P9))","v":""},null,null,null,null,null,null,null,null,null,null,null,null,null,null,null,null,null,null,null,"Y15",{"$f":"IF(AND(AM26=0,AN26=0),\"\",IF(AM26<AN26,AK23,AK28))","v":""},null,null,null,null,null,null,"3."]
[null,null,null,null,null,null,null,null,null,null,null,null,null,null,null,null,null,null,null,null,null,null,null,null,null,null,null,null,19,{"$f":"IF(AND(Y31=0,Z31=0),\"\",IF(Y31>Z31,W29,W32))","v":""}]
[null,null,null,null,null,null,null,null,null,null,null,null,null,null,"Y3",{"$f":"IF(AND(K16=0,L16=0),\"\",IF(K16<L16,I14,I17))","v":""},null,null,null,null,null,null,null,null,{"$f":"+BZ21","v":0},{"$f":"+CA21","v":0},"Y11",null,null,null,null,null,null,null,null,"Y13",{"$f":"IF(AND(AF28=0,AG28=0),\"\",IF(AF28<AG28,AD25,AD30))","v":""},null,null,null,null,null,null,"4."]
[null,null,null,null,null,null,null,null,null,null,null,null,null,null,null,null,null,{"$f":"+BZ18","v":0},{"$f":"+CA18","v":0},"Y8",null,16,{"$f":"IF(AND(R32=0,S32=0),\"\",IF(R32>S32,P31,P33))","v":""}]
[null,null,null,null,null,null,null,null,null,null,null,null,null,null,"Y4",{"$f":"IF(AND(K22=0,L22=0),\"\",IF(K22<L22,I20,I23))","v":""},null,null,null,null,null,null,null,null,null,null,null,null,"Y10",{"$f":"IF(AND(Y25=0,Z25=0),\"\",IF(Y25<Z25,W23,W26))","v":""}]
[null,null,null,null,null,null,null,null,null,null,null,null,null,null,null,null,null,null,null,null,null,null,null,null,null,null,null,null,null,null,null,{"$f":"+BZ24","v":0},{"$f":"+CA24","v":0},"Y14",null,22,{"$f":"IF(AND(AF34=0,AG34=0),\"\",IF(AF34>AG34,AD33,AD35))","v":""},null,null,null,null,null,null,"5."]
[null,null,null,null,null,null,null,null,null,null,null,null,null,null,null,null,null,null,null,null,null,null,null,null,null,null,null,null,"Y11",{"$f":"IF(AND(Y31=0,Z31=0),\"\",IF(Y31<Z31,W29,W32))","v":""}]
[null,null,null,null,null,null,null,null,null,null,null,null,null,null,null,null,null,null,null,null,null,null,null,null,null,null,null,null,null,null,null,null,null,null,null,"Y14",{"$f":"IF(AND(AF34=0,AG34=0),\"\",IF(AF34<AG34,AD33,AD35))","v":""},null,null,null,null,null,null,"6."]
[]
[null,null,null,null,null,null,null,null,null,null,null,null,null,null,null,null,null,null,null,null,null,"Y7",{"$f":"IF(AND(R26=0,S26=0),\"\",IF(R26<S26,P25,P27))","v":""}]
[null,null,null,null,null,null,null,null,null,null,null,null,null,null,null,null,null,null,null,null,null,null,null,null,{"$f":"+BZ22","v":0},{"$f":"+CA22","v":0},"Y12",null,20,{"$f":"IF(AND(Y39=0,Z39=0),\"\",IF(Y39>Z39,W38,W40))","v":""},null,null,null,null,null,null,"7."]
[null,null,null,null,null,null,null,null,null,null,null,null,null,null,null,null,null,null,null,null,null,"Y8",{"$f":"IF(AND(R32=0,S32=0),\"\",IF(R32<S32,P31,P33))","v":""}]
[null,null,null,null,null,null,null,null,null,null,null,null,null,null,null,null,null,null,null,null,null,null,null,null,null,null,null,null,"Y12",{"$f":"IF(AND(Y39=0,Z39=0),\"\",IF(Y39<Z39,W38,W40))","v":""},null,null,null,null,null,null,"8."]

{"sheet":"16(TE)","index":12,"n_rows":41,"n_cols":105,"rows_kept":41,"cut":false,"hidden":true,"merged":[[9,8,9,14],[5,1,5,7],[6,8,6,14],[1,67,1,68],[1,69,1,70],[1,73,1,74],[1,75,1,76],[1,77,1,78],[7,1,7,7],[8,1,8,7],[8,15,8,21],[1,71,1,72],[10,1,10,7],[11,1,11,7],[11,22,11,28],[12,8,12,14],[13,1,13,7],[13,15,13,21],[20,1,20,7],[20,15,20,21],[21,8,21,14],[22,1,22,7],[17,29,17,35],[18,8,18,14],[14,1,14,7],[15,8,15,14],[16,1,16,7],[17,1,17,7],[19,1,19,7],[23,1,23,7],[24,8,24,14],[25,1,25,7],[25,15,25,21],[22,22,22,28],[37,22,37,28],[32,15,32,21],[26,1,26,7],[27,8,27,14],[28,1,28,7],[30,15,30,21],[23,29,23,35],[30,29,30,35],[36,29,36,35],[40,29,40,35],[0,0,2,36],[3,0,4,36],[31,22,31,28],[35,22,35,28],[27,22,27,28],[29,22,29,28],[28,29,28,35],[33,29,33,35],[38,29,38,35],[39,22,39,28],[34,15,34,21],[36,15,36,21]]}
[{"$f":"Kura!AC1","v":"TÜRKİYE MASA TENİSİ FEDERASYONU\nGENÇLER TAKIM KUZEYDOĞU BÖLGE YARIŞMALARI"},null,null,null,null,null,null,null,null,null,null,null,null,null,null,null,null,null,null,null,null,null,null,null,null,null,null,null,null,null,null,null,null,null,null,null,null,null,null,null,null,null,null,null,null,null,null,null,null,null,null,null,null,null,null,null,null,null,null,null,null,null,null,null,null,null,null,null,null,null,null,null,null,null,null,null,null,null,null,null,null,null,null,null,null,null,null,null,null,null,null,null,null,null,null,null,null,null,null,null,null,null,null,"1st Round",1]
[null,null,null,null,null,null,null,null,null,null,null,null,null,null,null,null,null,null,null,null,null,null,null,null,null,null,null,null,null,null,null,null,null,null,null,null,null,null,null,null,null,null,null,null,null,null,null,null,null,null,null,null,null,null,null,null,null,null,null,null,"#","Date","Time","Table","Competition","Player A","Player B","Set1",null,"Set2",null,"Set3",null,"Set4",null,"Set5",null,"Result",null,null,null,null,null,null,null,null,null,null,null,null,null,null,null,null,null,null,null,null,null,null,null,null,null,"2sn Round"]
[null,null,null,null,null,null,null,null,null,null,null,null,null,null,null,null,null,null,null,null,null,null,null,null,null,null,null,null,null,null,null,null,null,null,null,null,null,null,null,null,null,null,null,null,null,null,null,null,null,null,null,null,null,null,null,null,null,null,null,null,1,null,null,null,null,{"$f":"B6","v":false},{"$f":"B8","v":false},null,null,null,null,null,null,null,null,null,null,null,null,null,null,null,null,null,null,null,null,null,null,null,null,null,null,null,null,null,null,null,null,null,null,null,null,"3th Round"]
[{"$f":"Kura!AC2&\" \"&Kura!AE3","v":"KIZ TAKIM  [15-16 Mart 2025 TRABZON] [ Ana Tablo ]"},null,null,null,null,null,null,null,null,null,null,null,null,null,null,null,null,null,null,null,null,null,null,null,null,null,null,null,null,null,null,null,null,null,null,null,null,null,null,null,null,null,null,null,null,null,null,null,null,null,null,null,null,null,null,null,null,null,null,null,2,null,null,null,null,{"$f":"B9","v":false},{"$f":"B11","v":false},null,null,null,null,null,null,null,null,null,null,null,null,null,null,null,null,null,null,null,null,null,null,null,null,null,null,null,null,null,null,null,null,null,null,null,null,"4th Round"]
[null,null,null,null,null,null,null,null,null,null,null,null,null,null,null,null,null,null,null,null,null,null,null,null,null,null,null,null,null,null,null,null,null,null,null,null,null,null,null,null,null,null,null,null,null,null,null,null,null,null,null,null,null,null,null,null,null,null,null,null,3,null,null,null,null,{"$f":"B12","v":false},{"$f":"B14","v":false}]
[1,{"$f":"IF(Main!R2=2,Eleme!BL244,IF(Main!R2=3,Eleme!BL502,IF(Main!R2=4,Eleme!BL632,IF(Main!R2=5,Eleme!BL698,IF(Main!R2=6,Eleme!BL732)))))","v":false},null,null,null,null,null,null,null,null,null,null,null,null,null,null,null,null,null,null,null,null,null,null,null,null,null,null,null,null,null,null,null,null,null,null,null,null,null,null,null,null,null,null,null,null,null,null,null,null,null,null,null,null,null,null,null,null,null,null,4,null,null,null,null,{"$f":"B15","v":false},{"$f":"B17","v":false}]
[null,null,null,{"$f":"+BZ3","v":0},{"$f":"+CA3","v":0},null,null,1,{"$f":"IF(AND(D7=0,E7=0),\"\",IF(D7>E7,B6,B8))","v":""},null,null,null,null,null,null,null,null,null,null,null,null,null,null,null,null,null,null,null,null,null,null,null,null,null,null,null,null,null,null,null,null,null,null,null,null,null,null,null,null,null,null,null,null,null,null,null,null,null,null,null,5,null,null,null,null,{"$f":"B18","v":false},{"$f":"B20","v":false}]
[2,{"$f":"IF(Main!R2=2,Eleme!BM244,IF(Main!R2=3,Eleme!BM502,IF(Main!R2=4,Eleme!BM632,IF(Main!R2=5,Eleme!BM698,IF(Main!R2=6,Eleme!BM732)))))","v":false},null,null,null,null,null,null,null,null,null,null,null,null,9,null,null,null,null,null,null,null,null,null,null,null,null,null,null,null,null,null,null,null,null,null,null,null,null,null,null,null,null,null,null,null,null,null,null,null,null,null,null,null,null,null,null,null,null,null,6,null,null,null,null,{"$f":"B21","v":false},{"$f":"B23","v":false}]
[3,{"$f":"IF(Main!R2=2,Eleme!BL245,IF(Main!R2=3,Eleme!BL503,IF(Main!R2=4,Eleme!BL633,IF(Main!R2=5,Eleme!BL699,IF(Main!R2=6,Eleme!BL733)))))","v":false},null,null,null,null,null,null,null,null,{"$f":"+BZ11","v":0},{"$f":"+CA11","v":0},"Y-A",null,null,{"$f":"IF(AND(K9=0,L9=0),\"\",IF(K9>L9,I7,I10))","v":""},null,null,null,null,null,null,null,null,null,null,null,null,null,null,null,null,null,null,null,null,null,null,null,null,null,null,null,null,null,null,null,null,null,null,null,null,null,null,null,null,null,null,null,null,7,null,null,null,null,{"$f":"B24","v":false},{"$f":"B26","v":false}]
[null,null,null,{"$f":"+BZ4","v":0},{"$f":"+CA4","v":0},null,null,2,{"$f":"IF(AND(D10=0,E10=0),\"\",IF(D10>E10,B9,B11))","v":""},null,null,null,null,null,null,null,null,null,null,null,null,13,null,null,null,null,null,null,null,null,null,null,null,null,null,null,null,null,null,null,null,null,null,null,null,null,null,null,null,null,null,null,null,null,null,null,null,null,null,null,8,null,null,null,null,{"$f":"B27","v":false},{"$f":"B29","v":false}]
[4,{"$f":"IF(Main!R2=2,Eleme!BM245,IF(Main!R2=3,Eleme!BM503,IF(Main!R2=4,Eleme!BM633,IF(Main!R2=5,Eleme!BM699,IF(Main!R2=6,Eleme!BM733)))))","v":false},null,null,null,null,null,null,null,null,null,null,null,null,null,null,null,null,null,null,null,null,null,null,null,null,null,null,null,null,null,null,null,null,null,null,null,null,null,null,null,null,null,null,null,null,null,null,null,null,null,null,null,null,null,null,null,null,null,null,9,null,null,null,null,{"$f":"I7","v":""},{"$f":"I10","v":""}]
[5,{"$f":"IF(Main!R2=2,Eleme!BL246,IF(Main!R2=3,Eleme!BL504,IF(Main!R2=4,Eleme!BL634,IF(Main!R2=5,Eleme!BL700,IF(Main!R2=6,Eleme!BL734)))))","v":false},null,null,null,null,null,null,null,null,null,null,null,null,null,null,null,{"$f":"+BZ15","v":0},{"$f":"+CA15","v":0},"Y-E",null,null,{"$f":"IF(AND(R12=0,S12=0),\"\",IF(R12>S12,P9,P14))","v":""},null,null,null,null,null,null,null,null,null,null,null,null,null,null,null,null,null,null,null,null,null,null,null,null,null,null,null,null,null,null,null,null,null,null,null,null,null,10,null,null,null,null,{"$f":"I13","v":""},{"$f":"I16","v":""}]
[null,null,null,{"$f":"+BZ5","v":0},{"$f":"+CA5","v":0},null,null,3,{"$f":"IF(AND(D13=0,E13=0),\"\",IF(D13>E13,B12,B14))","v":""},null,null,null,null,null,null,null,null,null,null,null,null,null,null,null,null,null,null,null,17,null,null,null,null,null,null,null,null,null,null,null,null,null,null,null,null,null,null,null,null,null,null,null,null,null,null,null,null,null,null,null,11,null,null,null,null,{"$f":"I19","v":""},{"$f":"I22","v":""}]
[6,{"$f":"IF(Main!R2=2,Eleme!BM246,IF(Main!R2=3,Eleme!BM504,IF(Main!R2=4,Eleme!BM634,IF(Main!R2=5,Eleme!BM700,IF(Main!R2=6,Eleme!BM734)))))","v":false},null,null,null,null,null,null,null,null,null,null,null,null,10,{"$f":"IF(AND(K15=0,L15=0),\"\",IF(K15>L15,I13,I16))","v":""},null,null,null,null,null,null,null,null,null,null,null,null,null,null,null,null,null,null,null,null,null,null,null,null,null,null,null,null,null,null,null,null,null,null,null,null,null,null,null,null,null,null,null,null,12,null,null,null,null,{"$f":"I25","v":""},{"$f":"I28","v":""}]
[7,{"$f":"IF(Main!R2=2,Eleme!BL247,IF(Main!R2=3,Eleme!BL505,IF(Main!R2=4,Eleme!BL635,IF(Main!R2=5,Eleme!BL701,IF(Main!R2=6,Eleme!BL735)))))","v":false},null,null,null,null,null,null,null,null,{"$f":"+BZ12","v":0},{"$f":"+CA12","v":0},"Y-B",null,null,null,null,null,null,null,null,null,null,null,null,null,null,null,null,null,null,null,null,null,null,null,null,null,null,null,null,null,null,null,null,null,null,null,null,null,null,null,null,null,null,null,null,null,null,null,13,null,null,null,null,{"$f":"P9","v":""},{"$f":"P14","v":""}]
[null,null,null,{"$f":"+BZ6","v":0},{"$f":"+CA6","v":0},null,null,4,{"$f":"IF(AND(D16=0,E16=0),\"\",IF(D16>E16,B15,B17))","v":""},null,null,null,null,null,null,null,null,null,null,null,null,null,null,null,null,null,null,null,null,null,null,null,null,null,null,null,null,null,null,null,null,null,null,null,null,null,null,null,null,null,null,null,null,null,null,null,null,null,null,null,14,null,null,null,null,{"$f":"P21","v":""},{"$f":"P26","v":""}]
[8,{"$f":"IF(Main!R2=2,Eleme!BM247,IF(Main!R2=3,Eleme!BM505,IF(Main!R2=4,Eleme!BM635,IF(Main!R2=5,Eleme!BM701,IF(Main!R2=6,Eleme!BM735)))))","v":false},null,null,null,null,null,null,null,null,null,null,null,null,null,null,null,null,null,null,null,null,null,null,null,null,null,null,null,null,null,null,null,null,null,null,null,null,null,null,null,null,null,null,null,null,null,null,null,null,null,null,null,null,null,null,null,null,null,null,15,null,null,null,null,{"$f":"P31","v":""},{"$f":"P33","v":""}]
[9,{"$f":"IF(Main!R2=2,Eleme!BL248,IF(Main!R2=3,Eleme!BL506,IF(Main!R2=4,Eleme!BL636,IF(Main!R2=5,Eleme!BL702,IF(Main!R2=6,Eleme!BL736)))))","v":false},null,null,null,null,null,null,null,null,null,null,null,null,null,null,null,null,null,null,null,null,null,null,{"$f":"+BZ19","v":0},{"$f":"+CA19","v":0},"Y-I",null,null,{"$f":"IF(AND(Y18=0,Z18=0),\"\",IF(Y18>Z18,W12,W23))","v":""},null,null,null,null,null,null,"1.",null,null,null,null,null,null,null,null,null,null,null,null,null,null,null,null,null,null,null,null,null,null,null,16,null,null,null,null,{"$f":"P35","v":""},{"$f":"P37","v":""}]
[null,null,null,{"$f":"+BZ7","v":0},{"$f":"+CA7","v":0},null,null,5,{"$f":"IF(AND(D19=0,E19=0),\"\",IF(D19>E19,B18,B20))","v":""},null,null,null,null,null,null,null,null,null,null,null,null,null,null,null,null,null,null,null,null,null,null,null,null,null,null,null,null,null,null,null,null,null,null,null,null,null,null,null,null,null,null,null,null,null,null,null,null,null,null,null,17,null,null,null,null,{"$f":"W12","v":""},{"$f":"W23","v":""}]
[10,{"$f":"IF(Main!R2=2,Eleme!BM248,IF(Main!R2=3,Eleme!BM506,IF(Main!R2=4,Eleme!BM636,IF(Main!R2=5,Eleme!BM702,IF(Main!R2=6,Eleme!BM736)))))","v":false},null,null,null,null,null,null,null,null,null,null,null,null,11,null,null,null,null,null,null,null,null,null,null,null,null,null,null,null,null,null,null,null,null,null,null,null,null,null,null,null,null,null,null,null,null,null,null,null,null,null,null,null,null,null,null,null,null,null,18,null,null,null,null,{"$f":"W28","v":""},{"$f":"W30","v":""}]
[11,{"$f":"IF(Main!R2=2,Eleme!BL249,IF(Main!R2=3,Eleme!BL507,IF(Main!R2=4,Eleme!BL637,IF(Main!R2=5,Eleme!BL703,IF(Main!R2=6,Eleme!BL737)))))","v":false},null,null,null,null,null,null,null,null,{"$f":"+BZ13","v":0},{"$f":"+CA13","v":0},"Y-C",null,null,{"$f":"IF(AND(K21=0,L21=0),\"\",IF(K21>L21,I19,I22))","v":""},null,null,null,null,null,null,null,null,null,null,null,null,null,null,null,null,null,null,null,null,null,null,null,null,null,null,null,null,null,null,null,null,null,null,null,null,null,null,null,null,null,null,null,null,19,null,null,null,null,{"$f":"W32","v":""},{"$f":"W36","v":""}]
[null,null,null,{"$f":"+BZ8","v":0},{"$f":"+CA8","v":0},null,null,6,{"$f":"IF(AND(D22=0,E22=0),\"\",IF(D22>E22,B21,B23))","v":""},null,null,null,null,null,null,null,null,null,null,null,null,14,null,null,null,null,null,null,null,null,null,null,null,null,null,null,null,null,null,null,null,null,null,null,null,null,null,null,null,null,null,null,null,null,null,null,null,null,null,null,20,null,null,null,null,{"$f":"W38","v":""},{"$f":"W40","v":""}]
[12,{"$f":"IF(Main!R2=2,Eleme!BM249,IF(Main!R2=3,Eleme!BM507,IF(Main!R2=4,Eleme!BM637,IF(Main!R2=5,Eleme!BM703,IF(Main!R2=6,Eleme!BM737)))))","v":false},null,null,null,null,null,null,null,null,null,null,null,null,null,null,null,null,null,null,null,null,{"$f":"IF(AND(R24=0,S24=0),\"\",IF(R24>S24,P21,P26))","v":""}]
[13,{"$f":"IF(Main!R2=2,Eleme!BL250,IF(Main!R2=3,Eleme!BL508,IF(Main!R2=4,Eleme!BL638,IF(Main!R2=5,Eleme!BL704,IF(Main!R2=6,Eleme!BL738)))))","v":false},null,null,null,null,null,null,null,null,null,null,null,null,null,null,null,{"$f":"+BZ16","v":0},{"$f":"+CA16","v":0},"Y-F",null,null,null,null,null,null,null,null,"I",{"$f":"IF(AND(Y18=0,Z18=0),\"\",IF(Y18<Z18,W12,W23))","v":""},null,null,null,null,null,null,"2."]
[null,null,null,{"$f":"+BZ9","v":0},{"$f":"+CA9","v":0},null,null,7,{"$f":"IF(AND(D25=0,E25=0),\"\",IF(D25>E25,B24,B26))","v":""}]
[14,{"$f":"IF(Main!R2=2,Eleme!BM250,IF(Main!R2=3,Eleme!BM508,IF(Main!R2=4,Eleme!BM638,IF(Main!R2=5,Eleme!BM704,IF(Main!R2=6,Eleme!BM738)))))","v":false},null,null,null,null,null,null,null,null,null,null,null,null,12,{"$f":"IF(AND(K27=0,L27=0),\"\",IF(K27>L27,I25,I28))","v":""}]
[15,{"$f":"IF(Main!R2=2,Eleme!BL251,IF(Main!R2=3,Eleme!BL509,IF(Main!R2=4,Eleme!BL639,IF(Main!R2=5,Eleme!BL705,IF(Main!R2=6,Eleme!BL739)))))","v":false},null,null,null,null,null,null,null,null,{"$f":"+BZ14","v":0},{"$f":"+CA14","v":0},"Y-D"]
[null,null,null,{"$f":"+BZ10","v":0},{"$f":"+CA10","v":0},null,null,8,{"$f":"IF(AND(D28=0,E28=0),\"\",IF(D28>E28,B27,B29))","v":""},null,null,null,null,null,null,null,null,null,null,null,null,"E",{"$f":"IF(AND(R12=0,S12=0),\"\",IF(R12<S12,P9,P14))","v":""}]
[16,{"$f":"IF(Main!R2=2,Eleme!BM251,IF(Main!R2=3,Eleme!BM509,IF(Main!R2=4,Eleme!BM639,IF(Main!R2=5,Eleme!BM705,IF(Main!R2=6,Eleme!BM739)))))","v":false},null,null,null,null,null,null,null,null,null,null,null,null,null,null,null,null,null,null,null,null,null,null,{"$f":"BZ20","v":0},{"$f":"+CA20","v":0},"Y-J",null,18,{"$f":"IF(AND(Y29=0,Z29=0),\"\",IF(Y29>Z29,W28,W30))","v":""},null,null,null,null,null,null,"3."]
[null,null,null,null,null,null,null,null,null,null,null,null,null,null,null,null,null,null,null,null,null,"F",{"$f":"IF(AND(R24=0,S24=0),\"\",IF(R24<S24,P21,P26))","v":""}]
[null,null,null,null,null,null,null,null,null,null,null,null,null,null,"A",{"$f":"IF(AND(K9=0,L9=0),\"\",IF(K9<L9,I7,I10))","v":""},null,null,null,null,null,null,null,null,null,null,null,null,"J",{"$f":"IF(AND(Y29=0,Z29=0),\"\",IF(Y29<Z29,W28,W30))","v":""},null,null,null,null,null,null,"4."]
[null,null,null,null,null,null,null,null,null,null,null,null,null,null,null,null,null,{"$f":"+BZ17","v":0},{"$f":"+CA17","v":0},"Y-G",null,15,{"$f":"IF(AND(R32=0,S32=0),\"\",IF(R32>S32,P31,P33))","v":""}]
[null,null,null,null,null,null,null,null,null,null,null,null,null,null,"B",{"$f":"IF(AND(K15=0,L15=0),\"\",IF(K15<L15,I13,I16))","v":""},null,null,null,null,null,null,null,null,null,null,null,null,19]
[null,null,null,null,null,null,null,null,null,null,null,null,null,null,null,null,null,null,null,null,null,null,null,null,{"$f":"+BZ21","v":0},{"$f":"+CA21","v":0},"Y-K",null,null,{"$f":"IF(AND(Y34=0,Z34=0),\"\",IF(Y34>Z34,W32,W36))","v":""},null,null,null,null,null,null,"5."]
[null,null,null,null,null,null,null,null,null,null,null,null,null,null,"C",{"$f":"IF(AND(K21=0,L21=0),\"\",IF(K21<L21,I19,I22))","v":""}]
[null,null,null,null,null,null,null,null,null,null,null,null,null,null,null,null,null,{"$f":"+BZ18","v":0},{"$f":"+CA18","v":0},"Y-H",null,16,{"$f":"IF(AND(R36=0,S36=0),\"\",IF(R36>S36,P35,P37))","v":""}]
[null,null,null,null,null,null,null,null,null,null,null,null,null,null,"D",{"$f":"IF(AND(K27=0,L27=0),\"\",IF(K27<L27,I25,I28))","v":""},null,null,null,null,null,null,null,null,null,null,null,null,"K",{"$f":"IF(AND(Y34=0,Z34=0),\"\",IF(Y34<Z34,W32,W36))","v":""},null,null,null,null,null,null,"6."]
[null,null,null,null,null,null,null,null,null,null,null,null,null,null,null,null,null,null,null,null,null,"G",{"$f":"IF(AND(R32=0,S32=0),\"\",IF(R32<S32,P31,P33))","v":""}]
[null,null,null,null,null,null,null,null,null,null,null,null,null,null,null,null,null,null,null,null,null,null,null,null,{"$f":"BZ22","v":0},{"$f":"+CA22","v":0},"Y-L",null,20,{"$f":"IF(AND(Y39=0,Z39=0),\"\",IF(Y39>Z39,W38,W40))","v":""},null,null,null,null,null,null,"7."]
[null,null,null,null,null,null,null,null,null,null,null,null,null,null,null,null,null,null,null,null,null,"H",{"$f":"IF(AND(R36=0,S36=0),\"\",IF(R36<S36,P35,P37))","v":""}]
[null,null,null,null,null,null,null,null,null,null,null,null,null,null,null,null,null,null,null,null,null,null,null,null,null,null,null,null,"L",{"$f":"IF(AND(Y39=0,Z39=0),\"\",IF(Y39<Z39,W38,W40))","v":""},null,null,null,null,null,null,"8."]

{"sheet":"8DE","index":13,"n_rows":33,"n_cols":105,"rows_kept":33,"cut":false,"hidden":true,"merged":[[32,22,32,28],[25,29,25,35],[26,22,26,28],[27,29,27,35],[29,15,29,21],[30,22,30,28],[31,15,31,21],[24,22,24,28],[17,36,17,42],[18,15,18,21],[18,43,18,49],[19,8,19,14],[19,29,19,35],[20,15,20,21],[20,36,20,41],[21,8,21,14],[21,22,21,28],[22,15,22,21],[22,29,22,35],[23,8,23,14],[15,1,15,7],[15,29,15,35],[16,1,16,7],[16,15,16,21],[17,8,17,14],[17,22,17,28],[14,43,14,49],[7,1,7,7],[7,15,7,21],[8,8,8,14],[9,1,9,7],[10,1,10,7],[10,36,10,42],[11,8,11,14],[12,1,12,7],[12,15,12,21],[13,1,13,7],[14,8,14,14],[6,1,6,7],[0,0,1,50],[4,1,4,7],[5,8,5,14],[2,0,3,50],[1,71,1,72],[1,61,1,62],[1,63,1,64],[1,65,1,66],[1,67,1,68],[1,69,1,70]]}
[{"$f":"Kura!AC1","v":"TÜRKİYE MASA TENİSİ FEDERASYONU\nGENÇLER TAKIM KUZEYDOĞU BÖLGE YARIŞMALARI"},null,null,null,null,null,null,null,null,null,null,null,null,null,null,null,null,null,null,null,null,null,null,null,null,null,null,null,null,null,null,null,null,null,null,null,null,null,null,null,null,null,null,null,null,null,null,null,null,null,null,null,null,null,null,null,null,null,null,null,null,null,null,null,null,null,null,null,null,null,null,null,null,null,null,null,null,null,null,null,null,null,null,null,null,null,null,null,null,null,null,null,null,null,null,null,null,null,null,null,null,null,null,"1st Round",1]
[null,null,null,null,null,null,null,null,null,null,null,null,null,null,null,null,null,null,null,null,null,null,null,null,null,null,null,null,null,null,null,null,null,null,null,null,null,null,null,null,null,null,null,null,null,null,null,null,null,null,null,null,null,null,"#","Date","Time","Table","Competition","Player A","Player B","Set1",null,"Set2",null,"Set3",null,"Set4",null,"Set5",null,"Result",null,null,null,null,null,null,null,null,null,null,null,null,null,null,null,null,null,null,null,null,null,null,null,null,null,null,null,null,null,null,null,"2sn Round"]
[{"$f":"Kura!AC2&\" \"&Kura!AE3","v":"KIZ TAKIM  [15-16 Mart 2025 TRABZON] [ Ana Tablo ]"},null,null,null,null,null,null,null,null,null,null,null,null,null,null,null,null,null,null,null,null,null,null,null,null,null,null,null,null,null,null,null,null,null,null,null,null,null,null,null,null,null,null,null,null,null,null,null,null,null,null,null,null,null,1,null,null,null,null,{"$f":"+B5","v":"ÇORUM BLD. SPOR (A) (ÇRM)"},{"$f":"+B7","v":"BAYBURT GMSK (A) (BYB)"},null,null,null,null,null,null,null,null,null,null,null,null,null,null,null,null,null,null,null,null,null,null,null,null,null,null,null,null,null,null,null,null,null,null,null,null,null,null,null,null,null,null,"3th Round"]
[null,null,null,null,null,null,null,null,null,null,null,null,null,null,null,null,null,null,null,null,null,null,null,null,null,null,null,null,null,null,null,null,null,null,null,null,null,null,null,null,null,null,null,null,null,null,null,null,null,null,null,null,null,null,2,null,null,null,null,{"$f":"+B8","v":"FINDIKLI 1974 SPOR (A) (RİZ)"},{"$f":"+B10","v":"KUTLUBEY OKULLARI (A) (AMS)"},null,null,null,null,null,null,null,null,null,null,null,null,null,null,null,null,null,null,null,null,null,null,null,null,null,null,null,null,null,null,null,null,null,null,null,null,null,null,null,null,null,null,"4th Round"]
[1,{"$f":"IF(Main!R2=2,Eleme!BL252,IF(Main!R2=3,Eleme!BL510,IF(Main!R2=4,Eleme!BL640,IF(Main!R2=5,Eleme!BL706,IF(Main!R2=6,Eleme!BL740,IF(Main!R2=7,Eleme!F758))))))","v":"ÇORUM BLD. SPOR (A) (ÇRM)"},null,null,null,null,null,null,null,null,null,null,null,null,null,null,null,null,null,null,null,null,null,null,null,null,null,null,null,null,null,null,null,null,null,null,null,null,null,null,null,null,null,null,null,null,null,null,null,null,null,null,null,null,3,null,null,null,null,{"$f":"+B11","v":"ŞAFAKTEPE SK (A) (ANK)"},{"$f":"+B13","v":"BEŞİKDÜZÜ AYYILDIZ SPOR (A) (TRB)"},null,null,null,null,null,null,null,null,null,null,null,null,null,null,null,null,null,null,null,null,null,null,null,null,null,null,null,null,null,null,null,null,null,null,null,null,null,null,null,null,null,null,"5th Round"]
[null,null,null,{"$f":"+BT3","v":0},{"$f":"+BU3","v":0},"Y1",null,1,{"$f":"IF(AND(D6=0,E6=0),\"\",IF(D6>E6,B5,B7))","v":""},null,null,null,null,null,null,null,null,null,null,null,null,null,null,null,null,null,null,null,null,null,null,null,null,null,null,null,null,null,null,null,null,null,null,null,null,null,null,null,null,null,null,null,null,null,4,null,null,null,null,{"$f":"+B14","v":"YALIKÖY ŞBÇ OO (A) (GRS)"},{"$f":"+B16","v":"ÇORUM GENÇLİK SPOR (A) (ÇRM)"},null,null,null,null,null,null,null,null,null,null,null,null,null,null,null,null,null,null,null,null,null,null,null,null,null,null,null,null,null,null,null,null,null,null,null,null,null,null,null,null,null,null,"6th Round"]
[2,{"$f":"IF(Main!R2=2,Eleme!BM252,IF(Main!R2=3,Eleme!BM510,IF(Main!R2=4,Eleme!BM640,IF(Main!R2=5,Eleme!BM706,IF(Main!R2=6,Eleme!BM740,IF(Main!R2=7,Eleme!F760))))))","v":"BAYBURT GMSK (A) (BYB)"},null,null,null,null,null,null,null,null,null,null,null,null,5,null,null,null,null,null,null,null,null,null,null,null,null,null,null,null,null,null,null,null,null,null,null,null,null,null,null,null,null,null,null,null,null,null,null,null,null,null,null,null,5,null,null,null,null,{"$f":"+I6","v":""},{"$f":"+I9","v":""}]
[3,{"$f":"IF(Main!R2=2,Eleme!BL253,IF(Main!R2=3,Eleme!BL511,IF(Main!R2=4,Eleme!BL641,IF(Main!R2=5,Eleme!BL707,IF(Main!R2=6,Eleme!BL741,IF(Main!R2=7,Eleme!F761))))))","v":"FINDIKLI 1974 SPOR (A) (RİZ)"},null,null,null,null,null,null,null,null,{"$f":"+BT7","v":0},{"$f":"+BU7","v":0},"Y5",null,null,{"$f":"IF(AND(K8=0,L8=0),\"\",IF(K8>L8,I6,I9))","v":""},null,null,null,null,null,null,null,null,null,null,null,null,null,null,null,null,null,null,null,null,null,null,null,null,null,null,null,null,null,null,null,null,null,null,null,null,null,null,6,null,null,null,null,{"$f":"+I12","v":""},{"$f":"+I15","v":""}]
[null,null,null,{"$f":"+BT4","v":0},{"$f":"+BU4","v":0},"Y2",null,2,{"$f":"IF(AND(D9=0,E9=0),\"\",IF(D9>E9,B8,B10))","v":""},null,null,null,null,null,null,null,null,null,null,null,null,9,null,null,null,null,null,null,null,null,null,null,null,null,null,null,null,null,null,null,null,null,null,null,null,null,null,null,null,null,null,null,null,null,7,null,null,null,null,{"$f":"+I18","v":""},{"$f":"+I20","v":""}]
[4,{"$f":"IF(Main!R2=2,Eleme!BM253,IF(Main!R2=3,Eleme!BM511,IF(Main!R2=4,Eleme!BM641,IF(Main!R2=5,Eleme!BM707,IF(Main!R2=6,Eleme!BM741,IF(Main!R2=7,Eleme!F763))))))","v":"KUTLUBEY OKULLARI (A) (AMS)"},null,null,null,null,null,null,null,null,null,null,null,null,null,null,null,null,null,null,null,null,null,null,null,null,null,null,null,null,null,null,null,null,null,null,null,null,null,null,null,null,null,null,null,null,null,null,null,null,null,null,null,null,8,null,null,null,null,{"$f":"+I22","v":""},{"$f":"+I24","v":""}]
[5,{"$f":"IF(Main!R2=2,Eleme!BL254,IF(Main!R2=3,Eleme!BL512,IF(Main!R2=4,Eleme!BL642,IF(Main!R2=5,Eleme!BL708,IF(Main!R2=6,Eleme!BL742,IF(Main!R2=7,Eleme!F764))))))","v":"ŞAFAKTEPE SK (A) (ANK)"},null,null,null,null,null,null,null,null,null,null,null,null,null,null,null,{"$f":"+BT11","v":0},{"$f":"+BU11","v":0},"Y9",null,null,null,null,null,null,null,null,null,null,null,null,null,null,null,null,{"$f":"IF(AND(R11=0,S11=0),\"\",IF(R11>S11,P8,P13))","v":""},null,null,null,null,null,null,null,null,null,null,null,null,null,null,null,null,null,9,null,null,null,null,{"$f":"+P8","v":""},{"$f":"+P13","v":""}]
[null,null,null,{"$f":"+BT5","v":0},{"$f":"+BU5","v":0},"Y3",null,3,{"$f":"IF(AND(D12=0,E12=0),\"\",IF(D12>E12,B11,B13))","v":""},null,null,null,null,null,null,null,null,null,null,null,null,null,null,null,null,null,null,null,null,null,null,null,null,null,null,null,null,null,null,null,null,null,16,null,null,null,null,null,null,null,null,null,null,null,10,null,null,null,null,{"$f":"+P17","v":""},{"$f":"+P19","v":""}]
[6,{"$f":"IF(Main!R2=2,Eleme!BM254,IF(Main!R2=3,Eleme!BM512,IF(Main!R2=4,Eleme!BM642,IF(Main!R2=5,Eleme!BM708,IF(Main!R2=6,Eleme!BM742,IF(Main!R2=7,Eleme!F766))))))","v":"BEŞİKDÜZÜ AYYILDIZ SPOR (A) (TRB)"},null,null,null,null,null,null,null,null,null,null,null,null,6,{"$f":"IF(AND(K14=0,L14=0),\"\",IF(K14>L14,I12,I15))","v":""},null,null,null,null,null,null,null,null,null,null,null,null,null,null,null,null,null,null,null,null,null,null,null,null,null,null,null,null,null,null,null,null,null,null,null,null,null,null,11,null,null,null,null,{"$f":"+P21","v":""},{"$f":"+P23","v":""}]
[7,{"$f":"IF(Main!R2=2,Eleme!BL255,IF(Main!R2=3,Eleme!BL513,IF(Main!R2=4,Eleme!BL643,IF(Main!R2=5,Eleme!BL709,IF(Main!R2=6,Eleme!BL743,IF(Main!R2=7,Eleme!F767))))))","v":"YALIKÖY ŞBÇ OO (A) (GRS)"},null,null,null,null,null,null,null,null,{"$f":"+BT8","v":0},{"$f":"+BU8","v":0},"Y6",null,null,null,null,null,null,null,null,null,null,null,null,null,null,null,null,null,null,null,null,null,null,null,null,null,null,null,null,null,null,null,null,null,null,null,null,null,null,null,null,null,12,null,null,null,null,{"$f":"+P30","v":""},{"$f":"+P32","v":""}]
[null,null,null,{"$f":"+BT6","v":0},{"$f":"+BU6","v":0},"Y4",null,4,{"$f":"IF(AND(D15=0,E15=0),\"\",IF(D15>E15,B14,B16))","v":""},null,null,null,null,null,null,null,null,null,null,null,null,null,null,null,null,null,null,null,null,null,null,null,null,null,null,null,null,null,{"$f":"+BT18","v":0},{"$f":"+BU18","v":0},"Y16",null,null,{"$f":"IF(AND(AM15=0,AN15=0),\"\",IF(AM15>AN15,AK11,AK18))","v":""},null,null,null,null,null,null,"1.",null,null,null,13,null,null,null,null,{"$f":"+W18","v":""},{"$f":"+W22","v":""}]
[8,{"$f":"IF(Main!R2=2,Eleme!BM255,IF(Main!R2=3,Eleme!BM513,IF(Main!R2=4,Eleme!BM643,IF(Main!R2=5,Eleme!BM709,IF(Main!R2=6,Eleme!BM743,IF(Main!R2=7,Eleme!F769))))))","v":"ÇORUM GENÇLİK SPOR (A) (ÇRM)"},null,null,null,null,null,null,null,null,null,null,null,null,null,null,null,null,null,null,null,null,null,null,null,null,null,null,"Y9",{"$f":"IF(AND(R11=0,S11=0),\"\",IF(R11<S11,P8,P13))","v":""},null,null,null,null,null,null,null,null,null,null,null,null,null,null,null,null,null,null,null,null,null,null,null,null,14,null,null,null,null,{"$f":"+W25","v":""},{"$f":"+W27","v":""}]
[null,null,null,null,null,null,null,null,null,null,null,null,null,null,"Y6",{"$f":"IF(AND(K14=0,L14=0),\"\",IF(K14<L14,I12,I15))","v":""},null,null,null,null,null,null,null,null,null,null,null,null,null,null,null,null,null,null,null,15,null,null,null,null,null,null,null,null,null,null,null,null,null,null,null,null,null,null,15,null,null,null,null,{"$f":"+AD16","v":""},{"$f":"+AD20","v":""}]
[null,null,null,null,null,null,null,"Y1",{"$f":"IF(AND(D6=0,E6=0),\"\",IF(D6<E6,B5,B7))","v":""},null,null,null,null,null,null,null,null,{"$f":"+BT12","v":0},{"$f":"+BU12","v":0},"Y10",null,10,{"$f":"IF(AND(R18=0,S18=0),\"\",IF(R18>S18,P17,P19))","v":""},null,null,null,null,null,null,null,null,{"$f":"+BT17","v":0},{"$f":"+BU17","v":0},"Y15",null,null,{"$f":"IF(AND(AF18=0,AG18=0),\"\",IF(AF18>AG18,AD16,AD20))","v":""},null,null,null,null,null,null,null,null,null,null,null,null,null,null,null,null,null,16,null,null,null,null,{"$f":"+AK11","v":""},{"$f":"+AK18","v":""}]
[null,null,null,null,null,null,null,null,null,null,{"$f":"+BT9","v":0},{"$f":"+BU9","v":0},"Y7",null,7,{"$f":"IF(AND(K19=0,L19=0),\"\",IF(K19>L19,I18,I20))","v":""},null,null,null,null,null,null,null,null,null,null,null,null,13,null,null,null,null,null,null,null,null,null,null,null,null,null,"Y16",{"$f":"IF(AND(AM15=0,AN15=0),\"\",IF(AM15<AN15,AK11,AK18))","v":""},null,null,null,null,null,null,"2."]
[null,null,null,null,null,null,null,"Y2",{"$f":"IF(AND(D9=0,E9=0),\"\",IF(D9<E9,B8,B10))","v":""},null,null,null,null,null,null,null,null,null,null,null,null,null,null,null,{"$f":"+BT15","v":0},{"$f":"+BU15","v":0},"Y13",null,null,{"$f":"IF(AND(Y20=0,Z20=0),\"\",IF(Y20>Z20,W18,W22))","v":""}]
[null,null,null,null,null,null,null,null,null,null,null,null,null,null,"Y5",{"$f":"IF(AND(K8=0,L8=0),\"\",IF(K8<L8,I6,I9))","v":""},null,null,null,null,null,null,null,null,null,null,null,null,null,null,null,null,null,null,null,"Y15",{"$f":"IF(AND(AF18=0,AG18=0),\"\",IF(AF18<AG18,AD16,AD20))","v":""},null,null,null,null,null,"3."]
[null,null,null,null,null,null,null,"Y3",{"$f":"IF(AND(D12=0,E12=0),\"\",IF(D12<E12,B11,B13))","v":""},null,null,null,null,null,null,null,null,{"$f":"+BT13","v":0},{"$f":"+BU13","v":0},"Y11",null,11,{"$f":"IF(AND(R22=0,S22=0),\"\",IF(R22>S22,P21,P23))","v":""}]
[null,null,null,null,null,null,null,null,null,null,{"$f":"+BT10","v":0},{"$f":"+BU10","v":0},"Y8",null,8,{"$f":"IF(AND(K23=0,L23=0),\"\",IF(K23>L23,I22,I24))","v":""},null,null,null,null,null,null,null,null,null,null,null,null,"Y13",{"$f":"IF(AND(Y20=0,Z20=0),\"\",IF(Y20<Z20,W18,W22))","v":""},null,null,null,null,null,null,"4."]
[null,null,null,null,null,null,null,"Y4",{"$f":"IF(AND(D15=0,E15=0),\"\",IF(D15<E15,B14,B16))","v":""}]
[null,null,null,null,null,null,null,null,null,null,null,null,null,null,null,null,null,null,null,null,null,"Y10",{"$f":"IF(AND(R18=0,S18=0),\"\",IF(R18<S18,P17,P19))","v":""}]
[null,null,null,null,null,null,null,null,null,null,null,null,null,null,null,null,null,null,null,null,null,null,null,null,{"$f":"+BT16","v":0},{"$f":"+BU16","v":0},"Y14",null,14,{"$f":"IF(AND(Y26=0,Z26=0),\"\",IF(Y26>Z26,W25,W27))","v":""},null,null,null,null,null,null,"5."]
[null,null,null,null,null,null,null,null,null,null,null,null,null,null,null,null,null,null,null,null,null,"Y11",{"$f":"IF(AND(R22=0,S22=0),\"\",IF(R22<S22,P21,P23))","v":""}]
[null,null,null,null,null,null,null,null,null,null,null,null,null,null,null,null,null,null,null,null,null,null,null,null,null,null,null,null,"Y14",{"$f":"IF(AND(Y26=0,Z26=0),\"\",IF(Y26<Z26,W25,W27))","v":""},null,null,null,null,null,null,"6."]
[]
[null,null,null,null,null,null,null,null,null,null,null,null,null,null,"Y7",{"$f":"IF(AND(K19=0,L19=0),\"\",IF(K19<L19,I18,I20))","v":""}]
[null,null,null,null,null,null,null,null,null,null,null,null,null,null,null,null,null,{"$f":"+BT14","v":0},{"$f":"+BU14","v":0},"Y12",null,12,{"$f":"IF(AND(R31=0,S31=0),\"\",IF(R31>S31,P30,P32))","v":""},null,null,null,null,null,null,"7."]
[null,null,null,null,null,null,null,null,null,null,null,null,null,null,"Y8",{"$f":"IF(AND(K23=0,L23=0),\"\",IF(K23<L23,I22,I24))","v":""}]
[null,null,null,null,null,null,null,null,null,null,null,null,null,null,null,null,null,null,null,null,null,"Y12",{"$f":"IF(AND(R31=0,S31=0),\"\",IF(R31<S31,P30,P32))","v":""},null,null,null,null,null,null,"8."]

{"sheet":"8TE","index":14,"n_rows":34,"n_cols":105,"rows_kept":34,"cut":false,"hidden":false,"merged":[[29,15,29,21],[30,22,30,28],[33,22,33,28],[24,22,24,28],[27,22,27,28],[31,15,31,21],[24,8,24,14],[25,15,25,21],[26,8,26,14],[21,8,21,14],[22,15,22,21],[23,8,23,14],[12,1,12,7],[12,15,12,21],[1,71,1,72],[4,1,4,7],[5,8,5,14],[6,1,6,7],[7,1,7,7],[7,15,7,21],[1,61,1,62],[1,63,1,64],[1,65,1,66],[1,67,1,68],[1,69,1,70],[14,22,14,28],[20,22,20,28],[0,0,1,29],[2,0,3,29],[17,22,17,28],[18,15,18,21],[13,1,13,7],[14,8,14,14],[15,1,15,7],[16,1,16,7],[16,15,16,21],[8,8,8,14],[9,1,9,7],[10,1,10,7],[10,22,10,28],[11,8,11,14]]}
[{"$f":"Kura!AC1","v":"TÜRKİYE MASA TENİSİ FEDERASYONU\nGENÇLER TAKIM KUZEYDOĞU BÖLGE YARIŞMALARI"},null,null,null,null,null,null,null,null,null,null,null,null,null,null,null,null,null,null,null,null,null,null,null,null,null,null,null,null,null,null,null,null,null,null,null,null,null,null,null,null,null,null,null,null,null,null,null,null,null,null,null,null,null,null,null,null,null,null,null,null,null,null,null,null,null,null,null,null,null,null,null,null,null,null,null,null,null,null,null,null,null,null,null,null,null,null,null,null,null,null,null,null,null,null,null,null,null,null,null,null,null,null,"1st Round",3]
[null,null,null,null,null,null,null,null,null,null,null,null,null,null,null,null,null,null,null,null,null,null,null,null,null,null,null,null,null,null,null,null,null,null,null,null,null,null,null,null,null,null,null,null,null,null,null,null,null,null,null,null,null,null,"#","Date","Time","Table","Competition","Player A","Player B","Set1",null,"Set2",null,"Set3",null,"Set4",null,"Set5",null,"Result",null,null,null,null,null,null,null,null,null,null,null,null,null,null,null,null,null,null,null,null,null,null,null,null,null,null,null,null,null,null,null,"2sn Round"]
[{"$f":"Kura!AC2&\" \"&Kura!AE3","v":"KIZ TAKIM  [15-16 Mart 2025 TRABZON] [ Ana Tablo ]"},null,null,null,null,null,null,null,null,null,null,null,null,null,null,null,null,null,null,null,null,null,null,null,null,null,null,null,null,null,null,null,null,null,null,null,null,null,null,null,null,null,null,null,null,null,null,null,null,null,null,null,null,null,1,"16..03.2025",null,null,null,{"$f":"+B5","v":"ÇORUM BLD. SPOR (A) (ÇRM)"},{"$f":"+B7","v":"BAYBURT GMSK (A) (BYB)"},null,null,null,null,null,null,null,null,null,null,3,0,null,null,null,null,null,null,null,null,null,null,null,null,null,null,null,null,null,null,null,null,null,null,null,null,null,null,null,null,null,null,"3th Round"]
[null,null,null,null,null,null,null,null,null,null,null,null,null,null,null,null,null,null,null,null,null,null,null,null,null,null,null,null,null,null,null,null,null,null,null,null,null,null,null,null,null,null,null,null,null,null,null,null,null,null,null,null,null,null,2,"16..03.2025",null,null,null,{"$f":"+B8","v":"FINDIKLI 1974 SPOR (A) (RİZ)"},{"$f":"+B10","v":"KUTLUBEY OKULLARI (A) (AMS)"},null,null,null,null,null,null,null,null,null,null,3,0]
[1,{"$f":"IF(Main!R2=2,Eleme!BL252,IF(Main!R2=3,Eleme!BL510,IF(Main!R2=4,Eleme!BL640,IF(Main!R2=5,Eleme!BL706,IF(Main!R2=6,Eleme!BL740,IF(Main!R2=7,Eleme!F758))))))","v":"ÇORUM BLD. SPOR (A) (ÇRM)"},null,null,null,null,null,null,null,null,null,null,null,null,null,null,null,null,null,null,null,null,null,null,null,null,null,null,null,null,null,null,null,null,null,null,null,null,null,null,null,null,null,null,null,null,null,null,null,null,null,null,null,null,3,"16..03.2025",null,null,null,{"$f":"+B11","v":"ŞAFAKTEPE SK (A) (ANK)"},{"$f":"+B13","v":"BEŞİKDÜZÜ AYYILDIZ SPOR (A) (TRB)"},null,null,null,null,null,null,null,null,null,null,3,0]
[null,null,null,{"$f":"+BT3","v":3},{"$f":"+BU3","v":0},"Y-A",null,1,{"$f":"IF(AND(D6=0,E6=0),\"\",IF(D6>E6,B5,B7))","v":"ÇORUM BLD. SPOR (A) (ÇRM)"},null,null,null,null,null,null,null,null,null,null,null,null,null,null,null,null,null,null,null,null,null,null,null,null,null,null,null,null,null,null,null,null,null,null,null,null,null,null,null,null,null,null,null,null,null,4,"16..03.2025",null,null,null,{"$f":"+B14","v":"YALIKÖY ŞBÇ OO (A) (GRS)"},{"$f":"+B16","v":"ÇORUM GENÇLİK SPOR (A) (ÇRM)"},null,null,null,null,null,null,null,null,null,null,null,3]
[2,{"$f":"IF(Main!R2=2,Eleme!BM252,IF(Main!R2=3,Eleme!BM510,IF(Main!R2=4,Eleme!BM640,IF(Main!R2=5,Eleme!BM706,IF(Main!R2=6,Eleme!BM740,IF(Main!R2=7,Eleme!F760))))))","v":"BAYBURT GMSK (A) (BYB)"},null,null,null,null,null,null,null,null,null,null,null,null,5,null,null,null,null,null,null,null,null,null,null,null,null,null,null,null,null,null,null,null,null,null,null,null,null,null,null,null,null,null,null,null,null,null,null,null,null,null,null,null,5,"16..03.2025",null,null,null,{"$f":"+I6","v":"ÇORUM BLD. SPOR (A) (ÇRM)"},{"$f":"+I9","v":"FINDIKLI 1974 SPOR (A) (RİZ)"},null,null,null,null,null,null,null,null,null,null,3,0]
[3,{"$f":"IF(Main!R2=2,Eleme!BL253,IF(Main!R2=3,Eleme!BL511,IF(Main!R2=4,Eleme!BL641,IF(Main!R2=5,Eleme!BL707,IF(Main!R2=6,Eleme!BL741,IF(Main!R2=7,Eleme!F761))))))","v":"FINDIKLI 1974 SPOR (A) (RİZ)"},null,null,null,null,null,null,null,null,{"$f":"+BT7","v":3},{"$f":"+BU7","v":0},"Y-E",null,null,{"$f":"IF(AND(K8=0,L8=0),\"\",IF(K8>L8,I6,I9))","v":"ÇORUM BLD. SPOR (A) (ÇRM)"},null,null,null,null,null,null,null,null,null,null,null,null,null,null,null,null,null,null,null,null,null,null,null,null,null,null,null,null,null,null,null,null,null,null,null,null,null,null,6,"16..03.2025",null,null,null,{"$f":"+I12","v":"ŞAFAKTEPE SK (A) (ANK)"},{"$f":"+I15","v":"ÇORUM GENÇLİK SPOR (A) (ÇRM)"},null,null,null,null,null,null,null,null,null,null,3,1]
[null,null,null,{"$f":"+BT4","v":3},{"$f":"+BU4","v":0},"Y-B",null,2,{"$f":"IF(AND(D9=0,E9=0),\"\",IF(D9>E9,B8,B10))","v":"FINDIKLI 1974 SPOR (A) (RİZ)"},null,null,null,null,null,null,null,null,null,null,null,null,9,null,null,null,null,null,null,null,null,null,null,null,null,null,null,null,null,null,null,null,null,null,null,null,null,null,null,null,null,null,null,null,null,7,"16..03.2025",null,null,null,{"$f":"+I22","v":"BAYBURT GMSK (A) (BYB)"},{"$f":"+I24","v":"KUTLUBEY OKULLARI (A) (AMS)"},null,null,null,null,null,null,null,null,null,null,0,3]
[4,{"$f":"IF(Main!R2=2,Eleme!BM253,IF(Main!R2=3,Eleme!BM511,IF(Main!R2=4,Eleme!BM641,IF(Main!R2=5,Eleme!BM707,IF(Main!R2=6,Eleme!BM741,IF(Main!R2=7,Eleme!F763))))))","v":"KUTLUBEY OKULLARI (A) (AMS)"},null,null,null,null,null,null,null,null,null,null,null,null,null,null,null,null,null,null,null,null,null,null,null,null,null,null,null,null,null,null,null,null,null,null,null,null,null,null,null,null,null,null,null,null,null,null,null,null,null,null,null,null,8,"16..03.2025",null,null,null,{"$f":"+I25","v":"BEŞİKDÜZÜ AYYILDIZ SPOR (A) (TRB)"},{"$f":"+I27","v":"YALIKÖY ŞBÇ OO (A) (GRS)"},null,null,null,null,null,null,null,null,null,null,3]
[5,{"$f":"IF(Main!R2=2,Eleme!BL254,IF(Main!R2=3,Eleme!BL512,IF(Main!R2=4,Eleme!BL642,IF(Main!R2=5,Eleme!BL708,IF(Main!R2=6,Eleme!BL742,IF(Main!R2=7,Eleme!F764))))))","v":"ŞAFAKTEPE SK (A) (ANK)"},null,null,null,null,null,null,null,null,null,null,null,null,null,null,null,{"$f":"+BT11","v":3},{"$f":"+BU11","v":2},"Y-I",null,null,{"$f":"IF(AND(R11=0,S11=0),\"\",IF(R11>S11,P8,P13))","v":"ÇORUM BLD. SPOR (A) (ÇRM)"},null,null,null,null,null,null,"1.",null,null,null,null,null,null,null,null,null,null,null,null,null,null,null,null,null,null,null,null,null,null,null,null,9,"16..03.2025",null,null,null,{"$f":"+P8","v":"ÇORUM BLD. SPOR (A) (ÇRM)"},{"$f":"+P13","v":"ŞAFAKTEPE SK (A) (ANK)"},null,null,null,null,null,null,null,null,null,null,3,2]
[null,null,null,{"$f":"+BT5","v":3},{"$f":"+BU5","v":0},"Y-C",null,3,{"$f":"IF(AND(D12=0,E12=0),\"\",IF(D12>E12,B11,B13))","v":"ŞAFAKTEPE SK (A) (ANK)"},null,null,null,null,null,null,null,null,null,null,null,null,null,null,null,null,null,null,null,null,null,null,null,null,null,null,null,null,null,null,null,null,null,null,null,null,null,null,null,null,null,null,null,null,null,10,"16..03.2025",null,null,null,{"$f":"+P17","v":"FINDIKLI 1974 SPOR (A) (RİZ)"},{"$f":"+P19","v":"ÇORUM GENÇLİK SPOR (A) (ÇRM)"},null,null,null,null,null,null,null,null,null,null,1,3]
[6,{"$f":"IF(Main!R2=2,Eleme!BM254,IF(Main!R2=3,Eleme!BM512,IF(Main!R2=4,Eleme!BM642,IF(Main!R2=5,Eleme!BM708,IF(Main!R2=6,Eleme!BM742,IF(Main!R2=7,Eleme!F766))))))","v":"BEŞİKDÜZÜ AYYILDIZ SPOR (A) (TRB)"},null,null,null,null,null,null,null,null,null,null,null,null,6,{"$f":"IF(AND(K14=0,L14=0),\"\",IF(K14>L14,I12,I15))","v":"ŞAFAKTEPE SK (A) (ANK)"},null,null,null,null,null,null,null,null,null,null,null,null,null,null,null,null,null,null,null,null,null,null,null,null,null,null,null,null,null,null,null,null,null,null,null,null,null,null,11,"16..03.2025",null,null,null,{"$f":"+P23","v":"KUTLUBEY OKULLARI (A) (AMS)"},{"$f":"+P26","v":"BEŞİKDÜZÜ AYYILDIZ SPOR (A) (TRB)"},null,null,null,null,null,null,null,null,null,null,3,1]
[7,{"$f":"IF(Main!R2=2,Eleme!BL255,IF(Main!R2=3,Eleme!BL513,IF(Main!R2=4,Eleme!BL643,IF(Main!R2=5,Eleme!BL709,IF(Main!R2=6,Eleme!BL743,IF(Main!R2=7,Eleme!F767))))))","v":"YALIKÖY ŞBÇ OO (A) (GRS)"},null,null,null,null,null,null,null,null,{"$f":"+BT8","v":3},{"$f":"+BU8","v":1},"Y-F",null,null,null,null,null,null,null,null,null,null,null,null,null,null,null,null,null,null,null,null,null,null,null,null,null,null,null,null,null,null,null,null,null,null,null,null,null,null,null,null,null,12,"16..03.2025",null,null,null,{"$f":"+P30","v":"BAYBURT GMSK (A) (BYB)"},{"$f":"+P32","v":"YALIKÖY ŞBÇ OO (A) (GRS)"},null,null,null,null,null,null,null,null,null,null,3]
[null,null,null,null,{"$f":"+BU6","v":3},"Y-D",null,4,{"$f":"IF(AND(D15=0,E15=0),\"\",IF(D15>E15,B14,B16))","v":"ÇORUM GENÇLİK SPOR (A) (ÇRM)"},null,null,null,null,null,null,null,null,null,null,null,null,"I",{"$f":"IF(AND(R11=0,S11=0),\"\",IF(R11<S11,P8,P13))","v":"ŞAFAKTEPE SK (A) (ANK)"},null,null,null,null,null,null,"2."]
[8,{"$f":"IF(Main!R2=2,Eleme!BM255,IF(Main!R2=3,Eleme!BM513,IF(Main!R2=4,Eleme!BM643,IF(Main!R2=5,Eleme!BM709,IF(Main!R2=6,Eleme!BM743,IF(Main!R2=7,Eleme!F769))))))","v":"ÇORUM GENÇLİK SPOR (A) (ÇRM)"}]
[null,null,null,null,null,null,null,null,null,null,null,null,null,null,"E",{"$f":"IF(AND(K8=0,L8=0),\"\",IF(K8<L8,I6,I9))","v":"FINDIKLI 1974 SPOR (A) (RİZ)"}]
[null,null,null,null,null,null,null,null,null,null,null,null,null,null,null,null,null,{"$f":"+BT12","v":1},{"$f":"+BU12","v":3},"Y-J",null,10,{"$f":"IF(AND(R18=0,S18=0),\"\",IF(R18>S18,P17,P19))","v":"ÇORUM GENÇLİK SPOR (A) (ÇRM)"},null,null,null,null,null,null,"3."]
[null,null,null,null,null,null,null,null,null,null,null,null,null,null,"F",{"$f":"IF(AND(K14=0,L14=0),\"\",IF(K14<L14,I12,I15))","v":"ÇORUM GENÇLİK SPOR (A) (ÇRM)"}]
[]
[null,null,null,null,null,null,null,null,null,null,null,null,null,null,null,null,null,null,null,null,null,"J",{"$f":"IF(AND(R18=0,S18=0),\"\",IF(R18<S18,P17,P19))","v":"FINDIKLI 1974 SPOR (A) (RİZ)"},null,null,null,null,null,null,"4."]
[null,null,null,null,null,null,null,"A",{"$f":"IF(AND(D6=0,E6=0),\"\",IF(D6<E6,B5,B7))","v":"BAYBURT GMSK (A) (BYB)"}]
[null,null,null,null,null,null,null,null,null,null,{"$f":"+BT9","v":0},{"$f":"+BU9","v":3},"Y-G",null,7,{"$f":"IF(AND(K23=0,L23=0),\"\",IF(K23>L23,I22,I24))","v":"KUTLUBEY OKULLARI (A) (AMS)"}]
[null,null,null,null,null,null,null,"B",{"$f":"IF(AND(D9=0,E9=0),\"\",IF(D9<E9,B8,B10))","v":"KUTLUBEY OKULLARI (A) (AMS)"},null,null,null,null,null,null,null,null,null,null,null,null,11]
[null,null,null,null,null,null,null,"C",{"$f":"IF(AND(D12=0,E12=0),\"\",IF(D12<E12,B11,B13))","v":"BEŞİKDÜZÜ AYYILDIZ SPOR (A) (TRB)"},null,null,null,null,null,null,null,null,{"$f":"+BT13","v":3},{"$f":"+BU13","v":1},"Y-K",null,null,{"$f":"IF(AND(R25=0,S25=0),\"\",IF(R25>S25,P23,P26))","v":"KUTLUBEY OKULLARI (A) (AMS)"},null,null,null,null,null,null,"5."]
[null,null,null,null,null,null,null,null,null,null,{"$f":"+BT10","v":3},{"$f":"+BU10","v":0},"Y-H",null,8,{"$f":"IF(AND(K26=0,L26=0),\"\",IF(K26>L26,I25,I27))","v":"BEŞİKDÜZÜ AYYILDIZ SPOR (A) (TRB)"}]
[null,null,null,null,null,null,null,"D",{"$f":"IF(AND(D15=0,E15=0),\"\",IF(D15<E15,B14,B16))","v":"YALIKÖY ŞBÇ OO (A) (GRS)"}]
[null,null,null,null,null,null,null,null,null,null,null,null,null,null,null,null,null,null,null,null,null,"K",{"$f":"IF(AND(R25=0,S25=0),\"\",IF(R25<S25,P23,P26))","v":"BEŞİKDÜZÜ AYYILDIZ SPOR (A) (TRB)"},null,null,null,null,null,null,"6."]
[]
[null,null,null,null,null,null,null,null,null,null,null,null,null,null,"G",{"$f":"IF(AND(K23=0,L23=0),\"\",IF(K23<L23,I22,I24))","v":"BAYBURT GMSK (A) (BYB)"}]
[null,null,null,null,null,null,null,null,null,null,null,null,null,null,null,null,null,{"$f":"+BT14","v":3},{"$f":"+BU14","v":0},"Y-L",null,12,{"$f":"IF(AND(R31=0,S31=0),\"\",IF(R31>S31,P30,P32))","v":"BAYBURT GMSK (A) (BYB)"},null,null,null,null,null,null,"7."]
[null,null,null,null,null,null,null,null,null,null,null,null,null,null,"H",{"$f":"IF(AND(K26=0,L26=0),\"\",IF(K26<L26,I25,I27))","v":"YALIKÖY ŞBÇ OO (A) (GRS)"}]
[]
[null,null,null,null,null,null,null,null,null,null,null,null,null,null,null,null,null,null,null,null,null,"L",{"$f":"IF(AND(R31=0,S31=0),\"\",IF(R31<S31,P30,P32))","v":"YALIKÖY ŞBÇ OO (A) (GRS)"},null,null,null,null,null,null,"8."]

{"sheet":"Cift_Mix","index":15,"n_rows":25,"n_cols":1217,"rows_kept":25,"cut":false,"hidden":true,"merged":[[0,1,0,7],[0,23,2,36],[1,8,1,14],[1,75,1,76],[1,77,1,78],[1,81,1,82],[1,83,1,84],[1,85,1,86],[2,1,2,7],[3,1,3,7],[3,15,3,21],[3,23,4,36],[4,8,4,14],[1,79,1,80],[12,29,12,35],[13,8,13,14],[5,1,5,7],[6,1,6,7],[6,22,6,28],[7,8,7,14],[8,1,8,7],[8,15,8,21],[17,22,17,28],[9,1,9,7],[10,8,10,14],[11,1,11,7],[12,1,12,7],[14,1,14,7],[15,1,15,7],[15,15,15,21],[16,8,16,14],[17,1,17,7],[18,1,18,7],[18,22,18,28],[18,29,18,35],[19,8,19,14],[20,1,20,7],[20,15,20,21],[22,29,22,35],[21,1,21,7],[22,8,22,14],[23,1,23,7],[20,29,20,35]]}
[1,{"$f":"IF(Main!R2=2,Eleme!BL244,IF(Main!R2=3,Eleme!BL502,IF(Main!R2=4,Eleme!BL632,IF(Main!R2=5,Eleme!BL698,IF(Main!R2=6,Eleme!BL732)))))","v":false},null,null,null,null,null,null,null,null,null,null,null,null,null,null,null,null,null,null,null,null,null,{"$f":"Kura!AC1","v":"TÜRKİYE MASA TENİSİ FEDERASYONU\nGENÇLER TAKIM KUZEYDOĞU BÖLGE YARIŞMALARI"},null,null,null,null,null,null,null,null,null,null,null,null,null,null,null,null,null,null,null,null,null,null,null,null,null,null,null,null,null,null,null,null,null,null,null,null,null,null,null,null,null,null,null,null,null,null,null,null,null,null,null,null,null,null,null,null,null,null,null,null,null,null,null,null,null,null,null,null,null,null,null,null,null,null,null,null,null,null,null,"1st Round",1]
[null,null,null,{"$f":"CH3","v":0},{"$f":"CI3","v":0},null,null,1,{"$f":"IF(AND(D2=0,E2=0),\"\",IF(D2>E2,B1,B3))","v":""},null,null,null,null,null,null,null,null,null,null,null,null,null,null,null,null,null,null,null,null,null,null,null,null,null,null,null,null,null,null,null,null,null,null,null,null,null,null,null,null,null,null,null,null,null,null,null,null,null,null,null,null,null,null,null,null,null,null,null,"#","Date","Time","Table","Competition","Player A","Player B","Set1",null,"Set2",null,"Set3",null,"Set4",null,"Set5",null,"Result",null,null,null,null,null,null,null,null,null,null,null,null,null,null,null,null,null,"2sn Round"]
[2,{"$f":"IF(Main!R2=2,Eleme!BM244,IF(Main!R2=3,Eleme!BM502,IF(Main!R2=4,Eleme!BM632,IF(Main!R2=5,Eleme!BM698,IF(Main!R2=6,Eleme!BM732)))))","v":false},null,null,null,null,null,null,null,null,null,null,null,null,9,null,null,null,null,null,null,null,null,null,null,null,null,null,null,null,null,null,null,null,null,null,null,null,null,null,null,null,null,null,null,null,null,null,null,null,null,null,null,null,null,null,null,null,null,null,null,null,null,null,null,null,null,null,1,null,null,null,null,{"$f":"B1","v":false},{"$f":"B3","v":false},null,null,null,null,null,null,null,null,null,null,null,null,null,null,null,null,null,null,null,null,null,null,null,null,null,null,null,null,"3th Round"]
[3,{"$f":"IF(Main!R2=2,Eleme!BL245,IF(Main!R2=3,Eleme!BL503,IF(Main!R2=4,Eleme!BL633,IF(Main!R2=5,Eleme!BL699,IF(Main!R2=6,Eleme!BL733)))))","v":false},null,null,null,null,null,null,null,null,{"$f":"CH11","v":0},{"$f":"CI11","v":0},null,null,null,{"$f":"IF(AND(K4=0,L4=0),\"\",IF(K4>L4,I2,I5))","v":""},null,null,null,null,null,null,null,{"$f":"Kura!AC2&\" \"&Kura!AE3","v":"KIZ TAKIM  [15-16 Mart 2025 TRABZON] [ Ana Tablo ]"},null,null,null,null,null,null,null,null,null,null,null,null,null,null,null,null,null,null,null,null,null,null,null,null,null,null,null,null,null,null,null,null,null,null,null,null,null,null,null,null,null,null,null,null,2,null,null,null,null,{"$f":"B4","v":false},{"$f":"B6","v":false},null,null,null,null,null,null,null,null,null,null,null,null,null,null,null,null,null,null,null,null,null,null,null,null,null,null,null,null,"4th Round"]
[null,null,null,{"$f":"CH4","v":0},{"$f":"CI4","v":0},null,null,2,{"$f":"IF(AND(D5=0,E5=0),\"\",IF(D5>E5,B4,B6))","v":""},null,null,null,null,null,null,null,null,null,null,null,null,13,null,null,null,null,null,null,null,null,null,null,null,null,null,null,null,null,null,null,null,null,null,null,null,null,null,null,null,null,null,null,null,null,null,null,null,null,null,null,null,null,null,null,null,null,null,null,3,null,null,null,null,{"$f":"B7","v":false},{"$f":"B9","v":false}]
[4,{"$f":"IF(Main!R2=2,Eleme!BM245,IF(Main!R2=3,Eleme!BM503,IF(Main!R2=4,Eleme!BM633,IF(Main!R2=5,Eleme!BM699,IF(Main!R2=6,Eleme!BM733)))))","v":false},null,null,null,null,null,null,null,null,null,null,null,null,null,null,null,null,null,null,null,null,null,null,null,null,null,null,null,null,null,null,null,null,null,null,null,null,null,null,null,null,null,null,null,null,null,null,null,null,null,null,null,null,null,null,null,null,null,null,null,null,null,null,null,null,null,null,4,null,null,null,null,{"$f":"B10","v":false},{"$f":"B12","v":false}]
[5,{"$f":"IF(Main!R2=2,Eleme!BL246,IF(Main!R2=3,Eleme!BL504,IF(Main!R2=4,Eleme!BL634,IF(Main!R2=5,Eleme!BL700,IF(Main!R2=6,Eleme!BL734)))))","v":false},null,null,null,null,null,null,null,null,null,null,null,null,null,null,null,{"$f":"CH15","v":0},{"$f":"CI15","v":0},null,null,null,{"$f":"IF(AND(R7=0,S7=0),\"\",IF(R7>S7,P4,P9))","v":""},null,null,null,null,null,null,null,null,null,null,null,null,null,null,null,null,null,null,null,null,null,null,null,null,null,null,null,null,null,null,null,null,null,null,null,null,null,null,null,null,null,null,null,null,null,5,null,null,null,null,{"$f":"B13","v":false},{"$f":"B15","v":false}]
[null,null,null,{"$f":"CH5","v":0},{"$f":"CI5","v":0},null,null,3,{"$f":"IF(AND(D8=0,E8=0),\"\",IF(D8>E8,B7,B9))","v":""},null,null,null,null,null,null,null,null,null,null,null,null,null,null,null,null,null,null,null,15,null,null,null,null,null,null,null,null,null,null,null,null,null,null,null,null,null,null,null,null,null,null,null,null,null,null,null,null,null,null,null,null,null,null,null,null,null,null,null,6,null,null,null,null,{"$f":"B16","v":false},{"$f":"B18","v":false}]
[6,{"$f":"IF(Main!R2=2,Eleme!BM246,IF(Main!R2=3,Eleme!BM504,IF(Main!R2=4,Eleme!BM634,IF(Main!R2=5,Eleme!BM700,IF(Main!R2=6,Eleme!BM734)))))","v":false},null,null,null,null,null,null,null,null,null,null,null,null,10,{"$f":"IF(AND(K10=0,L10=0),\"\",IF(K10>L10,I8,I11))","v":""},null,null,null,null,null,null,null,null,null,null,null,null,null,null,null,null,null,null,null,null,null,null,null,null,null,null,null,null,null,null,null,null,null,null,null,null,null,null,null,null,null,null,null,null,null,null,null,null,null,null,null,null,7,null,null,null,null,{"$f":"B19","v":false},{"$f":"B21","v":false}]
[7,{"$f":"IF(Main!R2=2,Eleme!BL247,IF(Main!R2=3,Eleme!BL505,IF(Main!R2=4,Eleme!BL635,IF(Main!R2=5,Eleme!BL701,IF(Main!R2=6,Eleme!BL735)))))","v":false},null,null,null,null,null,null,null,null,{"$f":"CH12","v":0},{"$f":"CI12","v":0},null,null,null,null,null,null,null,null,null,null,null,null,null,null,null,null,null,null,null,null,null,null,null,null,null,null,null,null,null,null,null,null,null,null,null,null,null,null,null,null,null,null,null,null,null,null,null,null,null,null,null,null,null,null,null,null,8,null,null,null,null,{"$f":"B22","v":false},{"$f":"B24","v":false}]
[null,null,null,{"$f":"CH6","v":0},{"$f":"CI6","v":0},null,null,4,{"$f":"IF(AND(D11=0,E11=0),\"\",IF(D11>E11,B10,B12))","v":""},null,null,null,null,null,null,null,null,null,null,null,null,null,null,null,null,null,null,null,null,null,null,null,null,null,null,null,null,null,null,null,null,null,null,null,null,null,null,null,null,null,null,null,null,null,null,null,null,null,null,null,null,null,null,null,null,null,null,null,9,null,null,null,null,{"$f":"I2","v":""},{"$f":"I5","v":""}]
[8,{"$f":"IF(Main!R2=2,Eleme!BM247,IF(Main!R2=3,Eleme!BM505,IF(Main!R2=4,Eleme!BM635,IF(Main!R2=5,Eleme!BM701,IF(Main!R2=6,Eleme!BM735)))))","v":false},null,null,null,null,null,null,null,null,null,null,null,null,null,null,null,null,null,null,null,null,null,null,null,null,null,null,null,null,null,null,null,null,null,null,null,null,null,null,null,null,null,null,null,null,null,null,null,null,null,null,null,null,null,null,null,null,null,null,null,null,null,null,null,null,null,null,10,null,null,null,null,{"$f":"I8","v":""},{"$f":"I11","v":""}]
[9,{"$f":"IF(Main!R2=2,Eleme!BL248,IF(Main!R2=3,Eleme!BL506,IF(Main!R2=4,Eleme!BL636,IF(Main!R2=5,Eleme!BL702,IF(Main!R2=6,Eleme!BL736)))))","v":false},null,null,null,null,null,null,null,null,null,null,null,null,null,null,null,null,null,null,null,null,null,null,{"$f":"CH17","v":0},{"$f":"+CI17","v":0},null,null,null,{"$f":"IF(AND(Y13=0,Z13=0),\"\",IF(Y13>Z13,W7,W18))","v":""},null,null,null,null,null,null,"1.",null,null,null,null,null,null,null,null,null,null,null,null,null,null,null,null,null,null,null,null,null,null,null,null,null,null,null,null,null,null,null,11,null,null,null,null,{"$f":"I14","v":""},{"$f":"I17","v":""}]
[null,null,null,{"$f":"CH7","v":0},{"$f":"CI7","v":0},null,null,5,{"$f":"IF(AND(D14=0,E14=0),\"\",IF(D14>E14,B13,B15))","v":""},null,null,null,null,null,null,null,null,null,null,null,null,null,null,null,null,null,null,null,null,null,null,null,null,null,null,null,null,null,null,null,null,null,null,null,null,null,null,null,null,null,null,null,null,null,null,null,null,null,null,null,null,null,null,null,null,null,null,null,12,null,null,null,null,{"$f":"I20","v":""},{"$f":"I23","v":""}]
[10,{"$f":"IF(Main!R2=2,Eleme!BM248,IF(Main!R2=3,Eleme!BM506,IF(Main!R2=4,Eleme!BM636,IF(Main!R2=5,Eleme!BM702,IF(Main!R2=6,Eleme!BM736)))))","v":false},null,null,null,null,null,null,null,null,null,null,null,null,11,null,null,null,null,null,null,null,null,null,null,null,null,null,null,null,null,null,null,null,null,null,null,null,null,null,null,null,null,null,null,null,null,null,null,null,null,null,null,null,null,null,null,null,null,null,null,null,null,null,null,null,null,null,13,null,null,null,null,{"$f":"+P4","v":""},{"$f":"+P9","v":""}]
[11,{"$f":"IF(Main!R2=2,Eleme!BL249,IF(Main!R2=3,Eleme!BL507,IF(Main!R2=4,Eleme!BL637,IF(Main!R2=5,Eleme!BL703,IF(Main!R2=6,Eleme!BL737)))))","v":false},null,null,null,null,null,null,null,null,{"$f":"CH13","v":0},{"$f":"CI13","v":0},null,null,null,{"$f":"IF(AND(K16=0,L16=0),\"\",IF(K16>L16,I14,I17))","v":""},null,null,null,null,null,null,null,null,null,null,null,null,null,null,null,null,null,null,null,null,null,null,null,null,null,null,null,null,null,null,null,null,null,null,null,null,null,null,null,null,null,null,null,null,null,null,null,null,null,null,null,null,14,null,null,null,null,{"$f":"+P16","v":""},{"$f":"+P21","v":""}]
[null,null,null,{"$f":"CH8","v":0},{"$f":"CI8","v":0},null,null,6,{"$f":"IF(AND(D17=0,E17=0),\"\",IF(D17>E17,B16,B18))","v":""},null,null,null,null,null,null,null,null,null,null,null,null,14,null,null,null,null,null,null,null,null,null,null,null,null,null,null,null,null,null,null,null,null,null,null,null,null,null,null,null,null,null,null,null,null,null,null,null,null,null,null,null,null,null,null,null,null,null,null,15,null,null,null,null,{"$f":"+W7","v":""},{"$f":"+W18","v":""}]
[12,{"$f":"IF(Main!R2=2,Eleme!BM249,IF(Main!R2=3,Eleme!BM507,IF(Main!R2=4,Eleme!BM637,IF(Main!R2=5,Eleme!BM703,IF(Main!R2=6,Eleme!BM737)))))","v":false},null,null,null,null,null,null,null,null,null,null,null,null,null,null,null,null,null,null,null,null,{"$f":"IF(AND(R19=0,S19=0),\"\",IF(R19>S19,P16,P21))","v":""}]
[13,{"$f":"IF(Main!R2=2,Eleme!BL250,IF(Main!R2=3,Eleme!BL508,IF(Main!R2=4,Eleme!BL638,IF(Main!R2=5,Eleme!BL704,IF(Main!R2=6,Eleme!BL738)))))","v":false},null,null,null,null,null,null,null,null,null,null,null,null,null,null,null,{"$f":"CH16","v":0},{"$f":"CI16","v":0},null,null,null,null,null,null,null,null,null,null,{"$f":"IF(AND(Y13=0,Z13=0),\"\",IF(Y13<Z13,W7,W18))","v":""},null,null,null,null,null,null,"2."]
[null,null,null,{"$f":"CH9","v":0},{"$f":"CI9","v":0},null,null,7,{"$f":"IF(AND(D20=0,E20=0),\"\",IF(D20>E20,B19,B21))","v":""}]
[14,{"$f":"IF(Main!R2=2,Eleme!BM250,IF(Main!R2=3,Eleme!BM508,IF(Main!R2=4,Eleme!BM638,IF(Main!R2=5,Eleme!BM704,IF(Main!R2=6,Eleme!BM738)))))","v":false},null,null,null,null,null,null,null,null,null,null,null,null,12,{"$f":"IF(AND(K22=0,L22=0),\"\",IF(K22>L22,I20,I23))","v":""},null,null,null,null,null,null,null,null,null,null,null,null,null,{"$f":"IF(AND(R7=0,S7=0),\"\",IF(R7<S7,P4,P9))","v":""},null,null,null,null,null,null,"3."]
[15,{"$f":"IF(Main!R2=2,Eleme!BL251,IF(Main!R2=3,Eleme!BL509,IF(Main!R2=4,Eleme!BL639,IF(Main!R2=5,Eleme!BL705,IF(Main!R2=6,Eleme!BL739)))))","v":false},null,null,null,null,null,null,null,null,{"$f":"CH14","v":0},{"$f":"CI14","v":0}]
[null,null,null,{"$f":"CH10","v":0},{"$f":"CI10","v":0},null,null,8,{"$f":"IF(AND(D23=0,E23=0),\"\",IF(D23>E23,B22,B24))","v":""},null,null,null,null,null,null,null,null,null,null,null,null,null,null,null,null,null,null,null,null,{"$f":"IF(AND(R19=0,S19=0),\"\",IF(R19<S19,P16,P21))","v":""},null,null,null,null,null,null,"3."]
[16,{"$f":"IF(Main!R2=2,Eleme!BM251,IF(Main!R2=3,Eleme!BM509,IF(Main!R2=4,Eleme!BM639,IF(Main!R2=5,Eleme!BM705,IF(Main!R2=6,Eleme!BM739)))))","v":false}]
[null,null,null,null,null,null,null,null,null,null,null,null,null,null,null,null,null,null,null,null,null,null,null,null,null,null,null,null,null,null,null,null,null,null,null,null,null,null,null,null,null,null,null,null,null,null,null,null,null,null,null,null,null,null,null,null,null,null,null,null,null,null,null,null,null,null,null,null,null,null,null,null,null,null,null,null,null,null,null,null,null,null,null,null,null,null,null,null,null,null,null,null,null,null,null,null,null,null,null,null,null,null,null,null,null,null,null,null,null,null,null,null,null,null,null,null,null,null,null,null,null,null,null,null,null,null,null,null,null,null,null,null,null,null,null,null,null,null,null,null,null,null,null,null,null,null,null,null,null,null,null,null,null,null,null,null,null,null,null,null,null,null,null,null,null,null,null,null,null,null,null,null,null,null,null,null,null,null,null,null,null,null,null,null,null,null,null,null,null,null,null,null,null,null,null,null,null,null,null,null,null,null,null,null,null,null,null,null,null,null,null,null,null,null,null,null,null,null,null,null,null,null,null,null,null,null,null,null,null,null,null,null,null,null,null,null,null,null,null,null,null,null,null,null,null,null,null,null,null,null,null,null,null,null,null,null,null,null,null,null,null,null,null,null,null,null,null,null,null,null,null,null,null,null,null,null,null,null,null,null,null,null,null,null,null,null,null,null,null,null,null,null,null,null,null,null,null,null,null,null,null,null,null,null,null,null,null,null,null,null,null,null,null,null,null,null,null,null,null,null,null,null,null,null,null,null,null,null,null,null,null,null,null,null,null,null,null,null,null,null,null,null,null,null,null,null,null,null,null,null,null,null,null,null,null,null,null,null,null,null,null,null,null,null,null,null,null,null,null,null,null,null,null,null,null,null,null,null,null,null,null,null,null,null,null,null,null,null,null,null,null,null,null,null,null,null,null,null,null,null,null,null,null,null,null,null,null,null,null,null,null,null,null,null,null,null,null,null,null,null,null,null,null,null,null,null,null,null,null,null,null,null,null,null,null,null,null,null,null,null,null,null,null,null,null,null,null,null,null,null,null,null,null,null,null,null,null,null,null,null,null,null,null,null,null,null,null,null,null,null,null,null,null,null,null,null,null,null,null,null,null,null,null,null,null,null,null,null,null,null,null,null,null,null,null,null,null,null,null,null,null,null,null,null,null,null,null,null,null,null,null,null,null,null,null,null,null,null,null,null,null,null,null,null,null,null,null,null,null,null,null,null,null,null,null,null,null,null,null,null,null,null,null,null,null,null,null,null,null,null,null,null,null,null,null,null,null,null,null,null,null,null,null,null,null,null,null,null,null,null,null,null,null,null,null,null,null,null,null,null,null,null,null,null,null,null,null,null,null,null,null,null,null,null,null,null,null,null,null,null,null,null,null,null,null,null,null,null,null,null,null,null,null,null,null,null,null,null,null,null,null,null,null,null,null,null,null,null,null,null,null,null,null,null,null,null,null,null,null,null,null,null,null,null,null,null,null,null,null,null,null,null,null,null,null,null,null,null,null,null,null,null,null,null,null,null,null,null,null,null,null,null,null,null,null,null,null,null,null,null,null,null,null,null,null,null,null,null,null,null,null,null,null,null,null,null,null,null,null,null,null,null,null,null,null,null,null,null,null,null,null,null,null,null,null,null,null,null,null,null,null,null,null,null,null,null,null,null,null,null,null,null,null,null,null,null,null,null,null,null,null,null,null,null,null,null,null,null,null,null,null,null,null,null,null,null,null,null,null,null,null,null,null,null,null,null,null,null,null,null,null,null,null,null,null,null,null,null,null,null,null,null,null,null,null,null,null,null,null,null,null,null,null,null,null,null,null,null,null,null,null,null,null,null,null,null,null,null,null,null,null,null,null,null,null,null,null,null,null,null,null,null,null,null,null,null,null,null,null,null,null,null,null,null,null,null,null,null,null,null,null,null,null,null,null,null,null,null,null,null,null,null,null,null,null,null,null,null,null,null,null,null,null,null,null,null,null,null,null,null,null,null,null,null,null,null,null,null,null,null,null,null,null,null,null,null,null,null,null,null,null,null,null,null,null,null,null,null,null,null,null,null,null,null,null,null,null,null,null,null,null,null,null,null,null,null,null,null,null,null,null,null,null,null,null,null,null,null,null,null,null,null,null,null,null,null,null,null,null,null,null,null,null,null,null,null,null,null,null,null,null,null,null,null,null,null,null,null,null,null,null,null,null,null,null,null,null,null,null,null,null,null,null,null,null,null,null,null,null,null,null,null,null,null,null,null,null,null,null,null,null,null,null,null,null,null,null,null,null,null,null,null,null,null,null,null,null,null,null,null,null,null,null,null,null,null,null,null,null,null,null,null,null,null,null,null,null,null,null,null,null,null,null,null,null,null,null,null,null,null,null,null,null,null,null,null,null,null,null,null,null,null,null,null,null,null,null,null,null,null,null,null,null,null,null,null,null,null,null,null,null,null,null,null,null,null,null,null,null,null,null,null,null,null,null,null,null,null,null,null,null,null,null,null,null,null,null,null,null,null,null,null,null,null,null,null,null,null,null,null,null,null,null,null,null,null,null,null,null,null,null,null,null,null,null,null,null,null,null,null,null,null,null,null,null,null,null,null,null,null,null,null,null,null,null,null,null,null,null,null,null,null,null,null,null,null,null,null,null,null,null,null,null,null,null,null,null,null,null,null,null,null,null,null,null,null,null,null,null,null,null,null,null,null,null,null,null,null,null,null,null,null,null,null,null,null,null,null,null,null,null,null,null,null,null,null,null,null,null,null,null,null,null,null,null,null,0]

{"sheet":"SIRALAMA","index":16,"n_rows":41,"n_cols":17,"rows_kept":41,"cut":false,"hidden":false,"merged":[[0,0,0,5],[1,0,1,4],[2,0,2,4]]}
[{"$f":"+Kura!$A$1","v":"TÜRKİYE MASA TENİSİ FEDERASYONU\nGENÇLER TAKIM KUZEYDOĞU BÖLGE YARIŞMALARI"},null,null,null,null,null,null,null,null,null,null,null,"32 (DE)",6,"--------",1,1]
["15-16 Mart 2025 TRABZON",null,null,null,null,null,null,null,null,null,null,null,"16 (DE)",null,"Ferdi"]
["KIZ TAKIM SIRALAMA",null,null,null,null,null,null,null,null,null,null,null,"16 (8DE)",null,"Takım"]
[null,null,null,null,null,null,null,null,null,null,null,null,"16 (TE)"]
[null,"Sıra","Takım","Takım Adı","İli","İli","Puan",null,null,null,null,null,"8DE"]
[null,1,{"$f":"'8TE'!W11","v":"ÇORUM BLD. SPOR (A) (ÇRM)"},{"$f":"VLOOKUP(C6,Kura!$Z$4:$AA$313,2,0)","v":"ÇORUM BLD. SPOR (A)"},{"$f":"VLOOKUP(C6,CHOOSE({2,1},Kura!$F$4:$F$1000,Kura!$Z$4:$Z$1000),2,0)","v":"ÇORUM"},{"$f":"VLOOKUP(C6,CHOOSE({2,1},Kura!$G$4:$G$1000,Kura!$Z$4:$Z$1000),2,0)","v":"K"},null,null,null,null,null,null,"8TE"]
[null,2,{"$f":"'8TE'!W15","v":"ŞAFAKTEPE SK (A) (ANK)"},{"$f":"VLOOKUP(C7,Kura!$Z$4:$AA$313,2,0)","v":"ŞAFAKTEPE SK (A)"},{"$f":"VLOOKUP(C7,CHOOSE({2,1},Kura!$F$4:$F$1000,Kura!$Z$4:$Z$1000),2,0)","v":"ANKARA"},{"$f":"VLOOKUP(C7,CHOOSE({2,1},Kura!$G$4:$G$1000,Kura!$Z$4:$Z$1000),2,0)","v":"K"},null,null,null,null,null,null,"-------"]
[null,3,{"$f":"'8TE'!W18","v":"ÇORUM GENÇLİK SPOR (A) (ÇRM)"},{"$f":"VLOOKUP(C8,Kura!$Z$4:$AA$313,2,0)","v":"ÇORUM GENÇLİK SPOR (A)"},{"$f":"VLOOKUP(C8,CHOOSE({2,1},Kura!$F$4:$F$1000,Kura!$Z$4:$Z$1000),2,0)","v":"ÇORUM"},{"$f":"VLOOKUP(C8,CHOOSE({2,1},Kura!$G$4:$G$1000,Kura!$Z$4:$Z$1000),2,0)","v":"K"},null,null,null,null,null,null,16]
[null,4,{"$f":"'8TE'!W21","v":"FINDIKLI 1974 SPOR (A) (RİZ)"},{"$f":"VLOOKUP(C9,Kura!$Z$4:$AA$313,2,0)","v":"FINDIKLI 1974 SPOR (A)"},{"$f":"VLOOKUP(C9,CHOOSE({2,1},Kura!$F$4:$F$1000,Kura!$Z$4:$Z$1000),2,0)","v":"RİZE"},{"$f":"VLOOKUP(C9,CHOOSE({2,1},Kura!$G$4:$G$1000,Kura!$Z$4:$Z$1000),2,0)","v":"K"},null,null,null,null,null,null,"Cift-Mix"]
[null,5,{"$f":"'8TE'!W25","v":"KUTLUBEY OKULLARI (A) (AMS)"},{"$f":"VLOOKUP(C10,Kura!$Z$4:$AA$313,2,0)","v":"KUTLUBEY OKULLARI (A)"},{"$f":"VLOOKUP(C10,CHOOSE({2,1},Kura!$F$4:$F$1000,Kura!$Z$4:$Z$1000),2,0)","v":"AMASYA"},{"$f":"VLOOKUP(C10,CHOOSE({2,1},Kura!$G$4:$G$1000,Kura!$Z$4:$Z$1000),2,0)","v":"K"},null,null,null,null,null,null,"16(Okul)"]
[null,6,{"$f":"'8TE'!W28","v":"BEŞİKDÜZÜ AYYILDIZ SPOR (A) (TRB)"},{"$f":"VLOOKUP(C11,Kura!$Z$4:$AA$313,2,0)","v":"BEŞİKDÜZÜ AYYILDIZ SPOR (A)"},{"$f":"VLOOKUP(C11,CHOOSE({2,1},Kura!$F$4:$F$1000,Kura!$Z$4:$Z$1000),2,0)","v":"TRABZON"},{"$f":"VLOOKUP(C11,CHOOSE({2,1},Kura!$G$4:$G$1000,Kura!$Z$4:$Z$1000),2,0)","v":"K"},null,null,null,null,null,null,"32DE(16)"]
[null,7,{"$f":"'8TE'!W31","v":"BAYBURT GMSK (A) (BYB)"},{"$f":"VLOOKUP(C12,Kura!$Z$4:$AA$313,2,0)","v":"BAYBURT GMSK (A)"},{"$f":"VLOOKUP(C12,CHOOSE({2,1},Kura!$F$4:$F$1000,Kura!$Z$4:$Z$1000),2,0)","v":"BAYBURT"},{"$f":"VLOOKUP(C12,CHOOSE({2,1},Kura!$G$4:$G$1000,Kura!$Z$4:$Z$1000),2,0)","v":"K"}]
[null,8,{"$f":"'8TE'!W34","v":"YALIKÖY ŞBÇ OO (A) (GRS)"},{"$f":"VLOOKUP(C13,Kura!$Z$4:$AA$313,2,0)","v":"YALIKÖY ŞBÇ OO (A)"},{"$f":"VLOOKUP(C13,CHOOSE({2,1},Kura!$F$4:$F$1000,Kura!$Z$4:$Z$1000),2,0)","v":"GİRESUN"},{"$f":"VLOOKUP(C13,CHOOSE({2,1},Kura!$G$4:$G$1000,Kura!$Z$4:$Z$1000),2,0)","v":"K"}]
[null,null,{"$f":"IF('16(TE)'!D7<'16(TE)'!E7,'16(TE)'!B6,'16(TE)'!B8)","v":false},{"$f":"VLOOKUP(C14,Kura!$Z$4:$AA$313,2,0)","v":{"$error":"#N/A"}},{"$f":"VLOOKUP(C14,CHOOSE({2,1},Kura!$F$4:$F$1000,Kura!$Z$4:$Z$1000),2,0)","v":{"$error":"#N/A"}},{"$f":"VLOOKUP(C14,CHOOSE({2,1},Kura!$G$4:$G$1000,Kura!$Z$4:$Z$1000),2,0)","v":{"$error":"#N/A"}}]
[null,null,{"$f":"IF('16(TE)'!D10<'16(TE)'!E10,'16(TE)'!B9,'16(TE)'!B11)","v":false},{"$f":"VLOOKUP(C15,Kura!$Z$4:$AA$313,2,0)","v":{"$error":"#N/A"}},{"$f":"VLOOKUP(C15,CHOOSE({2,1},Kura!$F$4:$F$1000,Kura!$Z$4:$Z$1000),2,0)","v":{"$error":"#N/A"}},{"$f":"VLOOKUP(C15,CHOOSE({2,1},Kura!$G$4:$G$1000,Kura!$Z$4:$Z$1000),2,0)","v":{"$error":"#N/A"}}]
[null,null,{"$f":"IF('16(TE)'!D13<'16(TE)'!E13,'16(TE)'!B12,'16(TE)'!B14)","v":false},{"$f":"VLOOKUP(C16,Kura!$Z$4:$AA$313,2,0)","v":{"$error":"#N/A"}},{"$f":"VLOOKUP(C16,CHOOSE({2,1},Kura!$F$4:$F$1000,Kura!$Z$4:$Z$1000),2,0)","v":{"$error":"#N/A"}},{"$f":"VLOOKUP(C16,CHOOSE({2,1},Kura!$G$4:$G$1000,Kura!$Z$4:$Z$1000),2,0)","v":{"$error":"#N/A"}}]
[null,null,{"$f":"IF('16(TE)'!D16<'16(TE)'!E16,'16(TE)'!B15,'16(TE)'!B17)","v":false},{"$f":"VLOOKUP(C17,Kura!$Z$4:$AA$313,2,0)","v":{"$error":"#N/A"}},{"$f":"VLOOKUP(C17,CHOOSE({2,1},Kura!$F$4:$F$1000,Kura!$Z$4:$Z$1000),2,0)","v":{"$error":"#N/A"}},{"$f":"VLOOKUP(C17,CHOOSE({2,1},Kura!$G$4:$G$1000,Kura!$Z$4:$Z$1000),2,0)","v":{"$error":"#N/A"}}]
[null,null,{"$f":"IF('16(TE)'!D19<'16(TE)'!E19,'16(TE)'!B18,'16(TE)'!B20)","v":false},{"$f":"VLOOKUP(C18,Kura!$Z$4:$AA$313,2,0)","v":{"$error":"#N/A"}},{"$f":"VLOOKUP(C18,CHOOSE({2,1},Kura!$F$4:$F$1000,Kura!$Z$4:$Z$1000),2,0)","v":{"$error":"#N/A"}},{"$f":"VLOOKUP(C18,CHOOSE({2,1},Kura!$G$4:$G$1000,Kura!$Z$4:$Z$1000),2,0)","v":{"$error":"#N/A"}}]
[null,null,{"$f":"IF('16(TE)'!D22<'16(TE)'!E22,'16(TE)'!B21,'16(TE)'!B23)","v":false},{"$f":"VLOOKUP(C19,Kura!$Z$4:$AA$313,2,0)","v":{"$error":"#N/A"}},{"$f":"VLOOKUP(C19,CHOOSE({2,1},Kura!$F$4:$F$1000,Kura!$Z$4:$Z$1000),2,0)","v":{"$error":"#N/A"}},{"$f":"VLOOKUP(C19,CHOOSE({2,1},Kura!$G$4:$G$1000,Kura!$Z$4:$Z$1000),2,0)","v":{"$error":"#N/A"}}]
[null,null,{"$f":"IF('16(TE)'!D25<'16(TE)'!E25,'16(TE)'!B24,'16(TE)'!B26)","v":false},{"$f":"VLOOKUP(C20,Kura!$Z$4:$AA$313,2,0)","v":{"$error":"#N/A"}},{"$f":"VLOOKUP(C20,CHOOSE({2,1},Kura!$F$4:$F$1000,Kura!$Z$4:$Z$1000),2,0)","v":{"$error":"#N/A"}},{"$f":"VLOOKUP(C20,CHOOSE({2,1},Kura!$G$4:$G$1000,Kura!$Z$4:$Z$1000),2,0)","v":{"$error":"#N/A"}}]
[null,null,{"$f":"IF('16(TE)'!D28<'16(TE)'!E28,'16(TE)'!B27,'16(TE)'!B29)","v":false},{"$f":"VLOOKUP(C21,Kura!$Z$4:$AA$313,2,0)","v":{"$error":"#N/A"}},{"$f":"VLOOKUP(C21,CHOOSE({2,1},Kura!$F$4:$F$1000,Kura!$Z$4:$Z$1000),2,0)","v":{"$error":"#N/A"}},{"$f":"VLOOKUP(C21,CHOOSE({2,1},Kura!$G$4:$G$1000,Kura!$Z$4:$Z$1000),2,0)","v":{"$error":"#N/A"}}]
[null,null,null,{"$f":"VLOOKUP(C22,Kura!$Z$4:$AA$313,2,0)","v":0},{"$f":"VLOOKUP(C22,CHOOSE({2,1},Kura!$F$4:$F$1000,Kura!$Z$4:$Z$1000),2,0)","v":0},{"$f":"VLOOKUP(C22,CHOOSE({2,1},Kura!$G$4:$G$1000,Kura!$Z$4:$Z$1000),2,0)","v":0}]
[null,null,null,{"$f":"VLOOKUP(C23,Kura!$Z$4:$AA$313,2,0)","v":0},{"$f":"VLOOKUP(C23,CHOOSE({2,1},Kura!$F$4:$F$1000,Kura!$Z$4:$Z$1000),2,0)","v":0},{"$f":"VLOOKUP(C23,CHOOSE({2,1},Kura!$G$4:$G$1000,Kura!$Z$4:$Z$1000),2,0)","v":0}]
[null,null,null,{"$f":"VLOOKUP(C24,Kura!$Z$4:$AA$313,2,0)","v":0},{"$f":"VLOOKUP(C24,CHOOSE({2,1},Kura!$F$4:$F$1000,Kura!$Z$4:$Z$1000),2,0)","v":0},{"$f":"VLOOKUP(C24,CHOOSE({2,1},Kura!$G$4:$G$1000,Kura!$Z$4:$Z$1000),2,0)","v":0}]
[null,null,null,{"$f":"VLOOKUP(C25,Kura!$Z$4:$AA$313,2,0)","v":0},{"$f":"VLOOKUP(C25,CHOOSE({2,1},Kura!$F$4:$F$1000,Kura!$Z$4:$Z$1000),2,0)","v":0},{"$f":"VLOOKUP(C25,CHOOSE({2,1},Kura!$G$4:$G$1000,Kura!$Z$4:$Z$1000),2,0)","v":0}]
[null,null,null,{"$f":"VLOOKUP(C26,Kura!$Z$4:$AA$313,2,0)","v":0},{"$f":"VLOOKUP(C26,CHOOSE({2,1},Kura!$F$4:$F$1000,Kura!$Z$4:$Z$1000),2,0)","v":0},{"$f":"VLOOKUP(C26,CHOOSE({2,1},Kura!$G$4:$G$1000,Kura!$Z$4:$Z$1000),2,0)","v":0}]
[null,null,null,{"$f":"VLOOKUP(C27,Kura!$Z$4:$AA$313,2,0)","v":0},{"$f":"VLOOKUP(C27,CHOOSE({2,1},Kura!$F$4:$F$1000,Kura!$Z$4:$Z$1000),2,0)","v":0},{"$f":"VLOOKUP(C27,CHOOSE({2,1},Kura!$G$4:$G$1000,Kura!$Z$4:$Z$1000),2,0)","v":0}]
[null,null,null,{"$f":"VLOOKUP(C28,Kura!$Z$4:$AA$313,2,0)","v":0},{"$f":"VLOOKUP(C28,CHOOSE({2,1},Kura!$F$4:$F$1000,Kura!$Z$4:$Z$1000),2,0)","v":0},{"$f":"VLOOKUP(C28,CHOOSE({2,1},Kura!$G$4:$G$1000,Kura!$Z$4:$Z$1000),2,0)","v":0}]
[null,null,null,{"$f":"VLOOKUP(C29,Kura!$Z$4:$AA$313,2,0)","v":0},{"$f":"VLOOKUP(C29,CHOOSE({2,1},Kura!$F$4:$F$1000,Kura!$Z$4:$Z$1000),2,0)","v":0},{"$f":"VLOOKUP(C29,CHOOSE({2,1},Kura!$G$4:$G$1000,Kura!$Z$4:$Z$1000),2,0)","v":0}]
[null,null,null,{"$f":"VLOOKUP(C30,Kura!$Z$4:$AA$313,2,0)","v":0},{"$f":"VLOOKUP(C30,CHOOSE({2,1},Kura!$F$4:$F$1000,Kura!$Z$4:$Z$1000),2,0)","v":0},{"$f":"VLOOKUP(C30,CHOOSE({2,1},Kura!$G$4:$G$1000,Kura!$Z$4:$Z$1000),2,0)","v":0}]
[null,null,null,{"$f":"VLOOKUP(C31,Kura!$Z$4:$AA$313,2,0)","v":0},{"$f":"VLOOKUP(C31,CHOOSE({2,1},Kura!$F$4:$F$1000,Kura!$Z$4:$Z$1000),2,0)","v":0},{"$f":"VLOOKUP(C31,CHOOSE({2,1},Kura!$G$4:$G$1000,Kura!$Z$4:$Z$1000),2,0)","v":0}]
[null,null,null,{"$f":"VLOOKUP(C32,Kura!$Z$4:$AA$313,2,0)","v":0},{"$f":"VLOOKUP(C32,CHOOSE({2,1},Kura!$F$4:$F$1000,Kura!$Z$4:$Z$1000),2,0)","v":0},{"$f":"VLOOKUP(C32,CHOOSE({2,1},Kura!$G$4:$G$1000,Kura!$Z$4:$Z$1000),2,0)","v":0}]
[null,null,null,{"$f":"VLOOKUP(C33,Kura!$Z$4:$AA$313,2,0)","v":0},{"$f":"VLOOKUP(C33,CHOOSE({2,1},Kura!$F$4:$F$1000,Kura!$Z$4:$Z$1000),2,0)","v":0},{"$f":"VLOOKUP(C33,CHOOSE({2,1},Kura!$G$4:$G$1000,Kura!$Z$4:$Z$1000),2,0)","v":0}]
[null,null,null,{"$f":"VLOOKUP(C34,Kura!$Z$4:$AA$313,2,0)","v":0},{"$f":"VLOOKUP(C34,CHOOSE({2,1},Kura!$F$4:$F$1000,Kura!$Z$4:$Z$1000),2,0)","v":0},{"$f":"VLOOKUP(C34,CHOOSE({2,1},Kura!$G$4:$G$1000,Kura!$Z$4:$Z$1000),2,0)","v":0}]
[null,null,null,{"$f":"VLOOKUP(C35,Kura!$Z$4:$AA$313,2,0)","v":0},{"$f":"VLOOKUP(C35,CHOOSE({2,1},Kura!$F$4:$F$1000,Kura!$Z$4:$Z$1000),2,0)","v":0},{"$f":"VLOOKUP(C35,CHOOSE({2,1},Kura!$G$4:$G$1000,Kura!$Z$4:$Z$1000),2,0)","v":0}]
[null,null,null,{"$f":"VLOOKUP(C36,Kura!$Z$4:$AA$313,2,0)","v":0},{"$f":"VLOOKUP(C36,CHOOSE({2,1},Kura!$F$4:$F$1000,Kura!$Z$4:$Z$1000),2,0)","v":0},{"$f":"VLOOKUP(C36,CHOOSE({2,1},Kura!$G$4:$G$1000,Kura!$Z$4:$Z$1000),2,0)","v":0}]
[null,null,null,{"$f":"VLOOKUP(C37,Kura!$Z$4:$AA$313,2,0)","v":0},{"$f":"VLOOKUP(C37,CHOOSE({2,1},Kura!$F$4:$F$1000,Kura!$Z$4:$Z$1000),2,0)","v":0},{"$f":"VLOOKUP(C37,CHOOSE({2,1},Kura!$G$4:$G$1000,Kura!$Z$4:$Z$1000),2,0)","v":0}]
[null,null,null,{"$f":"VLOOKUP(C38,Kura!$Z$4:$AA$313,2,0)","v":0},{"$f":"VLOOKUP(C38,CHOOSE({2,1},Kura!$F$4:$F$1000,Kura!$Z$4:$Z$1000),2,0)","v":0},{"$f":"VLOOKUP(C38,CHOOSE({2,1},Kura!$G$4:$G$1000,Kura!$Z$4:$Z$1000),2,0)","v":0}]
[null,null,null,{"$f":"VLOOKUP(C39,Kura!$Z$4:$AA$313,2,0)","v":0},{"$f":"VLOOKUP(C39,CHOOSE({2,1},Kura!$F$4:$F$1000,Kura!$Z$4:$Z$1000),2,0)","v":0},{"$f":"VLOOKUP(C39,CHOOSE({2,1},Kura!$G$4:$G$1000,Kura!$Z$4:$Z$1000),2,0)","v":0}]
[null,null,null,{"$f":"VLOOKUP(C40,Kura!$Z$4:$AA$313,2,0)","v":0},{"$f":"VLOOKUP(C40,CHOOSE({2,1},Kura!$F$4:$F$1000,Kura!$Z$4:$Z$1000),2,0)","v":0},{"$f":"VLOOKUP(C40,CHOOSE({2,1},Kura!$G$4:$G$1000,Kura!$Z$4:$Z$1000),2,0)","v":0}]
[null,null,null,{"$f":"VLOOKUP(C41,Kura!$Z$4:$AA$313,2,0)","v":0},{"$f":"VLOOKUP(C41,CHOOSE({2,1},Kura!$F$4:$F$1000,Kura!$Z$4:$Z$1000),2,0)","v":0},{"$f":"VLOOKUP(C41,CHOOSE({2,1},Kura!$G$4:$G$1000,Kura!$Z$4:$Z$1000),2,0)","v":0}]

{"sheet":"Ferdi","index":17,"n_rows":31,"n_cols":41,"rows_kept":31,"cut":false,"hidden":true,"merged":[[0,27,0,30],[28,19,28,22],[28,23,28,25],[29,1,29,2],[29,5,29,8],[29,9,29,11],[29,15,29,16],[29,19,29,22],[29,23,29,25],[28,1,28,2],[28,3,28,4],[28,5,28,8],[28,9,28,11],[28,15,28,16],[28,17,28,18],[25,22,26,22],[25,23,26,23],[25,24,26,24],[25,25,26,25],[25,10,26,10],[25,11,26,11],[25,14,26,14],[23,24,24,24],[23,25,24,25],[23,22,24,22],[23,23,24,23],[23,8,24,8],[23,9,24,9],[23,10,24,10],[23,11,24,11],[23,14,24,14],[23,17,24,17],[25,0,26,0],[25,3,26,3],[25,4,26,4],[25,5,26,5],[25,6,26,6],[25,7,26,7],[25,8,26,8],[25,9,26,9],[23,18,24,18],[25,20,26,20],[25,21,26,21],[23,0,24,0],[23,3,24,3],[23,4,24,4],[23,5,24,5],[23,6,24,6],[23,7,24,7],[25,17,26,17],[25,18,26,18],[25,19,26,19],[23,19,24,19],[23,20,24,20],[23,21,24,21],[21,0,22,0],[21,1,22,1],[21,2,22,2],[21,3,21,8],[19,1,19,5],[19,6,19,7],[19,8,19,9],[19,10,19,11],[19,15,19,19],[19,20,19,21],[19,22,19,23],[19,24,19,25],[21,15,22,15],[21,16,22,16],[21,17,21,22],[21,23,21,24],[21,9,21,10],[21,14,22,14],[16,0,16,11],[16,14,16,25],[17,0,17,11],[17,14,17,25],[18,1,18,5],[18,6,18,7],[18,8,18,9],[18,10,18,11],[18,15,18,19],[18,20,18,21],[18,22,18,23],[18,24,18,25],[12,19,12,22],[12,23,12,25],[13,1,13,2],[13,5,13,8],[13,9,13,11],[13,15,13,16],[13,19,13,22],[13,23,13,25],[12,1,12,2],[12,3,12,4],[12,5,12,8],[12,9,12,11],[12,15,12,16],[12,17,12,18],[9,22,10,22],[9,23,10,23],[9,24,10,24],[9,25,10,25],[9,10,10,10],[9,11,10,11],[9,14,10,14],[9,17,10,17],[9,18,10,18],[9,19,10,19],[7,24,8,24],[7,25,8,25],[9,0,10,0],[9,3,10,3],[9,4,10,4],[9,5,10,5],[9,6,10,6],[9,7,10,7],[9,8,10,8],[9,9,10,9],[7,18,8,18],[7,19,8,19],[7,20,8,20],[7,21,8,21],[7,22,8,22],[7,23,8,23],[7,8,8,8],[7,9,8,9],[7,10,8,10],[7,11,8,11],[7,14,8,14],[7,17,8,17],[9,20,10,20],[9,21,10,21],[7,0,8,0],[7,3,8,3],[7,4,8,4],[7,5,8,5],[7,6,8,6],[7,7,8,7],[5,0,6,0],[5,1,6,1],[5,2,6,2],[5,3,5,8],[3,1,3,5],[3,6,3,7],[3,8,3,9],[3,10,3,11],[3,15,3,19],[3,20,3,21],[3,22,3,23],[3,24,3,25],[5,15,6,15],[5,16,6,16],[5,17,5,22],[5,23,5,24],[5,9,5,10],[5,14,6,14],[0,0,0,11],[0,14,0,25],[1,0,1,11],[1,14,1,25],[2,1,2,5],[2,6,2,7],[2,8,2,9],[2,10,2,11],[2,15,2,19],[2,20,2,21],[2,22,2,23],[2,24,2,25]]}
[{"$f":"Kura!A1","v":"TÜRKİYE MASA TENİSİ FEDERASYONU\nGENÇLER TAKIM KUZEYDOĞU BÖLGE YARIŞMALARI"},null,null,null,null,null,null,null,null,null,null,null,null,null,{"$f":"+A1","v":"TÜRKİYE MASA TENİSİ FEDERASYONU\nGENÇLER TAKIM KUZEYDOĞU BÖLGE YARIŞMALARI"},null,null,null,null,null,null,null,null,null,null,null,null,"Manuel müsabaka çıktısı almak",null,null,null,null,null,null,null,null,null,null,null,"Ön_Eleme",9]
[{"$f":"Kura!A2","v":"KIZ TAKIM  [15-16 Mart 2025 TRABZON]"},null,null,null,null,null,null,null,null,null,null,null,null,null,{"$f":"+A2","v":"KIZ TAKIM  [15-16 Mart 2025 TRABZON]"},null,null,null,null,null,null,null,null,null,null,null,null,null,null,null,null,null,null,null,null,null,null,null,null,"Eleme"]
["No","Yarışma",null,null,null,null,"Tarih",null,"Saat",null,"Masa",null,null,null,"No","Yarışma",null,null,null,null,"Tarih",null,"Saat",null,"Masa",null,null,null,null,null,null,null,null,null,null,null,null,null,null,"32DE"]
[null,null,null,null,null,null,null,null,null,null,null,null,null,null,{"$f":"IF(A4=0,0,A4+1)","v":0},null,null,null,null,null,null,null,null,null,null,null,null,null,null,null,null,null,null,null,null,null,null,null,null,"16DE"]
[13,null,null,null,null,null,null,null,null,null,null,null,null,null,{"$f":"O4&\".\"&O4","v":"0.0"},null,null,null,null,null,null,null,null,null,null,null,null,null,null,null,null,null,null,null,null,null,null,null,null,"16(TE)"]
["K","Nr",null,"SETLER",null,null,null,null,null,"Sporcu",null,"Öğ.",null,null,"K","Nr",null,"SETLER",null,null,null,null,null,"Sporcu",null,"Öğ.",null,null,null,null,null,null,null,null,null,null,null,null,null,"16(8DE)"]
[null,null,null,1,2,3,4,5,"N","M","SKK","SK",null,null,null,null,null,1,2,3,4,5,"N","M","SKK","SK",null,null,null,null,null,null,null,null,null,null,null,null,null,"8DE"]
["A","",null,null,null,null,null,null,null,null,null,null,null,null,"A","",null,null,null,null,null,null,null,null,null,null,null,null,null,null,null,null,null,null,null,null,null,null,null,"8TE"]
[null,"FR",null,null,null,null,null,null,null,null,null,null,null,null,null,"FR",null,null,null,null,null,null,null,null,null,null,null,null,null,null,null,null,null,null,null,null,null,null,null,"-----"]
["X","",null,null,null,null,null,null,null,null,null,null,null,null,"X","",null,null,null,null,null,null,null,null,null,null,null,null,null,null,null,null,null,null,null,null,null,null,null,16]
[null,"FR",null,null,null,null,null,null,null,null,null,null,null,null,null,"FR",null,null,null,null,null,null,null,null,null,null,null,null,null,null,null,null,null,null,null,null,null,null,null,"Cift-Mix"]
[null,null,null,null,null,null,null,null,null,null,null,null,null,null,null,null,null,null,null,null,null,null,null,null,null,null,null,null,null,null,null,null,null,null,null,null,null,null,null,"32DE(16)"]
["Nr.","Galip: Adı Soyadı / İmza",null,"SONUÇ",null,"Hakem: Adı Soyadı / İmza",null,null,null,"Başhakem",null,null,null,null,"Nr.","Galip: Adı Soyadı / İmza",null,"SONUÇ",null,"Hakem: Adı Soyadı / İmza",null,null,null,"Başhakem"]
[null,null,null,{"$f":"Main!$W$2","v":3},null,null,null,null,null,null,null,null,null,null,null,null,null,{"$f":"Main!$W$2","v":3}]
["Başlama Saati:",null,null,"Bitiş Saati:",null,null,null,null,null,null,null,null,null,null,"Başlama Saati:",null,null,"Bitiş Saati:"]
[]
[{"$f":"+A1","v":"TÜRKİYE MASA TENİSİ FEDERASYONU\nGENÇLER TAKIM KUZEYDOĞU BÖLGE YARIŞMALARI"},null,null,null,null,null,null,null,null,null,null,null,null,null,{"$f":"+A1","v":"TÜRKİYE MASA TENİSİ FEDERASYONU\nGENÇLER TAKIM KUZEYDOĞU BÖLGE YARIŞMALARI"}]
[{"$f":"+A2","v":"KIZ TAKIM  [15-16 Mart 2025 TRABZON]"},null,null,null,null,null,null,null,null,null,null,null,null,null,{"$f":"+A2","v":"KIZ TAKIM  [15-16 Mart 2025 TRABZON]"}]
["No","Yarışma",null,null,null,null,"Tarih",null,"Saat",null,"Masa",null,null,null,"No","Yarışma",null,null,null,null,"Tarih",null,"Saat",null,"Masa"]
[{"$f":"IF(O4=0,0,O4+1)","v":0},null,null,null,null,null,null,null,null,null,null,null,null,null,{"$f":"IF(A20=0,0,A20+1)","v":0}]
[{"$f":"A20&\".\"&A20","v":"0.0"},null,null,null,null,null,null,null,null,null,null,null,null,null,{"$f":"O20&\".\"&O20","v":"0.0"}]
["K","Nr",null,"SETLER",null,null,null,null,null,"Sporcu",null,"Öğ.",null,null,"K","Nr",null,"SETLER",null,null,null,null,null,"Sporcu",null,"Öğ."]
[null,null,null,1,2,3,4,5,"N","M","SKK","SK",null,null,null,null,null,1,2,3,4,5,"N","M","SKK","SK"]
["A","",null,null,null,null,null,null,null,null,null,null,null,null,"A",""]
[null,"FR",null,null,null,null,null,null,null,null,null,null,null,null,null,"FR"]
["X","",null,null,null,null,null,null,null,null,null,null,null,null,"X",""]
[null,"FR",null,null,null,null,null,null,null,null,null,null,null,null,null,"FR"]
[]
["Nr.","Galip: Adı Soyadı / İmza",null,"SONUÇ",null,"Hakem: Adı Soyadı / İmza",null,null,null,"Başhakem",null,null,null,null,"Nr.","Galip: Adı Soyadı / İmza",null,"SONUÇ",null,"Hakem: Adı Soyadı / İmza",null,null,null,"Başhakem"]
[null,null,null,{"$f":"Main!$W$2","v":3},null,null,null,null,null,null,null,null,null,null,null,null,null,{"$f":"Main!$W$2","v":3}]
["Başlama Saati:",null,null,"Bitiş Saati:",null,null,null,null,null,null,null,null,null,null,"Başlama Saati:",null,null,"Bitiş Saati:"]

{"sheet":"Puan","index":18,"n_rows":259,"n_cols":5,"rows_kept":259,"cut":false,"hidden":true,"merged":[[1,2,1,3],[1,4,2,4],[1,1,2,1]]}
[]
[null,"Sıra","Sporcunun",null,"Puan"]
[null,null,"Adı - Soyadı","Kulübü"]
[null,1,{"$f":"'32DE'!BT39","v":""},{"$f":"IFERROR(VLOOKUP(C4,Kura!D4:F292,3,0),\"\")","v":""},32]
[null,2,{"$f":"+'32DE'!BT57","v":""},{"$f":"IFERROR(VLOOKUP(C5,Kura!D5:F293,3,0),\"\")","v":""},31]
[null,3,{"$f":"+'32DE'!BM63","v":""},{"$f":"IFERROR(VLOOKUP(C6,Kura!D6:F294,3,0),\"\")","v":""},30]
[null,4,{"$f":"+'32DE'!BF71","v":""},{"$f":"IFERROR(VLOOKUP(C7,Kura!D7:F295,3,0),\"\")","v":""},29]
[null,5,{"$f":"+'32DE'!BF75","v":""},{"$f":"IFERROR(VLOOKUP(C8,Kura!D8:F296,3,0),\"\")","v":""},28]
[null,6,{"$f":"+'32DE'!BF77","v":""},{"$f":"IFERROR(VLOOKUP(C9,Kura!D9:F297,3,0),\"\")","v":""},27]
[null,7,{"$f":"+'32DE'!AY79","v":""},{"$f":"IFERROR(VLOOKUP(C10,Kura!D10:F298,3,0),\"\")","v":""},26]
[null,8,{"$f":"+'32DE'!AY81","v":""},{"$f":"IFERROR(VLOOKUP(C11,Kura!D11:F299,3,0),\"\")","v":""},25]
[null,9,{"$f":"+'32DE'!AY84","v":""},{"$f":"IFERROR(VLOOKUP(C12,Kura!D12:F300,3,0),\"\")","v":""},24]
[null,10,{"$f":"+'32DE'!AY86","v":""},{"$f":"IFERROR(VLOOKUP(C13,Kura!D13:F301,3,0),\"\")","v":""},23]
[null,11,{"$f":"+'32DE'!AY88","v":""},{"$f":"IFERROR(VLOOKUP(C14,Kura!D14:F302,3,0),\"\")","v":""},22]
[null,12,{"$f":"+'32DE'!AY90","v":""},{"$f":"IFERROR(VLOOKUP(C15,Kura!D15:F303,3,0),\"\")","v":""},21]
[null,13,{"$f":"+'32DE'!AR92","v":""},{"$f":"IFERROR(VLOOKUP(C16,Kura!D16:F304,3,0),\"\")","v":""},20]
[null,14,{"$f":"+'32DE'!AR94","v":""},{"$f":"IFERROR(VLOOKUP(C17,Kura!D17:F305,3,0),\"\")","v":""},19]
[null,15,{"$f":"+'32DE'!AR96","v":""},{"$f":"IFERROR(VLOOKUP(C18,Kura!D18:F306,3,0),\"\")","v":""},18]
[null,16,{"$f":"+'32DE'!AR98","v":""},{"$f":"IFERROR(VLOOKUP(C19,Kura!D19:F307,3,0),\"\")","v":""},17]
[null,"17-24",{"$f":"IF('32DE'!$R$51<'32DE'!$S$51,'32DE'!$P$50,'32DE'!$P$52)","v":""},{"$f":"IFERROR(VLOOKUP(C20,Kura!D20:F308,3,0),\"\")","v":""},16]
[null,"17-24",{"$f":"IF('32DE'!$R$55<'32DE'!$S$55,'32DE'!$P$54,'32DE'!$P$56)","v":""},{"$f":"IFERROR(VLOOKUP(C21,Kura!D21:F309,3,0),\"\")","v":""},16]
[null,"17-24",{"$f":"IF('32DE'!$R$59<'32DE'!$S$59,'32DE'!$P$58,'32DE'!$P$60)","v":""},{"$f":"IFERROR(VLOOKUP(C22,Kura!D22:F310,3,0),\"\")","v":""},16]
[null,"17-24",{"$f":"IF('32DE'!$R$63<'32DE'!$S$63,'32DE'!$P$62,'32DE'!$P$64)","v":""},{"$f":"IFERROR(VLOOKUP(C23,Kura!D23:F311,3,0),\"\")","v":""},16]
[null,"17-24",{"$f":"IF('32DE'!$R$67<'32DE'!$S$67,'32DE'!$P$66,'32DE'!$P$68)","v":""},{"$f":"IFERROR(VLOOKUP(C24,Kura!D24:F312,3,0),\"\")","v":""},16]
[null,"17-24",{"$f":"IF('32DE'!$R$71<'32DE'!$S$71,'32DE'!$P$70,'32DE'!$P$72)","v":""},{"$f":"IFERROR(VLOOKUP(C25,Kura!D25:F313,3,0),\"\")","v":""},16]
[null,"17-24",{"$f":"IF('32DE'!$R$75<'32DE'!$S$75,'32DE'!$P$74,'32DE'!$P$76)","v":""},{"$f":"IFERROR(VLOOKUP(C26,Kura!D26:F314,3,0),\"\")","v":""},16]
[null,"17-24",{"$f":"IF('32DE'!$R$79<'32DE'!$S$79,'32DE'!$P$78,'32DE'!$P$80)","v":""},{"$f":"IFERROR(VLOOKUP(C27,Kura!D27:F315,3,0),\"\")","v":""},16]
[null,"25-32",{"$f":"IF('32DE'!$K$52<'32DE'!$L$52,'32DE'!$I$51,'32DE'!$I$53)","v":""},{"$f":"IFERROR(VLOOKUP(C28,Kura!D28:F316,3,0),\"\")","v":""},8]
[null,"25-32",{"$f":"IF('32DE'!$K$56<'32DE'!$L$56,'32DE'!$I$55,'32DE'!$I$57)","v":""},{"$f":"IFERROR(VLOOKUP(C29,Kura!D29:F317,3,0),\"\")","v":""},8]
[null,"25-32",{"$f":"IF('32DE'!$K$60<'32DE'!$L$60,'32DE'!$I$59,'32DE'!$I$61)","v":""},{"$f":"IFERROR(VLOOKUP(C30,Kura!D30:F318,3,0),\"\")","v":""},8]
[null,"25-32",{"$f":"IF('32DE'!$K$64<'32DE'!$L$64,'32DE'!$I$63,'32DE'!$I$65)","v":""},{"$f":"IFERROR(VLOOKUP(C31,Kura!D31:F319,3,0),\"\")","v":""},8]
[null,"25-32",{"$f":"IF('32DE'!$K$68<'32DE'!$L$68,'32DE'!$I$67,'32DE'!$I$69)","v":""},{"$f":"IFERROR(VLOOKUP(C32,Kura!D32:F320,3,0),\"\")","v":""},8]
[null,"25-32",{"$f":"IF('32DE'!$K$72<'32DE'!$L$72,'32DE'!$I$71,'32DE'!$I$73)","v":""},{"$f":"IFERROR(VLOOKUP(C33,Kura!D33:F321,3,0),\"\")","v":""},8]
[null,"25-32",{"$f":"IF('32DE'!$K$76<'32DE'!$L$76,'32DE'!$I$75,'32DE'!$I$77)","v":""},{"$f":"IFERROR(VLOOKUP(C34,Kura!D34:F322,3,0),\"\")","v":""},8]
[null,"25-32",{"$f":"IF('32DE'!$K$80<'32DE'!$L$80,'32DE'!$I$79,'32DE'!$I$81)","v":""},{"$f":"IFERROR(VLOOKUP(C35,Kura!D35:F323,3,0),\"\")","v":""},8]
[null,"33-64",{"$f":"IF(OR(Eleme!BX454=\"\",Eleme!BX454=0,Eleme!BX454=1,Eleme!BX454=2),Eleme!BL454,Eleme!BM454)","v":""},{"$f":"IFERROR(VLOOKUP(C36,Kura!D36:F324,3,0),\"\")","v":""},4]
[null,"33-64",{"$f":"IF(OR(Eleme!BX455=\"\",Eleme!BX455=0,Eleme!BX455=1,Eleme!BX455=2),Eleme!BL455,Eleme!BM455)","v":""},{"$f":"IFERROR(VLOOKUP(C37,Kura!D37:F325,3,0),\"\")","v":""},4]
[null,"33-64",{"$f":"IF(OR(Eleme!BX456=\"\",Eleme!BX456=0,Eleme!BX456=1,Eleme!BX456=2),Eleme!BL456,Eleme!BM456)","v":""},{"$f":"IFERROR(VLOOKUP(C38,Kura!D38:F326,3,0),\"\")","v":""},4]
[null,"33-64",{"$f":"IF(OR(Eleme!BX457=\"\",Eleme!BX457=0,Eleme!BX457=1,Eleme!BX457=2),Eleme!BL457,Eleme!BM457)","v":""},{"$f":"IFERROR(VLOOKUP(C39,Kura!D39:F327,3,0),\"\")","v":""},4]
[null,"33-64",{"$f":"IF(OR(Eleme!BX458=\"\",Eleme!BX458=0,Eleme!BX458=1,Eleme!BX458=2),Eleme!BL458,Eleme!BM458)","v":""},{"$f":"IFERROR(VLOOKUP(C40,Kura!D40:F328,3,0),\"\")","v":""},4]
[null,"33-64",{"$f":"IF(OR(Eleme!BX459=\"\",Eleme!BX459=0,Eleme!BX459=1,Eleme!BX459=2),Eleme!BL459,Eleme!BM459)","v":""},{"$f":"IFERROR(VLOOKUP(C41,Kura!D41:F329,3,0),\"\")","v":""},4]
[null,"33-64",{"$f":"IF(OR(Eleme!BX460=\"\",Eleme!BX460=0,Eleme!BX460=1,Eleme!BX460=2),Eleme!BL460,Eleme!BM460)","v":""},{"$f":"IFERROR(VLOOKUP(C42,Kura!D42:F330,3,0),\"\")","v":""},4]
[null,"33-64",{"$f":"IF(OR(Eleme!BX461=\"\",Eleme!BX461=0,Eleme!BX461=1,Eleme!BX461=2),Eleme!BL461,Eleme!BM461)","v":""},{"$f":"IFERROR(VLOOKUP(C43,Kura!D43:F331,3,0),\"\")","v":""},4]
[null,"33-64",{"$f":"IF(OR(Eleme!BX462=\"\",Eleme!BX462=0,Eleme!BX462=1,Eleme!BX462=2),Eleme!BL462,Eleme!BM462)","v":""},{"$f":"IFERROR(VLOOKUP(C44,Kura!D44:F332,3,0),\"\")","v":""},4]
[null,"33-64",{"$f":"IF(OR(Eleme!BX463=\"\",Eleme!BX463=0,Eleme!BX463=1,Eleme!BX463=2),Eleme!BL463,Eleme!BM463)","v":""},{"$f":"IFERROR(VLOOKUP(C45,Kura!D45:F333,3,0),\"\")","v":""},4]
[null,"33-64",{"$f":"IF(OR(Eleme!BX464=\"\",Eleme!BX464=0,Eleme!BX464=1,Eleme!BX464=2),Eleme!BL464,Eleme!BM464)","v":""},{"$f":"IFERROR(VLOOKUP(C46,Kura!D46:F334,3,0),\"\")","v":""},4]
[null,"33-64",{"$f":"IF(OR(Eleme!BX465=\"\",Eleme!BX465=0,Eleme!BX465=1,Eleme!BX465=2),Eleme!BL465,Eleme!BM465)","v":""},{"$f":"IFERROR(VLOOKUP(C47,Kura!D47:F335,3,0),\"\")","v":""},4]
[null,"33-64",{"$f":"IF(OR(Eleme!BX466=\"\",Eleme!BX466=0,Eleme!BX466=1,Eleme!BX466=2),Eleme!BL466,Eleme!BM466)","v":""},{"$f":"IFERROR(VLOOKUP(C48,Kura!D48:F336,3,0),\"\")","v":""},4]
[null,"33-64",{"$f":"IF(OR(Eleme!BX467=\"\",Eleme!BX467=0,Eleme!BX467=1,Eleme!BX467=2),Eleme!BL467,Eleme!BM467)","v":""},{"$f":"IFERROR(VLOOKUP(C49,Kura!D49:F337,3,0),\"\")","v":""},4]
[null,"33-64",{"$f":"IF(OR(Eleme!BX468=\"\",Eleme!BX468=0,Eleme!BX468=1,Eleme!BX468=2),Eleme!BL468,Eleme!BM468)","v":""},{"$f":"IFERROR(VLOOKUP(C50,Kura!D50:F338,3,0),\"\")","v":""},4]
[null,"33-64",{"$f":"IF(OR(Eleme!BX469=\"\",Eleme!BX469=0,Eleme!BX469=1,Eleme!BX469=2),Eleme!BL469,Eleme!BM469)","v":""},{"$f":"IFERROR(VLOOKUP(C51,Kura!D51:F339,3,0),\"\")","v":""},4]
[null,"33-64",{"$f":"IF(OR(Eleme!BX470=\"\",Eleme!BX470=0,Eleme!BX470=1,Eleme!BX470=2),Eleme!BL470,Eleme!BM470)","v":""},{"$f":"IFERROR(VLOOKUP(C52,Kura!D52:F340,3,0),\"\")","v":""},4]
[null,"33-64",{"$f":"IF(OR(Eleme!BX471=\"\",Eleme!BX471=0,Eleme!BX471=1,Eleme!BX471=2),Eleme!BL471,Eleme!BM471)","v":""},{"$f":"IFERROR(VLOOKUP(C53,Kura!D53:F341,3,0),\"\")","v":""},4]
[null,"33-64",{"$f":"IF(OR(Eleme!BX472=\"\",Eleme!BX472=0,Eleme!BX472=1,Eleme!BX472=2),Eleme!BL472,Eleme!BM472)","v":""},{"$f":"IFERROR(VLOOKUP(C54,Kura!D54:F342,3,0),\"\")","v":""},4]
[null,"33-64",{"$f":"IF(OR(Eleme!BX473=\"\",Eleme!BX473=0,Eleme!BX473=1,Eleme!BX473=2),Eleme!BL473,Eleme!BM473)","v":""},{"$f":"IFERROR(VLOOKUP(C55,Kura!D55:F343,3,0),\"\")","v":""},4]
[null,"33-64",{"$f":"IF(OR(Eleme!BX474=\"\",Eleme!BX474=0,Eleme!BX474=1,Eleme!BX474=2),Eleme!BL474,Eleme!BM474)","v":""},{"$f":"IFERROR(VLOOKUP(C56,Kura!D56:F344,3,0),\"\")","v":""},4]
[null,"33-64",{"$f":"IF(OR(Eleme!BX475=\"\",Eleme!BX475=0,Eleme!BX475=1,Eleme!BX475=2),Eleme!BL475,Eleme!BM475)","v":""},{"$f":"IFERROR(VLOOKUP(C57,Kura!D57:F345,3,0),\"\")","v":""},4]
[null,"33-64",{"$f":"IF(OR(Eleme!BX476=\"\",Eleme!BX476=0,Eleme!BX476=1,Eleme!BX476=2),Eleme!BL476,Eleme!BM476)","v":""},{"$f":"IFERROR(VLOOKUP(C58,Kura!D58:F346,3,0),\"\")","v":""},4]
[null,"33-64",{"$f":"IF(OR(Eleme!BX477=\"\",Eleme!BX477=0,Eleme!BX477=1,Eleme!BX477=2),Eleme!BL477,Eleme!BM477)","v":""},{"$f":"IFERROR(VLOOKUP(C59,Kura!D59:F347,3,0),\"\")","v":""},4]
[null,"33-64",{"$f":"IF(OR(Eleme!BX478=\"\",Eleme!BX478=0,Eleme!BX478=1,Eleme!BX478=2),Eleme!BL478,Eleme!BM478)","v":""},{"$f":"IFERROR(VLOOKUP(C60,Kura!D60:F348,3,0),\"\")","v":""},4]
[null,"33-64",{"$f":"IF(OR(Eleme!BX479=\"\",Eleme!BX479=0,Eleme!BX479=1,Eleme!BX479=2),Eleme!BL479,Eleme!BM479)","v":""},{"$f":"IFERROR(VLOOKUP(C61,Kura!D61:F349,3,0),\"\")","v":""},4]
[null,"33-64",{"$f":"IF(OR(Eleme!BX480=\"\",Eleme!BX480=0,Eleme!BX480=1,Eleme!BX480=2),Eleme!BL480,Eleme!BM480)","v":""},{"$f":"IFERROR(VLOOKUP(C62,Kura!D62:F350,3,0),\"\")","v":""},4]
[null,"33-64",{"$f":"IF(OR(Eleme!BX481=\"\",Eleme!BX481=0,Eleme!BX481=1,Eleme!BX481=2),Eleme!BL481,Eleme!BM481)","v":""},{"$f":"IFERROR(VLOOKUP(C63,Kura!D63:F351,3,0),\"\")","v":""},4]
[null,"33-64",{"$f":"IF(OR(Eleme!BX482=\"\",Eleme!BX482=0,Eleme!BX482=1,Eleme!BX482=2),Eleme!BL482,Eleme!BM482)","v":""},{"$f":"IFERROR(VLOOKUP(C64,Kura!D64:F352,3,0),\"\")","v":""},4]
[null,"33-64",{"$f":"IF(OR(Eleme!BX483=\"\",Eleme!BX483=0,Eleme!BX483=1,Eleme!BX483=2),Eleme!BL483,Eleme!BM483)","v":""},{"$f":"IFERROR(VLOOKUP(C65,Kura!D65:F353,3,0),\"\")","v":""},4]
[null,"33-64",{"$f":"IF(OR(Eleme!BX484=\"\",Eleme!BX484=0,Eleme!BX484=1,Eleme!BX484=2),Eleme!BL484,Eleme!BM484)","v":""},{"$f":"IFERROR(VLOOKUP(C66,Kura!D66:F354,3,0),\"\")","v":""},4]
[null,"33-64",{"$f":"IF(OR(Eleme!BX485=\"\",Eleme!BX485=0,Eleme!BX485=1,Eleme!BX485=2),Eleme!BL485,Eleme!BM485)","v":""},{"$f":"IFERROR(VLOOKUP(C67,Kura!D67:F355,3,0),\"\")","v":""},4]
[null,"65-128",{"$f":"IF(OR(Eleme!BX390=\"\",Eleme!BX390=0,Eleme!BX390=1,Eleme!BX390=2),Eleme!BL390,Eleme!BM390)","v":"ÇORUM BLD. SPOR (A) (ÇRM)"},{"$f":"IFERROR(VLOOKUP(C68,Kura!D68:F356,3,0),\"\")","v":""},2]
[null,"65-128",{"$f":"IF(OR(Eleme!BX391=\"\",Eleme!BX391=0,Eleme!BX391=1,Eleme!BX391=2),Eleme!BL391,Eleme!BM391)","v":"FINDIKLI 1974 SPOR (A) (RİZ)"},{"$f":"IFERROR(VLOOKUP(C69,Kura!D69:F357,3,0),\"\")","v":""},2]
[null,"65-128",{"$f":"IF(OR(Eleme!BX392=\"\",Eleme!BX392=0,Eleme!BX392=1,Eleme!BX392=2),Eleme!BL392,Eleme!BM392)","v":{"$error":"#N/A"}},{"$f":"IFERROR(VLOOKUP(C70,Kura!D70:F358,3,0),\"\")","v":""},2]
[null,"65-128",{"$f":"IF(OR(Eleme!BX393=\"\",Eleme!BX393=0,Eleme!BX393=1,Eleme!BX393=2),Eleme!BL393,Eleme!BM393)","v":{"$error":"#N/A"}},{"$f":"IFERROR(VLOOKUP(C71,Kura!D71:F359,3,0),\"\")","v":""},2]
[null,"65-128",{"$f":"IF(OR(Eleme!BX394=\"\",Eleme!BX394=0,Eleme!BX394=1,Eleme!BX394=2),Eleme!BL394,Eleme!BM394)","v":{"$error":"#N/A"}},{"$f":"IFERROR(VLOOKUP(C72,Kura!D72:F360,3,0),\"\")","v":""},2]
[null,"65-128",{"$f":"IF(OR(Eleme!BX395=\"\",Eleme!BX395=0,Eleme!BX395=1,Eleme!BX395=2),Eleme!BL395,Eleme!BM395)","v":{"$error":"#N/A"}},{"$f":"IFERROR(VLOOKUP(C73,Kura!D73:F361,3,0),\"\")","v":""},2]
[null,"65-128",{"$f":"IF(OR(Eleme!BX396=\"\",Eleme!BX396=0,Eleme!BX396=1,Eleme!BX396=2),Eleme!BL396,Eleme!BM396)","v":{"$error":"#N/A"}},{"$f":"IFERROR(VLOOKUP(C74,Kura!D74:F362,3,0),\"\")","v":""},2]
[null,"65-128",{"$f":"IF(OR(Eleme!BX397=\"\",Eleme!BX397=0,Eleme!BX397=1,Eleme!BX397=2),Eleme!BL397,Eleme!BM397)","v":{"$error":"#N/A"}},{"$f":"IFERROR(VLOOKUP(C75,Kura!D75:F363,3,0),\"\")","v":""},2]
[null,"65-128",{"$f":"IF(OR(Eleme!BX398=\"\",Eleme!BX398=0,Eleme!BX398=1,Eleme!BX398=2),Eleme!BL398,Eleme!BM398)","v":{"$error":"#N/A"}},{"$f":"IFERROR(VLOOKUP(C76,Kura!D76:F364,3,0),\"\")","v":""},2]
[null,"65-128",{"$f":"IF(OR(Eleme!BX399=\"\",Eleme!BX399=0,Eleme!BX399=1,Eleme!BX399=2),Eleme!BL399,Eleme!BM399)","v":{"$error":"#N/A"}},{"$f":"IFERROR(VLOOKUP(C77,Kura!D77:F365,3,0),\"\")","v":""},2]
[null,"65-128",{"$f":"IF(OR(Eleme!BX400=\"\",Eleme!BX400=0,Eleme!BX400=1,Eleme!BX400=2),Eleme!BL400,Eleme!BM400)","v":{"$error":"#N/A"}},{"$f":"IFERROR(VLOOKUP(C78,Kura!D78:F366,3,0),\"\")","v":""},2]
[null,"65-128",{"$f":"IF(OR(Eleme!BX401=\"\",Eleme!BX401=0,Eleme!BX401=1,Eleme!BX401=2),Eleme!BL401,Eleme!BM401)","v":{"$error":"#N/A"}},{"$f":"IFERROR(VLOOKUP(C79,Kura!D79:F367,3,0),\"\")","v":""},2]
[null,"65-128",{"$f":"IF(OR(Eleme!BX402=\"\",Eleme!BX402=0,Eleme!BX402=1,Eleme!BX402=2),Eleme!BL402,Eleme!BM402)","v":{"$error":"#N/A"}},{"$f":"IFERROR(VLOOKUP(C80,Kura!D80:F368,3,0),\"\")","v":""},2]
[null,"65-128",{"$f":"IF(OR(Eleme!BX403=\"\",Eleme!BX403=0,Eleme!BX403=1,Eleme!BX403=2),Eleme!BL403,Eleme!BM403)","v":{"$error":"#N/A"}},{"$f":"IFERROR(VLOOKUP(C81,Kura!D81:F369,3,0),\"\")","v":""},2]
[null,"65-128",{"$f":"IF(OR(Eleme!BX404=\"\",Eleme!BX404=0,Eleme!BX404=1,Eleme!BX404=2),Eleme!BL404,Eleme!BM404)","v":{"$error":"#N/A"}},{"$f":"IFERROR(VLOOKUP(C82,Kura!D82:F370,3,0),\"\")","v":""},2]
[null,"65-128",{"$f":"IF(OR(Eleme!BX405=\"\",Eleme!BX405=0,Eleme!BX405=1,Eleme!BX405=2),Eleme!BL405,Eleme!BM405)","v":{"$error":"#N/A"}},{"$f":"IFERROR(VLOOKUP(C83,Kura!D83:F371,3,0),\"\")","v":""},2]
[null,"65-128",{"$f":"IF(OR(Eleme!BX406=\"\",Eleme!BX406=0,Eleme!BX406=1,Eleme!BX406=2),Eleme!BL406,Eleme!BM406)","v":{"$error":"#N/A"}},{"$f":"IFERROR(VLOOKUP(C84,Kura!D84:F372,3,0),\"\")","v":""},2]
[null,"65-128",{"$f":"IF(OR(Eleme!BX407=\"\",Eleme!BX407=0,Eleme!BX407=1,Eleme!BX407=2),Eleme!BL407,Eleme!BM407)","v":{"$error":"#N/A"}},{"$f":"IFERROR(VLOOKUP(C85,Kura!D85:F373,3,0),\"\")","v":""},2]
[null,"65-128",{"$f":"IF(OR(Eleme!BX408=\"\",Eleme!BX408=0,Eleme!BX408=1,Eleme!BX408=2),Eleme!BL408,Eleme!BM408)","v":{"$error":"#N/A"}},{"$f":"IFERROR(VLOOKUP(C86,Kura!D86:F374,3,0),\"\")","v":""},2]
[null,"65-128",{"$f":"IF(OR(Eleme!BX409=\"\",Eleme!BX409=0,Eleme!BX409=1,Eleme!BX409=2),Eleme!BL409,Eleme!BM409)","v":{"$error":"#N/A"}},{"$f":"IFERROR(VLOOKUP(C87,Kura!D87:F375,3,0),\"\")","v":""},2]
[null,"65-128",{"$f":"IF(OR(Eleme!BX410=\"\",Eleme!BX410=0,Eleme!BX410=1,Eleme!BX410=2),Eleme!BL410,Eleme!BM410)","v":{"$error":"#N/A"}},{"$f":"IFERROR(VLOOKUP(C88,Kura!D88:F376,3,0),\"\")","v":""},2]
[null,"65-128",{"$f":"IF(OR(Eleme!BX411=\"\",Eleme!BX411=0,Eleme!BX411=1,Eleme!BX411=2),Eleme!BL411,Eleme!BM411)","v":{"$error":"#N/A"}},{"$f":"IFERROR(VLOOKUP(C89,Kura!D89:F377,3,0),\"\")","v":""},2]
[null,"65-128",{"$f":"IF(OR(Eleme!BX412=\"\",Eleme!BX412=0,Eleme!BX412=1,Eleme!BX412=2),Eleme!BL412,Eleme!BM412)","v":{"$error":"#N/A"}},{"$f":"IFERROR(VLOOKUP(C90,Kura!D90:F378,3,0),\"\")","v":""},2]
[null,"65-128",{"$f":"IF(OR(Eleme!BX413=\"\",Eleme!BX413=0,Eleme!BX413=1,Eleme!BX413=2),Eleme!BL413,Eleme!BM413)","v":{"$error":"#N/A"}},{"$f":"IFERROR(VLOOKUP(C91,Kura!D91:F379,3,0),\"\")","v":""},2]
[null,"65-128",{"$f":"IF(OR(Eleme!BX414=\"\",Eleme!BX414=0,Eleme!BX414=1,Eleme!BX414=2),Eleme!BL414,Eleme!BM414)","v":{"$error":"#N/A"}},{"$f":"IFERROR(VLOOKUP(C92,Kura!D92:F380,3,0),\"\")","v":""},2]
[null,"65-128",{"$f":"IF(OR(Eleme!BX415=\"\",Eleme!BX415=0,Eleme!BX415=1,Eleme!BX415=2),Eleme!BL415,Eleme!BM415)","v":{"$error":"#N/A"}},{"$f":"IFERROR(VLOOKUP(C93,Kura!D93:F381,3,0),\"\")","v":""},2]
[null,"65-128",{"$f":"IF(OR(Eleme!BX416=\"\",Eleme!BX416=0,Eleme!BX416=1,Eleme!BX416=2),Eleme!BL416,Eleme!BM416)","v":{"$error":"#N/A"}},{"$f":"IFERROR(VLOOKUP(C94,Kura!D94:F382,3,0),\"\")","v":""},2]
[null,"65-128",{"$f":"IF(OR(Eleme!BX417=\"\",Eleme!BX417=0,Eleme!BX417=1,Eleme!BX417=2),Eleme!BL417,Eleme!BM417)","v":{"$error":"#N/A"}},{"$f":"IFERROR(VLOOKUP(C95,Kura!D95:F383,3,0),\"\")","v":""},2]
[null,"65-128",{"$f":"IF(OR(Eleme!BX418=\"\",Eleme!BX418=0,Eleme!BX418=1,Eleme!BX418=2),Eleme!BL418,Eleme!BM418)","v":{"$error":"#N/A"}},{"$f":"IFERROR(VLOOKUP(C96,Kura!D96:F384,3,0),\"\")","v":""},2]
[null,"65-128",{"$f":"IF(OR(Eleme!BX419=\"\",Eleme!BX419=0,Eleme!BX419=1,Eleme!BX419=2),Eleme!BL419,Eleme!BM419)","v":{"$error":"#N/A"}},{"$f":"IFERROR(VLOOKUP(C97,Kura!D97:F385,3,0),\"\")","v":""},2]
[null,"65-128",{"$f":"IF(OR(Eleme!BX420=\"\",Eleme!BX420=0,Eleme!BX420=1,Eleme!BX420=2),Eleme!BL420,Eleme!BM420)","v":{"$error":"#N/A"}},{"$f":"IFERROR(VLOOKUP(C98,Kura!D98:F386,3,0),\"\")","v":""},2]
[null,"65-128",{"$f":"IF(OR(Eleme!BX421=\"\",Eleme!BX421=0,Eleme!BX421=1,Eleme!BX421=2),Eleme!BL421,Eleme!BM421)","v":{"$error":"#N/A"}},{"$f":"IFERROR(VLOOKUP(C99,Kura!D99:F387,3,0),\"\")","v":""},2]
[null,"65-128",{"$f":"IF(OR(Eleme!BX422=\"\",Eleme!BX422=0,Eleme!BX422=1,Eleme!BX422=2),Eleme!BL422,Eleme!BM422)","v":"ŞAFAKTEPE SK (A) (ANK)"},{"$f":"IFERROR(VLOOKUP(C100,Kura!D100:F388,3,0),\"\")","v":""},2]
[null,"65-128",{"$f":"IF(OR(Eleme!BX423=\"\",Eleme!BX423=0,Eleme!BX423=1,Eleme!BX423=2),Eleme!BL423,Eleme!BM423)","v":"YALIKÖY ŞBÇ OO (A) (GRS)"},{"$f":"IFERROR(VLOOKUP(C101,Kura!D101:F389,3,0),\"\")","v":""},2]
[null,"65-128",{"$f":"IF(OR(Eleme!BX424=\"\",Eleme!BX424=0,Eleme!BX424=1,Eleme!BX424=2),Eleme!BL424,Eleme!BM424)","v":{"$error":"#N/A"}},{"$f":"IFERROR(VLOOKUP(C102,Kura!D102:F390,3,0),\"\")","v":""},2]
[null,"65-128",{"$f":"IF(OR(Eleme!BX425=\"\",Eleme!BX425=0,Eleme!BX425=1,Eleme!BX425=2),Eleme!BL425,Eleme!BM425)","v":{"$error":"#N/A"}},{"$f":"IFERROR(VLOOKUP(C103,Kura!D103:F391,3,0),\"\")","v":""},2]
[null,"65-128",{"$f":"IF(OR(Eleme!BX426=\"\",Eleme!BX426=0,Eleme!BX426=1,Eleme!BX426=2),Eleme!BL426,Eleme!BM426)","v":{"$error":"#N/A"}},{"$f":"IFERROR(VLOOKUP(C104,Kura!D104:F392,3,0),\"\")","v":""},2]
[null,"65-128",{"$f":"IF(OR(Eleme!BX427=\"\",Eleme!BX427=0,Eleme!BX427=1,Eleme!BX427=2),Eleme!BL427,Eleme!BM427)","v":{"$error":"#N/A"}},{"$f":"IFERROR(VLOOKUP(C105,Kura!D105:F393,3,0),\"\")","v":""},2]
[null,"65-128",{"$f":"IF(OR(Eleme!BX428=\"\",Eleme!BX428=0,Eleme!BX428=1,Eleme!BX428=2),Eleme!BL428,Eleme!BM428)","v":{"$error":"#N/A"}},{"$f":"IFERROR(VLOOKUP(C106,Kura!D106:F394,3,0),\"\")","v":""},2]
[null,"65-128",{"$f":"IF(OR(Eleme!BX429=\"\",Eleme!BX429=0,Eleme!BX429=1,Eleme!BX429=2),Eleme!BL429,Eleme!BM429)","v":{"$error":"#N/A"}},{"$f":"IFERROR(VLOOKUP(C107,Kura!D107:F395,3,0),\"\")","v":""},2]
[null,"65-128",{"$f":"IF(OR(Eleme!BX430=\"\",Eleme!BX430=0,Eleme!BX430=1,Eleme!BX430=2),Eleme!BL430,Eleme!BM430)","v":{"$error":"#N/A"}},{"$f":"IFERROR(VLOOKUP(C108,Kura!D108:F396,3,0),\"\")","v":""},2]
[null,"65-128",{"$f":"IF(OR(Eleme!BX431=\"\",Eleme!BX431=0,Eleme!BX431=1,Eleme!BX431=2),Eleme!BL431,Eleme!BM431)","v":{"$error":"#N/A"}},{"$f":"IFERROR(VLOOKUP(C109,Kura!D109:F397,3,0),\"\")","v":""},2]
[null,"65-128",{"$f":"IF(OR(Eleme!BX432=\"\",Eleme!BX432=0,Eleme!BX432=1,Eleme!BX432=2),Eleme!BL432,Eleme!BM432)","v":{"$error":"#N/A"}},{"$f":"IFERROR(VLOOKUP(C110,Kura!D110:F398,3,0),\"\")","v":""},2]
[null,"65-128",{"$f":"IF(OR(Eleme!BX433=\"\",Eleme!BX433=0,Eleme!BX433=1,Eleme!BX433=2),Eleme!BL433,Eleme!BM433)","v":{"$error":"#N/A"}},{"$f":"IFERROR(VLOOKUP(C111,Kura!D111:F399,3,0),\"\")","v":""},2]
[null,"65-128",{"$f":"IF(OR(Eleme!BX434=\"\",Eleme!BX434=0,Eleme!BX434=1,Eleme!BX434=2),Eleme!BL434,Eleme!BM434)","v":{"$error":"#N/A"}},{"$f":"IFERROR(VLOOKUP(C112,Kura!D112:F400,3,0),\"\")","v":""},2]
[null,"65-128",{"$f":"IF(OR(Eleme!BX435=\"\",Eleme!BX435=0,Eleme!BX435=1,Eleme!BX435=2),Eleme!BL435,Eleme!BM435)","v":{"$error":"#N/A"}},{"$f":"IFERROR(VLOOKUP(C113,Kura!D113:F401,3,0),\"\")","v":""},2]
[null,"65-128",{"$f":"IF(OR(Eleme!BX436=\"\",Eleme!BX436=0,Eleme!BX436=1,Eleme!BX436=2),Eleme!BL436,Eleme!BM436)","v":{"$error":"#N/A"}},{"$f":"IFERROR(VLOOKUP(C114,Kura!D114:F402,3,0),\"\")","v":""},2]
[null,"65-128",{"$f":"IF(OR(Eleme!BX437=\"\",Eleme!BX437=0,Eleme!BX437=1,Eleme!BX437=2),Eleme!BL437,Eleme!BM437)","v":{"$error":"#N/A"}},{"$f":"IFERROR(VLOOKUP(C115,Kura!D115:F403,3,0),\"\")","v":""},2]
[null,"65-128",{"$f":"IF(OR(Eleme!BX438=\"\",Eleme!BX438=0,Eleme!BX438=1,Eleme!BX438=2),Eleme!BL438,Eleme!BM438)","v":{"$error":"#N/A"}},{"$f":"IFERROR(VLOOKUP(C116,Kura!D116:F404,3,0),\"\")","v":""},2]
[null,"65-128",{"$f":"IF(OR(Eleme!BX439=\"\",Eleme!BX439=0,Eleme!BX439=1,Eleme!BX439=2),Eleme!BL439,Eleme!BM439)","v":{"$error":"#N/A"}},{"$f":"IFERROR(VLOOKUP(C117,Kura!D117:F405,3,0),\"\")","v":""},2]
[null,"65-128",{"$f":"IF(OR(Eleme!BX440=\"\",Eleme!BX440=0,Eleme!BX440=1,Eleme!BX440=2),Eleme!BL440,Eleme!BM440)","v":{"$error":"#N/A"}},{"$f":"IFERROR(VLOOKUP(C118,Kura!D118:F406,3,0),\"\")","v":""},2]
[null,"65-128",{"$f":"IF(OR(Eleme!BX441=\"\",Eleme!BX441=0,Eleme!BX441=1,Eleme!BX441=2),Eleme!BL441,Eleme!BM441)","v":{"$error":"#N/A"}},{"$f":"IFERROR(VLOOKUP(C119,Kura!D119:F407,3,0),\"\")","v":""},2]
[null,"65-128",{"$f":"IF(OR(Eleme!BX442=\"\",Eleme!BX442=0,Eleme!BX442=1,Eleme!BX442=2),Eleme!BL442,Eleme!BM442)","v":{"$error":"#N/A"}},{"$f":"IFERROR(VLOOKUP(C120,Kura!D120:F408,3,0),\"\")","v":""},2]
[null,"65-128",{"$f":"IF(OR(Eleme!BX443=\"\",Eleme!BX443=0,Eleme!BX443=1,Eleme!BX443=2),Eleme!BL443,Eleme!BM443)","v":{"$error":"#N/A"}},{"$f":"IFERROR(VLOOKUP(C121,Kura!D121:F409,3,0),\"\")","v":""},2]
[null,"65-128",{"$f":"IF(OR(Eleme!BX444=\"\",Eleme!BX444=0,Eleme!BX444=1,Eleme!BX444=2),Eleme!BL444,Eleme!BM444)","v":{"$error":"#N/A"}},{"$f":"IFERROR(VLOOKUP(C122,Kura!D122:F410,3,0),\"\")","v":""},2]
[null,"65-128",{"$f":"IF(OR(Eleme!BX445=\"\",Eleme!BX445=0,Eleme!BX445=1,Eleme!BX445=2),Eleme!BL445,Eleme!BM445)","v":{"$error":"#N/A"}},{"$f":"IFERROR(VLOOKUP(C123,Kura!D123:F411,3,0),\"\")","v":""},2]
[null,"65-128",{"$f":"IF(OR(Eleme!BX446=\"\",Eleme!BX446=0,Eleme!BX446=1,Eleme!BX446=2),Eleme!BL446,Eleme!BM446)","v":{"$error":"#N/A"}},{"$f":"IFERROR(VLOOKUP(C124,Kura!D124:F412,3,0),\"\")","v":""},2]
[null,"65-128",{"$f":"IF(OR(Eleme!BX447=\"\",Eleme!BX447=0,Eleme!BX447=1,Eleme!BX447=2),Eleme!BL447,Eleme!BM447)","v":{"$error":"#N/A"}},{"$f":"IFERROR(VLOOKUP(C125,Kura!D125:F413,3,0),\"\")","v":""},2]
[null,"65-128",{"$f":"IF(OR(Eleme!BX448=\"\",Eleme!BX448=0,Eleme!BX448=1,Eleme!BX448=2),Eleme!BL448,Eleme!BM448)","v":{"$error":"#N/A"}},{"$f":"IFERROR(VLOOKUP(C126,Kura!D126:F414,3,0),\"\")","v":""},2]
[null,"65-128",{"$f":"IF(OR(Eleme!BX449=\"\",Eleme!BX449=0,Eleme!BX449=1,Eleme!BX449=2),Eleme!BL449,Eleme!BM449)","v":{"$error":"#N/A"}},{"$f":"IFERROR(VLOOKUP(C127,Kura!D127:F415,3,0),\"\")","v":""},2]
[null,"65-128",{"$f":"IF(OR(Eleme!BX450=\"\",Eleme!BX450=0,Eleme!BX450=1,Eleme!BX450=2),Eleme!BL450,Eleme!BM450)","v":{"$error":"#N/A"}},{"$f":"IFERROR(VLOOKUP(C128,Kura!D128:F416,3,0),\"\")","v":""},2]
[null,"65-128",{"$f":"IF(OR(Eleme!BX451=\"\",Eleme!BX451=0,Eleme!BX451=1,Eleme!BX451=2),Eleme!BL451,Eleme!BM451)","v":{"$error":"#N/A"}},{"$f":"IFERROR(VLOOKUP(C129,Kura!D129:F417,3,0),\"\")","v":""},2]
[null,"65-128",{"$f":"IF(OR(Eleme!BX452=\"\",Eleme!BX452=0,Eleme!BX452=1,Eleme!BX452=2),Eleme!BL452,Eleme!BM452)","v":{"$error":"#N/A"}},{"$f":"IFERROR(VLOOKUP(C130,Kura!D130:F418,3,0),\"\")","v":""},2]
[null,"65-128",{"$f":"IF(OR(Eleme!BX453=\"\",Eleme!BX453=0,Eleme!BX453=1,Eleme!BX453=2),Eleme!BL453,Eleme!BM453)","v":{"$error":"#N/A"}},{"$f":"IFERROR(VLOOKUP(C131,Kura!D131:F419,3,0),\"\")","v":""},2]
["G1.3","129-256",{"$f":"IFERROR(VLOOKUP(A132,Grup!$N$5:$AF$1000,3,0),\"\")","v":""},{"$f":"IFERROR(VLOOKUP(C132,Kura!D132:F420,3,0),\"\")","v":""},1]
["G1.4","129-256",{"$f":"IFERROR(VLOOKUP(A133,Grup!$N$5:$AF$1000,3,0),\"\")","v":""},{"$f":"IFERROR(VLOOKUP(C133,Kura!D133:F421,3,0),\"\")","v":""},1]
["G2.3","129-256",{"$f":"IFERROR(VLOOKUP(A134,Grup!$N$5:$AF$1000,3,0),\"\")","v":""},{"$f":"IFERROR(VLOOKUP(C134,Kura!D134:F422,3,0),\"\")","v":""},1]
["G2.4","129-256",{"$f":"IFERROR(VLOOKUP(A135,Grup!$N$5:$AF$1000,3,0),\"\")","v":""},{"$f":"IFERROR(VLOOKUP(C135,Kura!D135:F423,3,0),\"\")","v":""},1]
["G3.3","129-256",{"$f":"IFERROR(VLOOKUP(A136,Grup!$N$5:$AF$1000,3,0),\"\")","v":"GİRESUN GENÇLİK VE SPOR (A) (GRS)"},{"$f":"IFERROR(VLOOKUP(C136,Kura!D136:F424,3,0),\"\")","v":""},1]
["G3.4","129-256",{"$f":"IFERROR(VLOOKUP(A137,Grup!$N$5:$AF$1000,3,0),\"\")","v":""},{"$f":"IFERROR(VLOOKUP(C137,Kura!D137:F425,3,0),\"\")","v":""},1]
["G4.3","129-256",{"$f":"IFERROR(VLOOKUP(A138,Grup!$N$5:$AF$1000,3,0),\"\")","v":"ORTAHİSAR BLD. SPOR (A) (TRB)"},{"$f":"IFERROR(VLOOKUP(C138,Kura!D138:F426,3,0),\"\")","v":""},1]
["G4.4","129-256",{"$f":"IFERROR(VLOOKUP(A139,Grup!$N$5:$AF$1000,3,0),\"\")","v":""},{"$f":"IFERROR(VLOOKUP(C139,Kura!D139:F427,3,0),\"\")","v":""},1]
["G5.3","129-256",{"$f":"IFERROR(VLOOKUP(A140,Grup!$N$5:$AF$1000,3,0),\"\")","v":""},{"$f":"IFERROR(VLOOKUP(C140,Kura!D140:F428,3,0),\"\")","v":""},1]
["G5.4","129-256",{"$f":"IFERROR(VLOOKUP(A141,Grup!$N$5:$AF$1000,3,0),\"\")","v":""},{"$f":"IFERROR(VLOOKUP(C141,Kura!D141:F429,3,0),\"\")","v":""},1]
["G6.3","129-256",{"$f":"IFERROR(VLOOKUP(A142,Grup!$N$5:$AF$1000,3,0),\"\")","v":""},{"$f":"IFERROR(VLOOKUP(C142,Kura!D142:F430,3,0),\"\")","v":""},1]
["G6.4","129-256",{"$f":"IFERROR(VLOOKUP(A143,Grup!$N$5:$AF$1000,3,0),\"\")","v":""},{"$f":"IFERROR(VLOOKUP(C143,Kura!D143:F431,3,0),\"\")","v":""},1]
["G7.3","129-256",{"$f":"IFERROR(VLOOKUP(A144,Grup!$N$5:$AF$1000,3,0),\"\")","v":""},{"$f":"IFERROR(VLOOKUP(C144,Kura!D144:F432,3,0),\"\")","v":""},1]
["G7.4","129-256",{"$f":"IFERROR(VLOOKUP(A145,Grup!$N$5:$AF$1000,3,0),\"\")","v":""},{"$f":"IFERROR(VLOOKUP(C145,Kura!D145:F433,3,0),\"\")","v":""},1]
["G8.3","129-256",{"$f":"IFERROR(VLOOKUP(A146,Grup!$N$5:$AF$1000,3,0),\"\")","v":""},{"$f":"IFERROR(VLOOKUP(C146,Kura!D146:F434,3,0),\"\")","v":""},1]
["G8.4","129-256",{"$f":"IFERROR(VLOOKUP(A147,Grup!$N$5:$AF$1000,3,0),\"\")","v":""},{"$f":"IFERROR(VLOOKUP(C147,Kura!D147:F435,3,0),\"\")","v":""},1]
["G9.3","129-256",{"$f":"IFERROR(VLOOKUP(A148,Grup!$N$5:$AF$1000,3,0),\"\")","v":""},{"$f":"IFERROR(VLOOKUP(C148,Kura!D148:F436,3,0),\"\")","v":""},1]
["G9.4","129-256",{"$f":"IFERROR(VLOOKUP(A149,Grup!$N$5:$AF$1000,3,0),\"\")","v":""},{"$f":"IFERROR(VLOOKUP(C149,Kura!D149:F437,3,0),\"\")","v":""},1]
["G10.3","129-256",{"$f":"IFERROR(VLOOKUP(A150,Grup!$N$5:$AF$1000,3,0),\"\")","v":""},{"$f":"IFERROR(VLOOKUP(C150,Kura!D150:F438,3,0),\"\")","v":""},1]
["G10.4","129-256",{"$f":"IFERROR(VLOOKUP(A151,Grup!$N$5:$AF$1000,3,0),\"\")","v":""},{"$f":"IFERROR(VLOOKUP(C151,Kura!D151:F439,3,0),\"\")","v":""},1]
["G11.3","129-256",{"$f":"IFERROR(VLOOKUP(A152,Grup!$N$5:$AF$1000,3,0),\"\")","v":""},{"$f":"IFERROR(VLOOKUP(C152,Kura!D152:F440,3,0),\"\")","v":""},1]
["G11.4","129-256",{"$f":"IFERROR(VLOOKUP(A153,Grup!$N$5:$AF$1000,3,0),\"\")","v":""},{"$f":"IFERROR(VLOOKUP(C153,Kura!D153:F441,3,0),\"\")","v":""},1]
["G12.3","129-256",{"$f":"IFERROR(VLOOKUP(A154,Grup!$N$5:$AF$1000,3,0),\"\")","v":""},{"$f":"IFERROR(VLOOKUP(C154,Kura!D154:F442,3,0),\"\")","v":""},1]
["G12.4","129-256",{"$f":"IFERROR(VLOOKUP(A155,Grup!$N$5:$AF$1000,3,0),\"\")","v":""},{"$f":"IFERROR(VLOOKUP(C155,Kura!D155:F443,3,0),\"\")","v":""},1]
["G13.3","129-256",{"$f":"IFERROR(VLOOKUP(A156,Grup!$N$5:$AF$1000,3,0),\"\")","v":""},{"$f":"IFERROR(VLOOKUP(C156,Kura!D156:F444,3,0),\"\")","v":""},1]
["G13.4","129-256",{"$f":"IFERROR(VLOOKUP(A157,Grup!$N$5:$AF$1000,3,0),\"\")","v":""},{"$f":"IFERROR(VLOOKUP(C157,Kura!D157:F445,3,0),\"\")","v":""},1]
["G14.3","129-256",{"$f":"IFERROR(VLOOKUP(A158,Grup!$N$5:$AF$1000,3,0),\"\")","v":""},{"$f":"IFERROR(VLOOKUP(C158,Kura!D158:F446,3,0),\"\")","v":""},1]
["G14.4","129-256",{"$f":"IFERROR(VLOOKUP(A159,Grup!$N$5:$AF$1000,3,0),\"\")","v":""},{"$f":"IFERROR(VLOOKUP(C159,Kura!D159:F447,3,0),\"\")","v":""},1]
["G15.3","129-256",{"$f":"IFERROR(VLOOKUP(A160,Grup!$N$5:$AF$1000,3,0),\"\")","v":""},{"$f":"IFERROR(VLOOKUP(C160,Kura!D160:F448,3,0),\"\")","v":""},1]
["G15.4","129-256",{"$f":"IFERROR(VLOOKUP(A161,Grup!$N$5:$AF$1000,3,0),\"\")","v":""},{"$f":"IFERROR(VLOOKUP(C161,Kura!D161:F449,3,0),\"\")","v":""},1]
["G16.3","129-256",{"$f":"IFERROR(VLOOKUP(A162,Grup!$N$5:$AF$1000,3,0),\"\")","v":""},{"$f":"IFERROR(VLOOKUP(C162,Kura!D162:F450,3,0),\"\")","v":""},1]
["G16.4","129-256",{"$f":"IFERROR(VLOOKUP(A163,Grup!$N$5:$AF$1000,3,0),\"\")","v":""},{"$f":"IFERROR(VLOOKUP(C163,Kura!D163:F451,3,0),\"\")","v":""},1]
["G17.3","129-256",{"$f":"IFERROR(VLOOKUP(A164,Grup!$N$5:$AF$1000,3,0),\"\")","v":""},{"$f":"IFERROR(VLOOKUP(C164,Kura!D164:F452,3,0),\"\")","v":""},1]
["G17.4","129-256",{"$f":"IFERROR(VLOOKUP(A165,Grup!$N$5:$AF$1000,3,0),\"\")","v":""},{"$f":"IFERROR(VLOOKUP(C165,Kura!D165:F453,3,0),\"\")","v":""},1]
["G18.3","129-256",{"$f":"IFERROR(VLOOKUP(A166,Grup!$N$5:$AF$1000,3,0),\"\")","v":""},{"$f":"IFERROR(VLOOKUP(C166,Kura!D166:F454,3,0),\"\")","v":""},1]
["G18.4","129-256",{"$f":"IFERROR(VLOOKUP(A167,Grup!$N$5:$AF$1000,3,0),\"\")","v":""},{"$f":"IFERROR(VLOOKUP(C167,Kura!D167:F455,3,0),\"\")","v":""},1]
["G19.3","129-256",{"$f":"IFERROR(VLOOKUP(A168,Grup!$N$5:$AF$1000,3,0),\"\")","v":""},{"$f":"IFERROR(VLOOKUP(C168,Kura!D168:F456,3,0),\"\")","v":""},1]
["G19.4","129-256",{"$f":"IFERROR(VLOOKUP(A169,Grup!$N$5:$AF$1000,3,0),\"\")","v":""},{"$f":"IFERROR(VLOOKUP(C169,Kura!D169:F457,3,0),\"\")","v":""},1]
["G20.3","129-256",{"$f":"IFERROR(VLOOKUP(A170,Grup!$N$5:$AF$1000,3,0),\"\")","v":""},{"$f":"IFERROR(VLOOKUP(C170,Kura!D170:F458,3,0),\"\")","v":""},1]
["G20.4","129-256",{"$f":"IFERROR(VLOOKUP(A171,Grup!$N$5:$AF$1000,3,0),\"\")","v":""},{"$f":"IFERROR(VLOOKUP(C171,Kura!D171:F459,3,0),\"\")","v":""},1]
["G21.3","129-256",{"$f":"IFERROR(VLOOKUP(A172,Grup!$N$5:$AF$1000,3,0),\"\")","v":""},{"$f":"IFERROR(VLOOKUP(C172,Kura!D172:F460,3,0),\"\")","v":""},1]
["G21.4","129-256",{"$f":"IFERROR(VLOOKUP(A173,Grup!$N$5:$AF$1000,3,0),\"\")","v":""},{"$f":"IFERROR(VLOOKUP(C173,Kura!D173:F461,3,0),\"\")","v":""},1]
["G22.3","129-256",{"$f":"IFERROR(VLOOKUP(A174,Grup!$N$5:$AF$1000,3,0),\"\")","v":""},{"$f":"IFERROR(VLOOKUP(C174,Kura!D174:F462,3,0),\"\")","v":""},1]
["G22.4","129-256",{"$f":"IFERROR(VLOOKUP(A175,Grup!$N$5:$AF$1000,3,0),\"\")","v":""},{"$f":"IFERROR(VLOOKUP(C175,Kura!D175:F463,3,0),\"\")","v":""},1]
["G23.3","129-256",{"$f":"IFERROR(VLOOKUP(A176,Grup!$N$5:$AF$1000,3,0),\"\")","v":""},{"$f":"IFERROR(VLOOKUP(C176,Kura!D176:F464,3,0),\"\")","v":""},1]
["G23.4","129-256",{"$f":"IFERROR(VLOOKUP(A177,Grup!$N$5:$AF$1000,3,0),\"\")","v":""},{"$f":"IFERROR(VLOOKUP(C177,Kura!D177:F465,3,0),\"\")","v":""},1]
["G24.3","129-256",{"$f":"IFERROR(VLOOKUP(A178,Grup!$N$5:$AF$1000,3,0),\"\")","v":""},{"$f":"IFERROR(VLOOKUP(C178,Kura!D178:F466,3,0),\"\")","v":""},1]
["G24.4","129-256",{"$f":"IFERROR(VLOOKUP(A179,Grup!$N$5:$AF$1000,3,0),\"\")","v":""},{"$f":"IFERROR(VLOOKUP(C179,Kura!D179:F467,3,0),\"\")","v":""},1]
["G25.3","129-256",{"$f":"IFERROR(VLOOKUP(A180,Grup!$N$5:$AF$1000,3,0),\"\")","v":""},{"$f":"IFERROR(VLOOKUP(C180,Kura!D180:F468,3,0),\"\")","v":""},1]
["G25.4","129-256",{"$f":"IFERROR(VLOOKUP(A181,Grup!$N$5:$AF$1000,3,0),\"\")","v":""},{"$f":"IFERROR(VLOOKUP(C181,Kura!D181:F469,3,0),\"\")","v":""},1]
["G26.3","129-256",{"$f":"IFERROR(VLOOKUP(A182,Grup!$N$5:$AF$1000,3,0),\"\")","v":""},{"$f":"IFERROR(VLOOKUP(C182,Kura!D182:F470,3,0),\"\")","v":""},1]
["G26.4","129-256",{"$f":"IFERROR(VLOOKUP(A183,Grup!$N$5:$AF$1000,3,0),\"\")","v":""},{"$f":"IFERROR(VLOOKUP(C183,Kura!D183:F471,3,0),\"\")","v":""},1]
["G27.3","129-256",{"$f":"IFERROR(VLOOKUP(A184,Grup!$N$5:$AF$1000,3,0),\"\")","v":""},{"$f":"IFERROR(VLOOKUP(C184,Kura!D184:F472,3,0),\"\")","v":""},1]
["G27.4","129-256",{"$f":"IFERROR(VLOOKUP(A185,Grup!$N$5:$AF$1000,3,0),\"\")","v":""},{"$f":"IFERROR(VLOOKUP(C185,Kura!D185:F473,3,0),\"\")","v":""},1]
["G28.3","129-256",{"$f":"IFERROR(VLOOKUP(A186,Grup!$N$5:$AF$1000,3,0),\"\")","v":""},{"$f":"IFERROR(VLOOKUP(C186,Kura!D186:F474,3,0),\"\")","v":""},1]
["G28.4","129-256",{"$f":"IFERROR(VLOOKUP(A187,Grup!$N$5:$AF$1000,3,0),\"\")","v":""},{"$f":"IFERROR(VLOOKUP(C187,Kura!D187:F475,3,0),\"\")","v":""},1]
["G29.3","129-256",{"$f":"IFERROR(VLOOKUP(A188,Grup!$N$5:$AF$1000,3,0),\"\")","v":""},{"$f":"IFERROR(VLOOKUP(C188,Kura!D188:F476,3,0),\"\")","v":""},1]
["G29.4","129-256",{"$f":"IFERROR(VLOOKUP(A189,Grup!$N$5:$AF$1000,3,0),\"\")","v":""},{"$f":"IFERROR(VLOOKUP(C189,Kura!D189:F477,3,0),\"\")","v":""},1]
["G30.3","129-256",{"$f":"IFERROR(VLOOKUP(A190,Grup!$N$5:$AF$1000,3,0),\"\")","v":""},{"$f":"IFERROR(VLOOKUP(C190,Kura!D190:F478,3,0),\"\")","v":""},1]
["G30.4","129-256",{"$f":"IFERROR(VLOOKUP(A191,Grup!$N$5:$AF$1000,3,0),\"\")","v":""},{"$f":"IFERROR(VLOOKUP(C191,Kura!D191:F479,3,0),\"\")","v":""},1]
["G31.3","129-256",{"$f":"IFERROR(VLOOKUP(A192,Grup!$N$5:$AF$1000,3,0),\"\")","v":""},{"$f":"IFERROR(VLOOKUP(C192,Kura!D192:F480,3,0),\"\")","v":""},1]
["G31.4","129-256",{"$f":"IFERROR(VLOOKUP(A193,Grup!$N$5:$AF$1000,3,0),\"\")","v":""},{"$f":"IFERROR(VLOOKUP(C193,Kura!D193:F481,3,0),\"\")","v":""},1]
["G32.3","129-256",{"$f":"IFERROR(VLOOKUP(A194,Grup!$N$5:$AF$1000,3,0),\"\")","v":""},{"$f":"IFERROR(VLOOKUP(C194,Kura!D194:F482,3,0),\"\")","v":""},1]
["G32.4","129-256",{"$f":"IFERROR(VLOOKUP(A195,Grup!$N$5:$AF$1000,3,0),\"\")","v":""},{"$f":"IFERROR(VLOOKUP(C195,Kura!D195:F483,3,0),\"\")","v":""},1]
["G33.3","129-256",{"$f":"IFERROR(VLOOKUP(A196,Grup!$N$5:$AF$1000,3,0),\"\")","v":""},{"$f":"IFERROR(VLOOKUP(C196,Kura!D196:F484,3,0),\"\")","v":""},1]
["G33.4","129-256",{"$f":"IFERROR(VLOOKUP(A197,Grup!$N$5:$AF$1000,3,0),\"\")","v":""},{"$f":"IFERROR(VLOOKUP(C197,Kura!D197:F485,3,0),\"\")","v":""},1]
["G34.3","129-256",{"$f":"IFERROR(VLOOKUP(A198,Grup!$N$5:$AF$1000,3,0),\"\")","v":""},{"$f":"IFERROR(VLOOKUP(C198,Kura!D198:F486,3,0),\"\")","v":""},1]
["G34.4","129-256",{"$f":"IFERROR(VLOOKUP(A199,Grup!$N$5:$AF$1000,3,0),\"\")","v":""},{"$f":"IFERROR(VLOOKUP(C199,Kura!D199:F487,3,0),\"\")","v":""},1]
["G35.3","129-256",{"$f":"IFERROR(VLOOKUP(A200,Grup!$N$5:$AF$1000,3,0),\"\")","v":""},{"$f":"IFERROR(VLOOKUP(C200,Kura!D200:F488,3,0),\"\")","v":""},1]
["G35.4","129-256",{"$f":"IFERROR(VLOOKUP(A201,Grup!$N$5:$AF$1000,3,0),\"\")","v":""},{"$f":"IFERROR(VLOOKUP(C201,Kura!D201:F489,3,0),\"\")","v":""},1]
["G36.3","129-256",{"$f":"IFERROR(VLOOKUP(A202,Grup!$N$5:$AF$1000,3,0),\"\")","v":""},{"$f":"IFERROR(VLOOKUP(C202,Kura!D202:F490,3,0),\"\")","v":""},1]
["G36.4","129-256",{"$f":"IFERROR(VLOOKUP(A203,Grup!$N$5:$AF$1000,3,0),\"\")","v":""},{"$f":"IFERROR(VLOOKUP(C203,Kura!D203:F491,3,0),\"\")","v":""},1]
["G37.3","129-256",{"$f":"IFERROR(VLOOKUP(A204,Grup!$N$5:$AF$1000,3,0),\"\")","v":""},{"$f":"IFERROR(VLOOKUP(C204,Kura!D204:F492,3,0),\"\")","v":""},1]
["G37.4","129-256",{"$f":"IFERROR(VLOOKUP(A205,Grup!$N$5:$AF$1000,3,0),\"\")","v":""},{"$f":"IFERROR(VLOOKUP(C205,Kura!D205:F493,3,0),\"\")","v":""},1]
["G38.3","129-256",{"$f":"IFERROR(VLOOKUP(A206,Grup!$N$5:$AF$1000,3,0),\"\")","v":""},{"$f":"IFERROR(VLOOKUP(C206,Kura!D206:F494,3,0),\"\")","v":""},1]
["G38.4","129-256",{"$f":"IFERROR(VLOOKUP(A207,Grup!$N$5:$AF$1000,3,0),\"\")","v":""},{"$f":"IFERROR(VLOOKUP(C207,Kura!D207:F495,3,0),\"\")","v":""},1]
["G39.3","129-256",{"$f":"IFERROR(VLOOKUP(A208,Grup!$N$5:$AF$1000,3,0),\"\")","v":""},{"$f":"IFERROR(VLOOKUP(C208,Kura!D208:F496,3,0),\"\")","v":""},1]
["G39.4","129-256",{"$f":"IFERROR(VLOOKUP(A209,Grup!$N$5:$AF$1000,3,0),\"\")","v":""},{"$f":"IFERROR(VLOOKUP(C209,Kura!D209:F497,3,0),\"\")","v":""},1]
["G40.3","129-256",{"$f":"IFERROR(VLOOKUP(A210,Grup!$N$5:$AF$1000,3,0),\"\")","v":""},{"$f":"IFERROR(VLOOKUP(C210,Kura!D210:F498,3,0),\"\")","v":""},1]
["G40.4","129-256",{"$f":"IFERROR(VLOOKUP(A211,Grup!$N$5:$AF$1000,3,0),\"\")","v":""},{"$f":"IFERROR(VLOOKUP(C211,Kura!D211:F499,3,0),\"\")","v":""},1]
["G41.3","129-256",{"$f":"IFERROR(VLOOKUP(A212,Grup!$N$5:$AF$1000,3,0),\"\")","v":""},{"$f":"IFERROR(VLOOKUP(C212,Kura!D212:F500,3,0),\"\")","v":""},1]
["G41.4","129-256",{"$f":"IFERROR(VLOOKUP(A213,Grup!$N$5:$AF$1000,3,0),\"\")","v":""},{"$f":"IFERROR(VLOOKUP(C213,Kura!D213:F501,3,0),\"\")","v":""},1]
["G42.3","129-256",{"$f":"IFERROR(VLOOKUP(A214,Grup!$N$5:$AF$1000,3,0),\"\")","v":""},{"$f":"IFERROR(VLOOKUP(C214,Kura!D214:F502,3,0),\"\")","v":""},1]
["G42.4","129-256",{"$f":"IFERROR(VLOOKUP(A215,Grup!$N$5:$AF$1000,3,0),\"\")","v":""},{"$f":"IFERROR(VLOOKUP(C215,Kura!D215:F503,3,0),\"\")","v":""},1]
["G43.3","129-256",{"$f":"IFERROR(VLOOKUP(A216,Grup!$N$5:$AF$1000,3,0),\"\")","v":""},{"$f":"IFERROR(VLOOKUP(C216,Kura!D216:F504,3,0),\"\")","v":""},1]
["G43.4","129-256",{"$f":"IFERROR(VLOOKUP(A217,Grup!$N$5:$AF$1000,3,0),\"\")","v":""},{"$f":"IFERROR(VLOOKUP(C217,Kura!D217:F505,3,0),\"\")","v":""},1]
["G44.3","129-256",{"$f":"IFERROR(VLOOKUP(A218,Grup!$N$5:$AF$1000,3,0),\"\")","v":""},{"$f":"IFERROR(VLOOKUP(C218,Kura!D218:F506,3,0),\"\")","v":""},1]
["G44.4","129-256",{"$f":"IFERROR(VLOOKUP(A219,Grup!$N$5:$AF$1000,3,0),\"\")","v":""},{"$f":"IFERROR(VLOOKUP(C219,Kura!D219:F507,3,0),\"\")","v":""},1]
["G45.3","129-256",{"$f":"IFERROR(VLOOKUP(A220,Grup!$N$5:$AF$1000,3,0),\"\")","v":""},{"$f":"IFERROR(VLOOKUP(C220,Kura!D220:F508,3,0),\"\")","v":""},1]
["G45.4","129-256",{"$f":"IFERROR(VLOOKUP(A221,Grup!$N$5:$AF$1000,3,0),\"\")","v":""},{"$f":"IFERROR(VLOOKUP(C221,Kura!D221:F509,3,0),\"\")","v":""},1]
["G46.3","129-256",{"$f":"IFERROR(VLOOKUP(A222,Grup!$N$5:$AF$1000,3,0),\"\")","v":""},{"$f":"IFERROR(VLOOKUP(C222,Kura!D222:F510,3,0),\"\")","v":""},1]
["G46.4","129-256",{"$f":"IFERROR(VLOOKUP(A223,Grup!$N$5:$AF$1000,3,0),\"\")","v":""},{"$f":"IFERROR(VLOOKUP(C223,Kura!D223:F511,3,0),\"\")","v":""},1]
["G47.3","129-256",{"$f":"IFERROR(VLOOKUP(A224,Grup!$N$5:$AF$1000,3,0),\"\")","v":""},{"$f":"IFERROR(VLOOKUP(C224,Kura!D224:F512,3,0),\"\")","v":""},1]
["G47.4","129-256",{"$f":"IFERROR(VLOOKUP(A225,Grup!$N$5:$AF$1000,3,0),\"\")","v":""},{"$f":"IFERROR(VLOOKUP(C225,Kura!D225:F513,3,0),\"\")","v":""},1]
["G48.3","129-256",{"$f":"IFERROR(VLOOKUP(A226,Grup!$N$5:$AF$1000,3,0),\"\")","v":""},{"$f":"IFERROR(VLOOKUP(C226,Kura!D226:F514,3,0),\"\")","v":""},1]
["G48.4","129-256",{"$f":"IFERROR(VLOOKUP(A227,Grup!$N$5:$AF$1000,3,0),\"\")","v":""},{"$f":"IFERROR(VLOOKUP(C227,Kura!D227:F515,3,0),\"\")","v":""},1]
["G49.3","129-256",{"$f":"IFERROR(VLOOKUP(A228,Grup!$N$5:$AF$1000,3,0),\"\")","v":""},{"$f":"IFERROR(VLOOKUP(C228,Kura!D228:F516,3,0),\"\")","v":""},1]
["G49.4","129-256",{"$f":"IFERROR(VLOOKUP(A229,Grup!$N$5:$AF$1000,3,0),\"\")","v":""},{"$f":"IFERROR(VLOOKUP(C229,Kura!D229:F517,3,0),\"\")","v":""},1]
["G50.3","129-256",{"$f":"IFERROR(VLOOKUP(A230,Grup!$N$5:$AF$1000,3,0),\"\")","v":""},{"$f":"IFERROR(VLOOKUP(C230,Kura!D230:F518,3,0),\"\")","v":""},1]
["G50.4","129-256",{"$f":"IFERROR(VLOOKUP(A231,Grup!$N$5:$AF$1000,3,0),\"\")","v":""},{"$f":"IFERROR(VLOOKUP(C231,Kura!D231:F519,3,0),\"\")","v":""},1]
["G51.3","129-256",{"$f":"IFERROR(VLOOKUP(A232,Grup!$N$5:$AF$1000,3,0),\"\")","v":""},{"$f":"IFERROR(VLOOKUP(C232,Kura!D232:F520,3,0),\"\")","v":""},1]
["G51.4","129-256",{"$f":"IFERROR(VLOOKUP(A233,Grup!$N$5:$AF$1000,3,0),\"\")","v":""},{"$f":"IFERROR(VLOOKUP(C233,Kura!D233:F521,3,0),\"\")","v":""},1]
["G52.3","129-256",{"$f":"IFERROR(VLOOKUP(A234,Grup!$N$5:$AF$1000,3,0),\"\")","v":""},{"$f":"IFERROR(VLOOKUP(C234,Kura!D234:F522,3,0),\"\")","v":""},1]
["G52.4","129-256",{"$f":"IFERROR(VLOOKUP(A235,Grup!$N$5:$AF$1000,3,0),\"\")","v":""},{"$f":"IFERROR(VLOOKUP(C235,Kura!D235:F523,3,0),\"\")","v":""},1]
["G53.3","129-256",{"$f":"IFERROR(VLOOKUP(A236,Grup!$N$5:$AF$1000,3,0),\"\")","v":""},{"$f":"IFERROR(VLOOKUP(C236,Kura!D236:F524,3,0),\"\")","v":""},1]
["G53.4","129-256",{"$f":"IFERROR(VLOOKUP(A237,Grup!$N$5:$AF$1000,3,0),\"\")","v":""},{"$f":"IFERROR(VLOOKUP(C237,Kura!D237:F525,3,0),\"\")","v":""},1]
["G54.3","129-256",{"$f":"IFERROR(VLOOKUP(A238,Grup!$N$5:$AF$1000,3,0),\"\")","v":""},{"$f":"IFERROR(VLOOKUP(C238,Kura!D238:F526,3,0),\"\")","v":""},1]
["G54.4","129-256",{"$f":"IFERROR(VLOOKUP(A239,Grup!$N$5:$AF$1000,3,0),\"\")","v":""},{"$f":"IFERROR(VLOOKUP(C239,Kura!D239:F527,3,0),\"\")","v":""},1]
["G55.3","129-256",{"$f":"IFERROR(VLOOKUP(A240,Grup!$N$5:$AF$1000,3,0),\"\")","v":""},{"$f":"IFERROR(VLOOKUP(C240,Kura!D240:F528,3,0),\"\")","v":""},1]
["G55.4","129-256",{"$f":"IFERROR(VLOOKUP(A241,Grup!$N$5:$AF$1000,3,0),\"\")","v":""},{"$f":"IFERROR(VLOOKUP(C241,Kura!D241:F529,3,0),\"\")","v":""},1]
["G56.3","129-256",{"$f":"IFERROR(VLOOKUP(A242,Grup!$N$5:$AF$1000,3,0),\"\")","v":""},{"$f":"IFERROR(VLOOKUP(C242,Kura!D242:F530,3,0),\"\")","v":""},1]
["G56.4","129-256",{"$f":"IFERROR(VLOOKUP(A243,Grup!$N$5:$AF$1000,3,0),\"\")","v":""},{"$f":"IFERROR(VLOOKUP(C243,Kura!D243:F531,3,0),\"\")","v":""},1]
["G57.3","129-256",{"$f":"IFERROR(VLOOKUP(A244,Grup!$N$5:$AF$1000,3,0),\"\")","v":""},{"$f":"IFERROR(VLOOKUP(C244,Kura!D244:F532,3,0),\"\")","v":""},1]
["G57.4","129-256",{"$f":"IFERROR(VLOOKUP(A245,Grup!$N$5:$AF$1000,3,0),\"\")","v":""},{"$f":"IFERROR(VLOOKUP(C245,Kura!D245:F533,3,0),\"\")","v":""},1]
["G58.3","129-256",{"$f":"IFERROR(VLOOKUP(A246,Grup!$N$5:$AF$1000,3,0),\"\")","v":""},{"$f":"IFERROR(VLOOKUP(C246,Kura!D246:F534,3,0),\"\")","v":""},1]
["G58.4","129-256",{"$f":"IFERROR(VLOOKUP(A247,Grup!$N$5:$AF$1000,3,0),\"\")","v":""},{"$f":"IFERROR(VLOOKUP(C247,Kura!D247:F535,3,0),\"\")","v":""},1]
["G59.3","129-256",{"$f":"IFERROR(VLOOKUP(A248,Grup!$N$5:$AF$1000,3,0),\"\")","v":""},{"$f":"IFERROR(VLOOKUP(C248,Kura!D248:F536,3,0),\"\")","v":""},1]
["G59.4","129-256",{"$f":"IFERROR(VLOOKUP(A249,Grup!$N$5:$AF$1000,3,0),\"\")","v":""},{"$f":"IFERROR(VLOOKUP(C249,Kura!D249:F537,3,0),\"\")","v":""},1]
["G60.3","129-256",{"$f":"IFERROR(VLOOKUP(A250,Grup!$N$5:$AF$1000,3,0),\"\")","v":""},{"$f":"IFERROR(VLOOKUP(C250,Kura!D250:F538,3,0),\"\")","v":""},1]
["G60.4","129-256",{"$f":"IFERROR(VLOOKUP(A251,Grup!$N$5:$AF$1000,3,0),\"\")","v":""},{"$f":"IFERROR(VLOOKUP(C251,Kura!D251:F539,3,0),\"\")","v":""},1]
["G61.3","129-256",{"$f":"IFERROR(VLOOKUP(A252,Grup!$N$5:$AF$1000,3,0),\"\")","v":""},{"$f":"IFERROR(VLOOKUP(C252,Kura!D252:F540,3,0),\"\")","v":""},1]
["G61.4","129-256",{"$f":"IFERROR(VLOOKUP(A253,Grup!$N$5:$AF$1000,3,0),\"\")","v":""},{"$f":"IFERROR(VLOOKUP(C253,Kura!D253:F541,3,0),\"\")","v":""},1]
["G62.3","129-256",{"$f":"IFERROR(VLOOKUP(A254,Grup!$N$5:$AF$1000,3,0),\"\")","v":""},{"$f":"IFERROR(VLOOKUP(C254,Kura!D254:F542,3,0),\"\")","v":""},1]
["G62.4","129-256",{"$f":"IFERROR(VLOOKUP(A255,Grup!$N$5:$AF$1000,3,0),\"\")","v":""},{"$f":"IFERROR(VLOOKUP(C255,Kura!D255:F543,3,0),\"\")","v":""},1]
["G63.3","129-256",{"$f":"IFERROR(VLOOKUP(A256,Grup!$N$5:$AF$1000,3,0),\"\")","v":""},{"$f":"IFERROR(VLOOKUP(C256,Kura!D256:F544,3,0),\"\")","v":""},1]
["G63.4","129-256",{"$f":"IFERROR(VLOOKUP(A257,Grup!$N$5:$AF$1000,3,0),\"\")","v":""},{"$f":"IFERROR(VLOOKUP(C257,Kura!D257:F545,3,0),\"\")","v":""},1]
["G64.3","129-256",{"$f":"IFERROR(VLOOKUP(A258,Grup!$N$5:$AF$1000,3,0),\"\")","v":""},{"$f":"IFERROR(VLOOKUP(C258,Kura!D258:F546,3,0),\"\")","v":""},1]
["G64.4","129-256",{"$f":"IFERROR(VLOOKUP(A259,Grup!$N$5:$AF$1000,3,0),\"\")","v":""},{"$f":"IFERROR(VLOOKUP(C259,Kura!D259:F547,3,0),\"\")","v":""},1]

{"sheet":"5_Mac","index":19,"n_rows":76,"n_cols":44,"rows_kept":76,"cut":false,"hidden":false,"merged":[[0,40,0,41],[0,42,0,43],[1,21,2,28],[1,29,2,31],[1,32,2,34],[1,35,2,37],[1,38,2,39],[1,40,2,41],[1,42,2,43],[0,21,0,28],[0,29,0,31],[0,32,0,34],[0,35,0,37],[0,38,0,39],[4,27,5,41],[4,42,5,42],[4,43,5,43],[6,25,7,26],[6,27,7,41],[6,42,7,42],[3,21,3,22],[3,23,3,24],[3,25,3,26],[3,27,3,41],[6,43,7,43],[0,0,7,20],[8,30,9,39],[8,40,9,41],[8,42,9,43],[10,3,10,13],[10,17,10,28],[10,30,10,31],[10,32,10,33],[10,34,10,35],[10,36,10,37],[10,38,10,39],[8,0,10,0],[8,1,10,1],[8,2,10,2],[8,3,9,13],[8,14,10,14],[8,15,10,15],[8,16,10,16],[8,17,9,28],[8,29,10,29],[3,42,3,43],[4,21,7,22],[4,23,7,24],[4,25,5,26],[10,40,10,41],[10,42,10,43],[11,0,13,0],[11,1,13,1],[11,3,13,13],[11,14,13,14],[11,15,13,15],[11,17,13,28],[11,29,13,29],[17,0,19,0],[17,1,19,1],[17,3,19,13],[17,14,19,14],[17,15,19,15],[17,17,19,28],[17,29,19,29],[14,29,16,29],[14,0,16,0],[14,1,16,1],[14,3,16,13],[14,14,16,14],[14,15,16,15],[14,17,16,28],[23,29,25,29],[20,29,22,29],[20,0,22,0],[20,1,22,1],[26,0,26,4],[26,15,26,19],[26,30,27,39],[27,0,27,4],[27,5,27,6],[27,7,27,8],[27,9,27,10],[27,11,27,12],[20,3,22,13],[20,14,22,14],[20,15,22,15],[20,17,22,28],[23,0,25,0],[23,1,25,1],[23,3,25,13],[23,14,25,14],[23,15,25,15],[23,17,25,28],[29,11,29,12],[29,13,29,14],[27,28,27,29],[28,0,28,4],[28,5,28,6],[28,7,28,8],[28,9,28,10],[28,11,28,12],[28,13,28,14],[28,15,28,19],[28,20,28,21],[28,22,28,23],[27,13,27,14],[27,15,27,19],[27,20,27,21],[27,22,27,23],[27,24,27,25],[27,26,27,27],[29,15,29,19],[29,20,29,21],[29,22,29,23],[29,24,29,25],[29,26,29,27],[29,28,29,29],[28,24,28,25],[28,26,28,27],[28,28,28,29],[30,33,31,43],[31,0,31,4],[31,5,31,7],[31,10,31,12],[31,15,31,19],[31,20,31,22],[31,25,31,27],[30,15,30,19],[30,20,30,21],[30,22,30,23],[30,24,30,25],[30,26,30,27],[30,28,30,29],[30,0,30,4],[30,5,30,6],[30,7,30,8],[30,9,30,10],[30,11,30,12],[30,13,30,14],[28,30,31,32],[29,0,29,4],[29,5,29,6],[29,7,29,8],[29,9,29,10],[32,30,32,36],[32,37,32,43],[33,30,36,36],[33,37,36,43],[39,0,46,20],[39,21,39,28],[39,29,39,31],[39,32,39,34],[39,35,39,37],[39,38,39,39],[39,40,39,41],[39,42,39,43],[40,21,41,28],[40,29,41,31],[40,32,41,34],[40,35,41,37],[40,38,41,39],[40,40,41,41],[40,42,41,43],[42,21,42,22],[42,23,42,24],[42,25,42,26],[42,27,42,41],[42,42,42,43],[43,21,46,22],[43,23,46,24],[43,25,44,26],[43,27,44,41],[43,42,44,42],[43,43,44,43],[45,25,46,26],[45,27,46,41],[45,42,46,42],[45,43,46,43],[47,42,48,43],[49,3,49,13],[49,17,49,28],[49,30,49,31],[49,32,49,33],[49,34,49,35],[49,36,49,37],[49,38,49,39],[49,40,49,41],[49,42,49,43],[47,15,49,15],[47,16,49,16],[47,17,48,28],[47,29,49,29],[47,30,48,39],[47,40,48,41],[53,29,55,29],[50,29,52,29],[50,0,52,0],[50,1,52,1],[50,3,52,13],[50,14,52,14],[50,15,52,15],[50,17,52,28],[47,0,49,0],[47,1,49,1],[47,2,49,2],[47,3,48,13],[47,14,49,14],[59,14,61,14],[59,15,61,15],[59,17,61,28],[53,0,55,0],[53,1,55,1],[53,3,55,13],[53,14,55,14],[53,15,55,15],[53,17,55,28],[59,29,61,29],[56,29,58,29],[56,0,58,0],[56,1,58,1],[65,0,65,4],[65,15,65,19],[65,30,66,39],[66,0,66,4],[66,5,66,6],[66,7,66,8],[62,29,64,29],[62,0,64,0],[62,1,64,1],[62,3,64,13],[62,14,64,14],[62,15,64,15],[62,17,64,28],[56,3,58,13],[56,14,58,14],[56,15,58,15],[56,17,58,28],[59,0,61,0],[59,1,61,1],[59,3,61,13],[67,0,67,4],[67,5,67,6],[67,7,67,8],[67,9,67,10],[67,11,67,12],[67,13,67,14],[67,15,67,19],[66,9,66,10],[66,11,66,12],[66,13,66,14],[66,15,66,19],[67,20,67,21],[67,22,67,23],[67,24,67,25],[67,26,67,27],[67,28,67,29],[67,30,70,32],[66,24,66,25],[66,26,66,27],[66,28,66,29],[66,20,66,21],[66,22,66,23],[68,15,68,19],[68,20,68,21],[68,22,68,23],[68,24,68,25],[68,26,68,27],[68,28,68,29],[68,0,68,4],[68,5,68,6],[68,7,68,8],[68,9,68,10],[68,11,68,12],[68,13,68,14],[71,30,71,36],[71,37,71,43],[72,30,75,36],[72,37,75,43],[69,33,70,43],[70,0,70,4],[70,5,70,7],[70,10,70,12],[70,15,70,19],[70,20,70,22],[70,25,70,27],[69,15,69,19],[69,20,69,21],[69,22,69,23],[69,24,69,25],[69,26,69,27],[69,28,69,29],[69,0,69,4],[69,5,69,6],[69,7,69,8],[69,9,69,10],[69,11,69,12],[69,13,69,14]]}
["TÜRKİYE\nMASA TENİSİ FEDERASYONU\nYARIŞMA CETVELİ 5 Maçlık Sistem\n(Yeni swaythling kupa sistemi, 5 Tek)",null,null,null,null,null,null,null,null,null,null,null,null,null,null,null,null,null,null,null,null,"Yarışma Adı",null,null,null,null,null,null,null,"Yeri",null,null,"Tarih",null,null,"Saat",null,null,"Grup",null,"Maç No",null,"Masa"]
[null,null,null,null,null,null,null,null,null,null,null,null,null,null,null,null,null,null,null,null,null,"Ana Tablo (8TE)",null,null,null,null,null,null,null,null,null,null,"16..03.2025"]
[]
[null,null,null,null,null,null,null,null,null,null,null,null,null,null,null,null,null,null,null,null,null,"Erkek",null,"Kadın",null,"Galip",null,"Takımlar",null,null,null,null,null,null,null,null,null,null,null,null,null,null,"Kura"]
[null,null,null,null,null,null,null,null,null,null,null,null,null,null,null,null,null,null,null,null,null,null,null,"P",null,null,null,"KUTLUBEY OKULLARI (A) (AMS)",null,null,null,null,null,null,null,null,null,null,null,null,null,null,"A","X"]
[]
[null,null,null,null,null,null,null,null,null,null,null,null,null,null,null,null,null,null,null,null,null,null,null,null,null,null,null,"BEŞİKDÜZÜ AYYILDIZ SPOR (A) (TRB)",null,null,null,null,null,null,null,null,null,null,null,null,null,null,"A","X"]
[]
["Maç No","Kura","Lisans No","A-",null,null,null,null,null,null,null,null,null,null,"Mola","Kura","Lisans No","X-",null,null,null,null,null,null,null,null,null,null,null,"Mola","Sayılar",null,null,null,null,null,null,null,null,null,"Setler",null,"Puan"]
[]
[null,null,null,"Sporcular",null,null,null,null,null,null,null,null,null,null,null,null,null,"Sporcular",null,null,null,null,null,null,null,null,null,null,null,null,"1.Set",null,"2.Set",null,"3.Set",null,"4.Set",null,"5.Set",null,"A / X",null,"A / X"]
[1,"A",null,null,null,null,null,null,null,null,null,null,null,null,null,"X"]
[]
[]
[2,"B",null,null,null,null,null,null,null,null,null,null,null,null,null,"Y"]
[]
[]
[3,"C",null,null,null,null,null,null,null,null,null,null,null,null,null,"Z"]
[]
[]
[4,"A",null,null,null,null,null,null,null,null,null,null,null,null,null,"Y"]
[]
[]
[5,"B",null,null,null,null,null,null,null,null,null,null,null,null,null,"X"]
[]
[]
["Forma Rengi",null,null,null,null,null,null,null,null,null,null,null,null,null,null,"Forma Rengi",null,null,null,null,null,null,null,null,null,null,null,null,null,null,"Toplam"]
["Kart\\Oyuncuya",null,null,null,null,1,null,2,null,3,null,4,null,5,null,"Kart\\Oyuncuya",null,null,null,null,1,null,2,null,3,null,4,null,5]
["Sarı",null,null,null,null,null,null,null,null,null,null,null,null,null,null,"Sarı",null,null,null,null,null,null,null,null,null,null,null,null,null,null,"Galip"]
["1. Sarı + Kırmızı",null,null,null,null,null,null,null,null,null,null,null,null,null,null,"1. Sarı + Kırmızı"]
["2. Sarı + Kırmızı",null,null,null,null,null,null,null,null,null,null,null,null,null,null,"2. Sarı + Kırmızı",null,null,null,null,null,null,null,null,null,null,null,null,null,null,null,null,null,{"$f":"\"(  \"&Main!$W$2&\"  -     )\"","v":"(  3  -     )"}]
["Kart\\Öğütücüye",null,null,null,null,"Sarı",null,null,null,null,"Kırmızı",null,null,null,null,"Kart\\Öğütücüye",null,null,null,null,"Sarı",null,null,null,null,"Kırmızı"]
["Kaptan",null,null,null,null,null,null,null,null,null,null,null,null,null,null,"Kaptan",null,null,null,null,null,null,null,null,null,null,null,null,null,null,"Hakemler",null,null,null,null,null,null,"Baş Hakem"]
["Adı Soyadı",null,null,null,":",null,null,null,null,null,null,null,null,null,null,"Adı Soyadı",null,null,null,":"]
["İmza",null,null,null,":",null,null,null,null,null,null,null,null,null,null,"İmza",null,null,null,":"]
[]
["Başlama Saati",null,null,null,null,":",null,null,null,null,null,null,null,null,null,"Bitiş Saati",null,null,null,null,":"]
[]
[]
["TÜRKİYE\nMASA TENİSİ FEDERASYONU\nYARIŞMA CETVELİ 5 Maçlık Sistem\n(Yeni swaythling kupa sistemi, 5 Tek)",null,null,null,null,null,null,null,null,null,null,null,null,null,null,null,null,null,null,null,null,"Yarışma Adı",null,null,null,null,null,null,null,"Yeri",null,null,"Tarih",null,null,"Saat",null,null,"Grup",null,"Maç No",null,"Masa"]
[null,null,null,null,null,null,null,null,null,null,null,null,null,null,null,null,null,null,null,null,null,"Ana Tablo (8TE)",null,null,null,null,null,null,null,null,null,null,"16..03.2025"]
[]
[null,null,null,null,null,null,null,null,null,null,null,null,null,null,null,null,null,null,null,null,null,"Erkek",null,"Kadın",null,"Galip",null,"Takımlar",null,null,null,null,null,null,null,null,null,null,null,null,null,null,"Kura"]
[null,null,null,null,null,null,null,null,null,null,null,null,null,null,null,null,null,null,null,null,null,null,null,"P",null,null,null,"BAYBURT GMSK (A) (BYB)",null,null,null,null,null,null,null,null,null,null,null,null,null,null,"A","X"]
[]
[null,null,null,null,null,null,null,null,null,null,null,null,null,null,null,null,null,null,null,null,null,null,null,null,null,null,null,"YALIKÖY ŞBÇ OO (A) (GRS)",null,null,null,null,null,null,null,null,null,null,null,null,null,null,"A","X"]
[]
["Maç No","Kura","Lisans No","A-",null,null,null,null,null,null,null,null,null,null,"Mola","Kura","Lisans No","X-",null,null,null,null,null,null,null,null,null,null,null,"Mola","Sayılar",null,null,null,null,null,null,null,null,null,"Setler",null,"Puan"]
[]
[null,null,null,"Sporcular",null,null,null,null,null,null,null,null,null,null,null,null,null,"Sporcular",null,null,null,null,null,null,null,null,null,null,null,null,"1.Set",null,"2.Set",null,"3.Set",null,"4.Set",null,"5.Set",null,"A / X",null,"A / X"]
[1,"A",null,null,null,null,null,null,null,null,null,null,null,null,null,"X"]
[]
[]
[2,"B",null,null,null,null,null,null,null,null,null,null,null,null,null,"Y"]
[]
[]
[3,"C",null,null,null,null,null,null,null,null,null,null,null,null,null,"Z"]
[]
[]
[4,"A",null,null,null,null,null,null,null,null,null,null,null,null,null,"Y"]
[]
[]
[5,"B",null,null,null,null,null,null,null,null,null,null,null,null,null,"X"]
[]
[]
["Forma Rengi",null,null,null,null,null,null,null,null,null,null,null,null,null,null,"Forma Rengi",null,null,null,null,null,null,null,null,null,null,null,null,null,null,"Toplam"]
["Kart\\Oyuncuya",null,null,null,null,1,null,2,null,3,null,4,null,5,null,"Kart\\Oyuncuya",null,null,null,null,1,null,2,null,3,null,4,null,5]
["Sarı",null,null,null,null,null,null,null,null,null,null,null,null,null,null,"Sarı",null,null,null,null,null,null,null,null,null,null,null,null,null,null,"Galip"]
["1. Sarı + Kırmızı",null,null,null,null,null,null,null,null,null,null,null,null,null,null,"1. Sarı + Kırmızı"]
["2. Sarı + Kırmızı",null,null,null,null,null,null,null,null,null,null,null,null,null,null,"2. Sarı + Kırmızı",null,null,null,null,null,null,null,null,null,null,null,null,null,null,null,null,null,{"$f":"\"(  \"&Main!$W$2&\"  -     )\"","v":"(  3  -     )"}]
["Kart\\Öğütücüye",null,null,null,null,"Sarı",null,null,null,null,"Kırmızı",null,null,null,null,"Kart\\Öğütücüye",null,null,null,null,"Sarı",null,null,null,null,"Kırmızı"]
["Kaptan",null,null,null,null,null,null,null,null,null,null,null,null,null,null,"Kaptan",null,null,null,null,null,null,null,null,null,null,null,null,null,null,"Hakemler",null,null,null,null,null,null,"Baş Hakem"]
["Adı Soyadı",null,null,null,":",null,null,null,null,null,null,null,null,null,null,"Adı Soyadı",null,null,null,":"]
["İmza",null,null,null,":",null,null,null,null,null,null,null,null,null,null,"İmza",null,null,null,":"]
[]
["Başlama Saati",null,null,null,null,":",null,null,null,null,null,null,null,null,null,"Bitiş Saati",null,null,null,null,":"]

{"sheet":"Olimpik","index":20,"n_rows":75,"n_cols":44,"rows_kept":75,"cut":false,"hidden":true,"merged":[[0,40,0,41],[0,42,0,43],[3,21,3,22],[3,23,3,24],[3,25,3,26],[3,27,3,41],[3,42,3,43],[0,0,7,20],[0,21,0,28],[0,29,0,31],[0,32,0,34],[0,35,0,37],[0,38,0,39],[1,21,2,28],[1,29,2,31],[1,32,2,34],[1,35,2,37],[1,38,2,39],[1,40,2,41],[1,42,2,43],[4,23,7,24],[4,25,5,26],[6,25,7,26],[8,40,9,41],[8,42,9,43],[10,38,10,39],[4,42,5,42],[4,43,5,43],[6,42,7,42],[6,43,7,43],[8,0,10,0],[8,1,10,1],[8,2,10,2],[8,3,9,13],[8,14,10,14],[8,15,10,15],[10,3,10,13],[10,17,10,28],[10,30,10,31],[10,32,10,33],[10,34,10,35],[10,36,10,37],[8,16,10,16],[8,17,9,28],[8,29,10,29],[8,30,9,39],[4,21,7,22],[14,0,16,0],[14,1,16,1],[14,3,16,13],[14,14,16,14],[14,15,16,15],[14,17,16,28],[14,29,16,29],[11,29,13,29],[11,0,13,0],[11,1,13,1],[11,3,13,13],[11,14,13,14],[11,15,13,15],[11,17,13,28],[28,15,28,19],[28,20,28,21],[28,22,28,23],[28,24,28,25],[28,26,28,27],[28,28,28,29],[25,0,25,4],[25,15,25,19],[25,30,26,39],[26,0,26,4],[26,5,26,6],[26,7,26,8],[26,9,26,10],[26,11,26,12],[27,24,27,25],[27,26,27,27],[27,28,27,29],[26,28,26,29],[17,0,18,0],[17,29,18,29],[27,5,27,6],[27,7,27,8],[27,9,27,10],[27,11,27,12],[27,13,27,14],[27,15,27,19],[27,20,27,21],[27,22,27,23],[26,13,26,14],[26,15,26,19],[26,20,26,21],[26,22,26,23],[19,0,21,0],[26,24,26,25],[26,26,26,27],[22,0,24,0],[22,1,24,1],[22,3,24,13],[22,14,24,14],[22,15,24,15],[22,17,24,28],[22,29,24,29],[29,33,30,43],[30,0,30,4],[30,5,30,7],[30,10,30,12],[30,15,30,19],[30,20,30,22],[30,25,30,27],[29,15,29,19],[29,20,29,21],[29,22,29,23],[29,24,29,25],[29,26,29,27],[29,28,29,29],[29,0,29,4],[29,5,29,6],[29,7,29,8],[29,9,29,10],[29,11,29,12],[29,13,29,14],[27,30,30,32],[28,0,28,4],[28,11,28,12],[28,13,28,14],[27,0,27,4],[39,40,39,41],[39,42,39,43],[42,21,42,22],[42,23,42,24],[42,25,42,26],[42,27,42,41],[42,42,42,43],[31,30,31,36],[31,37,31,43],[32,30,35,36],[32,37,35,43],[39,21,39,28],[39,29,39,31],[39,32,39,34],[39,35,39,37],[39,38,39,39],[40,21,41,28],[40,29,41,31],[40,32,41,34],[40,35,41,37],[40,38,41,39],[40,40,41,41],[40,42,41,43],[47,40,48,41],[47,42,48,43],[49,38,49,39],[43,42,44,42],[43,43,44,43],[45,42,46,42],[45,43,46,43],[47,0,49,0],[47,1,49,1],[47,2,49,2],[47,3,48,13],[47,14,49,14],[47,15,49,15],[39,0,46,20],[49,3,49,13],[49,17,49,28],[49,30,49,31],[49,32,49,33],[49,34,49,35],[49,36,49,37],[47,16,49,16],[47,17,48,28],[47,29,49,29],[47,30,48,39],[50,0,52,0],[50,1,52,1],[50,3,52,13],[50,14,52,14],[50,15,52,15],[50,17,52,28],[64,0,64,4],[64,15,64,19],[64,30,65,39],[65,0,65,4],[65,5,65,6],[65,7,65,8],[65,9,65,10],[65,11,65,12],[65,28,65,29],[65,13,65,14],[65,15,65,19],[65,20,65,21],[65,22,65,23],[65,24,65,25],[65,26,65,27],[53,0,55,0],[53,1,55,1],[53,3,55,13],[67,24,67,25],[67,26,67,27],[67,28,67,29],[66,24,66,25],[66,26,66,27],[66,28,66,29],[66,0,66,4],[66,5,66,6],[66,7,66,8],[66,9,66,10],[66,11,66,12],[66,13,66,14],[66,15,66,19],[66,20,66,21],[66,22,66,23],[67,0,67,4],[67,5,67,6],[67,7,67,8],[67,9,67,10],[67,11,67,12],[67,13,67,14],[67,15,67,19],[67,20,67,21],[67,22,67,23],[68,13,68,14],[71,30,74,36],[71,37,74,43],[68,33,69,43],[69,0,69,4],[69,5,69,7],[69,10,69,12],[69,15,69,19],[69,20,69,22],[69,25,69,27],[68,15,68,19],[68,20,68,21],[68,22,68,23],[68,24,68,25],[68,26,68,27],[68,28,68,29],[68,0,68,4],[68,5,68,6],[68,7,68,8],[68,9,68,10],[68,11,68,12],[70,30,70,36],[70,37,70,43],[66,30,69,32],[61,0,63,0],[61,1,63,1],[61,3,63,13],[61,14,63,14],[61,15,63,15],[61,17,63,28],[61,29,63,29],[58,0,60,0],[58,1,60,1],[58,3,60,13],[58,14,60,14],[58,15,60,15],[58,17,60,28],[58,29,60,29],[56,0,57,0],[56,29,57,29],[43,21,46,22],[43,23,46,24],[43,25,44,26],[45,25,46,26],[4,27,5,41],[6,27,7,41],[43,27,44,41],[45,27,46,41],[53,14,55,14],[53,15,55,15],[53,17,55,28],[53,29,55,29],[19,1,21,1],[19,3,21,13],[19,14,21,14],[19,15,21,15],[19,17,21,28],[19,29,21,29],[50,29,52,29],[28,5,28,6],[28,7,28,8],[28,9,28,10]]}
["          TÜRKİYE\n          MASA TENİSİ FEDERASYONU\n          YARIŞMA CETVELİ\n          Olimpik Sistem (4 Tek, 1 Çift)",null,null,null,null,null,null,null,null,null,null,null,null,null,null,null,null,null,null,null,null,"Yarışma Adı",null,null,null,null,null,null,null,"Yeri",null,null,"Tarih",null,null,"Saat",null,null,"Etap",null,"Maç No",null,"Masa"]
[]
[]
[null,null,null,null,null,null,null,null,null,null,null,null,null,null,null,null,null,null,null,null,null,"Erkek",null,"Bayan",null,"Galip",null,"Takımlar",null,null,null,null,null,null,null,null,null,null,null,null,null,null,"Kura"]
[null,null,null,null,null,null,null,null,null,null,null,null,null,null,null,null,null,null,null,null,null,null,null,null,null,null,null,null,null,null,null,null,null,null,null,null,null,null,null,null,null,null,"A","X"]
[]
[null,null,null,null,null,null,null,null,null,null,null,null,null,null,null,null,null,null,null,null,null,null,null,null,null,null,null,null,null,null,null,null,null,null,null,null,null,null,null,null,null,null,"A","X"]
[]
["Maç No","Kura","Lisans No","A-",null,null,null,null,null,null,null,null,null,null,"Mola","Kura","Lisans No","X-",null,null,null,null,null,null,null,null,null,null,null,"Mola","Sayılar",null,null,null,null,null,null,null,null,null,"Setler",null,"Puan"]
[]
[null,null,null,"Sporcular",null,null,null,null,null,null,null,null,null,null,null,null,null,"Sporcular",null,null,null,null,null,null,null,null,null,null,null,null,"1.Set",null,"2.Set",null,"3.Set",null,"4.Set",null,"5.Set",null,"A","X","A","X"]
[1,"A",null,null,null,null,null,null,null,null,null,null,null,null,null,"X"]
[]
[]
[2,"B",null,null,null,null,null,null,null,null,null,null,null,null,null,"Y"]
[]
[]
[3,"C",null,null,null,null,null,null,null,null,null,null,null,null,null,"Z"]
[null,"A\nB",null,null,null,null,null,null,null,null,null,null,null,null,null,"X\nY"]
[4,"B\nA",null,null,null,null,null,null,null,null,null,null,null,null,null,"Z"]
[]
[]
[5,"C",null,null,null,null,null,null,null,null,null,null,null,null,null,"Y\nX"]
[]
[]
["Forma Rengi",null,null,null,null,null,null,null,null,null,null,null,null,null,null,"Forma Rengi",null,null,null,null,null,null,null,null,null,null,null,null,null,null,"Toplam"]
["Kart\\Oyuncuya",null,null,null,null,1,null,2,null,3,null,4,null,5,null,"Kart\\Oyuncuya",null,null,null,null,1,null,2,null,3,null,4,null,5]
["Sarı",null,null,null,null,null,null,null,null,null,null,null,null,null,null,"Sarı",null,null,null,null,null,null,null,null,null,null,null,null,null,null,"Galip"]
["1. Sarı + Kırmızı",null,null,null,null,null,null,null,null,null,null,null,null,null,null,"1. Sarı + Kırmızı"]
["2. Sarı + Kırmızı",null,null,null,null,null,null,null,null,null,null,null,null,null,null,"2. Sarı + Kırmızı",null,null,null,null,null,null,null,null,null,null,null,null,null,null,null,null,null,{"$f":"\"(  \"&Main!$W$2&\"  -     )\"","v":"(  3  -     )"}]
["Kart\\Öğütücüye",null,null,null,null,"Sarı",null,null,null,null,"Kırmızı",null,null,null,null,"Kart\\Öğütücüye",null,null,null,null,"Sarı",null,null,null,null,"Kırmızı"]
["Kaptan",null,null,null,null,null,null,null,null,null,null,null,null,null,null,"Kaptan",null,null,null,null,null,null,null,null,null,null,null,null,null,null,"Hakemler",null,null,null,null,null,null,"Baş Hakem"]
["Adı Soyadı",null,null,null,":",null,null,null,null,null,null,null,null,null,null,"Adı Soyadı",null,null,null,":"]
["İmza",null,null,null,":",null,null,null,null,null,null,null,null,null,null,"İmza",null,null,null,":"]
[]
["Başlama Saati",null,null,null,null,":",null,null,null,null,null,null,null,null,null,"Bitiş Saati",null,null,null,null,":"]
[]
[]
[]
["          TÜRKİYE\n          MASA TENİSİ FEDERASYONU\n          YARIŞMA CETVELİ\n          Olimpik Sistem (4 Tek, 1 Çift)",null,null,null,null,null,null,null,null,null,null,null,null,null,null,null,null,null,null,null,null,"Yarışma Adı",null,null,null,null,null,null,null,"Yeri",null,null,"Tarih",null,null,"Saat",null,null,"Etap",null,"Maç No",null,"Masa"]
[]
[]
[null,null,null,null,null,null,null,null,null,null,null,null,null,null,null,null,null,null,null,null,null,"Erkek",null,"Bayan",null,"Galip",null,"Takımlar",null,null,null,null,null,null,null,null,null,null,null,null,null,null,"Kura"]
[null,null,null,null,null,null,null,null,null,null,null,null,null,null,null,null,null,null,null,null,null,null,null,null,null,null,null,null,null,null,null,null,null,null,null,null,null,null,null,null,null,null,"A","X"]
[]
[null,null,null,null,null,null,null,null,null,null,null,null,null,null,null,null,null,null,null,null,null,null,null,null,null,null,null,null,null,null,null,null,null,null,null,null,null,null,null,null,null,null,"A","X"]
[]
["Maç No","Kura","Lisans No","A-",null,null,null,null,null,null,null,null,null,null,"Mola","Kura","Lisans No","X-",null,null,null,null,null,null,null,null,null,null,null,"Mola","Sayılar",null,null,null,null,null,null,null,null,null,"Setler",null,"Puan"]
[]
[null,null,null,"Sporcular",null,null,null,null,null,null,null,null,null,null,null,null,null,"Sporcular",null,null,null,null,null,null,null,null,null,null,null,null,"1.Set",null,"2.Set",null,"3.Set",null,"4.Set",null,"5.Set",null,"A","X","A","X"]
[1,"A",null,null,null,null,null,null,null,null,null,null,null,null,null,"X"]
[]
[]
[2,"B",null,null,null,null,null,null,null,null,null,null,null,null,null,"Y"]
[]
[]
[3,"C",null,null,null,null,null,null,null,null,null,null,null,null,null,"Z"]
[null,"A\nB",null,null,null,null,null,null,null,null,null,null,null,null,null,"X\nY"]
[4,"B\nA",null,null,null,null,null,null,null,null,null,null,null,null,null,"Z"]
[]
[]
[5,"C",null,null,null,null,null,null,null,null,null,null,null,null,null,"Y\nX"]
[]
[]
["Forma Rengi",null,null,null,null,null,null,null,null,null,null,null,null,null,null,"Forma Rengi",null,null,null,null,null,null,null,null,null,null,null,null,null,null,"Toplam"]
["Kart\\Oyuncuya",null,null,null,null,1,null,2,null,3,null,4,null,5,null,"Kart\\Oyuncuya",null,null,null,null,1,null,2,null,3,null,4,null,5]
["Sarı",null,null,null,null,null,null,null,null,null,null,null,null,null,null,"Sarı",null,null,null,null,null,null,null,null,null,null,null,null,null,null,"Galip"]
["1. Sarı + Kırmızı",null,null,null,null,null,null,null,null,null,null,null,null,null,null,"1. Sarı + Kırmızı"]
["2. Sarı + Kırmızı",null,null,null,null,null,null,null,null,null,null,null,null,null,null,"2. Sarı + Kırmızı",null,null,null,null,null,null,null,null,null,null,null,null,null,null,null,null,null,{"$f":"\"(  \"&Main!$W$2&\"  -     )\"","v":"(  3  -     )"}]
["Kart\\Öğütücüye",null,null,null,null,"Sarı",null,null,null,null,"Kırmızı",null,null,null,null,"Kart\\Öğütücüye",null,null,null,null,"Sarı",null,null,null,null,"Kırmızı"]
["Kaptan",null,null,null,null,null,null,null,null,null,null,null,null,null,null,"Kaptan",null,null,null,null,null,null,null,null,null,null,null,null,null,null,"Hakemler",null,null,null,null,null,null,"Baş Hakem"]
["Adı Soyadı",null,null,null,":",null,null,null,null,null,null,null,null,null,null,"Adı Soyadı",null,null,null,":"]
["İmza",null,null,null,":",null,null,null,null,null,null,null,null,null,null,"İmza",null,null,null,":"]
[]
["Başlama Saati",null,null,null,null,":",null,null,null,null,null,null,null,null,null,"Bitiş Saati",null,null,null,null,":"]

{"sheet":"Yeni_Olimpik","index":21,"n_rows":75,"n_cols":44,"rows_kept":75,"cut":false,"hidden":true,"merged":[[0,40,0,41],[0,42,0,43],[3,21,3,22],[3,23,3,24],[3,25,3,26],[3,27,3,41],[3,42,3,43],[0,0,7,20],[0,21,0,28],[0,29,0,31],[0,32,0,34],[0,35,0,37],[0,38,0,39],[1,32,2,34],[1,35,2,37],[1,38,2,39],[1,40,2,41],[1,42,2,43],[1,29,2,31],[1,21,2,28],[4,21,7,22],[4,23,7,24],[4,25,5,26],[6,25,7,26],[8,0,10,0],[8,1,10,1],[8,2,10,2],[8,3,9,13],[8,14,10,14],[8,15,10,15],[8,40,9,41],[8,42,9,43],[10,38,10,39],[4,42,5,42],[4,43,5,43],[6,42,7,42],[6,43,7,43],[6,27,7,41],[4,27,5,41],[10,36,10,37],[10,3,10,13],[10,17,10,28],[10,30,10,31],[10,32,10,33],[10,34,10,35],[8,16,10,16],[8,17,9,28],[8,29,10,29],[8,30,9,39],[14,0,16,0],[14,1,16,1],[14,3,16,13],[14,14,16,14],[14,15,16,15],[14,17,16,28],[14,29,16,29],[11,29,13,29],[11,0,13,0],[11,1,13,1],[11,3,13,13],[11,14,13,14],[11,15,13,15],[11,17,13,28],[23,0,24,0],[23,1,24,1],[23,14,24,14],[23,15,24,15],[23,29,24,29],[17,0,19,0],[17,1,19,1],[17,3,19,13],[17,14,19,14],[17,15,19,15],[17,17,19,28],[20,0,22,0],[20,1,22,1],[20,3,22,13],[20,14,22,14],[20,15,22,15],[20,17,22,28],[17,29,19,29],[20,29,22,29],[25,0,25,4],[25,15,25,19],[25,30,26,39],[26,0,26,4],[26,5,26,6],[26,7,26,8],[26,9,26,10],[26,11,26,12],[27,30,30,32],[28,0,28,4],[28,5,28,6],[28,7,28,8],[28,9,28,10],[28,11,28,12],[28,13,28,14],[26,28,26,29],[27,0,27,4],[27,5,27,6],[27,7,27,8],[27,9,27,10],[27,11,27,12],[27,13,27,14],[27,15,27,19],[27,20,27,21],[26,13,26,14],[26,15,26,19],[26,20,26,21],[26,22,26,23],[26,24,26,25],[26,26,26,27],[29,13,29,14],[28,15,28,19],[28,20,28,21],[28,22,28,23],[28,24,28,25],[28,26,28,27],[29,24,29,25],[29,26,29,27],[28,28,28,29],[27,24,27,25],[27,26,27,27],[27,28,27,29],[39,0,46,20],[39,21,39,28],[39,29,39,31],[39,32,39,34],[39,35,39,37],[42,21,42,22],[42,23,42,24],[42,25,42,26],[42,27,42,41],[27,22,27,23],[29,33,30,43],[30,0,30,4],[30,5,30,7],[30,10,30,12],[30,15,30,19],[30,20,30,22],[30,25,30,27],[29,15,29,19],[29,20,29,21],[29,22,29,23],[29,28,29,29],[29,0,29,4],[29,5,29,6],[29,7,29,8],[29,9,29,10],[29,11,29,12],[47,0,49,0],[47,1,49,1],[47,2,49,2],[47,3,48,13],[47,14,49,14],[47,15,49,15],[49,3,49,13],[42,42,42,43],[31,30,31,36],[31,37,31,43],[32,30,35,36],[32,37,35,43],[40,21,41,28],[40,29,41,31],[40,32,41,34],[40,35,41,37],[40,38,41,39],[40,40,41,41],[40,42,41,43],[39,38,39,39],[39,40,39,41],[39,42,39,43],[50,29,52,29],[47,16,49,16],[47,17,48,28],[47,29,49,29],[47,30,48,39],[49,32,49,33],[49,34,49,35],[49,17,49,28],[49,30,49,31],[49,36,49,37],[49,38,49,39],[64,30,65,39],[65,0,65,4],[65,5,65,6],[65,7,65,8],[65,9,65,10],[65,11,65,12],[59,14,61,14],[59,15,61,15],[62,0,63,0],[62,1,63,1],[62,14,63,14],[62,15,63,15],[59,0,61,0],[59,1,61,1],[59,3,61,13],[65,28,65,29],[65,13,65,14],[65,15,65,19],[65,20,65,21],[65,22,65,23],[65,24,65,25],[65,26,65,27],[67,0,67,4],[67,5,67,6],[67,7,67,8],[67,9,67,10],[67,11,67,12],[67,13,67,14],[66,0,66,4],[66,5,66,6],[66,7,66,8],[66,9,66,10],[66,11,66,12],[66,13,66,14],[69,0,69,4],[69,5,69,7],[69,10,69,12],[69,15,69,19],[69,20,69,22],[69,25,69,27],[68,15,68,19],[68,20,68,21],[68,22,68,23],[68,24,68,25],[68,26,68,27],[68,0,68,4],[68,5,68,6],[68,7,68,8],[68,9,68,10],[68,11,68,12],[66,20,66,21],[50,0,52,0],[50,1,52,1],[50,3,52,13],[64,0,64,4],[64,15,64,19],[50,14,52,14],[50,15,52,15],[50,17,52,28],[47,40,48,41],[68,13,68,14],[71,30,74,36],[71,37,74,43],[66,30,69,32],[68,33,69,43],[53,29,55,29],[70,30,70,36],[70,37,70,43],[68,28,68,29],[53,17,55,28],[67,22,67,23],[67,24,67,25],[67,26,67,27],[67,28,67,29],[66,24,66,25],[66,26,66,27],[66,28,66,29],[59,17,61,28],[62,29,63,29],[59,29,61,29],[67,15,67,19],[67,20,67,21],[66,15,66,19],[47,42,48,43],[66,22,66,23],[43,42,44,42],[43,43,44,43],[45,42,46,42],[45,43,46,43],[56,0,58,0],[56,1,58,1],[56,3,58,13],[56,14,58,14],[56,15,58,15],[56,17,58,28],[53,0,55,0],[53,1,55,1],[53,3,55,13],[53,14,55,14],[53,15,55,15],[56,29,58,29],[43,27,44,41],[45,27,46,41],[43,21,46,22],[43,23,46,24],[43,25,44,26],[45,25,46,26]]}
["          TÜRKİYE\n          MASA TENİSİ FEDERASYONU\n          YARIŞMA CETVELİ\n          Yeni Olimpik Sistem (4 Tek, 1 Çift)",null,null,null,null,null,null,null,null,null,null,null,null,null,null,null,null,null,null,null,null,"Yarışma Adı",null,null,null,null,null,null,null,"Yeri",null,null,"Tarih",null,null,"Saat",null,null,"Etap",null,"Maç No",null,"Masa"]
[]
[]
[null,null,null,null,null,null,null,null,null,null,null,null,null,null,null,null,null,null,null,null,null,"Erkek",null,"Bayan",null,"Galip",null,"Takımlar",null,null,null,null,null,null,null,null,null,null,null,null,null,null,"Kura"]
[null,null,null,null,null,null,null,null,null,null,null,null,null,null,null,null,null,null,null,null,null,null,null,null,null,null,null,null,null,null,null,null,null,null,null,null,null,null,null,null,null,null,"A","X"]
[]
[null,null,null,null,null,null,null,null,null,null,null,null,null,null,null,null,null,null,null,null,null,null,null,null,null,null,null,null,null,null,null,null,null,null,null,null,null,null,null,null,null,null,"A","X"]
[]
["Maç No","Kura","Lisans No","A-",null,null,null,null,null,null,null,null,null,null,"Mola","Kura","Lisans No","X-",null,null,null,null,null,null,null,null,null,null,null,"Mola","Sayılar",null,null,null,null,null,null,null,null,null,"Setler",null,"Puan"]
[]
[null,null,null,"Sporcular",null,null,null,null,null,null,null,null,null,null,null,null,null,"Sporcular",null,null,null,null,null,null,null,null,null,null,null,null,"1.Set",null,"2.Set",null,"3.Set",null,"4.Set",null,"5.Set",null,"A","X","A","X"]
[1,"A",null,null,null,null,null,null,null,null,null,null,null,null,null,"X"]
[]
[]
[2,"B",null,null,null,null,null,null,null,null,null,null,null,null,null,"Y"]
[]
[]
[3,"C",null,null,null,null,null,null,null,null,null,null,null,null,null,"Z"]
[]
[]
[4,"A",null,null,null,null,null,null,null,null,null,null,null,null,null,"Y"]
[]
[]
[5,"Çift",null,null,null,null,null,null,null,null,null,null,null,null,null,"Çift"]
[]
["Forma Rengi",null,null,null,null,null,null,null,null,null,null,null,null,null,null,"Forma Rengi",null,null,null,null,null,null,null,null,null,null,null,null,null,null,"Toplam"]
["Kart\\Oyuncuya",null,null,null,null,1,null,2,null,3,null,4,null,5,null,"Kart\\Oyuncuya",null,null,null,null,1,null,2,null,3,null,4,null,5]
["Sarı",null,null,null,null,null,null,null,null,null,null,null,null,null,null,"Sarı",null,null,null,null,null,null,null,null,null,null,null,null,null,null,"Galip"]
["1. Sarı + Kırmızı",null,null,null,null,null,null,null,null,null,null,null,null,null,null,"1. Sarı + Kırmızı"]
["2. Sarı + Kırmızı",null,null,null,null,null,null,null,null,null,null,null,null,null,null,"2. Sarı + Kırmızı",null,null,null,null,null,null,null,null,null,null,null,null,null,null,null,null,null,{"$f":"\"(  \"&Main!$W$2&\"  -     )\"","v":"(  3  -     )"}]
["Kart\\Öğütücüye",null,null,null,null,"Sarı",null,null,null,null,"Kırmızı",null,null,null,null,"Kart\\Öğütücüye",null,null,null,null,"Sarı",null,null,null,null,"Kırmızı"]
["Kaptan",null,null,null,null,null,null,null,null,null,null,null,null,null,null,"Kaptan",null,null,null,null,null,null,null,null,null,null,null,null,null,null,"Hakemler",null,null,null,null,null,null,"Baş Hakem"]
["Adı Soyadı",null,null,null,":",null,null,null,null,null,null,null,null,null,null,"Adı Soyadı",null,null,null,":"]
["İmza",null,null,null,":",null,null,null,null,null,null,null,null,null,null,"İmza",null,null,null,":"]
[]
["Başlama Saati",null,null,null,null,":",null,null,null,null,null,null,null,null,null,"Bitiş Saati",null,null,null,null,":"]
[]
[]
[]
["          TÜRKİYE\n          MASA TENİSİ FEDERASYONU\n          YARIŞMA CETVELİ\n          Yeni Olimpik Sistem (4 Tek, 1 Çift)",null,null,null,null,null,null,null,null,null,null,null,null,null,null,null,null,null,null,null,null,"Yarışma Adı",null,null,null,null,null,null,null,"Yeri",null,null,"Tarih",null,null,"Saat",null,null,"Etap",null,"Maç No",null,"Masa"]
[]
[]
[null,null,null,null,null,null,null,null,null,null,null,null,null,null,null,null,null,null,null,null,null,"Erkek",null,"Bayan",null,"Galip",null,"Takımlar",null,null,null,null,null,null,null,null,null,null,null,null,null,null,"Kura"]
[null,null,null,null,null,null,null,null,null,null,null,null,null,null,null,null,null,null,null,null,null,null,null,null,null,null,null,null,null,null,null,null,null,null,null,null,null,null,null,null,null,null,"A","X"]
[]
[null,null,null,null,null,null,null,null,null,null,null,null,null,null,null,null,null,null,null,null,null,null,null,null,null,null,null,null,null,null,null,null,null,null,null,null,null,null,null,null,null,null,"A","X"]
[]
["Maç No","Kura","Lisans No","A-",null,null,null,null,null,null,null,null,null,null,"Mola","Kura","Lisans No","X-",null,null,null,null,null,null,null,null,null,null,null,"Mola","Sayılar",null,null,null,null,null,null,null,null,null,"Setler",null,"Puan"]
[]
[null,null,null,"Sporcular",null,null,null,null,null,null,null,null,null,null,null,null,null,"Sporcular",null,null,null,null,null,null,null,null,null,null,null,null,"1.Set",null,"2.Set",null,"3.Set",null,"4.Set",null,"5.Set",null,"A","X","A","X"]
[1,"A",null,null,null,null,null,null,null,null,null,null,null,null,null,"X"]
[]
[]
[2,"B",null,null,null,null,null,null,null,null,null,null,null,null,null,"Y"]
[]
[]
[3,"C",null,null,null,null,null,null,null,null,null,null,null,null,null,"Z"]
[]
[]
[4,"A",null,null,null,null,null,null,null,null,null,null,null,null,null,"Y"]
[]
[]
[5,"Çift",null,null,null,null,null,null,null,null,null,null,null,null,null,"Çift"]
[]
["Forma Rengi",null,null,null,null,null,null,null,null,null,null,null,null,null,null,"Forma Rengi",null,null,null,null,null,null,null,null,null,null,null,null,null,null,"Toplam"]
["Kart\\Oyuncuya",null,null,null,null,1,null,2,null,3,null,4,null,5,null,"Kart\\Oyuncuya",null,null,null,null,1,null,2,null,3,null,4,null,5]
["Sarı",null,null,null,null,null,null,null,null,null,null,null,null,null,null,"Sarı",null,null,null,null,null,null,null,null,null,null,null,null,null,null,"Galip"]
["1. Sarı + Kırmızı",null,null,null,null,null,null,null,null,null,null,null,null,null,null,"1. Sarı + Kırmızı"]
["2. Sarı + Kırmızı",null,null,null,null,null,null,null,null,null,null,null,null,null,null,"2. Sarı + Kırmızı",null,null,null,null,null,null,null,null,null,null,null,null,null,null,null,null,null,{"$f":"\"(  \"&Main!$W$2&\"  -     )\"","v":"(  3  -     )"}]
["Kart\\Öğütücüye",null,null,null,null,"Sarı",null,null,null,null,"Kırmızı",null,null,null,null,"Kart\\Öğütücüye",null,null,null,null,"Sarı",null,null,null,null,"Kırmızı"]
["Kaptan",null,null,null,null,null,null,null,null,null,null,null,null,null,null,"Kaptan",null,null,null,null,null,null,null,null,null,null,null,null,null,null,"Hakemler",null,null,null,null,null,null,"Baş Hakem"]
["Adı Soyadı",null,null,null,":",null,null,null,null,null,null,null,null,null,null,"Adı Soyadı",null,null,null,":"]
["İmza",null,null,null,":",null,null,null,null,null,null,null,null,null,null,"İmza",null,null,null,":"]
[]
["Başlama Saati",null,null,null,null,":",null,null,null,null,null,null,null,null,null,"Bitiş Saati",null,null,null,null,":"]

{"sheet":"Corbillon","index":22,"n_rows":75,"n_cols":44,"rows_kept":75,"cut":false,"hidden":true,"merged":[[0,40,0,41],[0,42,0,43],[3,21,3,22],[3,23,3,24],[3,25,3,26],[3,27,3,41],[3,42,3,43],[0,0,7,20],[0,21,0,28],[0,29,0,31],[0,32,0,34],[0,35,0,37],[0,38,0,39],[1,21,2,28],[1,29,2,31],[1,32,2,34],[1,35,2,37],[1,38,2,39],[1,40,2,41],[1,42,2,43],[4,23,7,24],[4,25,5,26],[6,25,7,26],[8,40,9,41],[8,42,9,43],[10,38,10,39],[4,42,5,42],[4,43,5,43],[6,42,7,42],[6,43,7,43],[8,0,10,0],[8,1,10,1],[8,2,10,2],[8,3,9,13],[8,14,10,14],[8,15,10,15],[10,3,10,13],[10,17,10,28],[10,30,10,31],[10,32,10,33],[10,34,10,35],[10,36,10,37],[8,16,10,16],[8,17,9,28],[8,29,10,29],[8,30,9,39],[4,21,7,22],[14,0,16,0],[14,1,16,1],[14,3,16,13],[14,14,16,14],[14,15,16,15],[14,17,16,28],[14,29,16,29],[11,29,13,29],[11,0,13,0],[11,1,13,1],[11,3,13,13],[11,14,13,14],[11,15,13,15],[11,17,13,28],[17,14,18,14],[17,15,18,15],[19,0,21,0],[19,1,21,1],[19,3,21,13],[19,14,21,14],[19,15,21,15],[19,17,21,28],[19,29,21,29],[17,29,18,29],[17,0,18,0],[17,1,18,1],[25,0,25,4],[25,15,25,19],[25,30,26,39],[26,0,26,4],[26,5,26,6],[26,7,26,8],[22,29,24,29],[22,0,24,0],[22,1,24,1],[22,3,24,13],[22,14,24,14],[22,15,24,15],[22,17,24,28],[27,0,27,4],[27,5,27,6],[27,7,27,8],[27,9,27,10],[27,11,27,12],[27,13,27,14],[27,15,27,19],[26,9,26,10],[26,11,26,12],[26,13,26,14],[26,15,26,19],[27,20,27,21],[27,22,27,23],[27,24,27,25],[27,26,27,27],[27,28,27,29],[27,30,30,32],[26,24,26,25],[26,26,26,27],[26,28,26,29],[26,20,26,21],[26,22,26,23],[28,15,28,19],[28,20,28,21],[28,22,28,23],[28,24,28,25],[28,26,28,27],[28,28,28,29],[28,0,28,4],[28,5,28,6],[28,7,28,8],[28,9,28,10],[28,11,28,12],[28,13,28,14],[29,33,30,43],[30,0,30,4],[30,5,30,7],[30,10,30,12],[30,15,30,19],[30,20,30,22],[30,25,30,27],[29,15,29,19],[29,20,29,21],[29,22,29,23],[29,24,29,25],[29,26,29,27],[29,28,29,29],[29,0,29,4],[29,5,29,6],[29,7,29,8],[29,9,29,10],[29,11,29,12],[29,13,29,14],[31,30,31,36],[31,37,31,43],[32,30,35,36],[32,37,35,43],[40,21,41,28],[40,29,41,31],[40,32,41,34],[40,35,41,37],[40,38,41,39],[40,40,41,41],[40,42,41,43],[39,21,39,28],[39,29,39,31],[39,32,39,34],[39,35,39,37],[39,38,39,39],[39,40,39,41],[39,42,39,43],[42,21,42,22],[42,23,42,24],[42,25,42,26],[42,27,42,41],[42,42,42,43],[39,0,46,20],[43,21,46,22],[43,23,46,24],[43,25,44,26],[43,42,44,42],[43,43,44,43],[45,25,46,26],[45,42,46,42],[45,43,46,43],[50,29,52,29],[47,16,49,16],[47,17,48,28],[47,29,49,29],[47,30,48,39],[49,32,49,33],[49,34,49,35],[47,0,49,0],[47,1,49,1],[47,2,49,2],[47,3,48,13],[47,14,49,14],[47,15,49,15],[49,3,49,13],[47,40,48,41],[47,42,48,43],[49,17,49,28],[49,30,49,31],[56,0,57,0],[56,1,57,1],[56,14,57,14],[56,15,57,15],[56,29,57,29],[53,29,55,29],[53,0,55,0],[53,1,55,1],[53,3,55,13],[53,14,55,14],[53,15,55,15],[53,17,55,28],[49,36,49,37],[49,38,49,39],[50,0,52,0],[50,1,52,1],[50,3,52,13],[50,14,52,14],[50,15,52,15],[50,17,52,28],[61,0,63,0],[61,1,63,1],[61,3,63,13],[61,14,63,14],[61,15,63,15],[61,17,63,28],[61,29,63,29],[58,29,60,29],[58,0,60,0],[58,1,60,1],[58,3,60,13],[58,14,60,14],[58,15,60,15],[58,17,60,28],[67,0,67,4],[67,5,67,6],[67,7,67,8],[67,9,67,10],[67,11,67,12],[67,13,67,14],[65,28,65,29],[66,0,66,4],[66,5,66,6],[66,7,66,8],[66,9,66,10],[66,11,66,12],[66,13,66,14],[66,15,66,19],[66,20,66,21],[66,22,66,23],[66,24,66,25],[65,13,65,14],[67,24,67,25],[64,0,64,4],[64,15,64,19],[64,30,65,39],[65,0,65,4],[65,5,65,6],[65,7,65,8],[65,9,65,10],[65,11,65,12],[69,0,69,4],[69,5,69,7],[69,10,69,12],[69,15,69,19],[69,20,69,22],[69,25,69,27],[68,15,68,19],[68,20,68,21],[68,22,68,23],[68,24,68,25],[68,26,68,27],[68,0,68,4],[68,5,68,6],[68,7,68,8],[68,9,68,10],[68,11,68,12],[68,13,68,14],[65,15,65,19],[65,20,65,21],[65,22,65,23],[65,24,65,25],[71,30,74,36],[71,37,74,43],[6,27,7,41],[4,27,5,41],[43,27,44,41],[45,27,46,41],[68,33,69,43],[68,28,68,29],[66,30,69,32],[67,26,67,27],[67,28,67,29],[70,30,70,36],[70,37,70,43],[66,26,66,27],[66,28,66,29],[65,26,65,27],[67,15,67,19],[67,20,67,21],[67,22,67,23]]}
["          TÜRKİYE\n          MASA TENİSİ FEDERASYONU\n          YARIŞMA CETVELİ\n          Corbillon Kupa Sistemi  (2 Tek, 1 Çift, 2 Tek)",null,null,null,null,null,null,null,null,null,null,null,null,null,null,null,null,null,null,null,null,"Yarışma Adı",null,null,null,null,null,null,null,"Yeri",null,null,"Tarih",null,null,"Saat",null,null,"Grup",null,"Maç No",null,"Masa"]
[]
[]
[null,null,null,null,null,null,null,null,null,null,null,null,null,null,null,null,null,null,null,null,null,"Erkek",null,"Bayan",null,"Galip",null,"Takımlar",null,null,null,null,null,null,null,null,null,null,null,null,null,null,"Kura"]
[null,null,null,null,null,null,null,null,null,null,null,null,null,null,null,null,null,null,null,null,null,null,null,null,null,null,null,null,null,null,null,null,null,null,null,null,null,null,null,null,null,null,"A","X"]
[]
[null,null,null,null,null,null,null,null,null,null,null,null,null,null,null,null,null,null,null,null,null,null,null,null,null,null,null,null,null,null,null,null,null,null,null,null,null,null,null,null,null,null,"A","X"]
[]
["Maç No","Kura","Lisans No","A-",null,null,null,null,null,null,null,null,null,null,"Mola","Kura","Lisans No","X-",null,null,null,null,null,null,null,null,null,null,null,"Mola","Sayılar",null,null,null,null,null,null,null,null,null,"Setler",null,"Puan"]
[]
[null,null,null,"Sporcular",null,null,null,null,null,null,null,null,null,null,null,null,null,"Sporcular",null,null,null,null,null,null,null,null,null,null,null,null,"1.Set",null,"2.Set",null,"3.Set",null,"4.Set",null,"5.Set",null,"A","X","A","X"]
[1,"A",null,null,null,null,null,null,null,null,null,null,null,null,null,"X"]
[]
[]
[2,"B",null,null,null,null,null,null,null,null,null,null,null,null,null,"Y"]
[]
[]
[3,"Çift",null,null,null,null,null,null,null,null,null,null,null,null,null,"Çift"]
[]
[4,"A",null,null,null,null,null,null,null,null,null,null,null,null,null,"Y"]
[]
[]
[5,"B",null,null,null,null,null,null,null,null,null,null,null,null,null,"X"]
[]
[]
["Forma Rengi",null,null,null,null,null,null,null,null,null,null,null,null,null,null,"Forma Rengi",null,null,null,null,null,null,null,null,null,null,null,null,null,null,"Toplam"]
["Kart\\Oyuncuya",null,null,null,null,1,null,2,null,3,null,4,null,5,null,"Kart\\Oyuncuya",null,null,null,null,1,null,2,null,3,null,4,null,5]
["Sarı",null,null,null,null,null,null,null,null,null,null,null,null,null,null,"Sarı",null,null,null,null,null,null,null,null,null,null,null,null,null,null,"Galip"]
["1. Sarı + Kırmızı",null,null,null,null,null,null,null,null,null,null,null,null,null,null,"1. Sarı + Kırmızı"]
["2. Sarı + Kırmızı",null,null,null,null,null,null,null,null,null,null,null,null,null,null,"2. Sarı + Kırmızı",null,null,null,null,null,null,null,null,null,null,null,null,null,null,null,null,null,{"$f":"\"(  \"&Main!$W$2&\"  -     )\"","v":"(  3  -     )"}]
["Kart\\Öğütücüye",null,null,null,null,"Sarı",null,null,null,null,"Kırmızı",null,null,null,null,"Kart\\Öğütücüye",null,null,null,null,"Sarı",null,null,null,null,"Kırmızı"]
["Kaptan",null,null,null,null,null,null,null,null,null,null,null,null,null,null,"Kaptan",null,null,null,null,null,null,null,null,null,null,null,null,null,null,"Hakemler",null,null,null,null,null,null,"Baş Hakem"]
["Adı Soyadı",null,null,null,":",null,null,null,null,null,null,null,null,null,null,"Adı Soyadı",null,null,null,":"]
["İmza",null,null,null,":",null,null,null,null,null,null,null,null,null,null,"İmza",null,null,null,":"]
[]
["Başlama Saati",null,null,null,null,":",null,null,null,null,null,null,null,null,null,"Bitiş Saati",null,null,null,null,":"]
[]
[]
[]
["          TÜRKİYE\n          MASA TENİSİ FEDERASYONU\n          YARIŞMA CETVELİ\n          Corbillon Kupa Sistemi  (2 Tek, 1 Çift, 2 Tek)",null,null,null,null,null,null,null,null,null,null,null,null,null,null,null,null,null,null,null,null,"Yarışma Adı",null,null,null,null,null,null,null,"Yeri",null,null,"Tarih",null,null,"Saat",null,null,"Grup",null,"Maç No",null,"Masa"]
[]
[]
[null,null,null,null,null,null,null,null,null,null,null,null,null,null,null,null,null,null,null,null,null,"Erkek",null,"Bayan",null,"Galip",null,"Takımlar",null,null,null,null,null,null,null,null,null,null,null,null,null,null,"Kura"]
[null,null,null,null,null,null,null,null,null,null,null,null,null,null,null,null,null,null,null,null,null,null,null,null,null,null,null,null,null,null,null,null,null,null,null,null,null,null,null,null,null,null,"A","X"]
[]
[null,null,null,null,null,null,null,null,null,null,null,null,null,null,null,null,null,null,null,null,null,null,null,null,null,null,null,null,null,null,null,null,null,null,null,null,null,null,null,null,null,null,"A","X"]
[]
["Maç No","Kura","Lisans No","A-",null,null,null,null,null,null,null,null,null,null,"Mola","Kura","Lisans No","X-",null,null,null,null,null,null,null,null,null,null,null,"Mola","Sayılar",null,null,null,null,null,null,null,null,null,"Setler",null,"Puan"]
[]
[null,null,null,"Sporcular",null,null,null,null,null,null,null,null,null,null,null,null,null,"Sporcular",null,null,null,null,null,null,null,null,null,null,null,null,"1.Set",null,"2.Set",null,"3.Set",null,"4.Set",null,"5.Set",null,"A","X","A","X"]
[1,"A",null,null,null,null,null,null,null,null,null,null,null,null,null,"X"]
[]
[]
[2,"B",null,null,null,null,null,null,null,null,null,null,null,null,null,"Y"]
[]
[]
[3,"Çift",null,null,null,null,null,null,null,null,null,null,null,null,null,"Çift"]
[]
[4,"A",null,null,null,null,null,null,null,null,null,null,null,null,null,"Y"]
[]
[]
[5,"B",null,null,null,null,null,null,null,null,null,null,null,null,null,"X"]
[]
[]
["Forma Rengi",null,null,null,null,null,null,null,null,null,null,null,null,null,null,"Forma Rengi",null,null,null,null,null,null,null,null,null,null,null,null,null,null,"Toplam"]
["Kart\\Oyuncuya",null,null,null,null,1,null,2,null,3,null,4,null,5,null,"Kart\\Oyuncuya",null,null,null,null,1,null,2,null,3,null,4,null,5]
["Sarı",null,null,null,null,null,null,null,null,null,null,null,null,null,null,"Sarı",null,null,null,null,null,null,null,null,null,null,null,null,null,null,"Galip"]
["1. Sarı + Kırmızı",null,null,null,null,null,null,null,null,null,null,null,null,null,null,"1. Sarı + Kırmızı"]
["2. Sarı + Kırmızı",null,null,null,null,null,null,null,null,null,null,null,null,null,null,"2. Sarı + Kırmızı",null,null,null,null,null,null,null,null,null,null,null,null,null,null,null,null,null,{"$f":"\"(  \"&Main!$W$2&\"  -     )\"","v":"(  3  -     )"}]
["Kart\\Öğütücüye",null,null,null,null,"Sarı",null,null,null,null,"Kırmızı",null,null,null,null,"Kart\\Öğütücüye",null,null,null,null,"Sarı",null,null,null,null,"Kırmızı"]
["Kaptan",null,null,null,null,null,null,null,null,null,null,null,null,null,null,"Kaptan",null,null,null,null,null,null,null,null,null,null,null,null,null,null,"Hakemler",null,null,null,null,null,null,"Baş Hakem"]
["Adı Soyadı",null,null,null,":",null,null,null,null,null,null,null,null,null,null,"Adı Soyadı",null,null,null,":"]
["İmza",null,null,null,":",null,null,null,null,null,null,null,null,null,null,"İmza",null,null,null,":"]
[]
["Başlama Saati",null,null,null,null,":",null,null,null,null,null,null,null,null,null,"Bitiş Saati",null,null,null,null,":"]

{"sheet":"5_Mac_KC","index":23,"n_rows":47,"n_cols":10,"rows_kept":47,"cut":false,"hidden":false,"merged":[[13,0,13,3],[13,6,13,9],[0,0,0,3],[0,6,0,9],[1,0,1,3],[1,6,1,9],[5,2,5,3],[5,8,5,9],[6,2,6,3],[6,8,6,9],[7,8,7,9],[12,0,12,3],[12,6,12,9],[17,2,17,3],[17,8,17,9],[18,2,18,3],[18,8,18,9],[19,8,19,9],[24,0,24,3],[24,6,24,9],[25,0,25,3],[25,6,25,9],[29,2,29,3],[29,8,29,9],[30,2,30,3],[30,8,30,9],[31,8,31,9],[36,0,36,3],[36,6,36,9],[43,8,43,9],[37,0,37,3],[37,6,37,9],[41,2,41,3],[41,8,41,9],[42,2,42,3],[42,8,42,9]]}
["TÜRKİYE",null,null,null,null,null,"TÜRKİYE"]
["MASA TENİSİ FEDERASYONU",null,null,null,null,null,"MASA TENİSİ FEDERASYONU"]
["TAKIM LİSTESİ",null,null,null,null,null,"TAKIM LİSTESİ"]
["Takım Adı",null,null,":",null,null,"Takım Adı",null,null,":"]
["Karşılaşacağı Takım",null,null,":",null,null,"Karşılaşacağı Takım",null,null,":"]
["A",null,": ………………………………..…………………..……….……….",null,null,null,"X",null,": ………………………………..…………………..……….………."]
["B",null,": ………………………………..…………………..……….……….",null,null,null,"Y",null,": ………………………………..…………………..……….………."]
["C",null,": ………………………………..…………………..……….……….",null,null,null,"Z",null,": ………………………………..…………………..……….………."]
["Karşılaşma Tarihi",null,null,":……………………………………...",null,null,"Karşılaşma Tarihi",null,null,":……………………………………..."]
["Takım Kaptanı",null,null,":……………………………………...",null,null,"Takım Kaptanı",null,null,":……………………………………..."]
["İmza",null,null,":……………………………………...",null,null,"İmza",null,null,":……………………………………..."]
[]
["TÜRKİYE",null,null,null,null,null,"TÜRKİYE"]
["MASA TENİSİ FEDERASYONU",null,null,null,null,null,"MASA TENİSİ FEDERASYONU"]
["TAKIM LİSTESİ",null,null,null,null,null,"TAKIM LİSTESİ"]
["Takım Adı",null,null,":",null,null,"Takım Adı",null,null,":"]
["Karşılaşacağı Takım",null,null,":",null,null,"Karşılaşacağı Takım",null,null,":"]
["A",null,": ………………………………..…………………..……….……….",null,null,null,"X",null,": ………………………………..…………………..……….………."]
["B",null,": ………………………………..…………………..……….……….",null,null,null,"Y",null,": ………………………………..…………………..……….………."]
["C",null,": ………………………………..…………………..……….……….",null,null,null,"Z",null,": ………………………………..…………………..……….………."]
["Karşılaşma Tarihi",null,null,":……………………………………...",null,null,"Karşılaşma Tarihi",null,null,":……………………………………..."]
["Takım Kaptanı",null,null,":……………………………………...",null,null,"Takım Kaptanı",null,null,":……………………………………..."]
["İmza",null,null,":……………………………………...",null,null,"İmza",null,null,":……………………………………..."]
[]
["TÜRKİYE",null,null,null,null,null,"TÜRKİYE"]
["MASA TENİSİ FEDERASYONU",null,null,null,null,null,"MASA TENİSİ FEDERASYONU"]
["TAKIM LİSTESİ",null,null,null,null,null,"TAKIM LİSTESİ"]
["Takım Adı",null,null,":",null,null,"Takım Adı",null,null,":"]
["Karşılaşacağı Takım",null,null,":",null,null,"Karşılaşacağı Takım",null,null,":"]
["A",null,": ………………………………..…………………..……….……….",null,null,null,"X",null,": ………………………………..…………………..……….………."]
["B",null,": ………………………………..…………………..……….……….",null,null,null,"Y",null,": ………………………………..…………………..……….………."]
["C",null,": ………………………………..…………………..……….……….",null,null,null,"Z",null,": ………………………………..…………………..……….………."]
["Karşılaşma Tarihi",null,null,":……………………………………...",null,null,"Karşılaşma Tarihi",null,null,":……………………………………..."]
["Takım Kaptanı",null,null,":……………………………………...",null,null,"Takım Kaptanı",null,null,":……………………………………..."]
["İmza",null,null,":……………………………………...",null,null,"İmza",null,null,":……………………………………..."]
[]
["TÜRKİYE",null,null,null,null,null,"TÜRKİYE"]
["MASA TENİSİ FEDERASYONU",null,null,null,null,null,"MASA TENİSİ FEDERASYONU"]
["TAKIM LİSTESİ",null,null,null,null,null,"TAKIM LİSTESİ"]
["Takım Adı",null,null,":",null,null,"Takım Adı",null,null,":"]
["Karşılaşacağı Takım",null,null,":",null,null,"Karşılaşacağı Takım",null,null,":"]
["A",null,": ………………………………..…………………..……….……….",null,null,null,"X",null,": ………………………………..…………………..……….………."]
["B",null,": ………………………………..…………………..……….……….",null,null,null,"Y",null,": ………………………………..…………………..……….………."]
["C",null,": ………………………………..…………………..……….……….",null,null,null,"Z",null,": ………………………………..…………………..……….………."]
["Karşılaşma Tarihi",null,null,":……………………………………...",null,null,"Karşılaşma Tarihi",null,null,":……………………………………..."]
["Takım Kaptanı",null,null,":……………………………………...",null,null,"Takım Kaptanı",null,null,":……………………………………..."]
["İmza",null,null,":……………………………………...",null,null,"İmza",null,null,":……………………………………..."]

{"sheet":"Olimpik_KC","index":24,"n_rows":51,"n_cols":10,"rows_kept":51,"cut":false,"hidden":true,"merged":[[0,0,0,3],[0,6,0,9],[1,0,1,3],[1,6,1,9],[5,2,5,3],[5,8,5,9],[6,2,6,3],[6,8,6,9],[13,0,13,3],[13,6,13,9],[14,0,14,3],[14,6,14,9],[7,0,8,0],[7,6,8,6],[31,2,31,3],[31,8,31,9],[18,2,18,3],[18,8,18,9],[19,2,19,3],[19,8,19,9],[32,2,32,3],[32,8,32,9],[33,0,34,0],[33,6,34,6],[39,0,39,3],[20,0,21,0],[20,6,21,6],[27,0,27,3],[27,6,27,9],[26,0,26,3],[26,6,26,9],[46,0,47,0],[46,6,47,6],[39,6,39,9],[40,0,40,3],[40,6,40,9],[44,2,44,3],[45,2,45,3],[45,8,45,9],[44,8,44,9]]}
["TÜRKİYE",null,null,null,null,null,"TÜRKİYE"]
["MASA TENİSİ FEDERASYONU",null,null,null,null,null,"MASA TENİSİ FEDERASYONU"]
["TAKIM LİSTESİ",null,null,null,null,null,"TAKIM LİSTESİ"]
["Takım Adı",null,null,":",null,null,"Takım Adı",null,null,":"]
["Karşılaşacağı Takım",null,null,":",null,null,"Karşılaşacağı Takım",null,null,":"]
["A",null,": ………………………………..…………………..……….……….",null,null,null,"X",null,": ………………………………..…………………..……….………."]
["B",null,": ………………………………..…………………..……….……….",null,null,null,"Y",null,": ………………………………..…………………..……….………."]
["Çift","C",": ………………………………..…………………..……….……….",null,null,null,"Çift","Z",": ………………………………..…………………..……….………."]
[null,null,": ………………………………..…………………..……….……….",null,null,null,null,null,": ………………………………..…………………..……….………."]
["Karşılaşma Tarihi",null,null,":……………………………………...",null,null,"Karşılaşma Tarihi",null,null,":……………………………………..."]
["Takım Kaptanı",null,null,":……………………………………...",null,null,"Takım Kaptanı",null,null,":……………………………………..."]
["İmza",null,null,":……………………………………...",null,null,"İmza",null,null,":……………………………………..."]
[]
["TÜRKİYE",null,null,null,null,null,"TÜRKİYE"]
["MASA TENİSİ FEDERASYONU",null,null,null,null,null,"MASA TENİSİ FEDERASYONU"]
["TAKIM LİSTESİ",null,null,null,null,null,"TAKIM LİSTESİ"]
["Takım Adı",null,null,":",null,null,"Takım Adı",null,null,":"]
["Karşılaşacağı Takım",null,null,":",null,null,"Karşılaşacağı Takım",null,null,":"]
["A",null,": ………………………………..…………………..……….……….",null,null,null,"X",null,": ………………………………..…………………..……….………."]
["B",null,": ………………………………..…………………..……….……….",null,null,null,"Y",null,": ………………………………..…………………..……….………."]
["Çift","C",": ………………………………..…………………..……….……….",null,null,null,"Çift","Z",": ………………………………..…………………..……….………."]
[null,null,": ………………………………..…………………..……….……….",null,null,null,null,null,": ………………………………..…………………..……….………."]
["Karşılaşma Tarihi",null,null,":……………………………………...",null,null,"Karşılaşma Tarihi",null,null,":……………………………………..."]
["Takım Kaptanı",null,null,":……………………………………...",null,null,"Takım Kaptanı",null,null,":……………………………………..."]
["İmza",null,null,":……………………………………...",null,null,"İmza",null,null,":……………………………………..."]
[]
["TÜRKİYE",null,null,null,null,null,"TÜRKİYE"]
["MASA TENİSİ FEDERASYONU",null,null,null,null,null,"MASA TENİSİ FEDERASYONU"]
["TAKIM LİSTESİ",null,null,null,null,null,"TAKIM LİSTESİ"]
["Takım Adı",null,null,":",null,null,"Takım Adı",null,null,":"]
["Karşılaşacağı Takım",null,null,":",null,null,"Karşılaşacağı Takım",null,null,":"]
["A",null,": ………………………………..…………………..……….……….",null,null,null,"X",null,": ………………………………..…………………..……….………."]
["B",null,": ………………………………..…………………..……….……….",null,null,null,"Y",null,": ………………………………..…………………..……….………."]
["Çift","C",": ………………………………..…………………..……….……….",null,null,null,"Çift","Z",": ………………………………..…………………..……….………."]
[null,null,": ………………………………..…………………..……….……….",null,null,null,null,null,": ………………………………..…………………..……….………."]
["Karşılaşma Tarihi",null,null,":……………………………………...",null,null,"Karşılaşma Tarihi",null,null,":……………………………………..."]
["Takım Kaptanı",null,null,":……………………………………...",null,null,"Takım Kaptanı",null,null,":……………………………………..."]
["İmza",null,null,":……………………………………...",null,null,"İmza",null,null,":……………………………………..."]
[]
["TÜRKİYE",null,null,null,null,null,"TÜRKİYE"]
["MASA TENİSİ FEDERASYONU",null,null,null,null,null,"MASA TENİSİ FEDERASYONU"]
["TAKIM LİSTESİ",null,null,null,null,null,"TAKIM LİSTESİ"]
["Takım Adı",null,null,":",null,null,"Takım Adı",null,null,":"]
["Karşılaşacağı Takım",null,null,":",null,null,"Karşılaşacağı Takım",null,null,":"]
["A",null,": ………………………………..…………………..……….……….",null,null,null,"X",null,": ………………………………..…………………..……….………."]
["B",null,": ………………………………..…………………..……….……….",null,null,null,"Y",null,": ………………………………..…………………..……….………."]
["Çift","C",": ………………………………..…………………..……….……….",null,null,null,"Çift","Z",": ………………………………..…………………..……….………."]
[null,null,": ………………………………..…………………..……….……….",null,null,null,null,null,": ………………………………..…………………..……….………."]
["Karşılaşma Tarihi",null,null,":……………………………………...",null,null,"Karşılaşma Tarihi",null,null,":……………………………………..."]
["Takım Kaptanı",null,null,":……………………………………...",null,null,"Takım Kaptanı",null,null,":……………………………………..."]
["İmza",null,null,":……………………………………...",null,null,"İmza",null,null,":……………………………………..."]

{"sheet":"Yeni_Olimpik_KC","index":25,"n_rows":55,"n_cols":10,"rows_kept":55,"cut":false,"hidden":true,"merged":[[0,0,0,3],[0,6,0,9],[1,0,1,3],[1,6,1,9],[5,2,5,3],[5,8,5,9],[6,2,6,3],[6,8,6,9],[8,0,9,0],[8,6,9,6],[14,0,14,3],[14,6,14,9],[7,2,7,3],[7,8,7,9],[8,2,8,3],[9,2,9,3],[9,8,9,9],[8,8,8,9],[21,2,21,3],[21,8,21,9],[22,0,23,0],[22,2,22,3],[15,0,15,3],[15,6,15,9],[19,2,19,3],[19,8,19,9],[20,2,20,3],[20,8,20,9],[22,6,23,6],[22,8,22,9],[23,2,23,3],[23,8,23,9],[42,0,42,3],[42,6,42,9],[43,0,43,3],[43,6,43,9],[33,2,33,3],[33,8,33,9],[34,2,34,3],[34,8,34,9],[35,2,35,3],[35,8,35,9],[29,0,29,3],[29,6,29,9],[28,0,28,3],[28,6,28,9],[36,0,37,0],[36,2,36,3],[36,6,37,6],[36,8,36,9],[37,2,37,3],[37,8,37,9],[47,2,47,3],[47,8,47,9],[48,2,48,3],[48,8,48,9],[49,2,49,3],[49,8,49,9],[50,0,51,0],[50,2,50,3],[50,6,51,6],[50,8,50,9],[51,2,51,3],[51,8,51,9]]}
["TÜRKİYE",null,null,null,null,null,"TÜRKİYE"]
["MASA TENİSİ FEDERASYONU",null,null,null,null,null,"MASA TENİSİ FEDERASYONU"]
["TAKIM LİSTESİ",null,null,null,null,null,"TAKIM LİSTESİ"]
["Takım Adı",null,null,":",null,null,"Takım Adı",null,null,":"]
["Karşılaşacağı Takım",null,null,":",null,null,"Karşılaşacağı Takım",null,null,":"]
["A",null,": ………………………………..…………………..……….……….",null,null,null,"X",null,": ………………………………..…………………..……….………."]
["B",null,": ………………………………..…………………..……….……….",null,null,null,"Y",null,": ………………………………..…………………..……….………."]
["C",null,": ………………………………..…………………..……….……….",null,null,null,"Z",null,": ………………………………..…………………..……….………."]
["Çift",null,": ………………………………..…………………..……….……….",null,null,null,"Çift",null,": ………………………………..…………………..……….………."]
[null,null,": ………………………………..…………………..……….……….",null,null,null,null,null,": ………………………………..…………………..……….………."]
["Karşılaşma Tarihi",null,null,":……………………………………...",null,null,"Karşılaşma Tarihi",null,null,":……………………………………..."]
["Takım Kaptanı",null,null,":……………………………………...",null,null,"Takım Kaptanı",null,null,":……………………………………..."]
["İmza",null,null,":……………………………………...",null,null,"İmza",null,null,":……………………………………..."]
[]
["TÜRKİYE",null,null,null,null,null,"TÜRKİYE"]
["MASA TENİSİ FEDERASYONU",null,null,null,null,null,"MASA TENİSİ FEDERASYONU"]
["TAKIM LİSTESİ",null,null,null,null,null,"TAKIM LİSTESİ"]
["Takım Adı",null,null,":",null,null,"Takım Adı",null,null,":"]
["Karşılaşacağı Takım",null,null,":",null,null,"Karşılaşacağı Takım",null,null,":"]
["A",null,": ………………………………..…………………..……….……….",null,null,null,"X",null,": ………………………………..…………………..……….………."]
["B",null,": ………………………………..…………………..……….……….",null,null,null,"Y",null,": ………………………………..…………………..……….………."]
["C",null,": ………………………………..…………………..……….……….",null,null,null,"Z",null,": ………………………………..…………………..……….………."]
["Çift",null,": ………………………………..…………………..……….……….",null,null,null,"Çift",null,": ………………………………..…………………..……….………."]
[null,null,": ………………………………..…………………..……….……….",null,null,null,null,null,": ………………………………..…………………..……….………."]
["Karşılaşma Tarihi",null,null,":……………………………………...",null,null,"Karşılaşma Tarihi",null,null,":……………………………………..."]
["Takım Kaptanı",null,null,":……………………………………...",null,null,"Takım Kaptanı",null,null,":……………………………………..."]
["İmza",null,null,":……………………………………...",null,null,"İmza",null,null,":……………………………………..."]
[]
["TÜRKİYE",null,null,null,null,null,"TÜRKİYE"]
["MASA TENİSİ FEDERASYONU",null,null,null,null,null,"MASA TENİSİ FEDERASYONU"]
["TAKIM LİSTESİ",null,null,null,null,null,"TAKIM LİSTESİ"]
["Takım Adı",null,null,":",null,null,"Takım Adı",null,null,":"]
["Karşılaşacağı Takım",null,null,":",null,null,"Karşılaşacağı Takım",null,null,":"]
["A",null,": ………………………………..…………………..……….……….",null,null,null,"X",null,": ………………………………..…………………..……….………."]
["B",null,": ………………………………..…………………..……….……….",null,null,null,"Y",null,": ………………………………..…………………..……….………."]
["C",null,": ………………………………..…………………..……….……….",null,null,null,"Z",null,": ………………………………..…………………..……….………."]
["Çift",null,": ………………………………..…………………..……….……….",null,null,null,"Çift",null,": ………………………………..…………………..……….………."]
[null,null,": ………………………………..…………………..……….……….",null,null,null,null,null,": ………………………………..…………………..……….………."]
["Karşılaşma Tarihi",null,null,":……………………………………...",null,null,"Karşılaşma Tarihi",null,null,":……………………………………..."]
["Takım Kaptanı",null,null,":……………………………………...",null,null,"Takım Kaptanı",null,null,":……………………………………..."]
["İmza",null,null,":……………………………………...",null,null,"İmza",null,null,":……………………………………..."]
[]
["TÜRKİYE",null,null,null,null,null,"TÜRKİYE"]
["MASA TENİSİ FEDERASYONU",null,null,null,null,null,"MASA TENİSİ FEDERASYONU"]
["TAKIM LİSTESİ",null,null,null,null,null,"TAKIM LİSTESİ"]
["Takım Adı",null,null,":",null,null,"Takım Adı",null,null,":"]
["Karşılaşacağı Takım",null,null,":",null,null,"Karşılaşacağı Takım",null,null,":"]
["A",null,": ………………………………..…………………..……….……….",null,null,null,"X",null,": ………………………………..…………………..……….………."]
["B",null,": ………………………………..…………………..……….……….",null,null,null,"Y",null,": ………………………………..…………………..……….………."]
["C",null,": ………………………………..…………………..……….……….",null,null,null,"Z",null,": ………………………………..…………………..……….………."]
["Çift",null,": ………………………………..…………………..……….……….",null,null,null,"Çift",null,": ………………………………..…………………..……….………."]
[null,null,": ………………………………..…………………..……….……….",null,null,null,null,null,": ………………………………..…………………..……….………."]
["Karşılaşma Tarihi",null,null,":……………………………………...",null,null,"Karşılaşma Tarihi",null,null,":……………………………………..."]
["Takım Kaptanı",null,null,":……………………………………...",null,null,"Takım Kaptanı",null,null,":……………………………………..."]
["İmza",null,null,":……………………………………...",null,null,"İmza",null,null,":……………………………………..."]

{"sheet":"Corbillon_KC","index":26,"n_rows":47,"n_cols":10,"rows_kept":47,"cut":false,"hidden":true,"merged":[[13,0,13,3],[13,6,13,9],[0,0,0,3],[0,6,0,9],[1,0,1,3],[1,6,1,9],[5,2,5,3],[5,8,5,9],[6,2,6,3],[6,8,6,9],[7,8,7,9],[12,0,12,3],[12,6,12,9],[17,2,17,3],[17,8,17,9],[18,2,18,3],[18,8,18,9],[19,2,19,3],[19,8,19,9],[24,0,24,3],[24,6,24,9],[25,0,25,3],[25,6,25,9],[29,2,29,3],[29,8,29,9],[30,2,30,3],[30,8,30,9],[31,2,31,3],[31,8,31,9],[36,0,36,3],[36,6,36,9],[43,2,43,3],[43,8,43,9],[37,0,37,3],[37,6,37,9],[41,2,41,3],[41,8,41,9],[42,2,42,3],[42,8,42,9]]}
["TÜRKİYE",null,null,null,null,null,"TÜRKİYE"]
["MASA TENİSİ FEDERASYONU",null,null,null,null,null,"MASA TENİSİ FEDERASYONU"]
["TAKIM LİSTESİ",null,null,null,null,null,"TAKIM LİSTESİ"]
["Takım Adı",null,null,":",null,null,"Takım Adı",null,null,":"]
["Karşılaşacağı Takım",null,null,":",null,null,"Karşılaşacağı Takım",null,null,":"]
["A",null,": ………………………………..…………………..……….……….",null,null,null,"X",null,": ………………………………..…………………..……….………."]
["B",null,": ………………………………..…………………..……….……….",null,null,null,"Y",null,": ………………………………..…………………..……….………."]
["Çift",null,": ………………………………..…………………..……….……….",null,null,null,"Çift",null,": ………………………………..…………………..……….………."]
["Karşılaşma Tarihi",null,null,":……………………………………...",null,null,"Karşılaşma Tarihi",null,null,":……………………………………..."]
["Takım Kaptanı",null,null,":……………………………………...",null,null,"Takım Kaptanı",null,null,":……………………………………..."]
["İmza",null,null,":……………………………………...",null,null,"İmza",null,null,":……………………………………..."]
[]
["TÜRKİYE",null,null,null,null,null,"TÜRKİYE"]
["MASA TENİSİ FEDERASYONU",null,null,null,null,null,"MASA TENİSİ FEDERASYONU"]
["TAKIM LİSTESİ",null,null,null,null,null,"TAKIM LİSTESİ"]
["Takım Adı",null,null,":",null,null,"Takım Adı",null,null,":"]
["Karşılaşacağı Takım",null,null,":",null,null,"Karşılaşacağı Takım",null,null,":"]
["A",null,": ………………………………..…………………..……….……….",null,null,null,"X",null,": ………………………………..…………………..……….………."]
["B",null,": ………………………………..…………………..……….……….",null,null,null,"Y",null,": ………………………………..…………………..……….………."]
["Çift",null,": ………………………………..…………………..……….……….",null,null,null,"Çift",null,": ………………………………..…………………..……….………."]
["Karşılaşma Tarihi",null,null,":……………………………………...",null,null,"Karşılaşma Tarihi",null,null,":……………………………………..."]
["Takım Kaptanı",null,null,":……………………………………...",null,null,"Takım Kaptanı",null,null,":……………………………………..."]
["İmza",null,null,":……………………………………...",null,null,"İmza",null,null,":……………………………………..."]
[]
["TÜRKİYE",null,null,null,null,null,"TÜRKİYE"]
["MASA TENİSİ FEDERASYONU",null,null,null,null,null,"MASA TENİSİ FEDERASYONU"]
["TAKIM LİSTESİ",null,null,null,null,null,"TAKIM LİSTESİ"]
["Takım Adı",null,null,":",null,null,"Takım Adı",null,null,":"]
["Karşılaşacağı Takım",null,null,":",null,null,"Karşılaşacağı Takım",null,null,":"]
["A",null,": ………………………………..…………………..……….……….",null,null,null,"X",null,": ………………………………..…………………..……….………."]
["B",null,": ………………………………..…………………..……….……….",null,null,null,"Y",null,": ………………………………..…………………..……….………."]
["Çift",null,": ………………………………..…………………..……….……….",null,null,null,"Çift",null,": ………………………………..…………………..……….………."]
["Karşılaşma Tarihi",null,null,":……………………………………...",null,null,"Karşılaşma Tarihi",null,null,":……………………………………..."]
["Takım Kaptanı",null,null,":……………………………………...",null,null,"Takım Kaptanı",null,null,":……………………………………..."]
["İmza",null,null,":……………………………………...",null,null,"İmza",null,null,":……………………………………..."]
[]
["TÜRKİYE",null,null,null,null,null,"TÜRKİYE"]
["MASA TENİSİ FEDERASYONU",null,null,null,null,null,"MASA TENİSİ FEDERASYONU"]
["TAKIM LİSTESİ",null,null,null,null,null,"TAKIM LİSTESİ"]
["Takım Adı",null,null,":",null,null,"Takım Adı",null,null,":"]
["Karşılaşacağı Takım",null,null,":",null,null,"Karşılaşacağı Takım",null,null,":"]
["A",null,": ………………………………..…………………..……….……….",null,null,null,"X",null,": ………………………………..…………………..……….………."]
["B",null,": ………………………………..…………………..……….……….",null,null,null,"Y",null,": ………………………………..…………………..……….………."]
["Çift",null,": ………………………………..…………………..……….……….",null,null,null,"Çift",null,": ………………………………..…………………..……….………."]
["Karşılaşma Tarihi",null,null,":……………………………………...",null,null,"Karşılaşma Tarihi",null,null,":……………………………………..."]
["Takım Kaptanı",null,null,":……………………………………...",null,null,"Takım Kaptanı",null,null,":……………………………………..."]
["İmza",null,null,":……………………………………...",null,null,"İmza",null,null,":……………………………………..."]